{"text_format":"1","workbook":"xlsx","n_sheets":3,"sheets":["PRI_2010","Adrcol","ecoletaux"],"not_rendered":{"charts":0,"images":0,"macros":1,"external_links":0,"defined_names":14,"comments":0,"pivot_tables":0},"unopened":[],"bounds":{"document_bytes":16777216,"sheet_cells":100000,"rows_first":2000,"rows_last":500,"rows_between":2000,"halvings":0,"cell_chars":16384,"cell_head_chars":4096},"cells_cut":0,"cells_raw":0,"read":"whole","date_system":"1900"}

{"sheet":"PRI_2010","index":0,"n_rows":424,"n_cols":424,"rows_kept":424,"cut":false,"hidden":false,"merged":[]}
["ANNEE","COD_ECOLE","COD_GROUPE_REPERE","INTERVENANT","COD_PERMANENT","IND_DOUBLEUR","DAT_NAISSANCE_ELEVE","NOM_ELEVE","PRENOM_ELEVE","COD_SEXE_ELEVE","AN_2008_ET_1_ECRIRE","AN_2008_ET_1_LIRE","AN_2008_ET_1_RESOUDRE","AN_2008_ET_1_RAISONNER","AN_2008_ET_2_ECRIRE","AN_2008_ET_2_LIRE","AN_2008_ET_2_RESOUDRE","AN_2008_ET_2_RAISONNER","AN_2008_ET_3_ECRIRE","AN_2008_ET_3_LIRE","AN_2008_ET_3_RESOUDRE","AN_2008_ET_3_RAISONNER","AN_2008_ET_EX_ECRIRE","AN_2008_ET_EX_LIRE","AN_2008_ET_EX_RESOUDRE","AN_2008_ET_EX_RAISONNER","AN_2009_ET_1_ECRIRE","AN_2009_ET_1_LIRE","AN_2009_ET_1_RESOUDRE","AN_2009_ET_1_RAISONNER","AN_2009_ET_2_ECRIRE","AN_2009_ET_2_LIRE","AN_2009_ET_2_RESOUDRE","AN_2009_ET_2_RAISONNER","AN_2009_ET_3_ECRIRE","AN_2009_ET_3_LIRE","AN_2009_ET_3_RESOUDRE","AN_2009_ET_3_RAISONNER","AN_2009_ET_EX_ECRIRE","AN_2009_ET_EX_LIRE","AN_2009_ET_EX_RESOUDRE","AN_2009_ET_EX_RAISONNER","AN_2010_ET_1_ECRIRE","AN_2010_ET_1_LIRE","AN_2010_ET_1_RESOUDRE","AN_2010_ET_1_RAISONNER","AN_2010_ET_2_ECRIRE","AN_2010_ET_2_LIRE","AN_2010_ET_2_RESOUDRE","AN_2010_ET_2_RAISONNER","AN_2010_ET_3_ECRIRE","AN_2010_ET_3_LIRE","AN_2010_ET_3_RESOUDRE","AN_2010_ET_3_RAISONNER","AN_2010_ET_EX_ECRIRE","AN_2010_ET_EX_LIRE","AN_2010_ET_EX_RESOUDRE","AN_2010_ET_EX_RAISONNER","AN_2011_ET_1_ECRIRE","AN_2011_ET_1_LIRE","AN_2011_ET_1_RESOUDRE","AN_2011_ET_1_RAISONNER","AN_2011_ET_2_ECRIRE","AN_2011_ET_2_LIRE","AN_2011_ET_2_RESOUDRE","AN_2011_ET_2_RAISONNER","AN_2011_ET_3_ECRIRE","AN_2011_ET_3_LIRE","AN_2011_ET_3_RESOUDRE","AN_2011_ET_3_RAISONNER","AN_2011_ET_EX_ECRIRE","AN_2011_ET_EX_LIRE","AN_2011_ET_EX_RESOUDRE","AN_2011_ET_EX_RAISONNER",null,"moy-10","moy-20","moy-30","moy-1","moy-2","moy0","moy0min","moy1","moy2","moy3","moy3min","moy4",null,null,null,"code ecole-gr","défavorisation","niveau","calc age 1","calc age 2","calc age 3","age a virgule","age","élève dont on as un passé","compilation",null,null,null,null,null,null,{"$f":"HLOOKUP(CW2,adrcol,3,FALSE)","v":"AJ"},{"$f":"HLOOKUP(CW2,adrcol,2,FALSE)","v":36},{"$f":"HLOOKUP(CW2,adrcol,4,FALSE)","v":27},null,null,null,null,null,null,{"$f":"HLOOKUP(DF2,adrcol,3,FALSE)","v":"AN"},{"$f":"HLOOKUP(DF2,adrcol,2,FALSE)","v":40},{"$f":"HLOOKUP(DF2,adrcol,4,FALSE)","v":31},null,null,null,null,null,null,{"$f":"HLOOKUP(DO2,adrcol,3,FALSE)","v":"AR"},{"$f":"HLOOKUP(DO2,adrcol,2,FALSE)","v":44},{"$f":"HLOOKUP(DO2,adrcol,4,FALSE)","v":35},null,null,null,null,null,null,{"$f":"HLOOKUP(DX2,adrcol,3,FALSE)","v":"AV"},{"$f":"HLOOKUP(DX2,adrcol,2,FALSE)","v":48},{"$f":"HLOOKUP(DX2,adrcol,4,FALSE)","v":39},null,null,null,null,null,null,{"$f":"HLOOKUP(EG2,adrcol,3,FALSE)","v":"AZ"},{"$f":"HLOOKUP(EG2,adrcol,2,FALSE)","v":52},{"$f":"HLOOKUP(EG2,adrcol,4,FALSE)","v":43},null,null,null,null,null,null,{"$f":"HLOOKUP(EP2,adrcol,3,FALSE)","v":"BD"},{"$f":"HLOOKUP(EP2,adrcol,2,FALSE)","v":56},{"$f":"HLOOKUP(EP2,adrcol,4,FALSE)","v":47},null,null,null,null,null,null,{"$f":"HLOOKUP(EY2,adrcol,3,FALSE)","v":"BH"},{"$f":"HLOOKUP(EY2,adrcol,2,FALSE)","v":60},{"$f":"HLOOKUP(EY2,adrcol,4,FALSE)","v":51},null,null,null,null,null,null,{"$f":"HLOOKUP(FH2,adrcol,3,FALSE)","v":"AI"},{"$f":"HLOOKUP(FH2,adrcol,2,FALSE)","v":35},{"$f":"HLOOKUP(FH2,adrcol,4,FALSE)","v":26},null,null,null,null,null,null,{"$f":"HLOOKUP(FQ2,adrcol,3,FALSE)","v":"AM"},{"$f":"HLOOKUP(FQ2,adrcol,2,FALSE)","v":39},{"$f":"HLOOKUP(FQ2,adrcol,4,FALSE)","v":30},null,null,null,null,null,null,{"$f":"HLOOKUP(FZ2,adrcol,3,FALSE)","v":"AQ"},{"$f":"HLOOKUP(FZ2,adrcol,2,FALSE)","v":43},{"$f":"HLOOKUP(FZ2,adrcol,4,FALSE)","v":34},null,null,null,null,null,null,{"$f":"HLOOKUP(GI2,adrcol,3,FALSE)","v":"AU"},{"$f":"HLOOKUP(GI2,adrcol,2,FALSE)","v":47},{"$f":"HLOOKUP(GI2,adrcol,4,FALSE)","v":38},null,null,null,null,null,null,{"$f":"HLOOKUP(GR2,adrcol,3,FALSE)","v":"AY"},{"$f":"HLOOKUP(GR2,adrcol,2,FALSE)","v":51},{"$f":"HLOOKUP(GR2,adrcol,4,FALSE)","v":42},null,null,null,null,null,null,{"$f":"HLOOKUP(HA2,adrcol,3,FALSE)","v":"BC"},{"$f":"HLOOKUP(HA2,adrcol,2,FALSE)","v":55},{"$f":"HLOOKUP(HA2,adrcol,4,FALSE)","v":46},null,null,null,null,null,null,{"$f":"HLOOKUP(HJ2,adrcol,3,FALSE)","v":"BG"},{"$f":"HLOOKUP(HJ2,adrcol,2,FALSE)","v":59},{"$f":"HLOOKUP(HJ2,adrcol,4,FALSE)","v":50},null,null,null,null,null,null,{"$f":"HLOOKUP(HS2,adrcol,3,FALSE)","v":"AL"},{"$f":"HLOOKUP(HS2,adrcol,2,FALSE)","v":38},{"$f":"HLOOKUP(HS2,adrcol,4,FALSE)","v":29},null,null,null,null,null,null,{"$f":"HLOOKUP(IB2,adrcol,3,FALSE)","v":"AP"},{"$f":"HLOOKUP(IB2,adrcol,2,FALSE)","v":42},{"$f":"HLOOKUP(IB2,adrcol,4,FALSE)","v":33},null,null,null,null,null,null,{"$f":"HLOOKUP(IK2,adrcol,3,FALSE)","v":"AT"},{"$f":"HLOOKUP(IK2,adrcol,2,FALSE)","v":46},{"$f":"HLOOKUP(IK2,adrcol,4,FALSE)","v":37},null,null,null,null,null,null,{"$f":"HLOOKUP(IT2,adrcol,3,FALSE)","v":"AX"},{"$f":"HLOOKUP(IT2,adrcol,2,FALSE)","v":50},{"$f":"HLOOKUP(IT2,adrcol,4,FALSE)","v":41},null,null,null,null,null,null,{"$f":"HLOOKUP(JC2,adrcol,3,FALSE)","v":"BB"},{"$f":"HLOOKUP(JC2,adrcol,2,FALSE)","v":54},{"$f":"HLOOKUP(JC2,adrcol,4,FALSE)","v":45},null,null,null,null,null,null,{"$f":"HLOOKUP(JL2,adrcol,3,FALSE)","v":"BF"},{"$f":"HLOOKUP(JL2,adrcol,2,FALSE)","v":58},{"$f":"HLOOKUP(JL2,adrcol,4,FALSE)","v":49},null,null,null,null,null,null,{"$f":"HLOOKUP(JU2,adrcol,3,FALSE)","v":"BJ"},{"$f":"HLOOKUP(JU2,adrcol,2,FALSE)","v":62},{"$f":"HLOOKUP(JU2,adrcol,4,FALSE)","v":53},null,null,null,null,null,null,{"$f":"HLOOKUP(KD2,adrcol,3,FALSE)","v":"AK"},{"$f":"HLOOKUP(KD2,adrcol,2,FALSE)","v":37},{"$f":"HLOOKUP(KD2,adrcol,4,FALSE)","v":28},null,null,null,null,null,null,{"$f":"HLOOKUP(KM2,adrcol,3,FALSE)","v":"AO"},{"$f":"HLOOKUP(KM2,adrcol,2,FALSE)","v":41},{"$f":"HLOOKUP(KM2,adrcol,4,FALSE)","v":32},null,null,null,null,null,null,{"$f":"HLOOKUP(KV2,adrcol,3,FALSE)","v":"AS"},{"$f":"HLOOKUP(KV2,adrcol,2,FALSE)","v":45},{"$f":"HLOOKUP(KV2,adrcol,4,FALSE)","v":36},null,null,null,null,null,null,{"$f":"HLOOKUP(LE2,adrcol,3,FALSE)","v":"AW"},{"$f":"HLOOKUP(LE2,adrcol,2,FALSE)","v":49},{"$f":"HLOOKUP(LE2,adrcol,4,FALSE)","v":40},null,null,null,null,null,null,{"$f":"HLOOKUP(LN2,adrcol,3,FALSE)","v":"BA"},{"$f":"HLOOKUP(LN2,adrcol,2,FALSE)","v":53},{"$f":"HLOOKUP(LN2,adrcol,4,FALSE)","v":44},null,null,null,null,null,null,{"$f":"HLOOKUP(LW2,adrcol,3,FALSE)","v":"BE"},{"$f":"HLOOKUP(LW2,adrcol,2,FALSE)","v":57},{"$f":"HLOOKUP(LW2,adrcol,4,FALSE)","v":48},null,null,null,null,null,null,{"$f":"HLOOKUP(MF2,adrcol,3,FALSE)","v":"BI"},{"$f":"HLOOKUP(MF2,adrcol,2,FALSE)","v":61},{"$f":"HLOOKUP(MF2,adrcol,4,FALSE)","v":52},null,null,null,null,null,null,{"$f":"HLOOKUP(MO2,adrcol,3,FALSE)","v":"BM"},{"$f":"HLOOKUP(MO2,adrcol,2,FALSE)","v":65},{"$f":"HLOOKUP(MO2,adrcol,4,FALSE)","v":56},null,null,null,null,null,null,{"$f":"HLOOKUP(MX2,adrcol,3,FALSE)","v":"CC"},{"$f":"HLOOKUP(MX2,adrcol,2,FALSE)","v":81},{"$f":"HLOOKUP(MX2,adrcol,4,FALSE)","v":72},null,null,null,null,null,null,{"$f":"HLOOKUP(NG2,adrcol,3,FALSE)","v":"CD"},{"$f":"HLOOKUP(NG2,adrcol,2,FALSE)","v":82},{"$f":"HLOOKUP(NG2,adrcol,4,FALSE)","v":73},null,null,null,null,null,null,{"$f":"HLOOKUP(NP2,adrcol,3,FALSE)","v":"CE"},{"$f":"HLOOKUP(NP2,adrcol,2,FALSE)","v":83},{"$f":"HLOOKUP(NP2,adrcol,4,FALSE)","v":74},null,null,null,null,null,null,{"$f":"HLOOKUP(NY2,adrcol,3,FALSE)","v":"CF"},{"$f":"HLOOKUP(NY2,adrcol,2,FALSE)","v":84},{"$f":"HLOOKUP(NY2,adrcol,4,FALSE)","v":75},null,null,null,null,null,null,{"$f":"HLOOKUP(OH2,adrcol,3,FALSE)","v":"CG"},{"$f":"HLOOKUP(OH2,adrcol,2,FALSE)","v":85},{"$f":"HLOOKUP(OH2,adrcol,4,FALSE)","v":76},null,null,null,null,null,null,{"$f":"HLOOKUP(OQ2,adrcol,3,FALSE)","v":"CH"},{"$f":"HLOOKUP(OQ2,adrcol,2,FALSE)","v":86},{"$f":"HLOOKUP(OQ2,adrcol,4,FALSE)","v":77},null,null,null,null,null,null,{"$f":"HLOOKUP(OZ2,adrcol,3,FALSE)","v":"CI"},{"$f":"HLOOKUP(OZ2,adrcol,2,FALSE)","v":87},{"$f":"HLOOKUP(OZ2,adrcol,4,FALSE)","v":78}]
["2010","001","501",null,null,0,"2000-05-02",null,null,"M",70,60,0,70,65,65,60,75,65,70,55,60,0,0,0,0,70,65,0,80,65,75,85,75,65,65,80,80,0,0,0,0,50,70,0,60,50,65,40,40,50,50,45,40,0,0,0,0,42,51,0,30,49,41,21,30,45,27,16,30,32,32,20,35,null,{"$f":"IF(L2=0,0,IF(M2=0,AVERAGE(M2,K2,N2),AVERAGE(K2:N2)))","v":46.666666666666664},{"$f":"IF(P2=0,0,IF(Q2=0,AVERAGE(Q2,O2,R2),AVERAGE(O2:R2)))","v":66.25},{"$f":"IF(T2=0,0,IF(U2=0,AVERAGE(T2,S2,V2),AVERAGE(S2:V2)))","v":62.5},{"$f":"IF(AB2=0,0,IF(AC2=0,AVERAGE(AB2,AA2,AD2),AVERAGE(AA2:AD2)))","v":71.666666666666671},{"$f":"IF(AF2=0,0,IF(AG2=0,AVERAGE(AF2,AE2,AH2),AVERAGE(AE2:AH2)))","v":75},{"$f":"IF(AJ2=0,0,IF(AK2=0,AVERAGE(AJ2,AI2,AL2),AVERAGE(AI2:AL2)))","v":72.5},{"$f":"IF(AN2=0,0,IF(AO2=0,AVERAGE(AN2,AM2,AP2),AVERAGE(AM2:AP2)))","v":0},{"$f":"IF(AR2=0,0,IF(AS2=0,AVERAGE(AR2,AQ2,AT2),AVERAGE(AQ2:AT2)))","v":60},{"$f":"IF(AV2=0,0,IF(AW2=0,AVERAGE(AV2,AU2,AX2),AVERAGE(AU2:AX2)))","v":48.75},{"$f":"IF(AZ2=0,0,IF(BA2=0,AVERAGE(AZ2,AY2,BB2),AVERAGE(AY2:BB2)))","v":46.25},{"$f":"IF(BD2=0,0,IF(BE2=0,AVERAGE(BD2,BC2,BF2),AVERAGE(BC2:BF2)))","v":0},{"$f":"IF(BH2=0,0,IF(BI2=0,AVERAGE(BH2,BG2,BJ2,BM2),AVERAGE(BG2:BJ2)))","v":36},null,null,null,{"$f":"IF(LEFT(C2,1)=\"8\",\"\",IF(LEFT(C2,1)=\"9\",\"\",B2&C2))","v":"001501"},{"$f":"VLOOKUP(B2,ecoleTaux,3,FALSE)","v":"0.100"},{"$f":"LEFT(C2,2)","v":"50"},{"$f":"Tableau_SSRSMSA03_BI_Integration_STEPH_2010[[#This Row],[DAT_NAISSANCE_ELEVE]]","v":"2000-05-02"},"2009-09-30",{"$f":"DATEDIF(CP2,CQ2,\"d\")","v":3438},{"$f":"CR2/365.25","v":9.4127310061601648},{"$f":"IF(AND(LEFT(CO2,1)=\"1\",CS2>5.5),\"V\",IF(AND(LEFT(CO2,1)=\"2\",CS2>6.5),\"V\",IF(AND(LEFT(CO2,1)=\"3\",CS2>7.5),\"V\",IF(AND(LEFT(CO2,1)=\"4\",CS2>8.5),\"V\",IF(AND(LEFT(CO2,1)=\"5\",CS2>9.5),\"V\",IF(AND(LEFT(CO2,1)=\"6\",CS2>10.5),\"V\",\"J\"))))))","v":"J"},{"$f":"IF(AJ2=0,0,IF(BH2=0,0,1))","v":1},{"$f":"CM2","v":"001501"},"Lect0",{"$f":"ROW(CW2)","v":2},"Ratio : ",{"$f":"CY4/SUM(CY4:CZ4)*100","v":55.000000000000007},"Ratio : ",{"$f":"DA4/SUM(DA4:DB4)*100","v":35},"ava",4,6,"Lect0min",{"$f":"ROW(DF2)","v":2},"Ratio : ",{"$f":"DH4/SUM(DH4:DI4)*100","v":{"$error":"#DIV/0!"}},"Ratio : ",{"$f":"DJ4/SUM(DJ4:DK4)*100","v":{"$error":"#DIV/0!"}},"ava",null,null,"Lect1",{"$f":"ROW(DO2)","v":2},"Ratio : ",{"$f":"DQ4/SUM(DQ4:DR4)*100","v":56.000000000000007},"Ratio : ",{"$f":"DS4/SUM(DS4:DT4)*100","v":36},"ava",3,3,"lect2",{"$f":"ROW(DX2)","v":2},"Ratio : ",{"$f":"DZ4/SUM(DZ4:EA4)*100","v":56.000000000000007},"Ratio : ",{"$f":"EB4/SUM(EB4:EC4)*100","v":36},"ava",4,6,"lect3",{"$f":"ROW(EG2)","v":2},"Ratio : ",{"$f":"EI4/SUM(EI4:EJ4)*100","v":53.846153846153847},"Ratio : ",{"$f":"EK4/SUM(EK4:EL4)*100","v":38.461538461538467},"ava",4,4,"lect3min",{"$f":"ROW(EP2)","v":2},"Ratio : ",{"$f":"ER4/SUM(ER4:ES4)*100","v":{"$error":"#DIV/0!"}},"Ratio : ",{"$f":"ET4/SUM(ET4:EU4)*100","v":{"$error":"#DIV/0!"}},"ava",null,null,"lect4",{"$f":"ROW(EY2)","v":2},"Ratio : ",{"$f":"FA4/SUM(FA4:FB4)*100","v":53.846153846153847},"Ratio : ",{"$f":"FC4/SUM(FC4:FD4)*100","v":38.461538461538467},"ava",4,4,"ecr0",{"$f":"ROW(FH2)","v":2},"Ratio : ",{"$f":"FJ4/SUM(FJ4:FK4)*100","v":55.000000000000007},"Ratio : ",{"$f":"FL4/SUM(FL4:FM4)*100","v":35},"ava",4,6,"ecr0min",{"$f":"ROW(FQ2)","v":2},"Ratio : ",{"$f":"FS4/SUM(FS4:FT4)*100","v":{"$error":"#DIV/0!"}},"Ratio : ",{"$f":"FU4/SUM(FU4:FV4)*100","v":{"$error":"#DIV/0!"}},"ava",null,null,"ecr1",{"$f":"ROW(FZ2)","v":2},"Ratio : ",{"$f":"GB4/SUM(GB4:GC4)*100","v":56.000000000000007},"Ratio : ",{"$f":"GD4/SUM(GD4:GE4)*100","v":36},"ava",4,4,"ecr2",{"$f":"ROW(GI2)","v":2},"Ratio : ",{"$f":"GK4/SUM(GK4:GL4)*100","v":56.000000000000007},"Ratio : ",{"$f":"GM4/SUM(GM4:GN4)*100","v":36},"ava",4,4,"ecr3",{"$f":"ROW(GR2)","v":2},"Ratio : ",{"$f":"GT4/SUM(GT4:GU4)*100","v":53.846153846153847},"Ratio : ",{"$f":"GV4/SUM(GV4:GW4)*100","v":38.461538461538467},"ava",4,4,"ecr3min",{"$f":"ROW(HA2)","v":2},"Ratio : ",{"$f":"HC4/SUM(HC4:HD4)*100","v":{"$error":"#DIV/0!"}},"Ratio : ",{"$f":"HE4/SUM(HE4:HF4)*100","v":{"$error":"#DIV/0!"}},"ava",null,null,"ecr4",{"$f":"ROW(HJ2)","v":2},"Ratio : ",{"$f":"HL4/SUM(HL4:HM4)*100","v":53.846153846153847},"Ratio : ",{"$f":"HN4/SUM(HN4:HO4)*100","v":38.461538461538467},"ava",4,4,"rais0",{"$f":"ROW(HS2)","v":2},"Ratio : ",{"$f":"HU4/SUM(HU4:HV4)*100","v":54.54545454545454},"Ratio : ",{"$f":"HW4/SUM(HW4:HX4)*100","v":31.818181818181817},"ava",3,2,"rais0min",{"$f":"ROW(IB2)","v":2},"Ratio : ",{"$f":"ID4/SUM(ID4:IE4)*100","v":{"$error":"#DIV/0!"}},"Ratio : ",{"$f":"IF4/SUM(IF4:IG4)*100","v":{"$error":"#DIV/0!"}},"ava",null,null,"rais1",{"$f":"ROW(IK2)","v":2},"Ratio : ",{"$f":"IM4/SUM(IM4:IN4)*100","v":56.000000000000007},"Ratio : ",{"$f":"IO4/SUM(IO4:IP4)*100","v":36},"ava",3,6,"rais2",{"$f":"ROW(IT2)","v":2},"Ratio : ",{"$f":"IV4/SUM(IV4:IW4)*100","v":56.000000000000007},"Ratio : ",{"$f":"IX4/SUM(IX4:IY4)*100","v":36},"ava",4,4,"rais3",{"$f":"ROW(JC2)","v":2},"Ratio : ",{"$f":"JE4/SUM(JE4:JF4)*100","v":53.846153846153847},"Ratio : ",{"$f":"JG4/SUM(JG4:JH4)*100","v":38.461538461538467},"ava",4,4,"rais3min",{"$f":"ROW(JL2)","v":2},"Ratio : ",{"$f":"JN4/SUM(JN4:JO4)*100","v":{"$error":"#DIV/0!"}},"Ratio : ",{"$f":"JP4/SUM(JP4:JQ4)*100","v":{"$error":"#DIV/0!"}},"ava",null,null,"rais4",{"$f":"ROW(JU2)","v":2},"Ratio : ",{"$f":"JW4/SUM(JW4:JX4)*100","v":53.846153846153847},"Ratio : ",{"$f":"JY4/SUM(JY4:JZ4)*100","v":38.461538461538467},"ava",4,4,"res0",{"$f":"ROW(KD2)","v":2},"Ratio : ",{"$f":"KF4/SUM(KF4:KG4)*100","v":55.000000000000007},"Ratio : ",{"$f":"KH4/SUM(KH4:KI4)*100","v":35},"ava",2,2,"res0min",{"$f":"ROW(KM2)","v":2},"Ratio : ",{"$f":"KO4/SUM(KO4:KP4)*100","v":{"$error":"#DIV/0!"}},"Ratio : ",{"$f":"KQ4/SUM(KQ4:KR4)*100","v":{"$error":"#DIV/0!"}},"ava",null,null,"res1",{"$f":"ROW(KV2)","v":2},"Ratio : ",{"$f":"KX4/SUM(KX4:KY4)*100","v":{"$error":"#DIV/0!"}},"Ratio : ",{"$f":"KZ4/SUM(KZ4:LA4)*100","v":{"$error":"#DIV/0!"}},"ava",null,null,"res2",{"$f":"ROW(LE2)","v":2},"Ratio : ",{"$f":"LG4/SUM(LG4:LH4)*100","v":56.000000000000007},"Ratio : ",{"$f":"LI4/SUM(LI4:LJ4)*100","v":36},"ava",4,4,"res3",{"$f":"ROW(LN2)","v":2},"Ratio : ",{"$f":"LP4/SUM(LP4:LQ4)*100","v":53.846153846153847},"Ratio : ",{"$f":"LR4/SUM(LR4:LS4)*100","v":38.461538461538467},"ava",4,4,"res3min",{"$f":"ROW(LW2)","v":2},"Ratio : ",{"$f":"LY4/SUM(LY4:LZ4)*100","v":{"$error":"#DIV/0!"}},"Ratio : ",{"$f":"MA4/SUM(MA4:MB4)*100","v":{"$error":"#DIV/0!"}},"ava",null,null,"res4",{"$f":"ROW(MF2)","v":2},"Ratio : ",{"$f":"MH4/SUM(MH4:MI4)*100","v":0},"Ratio : ",{"$f":"MJ4/SUM(MJ4:MK4)*100","v":0},"ava",null,null,"res5",{"$f":"ROW(MO2)","v":2},"Ratio : ",{"$f":"MQ4/SUM(MQ4:MR4)*100","v":58.333333333333336},"Ratio : ",{"$f":"MS4/SUM(MS4:MT4)*100","v":41.666666666666671},"ava",4,4,"moy0",{"$f":"ROW(MX2)","v":2},"Ratio : ",{"$f":"MZ4/SUM(MZ4:NA4)*100","v":55.000000000000007},"Ratio : ",{"$f":"NB4/SUM(NB4:NC4)*100","v":35},"ava",4,3,"moy0min",{"$f":"ROW(NG2)","v":2},"Ratio : ",{"$f":"NI4/SUM(NI4:NJ4)*100","v":{"$error":"#DIV/0!"}},"Ratio : ",{"$f":"NK4/SUM(NK4:NL4)*100","v":{"$error":"#DIV/0!"}},"ava",null,null,"moy1",{"$f":"ROW(NP2)","v":2},"Ratio : ",{"$f":"NR4/SUM(NR4:NS4)*100","v":56.000000000000007},"Ratio : ",{"$f":"NT4/SUM(NT4:NU4)*100","v":36},"ava",4,6,"moy2",{"$f":"ROW(NY2)","v":2},"Ratio : ",{"$f":"OA4/SUM(OA4:OB4)*100","v":56.000000000000007},"Ratio : ",{"$f":"OC4/SUM(OC4:OD4)*100","v":36},"ava",4,4,"moy3",{"$f":"ROW(OH2)","v":2},"Ratio : ",{"$f":"OJ4/SUM(OJ4:OK4)*100","v":53.846153846153847},"Ratio : ",{"$f":"OL4/SUM(OL4:OM4)*100","v":38.461538461538467},"ava",4,4,"moy3min",{"$f":"ROW(OQ2)","v":2},"Ratio : ",{"$f":"OS4/SUM(OS4:OT4)*100","v":{"$error":"#DIV/0!"}},"Ratio : ",{"$f":"OU4/SUM(OU4:OV4)*100","v":{"$error":"#DIV/0!"}},"ava",null,null,"moy4",{"$f":"ROW(OZ2)","v":2},"Ratio : ",{"$f":"PB4/SUM(PB4:PC4)*100","v":53.846153846153847},"Ratio : ",{"$f":"PD4/SUM(PD4:PE4)*100","v":38.461538461538467},"ava",4,4]
["2010","001","501",null,null,0,"2000-09-12",null,null,"F",0,0,0,0,0,0,0,0,0,0,0,0,0,0,0,0,0,0,0,0,0,0,0,0,0,0,0,0,0,0,0,0,70,75,0,50,75,70,40,60,80,70,40,45,0,0,0,0,79,81,0,50,82,73,30,51,82,65,20,50,80,79,24,47,null,{"$f":"IF(L3=0,0,IF(M3=0,AVERAGE(M3,K3,N3),AVERAGE(K3:N3)))","v":0},{"$f":"IF(P3=0,0,IF(Q3=0,AVERAGE(Q3,O3,R3),AVERAGE(O3:R3)))","v":0},{"$f":"IF(T3=0,0,IF(U3=0,AVERAGE(T3,S3,V3),AVERAGE(S3:V3)))","v":0},{"$f":"IF(AB3=0,0,IF(AC3=0,AVERAGE(AB3,AA3,AD3),AVERAGE(AA3:AD3)))","v":0},{"$f":"IF(AF3=0,0,IF(AG3=0,AVERAGE(AF3,AE3,AH3),AVERAGE(AE3:AH3)))","v":0},{"$f":"IF(AJ3=0,0,IF(AK3=0,AVERAGE(AJ3,AI3,AL3),AVERAGE(AI3:AL3)))","v":0},{"$f":"IF(AN3=0,0,IF(AO3=0,AVERAGE(AN3,AM3,AP3),AVERAGE(AM3:AP3)))","v":0},{"$f":"IF(AR3=0,0,IF(AS3=0,AVERAGE(AR3,AQ3,AT3),AVERAGE(AQ3:AT3)))","v":65},{"$f":"IF(AV3=0,0,IF(AW3=0,AVERAGE(AV3,AU3,AX3),AVERAGE(AU3:AX3)))","v":61.25},{"$f":"IF(AZ3=0,0,IF(BA3=0,AVERAGE(AZ3,AY3,BB3),AVERAGE(AY3:BB3)))","v":58.75},{"$f":"IF(BD3=0,0,IF(BE3=0,AVERAGE(BD3,BC3,BF3),AVERAGE(BC3:BF3)))","v":0},{"$f":"IF(BH3=0,0,IF(BI3=0,AVERAGE(BH3,BG3,BJ3,BM3),AVERAGE(BG3:BJ3)))","v":60},null,null,null,"001501","0.100",{"$f":"LEFT(C3,2)","v":"50"},{"$f":"Tableau_SSRSMSA03_BI_Integration_STEPH_2010[[#This Row],[DAT_NAISSANCE_ELEVE]]","v":"2000-09-12"},"2009-09-30",{"$f":"DATEDIF(CP3,CQ3,\"d\")","v":3305},{"$f":"CR3/365.25","v":9.0485968514715953},{"$f":"IF(AND(LEFT(CO3,1)=\"1\",CS3>5.5),\"V\",IF(AND(LEFT(CO3,1)=\"2\",CS3>6.5),\"V\",IF(AND(LEFT(CO3,1)=\"3\",CS3>7.5),\"V\",IF(AND(LEFT(CO3,1)=\"4\",CS3>8.5),\"V\",IF(AND(LEFT(CO3,1)=\"5\",CS3>9.5),\"V\",IF(AND(LEFT(CO3,1)=\"6\",CS3>10.5),\"V\",\"J\"))))))","v":"J"},{"$f":"IF(AJ3=0,0,IF(BH3=0,0,1))","v":0},{"$f":"DC11&DC12&1","v":"500.1001"},"nb ele tot",{"$f":"SUMPRODUCT(($CM$2:$CM$338=$CV2)*1)","v":26},{"$f":"COUNTIFS($CM$2:$CM$338,$CV2,$J$2:$J$338,\"M\")","v":14},{"$f":"COUNTIFS($CM$2:$CM$338,$CV2,$J$2:$J$338,\"F\")","v":12},{"$f":"COUNTIFS($CM$2:$CM$338,$CV2,$CT$2:$CT$338,\"J\")","v":10},{"$f":"COUNTIFS($CM$2:$CM$338,$CV2,$CT$2:$CT$338,\"V\")","v":16},{"$f":"IF(CX4<5,\"\",CY5-CZ5)","v":-5.0505050505050377},8,8,{"$f":"CV3","v":"500.1001"},{"$f":"SUMPRODUCT(($CM$2:$CM$338=$CV2)*1)","v":26},{"$f":"COUNTIFS($CM$2:$CM$338,$CV2,$J$2:$J$338,\"M\")","v":14},{"$f":"COUNTIFS($CM$2:$CM$338,$CV2,$J$2:$J$338,\"F\")","v":12},{"$f":"COUNTIFS($CM$2:$CM$338,$CV2,$CT$2:$CT$338,\"J\")","v":10},{"$f":"COUNTIFS($CM$2:$CM$338,$CV2,$CT$2:$CT$338,\"V\")","v":16},{"$f":"IF(DG4<5,\"\",DH5-DI5)","v":""},null,null,{"$f":"$CV3","v":"500.1001"},{"$f":"SUMPRODUCT(($CM$2:$CM$338=$CV2)*1)","v":26},{"$f":"COUNTIFS($CM$2:$CM$338,$CV2,$J$2:$J$338,\"M\")","v":14},{"$f":"COUNTIFS($CM$2:$CM$338,$CV2,$J$2:$J$338,\"F\")","v":12},{"$f":"COUNTIFS($CM$2:$CM$338,$CV2,$CT$2:$CT$338,\"J\")","v":10},{"$f":"COUNTIFS($CM$2:$CM$338,$CV2,$CT$2:$CT$338,\"V\")","v":16},{"$f":"IF(DP4<5,\"\",DQ5-DR5)","v":-4.5454545454545467},2,2,{"$f":"$CV3","v":"500.1001"},{"$f":"SUMPRODUCT(($CM$2:$CM$338=$CV2)*1)","v":26},{"$f":"COUNTIFS($CM$2:$CM$338,$CV2,$J$2:$J$338,\"M\")","v":14},{"$f":"COUNTIFS($CM$2:$CM$338,$CV2,$J$2:$J$338,\"F\")","v":12},{"$f":"COUNTIFS($CM$2:$CM$338,$CV2,$CT$2:$CT$338,\"J\")","v":10},{"$f":"COUNTIFS($CM$2:$CM$338,$CV2,$CT$2:$CT$338,\"V\")","v":16},{"$f":"IF(DY4<5,\"\",DZ5-EA5)","v":-2.4675324675324788},3,3,{"$f":"$CV3","v":"500.1001"},{"$f":"SUMPRODUCT(($CM$2:$CM$338=$CV2)*1)","v":26},{"$f":"COUNTIFS($CM$2:$CM$338,$CV2,$J$2:$J$338,\"M\")","v":14},{"$f":"COUNTIFS($CM$2:$CM$338,$CV2,$J$2:$J$338,\"F\")","v":12},{"$f":"COUNTIFS($CM$2:$CM$338,$CV2,$CT$2:$CT$338,\"J\")","v":10},{"$f":"COUNTIFS($CM$2:$CM$338,$CV2,$CT$2:$CT$338,\"V\")","v":16},{"$f":"IF(EH4<5,\"\",EI5-EJ5)","v":0.7142857142857082},3,3,{"$f":"$CV3","v":"500.1001"},{"$f":"SUMPRODUCT(($CM$2:$CM$338=$CV2)*1)","v":26},{"$f":"COUNTIFS($CM$2:$CM$338,$CV2,$J$2:$J$338,\"M\")","v":14},{"$f":"COUNTIFS($CM$2:$CM$338,$CV2,$J$2:$J$338,\"F\")","v":12},{"$f":"COUNTIFS($CM$2:$CM$338,$CV2,$CT$2:$CT$338,\"J\")","v":10},{"$f":"COUNTIFS($CM$2:$CM$338,$CV2,$CT$2:$CT$338,\"V\")","v":16},{"$f":"IF(EQ4<5,\"\",ER5-ES5)","v":""},null,null,{"$f":"$CV3","v":"500.1001"},{"$f":"SUMPRODUCT(($CM$2:$CM$338=$CV2)*1)","v":26},{"$f":"COUNTIFS($CM$2:$CM$338,$CV2,$J$2:$J$338,\"M\")","v":14},{"$f":"COUNTIFS($CM$2:$CM$338,$CV2,$J$2:$J$338,\"F\")","v":12},{"$f":"COUNTIFS($CM$2:$CM$338,$CV2,$CT$2:$CT$338,\"J\")","v":10},{"$f":"COUNTIFS($CM$2:$CM$338,$CV2,$CT$2:$CT$338,\"V\")","v":16},{"$f":"IF(EZ4<5,\"\",FA5-FB5)","v":-4.2261904761904674},1,2,{"$f":"$CV3","v":"500.1001"},{"$f":"SUMPRODUCT(($CM$2:$CM$338=$CV2)*1)","v":26},{"$f":"COUNTIFS($CM$2:$CM$338,$CV2,$J$2:$J$338,\"M\")","v":14},{"$f":"COUNTIFS($CM$2:$CM$338,$CV2,$J$2:$J$338,\"F\")","v":12},{"$f":"COUNTIFS($CM$2:$CM$338,$CV2,$CT$2:$CT$338,\"J\")","v":10},{"$f":"COUNTIFS($CM$2:$CM$338,$CV2,$CT$2:$CT$338,\"V\")","v":16},{"$f":"IF(FI4<5,\"\",FJ5-FK5)","v":-3.2828282828282909},8,8,{"$f":"$CV3","v":"500.1001"},{"$f":"SUMPRODUCT(($CM$2:$CM$338=$CV2)*1)","v":26},{"$f":"COUNTIFS($CM$2:$CM$338,$CV2,$J$2:$J$338,\"M\")","v":14},{"$f":"COUNTIFS($CM$2:$CM$338,$CV2,$J$2:$J$338,\"F\")","v":12},{"$f":"COUNTIFS($CM$2:$CM$338,$CV2,$CT$2:$CT$338,\"J\")","v":10},{"$f":"COUNTIFS($CM$2:$CM$338,$CV2,$CT$2:$CT$338,\"V\")","v":16},{"$f":"IF(FR4<5,\"\",FS5-FT5)","v":""},null,null,{"$f":"$CV3","v":"500.1001"},{"$f":"SUMPRODUCT(($CM$2:$CM$338=$CV2)*1)","v":26},{"$f":"COUNTIFS($CM$2:$CM$338,$CV2,$J$2:$J$338,\"M\")","v":14},{"$f":"COUNTIFS($CM$2:$CM$338,$CV2,$J$2:$J$338,\"F\")","v":12},{"$f":"COUNTIFS($CM$2:$CM$338,$CV2,$CT$2:$CT$338,\"J\")","v":10},{"$f":"COUNTIFS($CM$2:$CM$338,$CV2,$CT$2:$CT$338,\"V\")","v":16},{"$f":"IF(GA4<5,\"\",GB5-GC5)","v":-4.9350649350649292},2,3,{"$f":"$CV3","v":"500.1001"},{"$f":"SUMPRODUCT(($CM$2:$CM$338=$CV2)*1)","v":26},{"$f":"COUNTIFS($CM$2:$CM$338,$CV2,$J$2:$J$338,\"M\")","v":14},{"$f":"COUNTIFS($CM$2:$CM$338,$CV2,$J$2:$J$338,\"F\")","v":12},{"$f":"COUNTIFS($CM$2:$CM$338,$CV2,$CT$2:$CT$338,\"J\")","v":10},{"$f":"COUNTIFS($CM$2:$CM$338,$CV2,$CT$2:$CT$338,\"V\")","v":16},{"$f":"IF(GJ4<5,\"\",GK5-GL5)","v":-6.5909090909090935},2,2,{"$f":"$CV3","v":"500.1001"},{"$f":"SUMPRODUCT(($CM$2:$CM$338=$CV2)*1)","v":26},{"$f":"COUNTIFS($CM$2:$CM$338,$CV2,$J$2:$J$338,\"M\")","v":14},{"$f":"COUNTIFS($CM$2:$CM$338,$CV2,$J$2:$J$338,\"F\")","v":12},{"$f":"COUNTIFS($CM$2:$CM$338,$CV2,$CT$2:$CT$338,\"J\")","v":10},{"$f":"COUNTIFS($CM$2:$CM$338,$CV2,$CT$2:$CT$338,\"V\")","v":16},{"$f":"IF(GS4<5,\"\",GT5-GU5)","v":-5.7142857142857082},2,2,{"$f":"$CV3","v":"500.1001"},{"$f":"SUMPRODUCT(($CM$2:$CM$338=$CV2)*1)","v":26},{"$f":"COUNTIFS($CM$2:$CM$338,$CV2,$J$2:$J$338,\"M\")","v":14},{"$f":"COUNTIFS($CM$2:$CM$338,$CV2,$J$2:$J$338,\"F\")","v":12},{"$f":"COUNTIFS($CM$2:$CM$338,$CV2,$CT$2:$CT$338,\"J\")","v":10},{"$f":"COUNTIFS($CM$2:$CM$338,$CV2,$CT$2:$CT$338,\"V\")","v":16},{"$f":"IF(HB4<5,\"\",HC5-HD5)","v":""},null,null,{"$f":"$CV3","v":"500.1001"},{"$f":"SUMPRODUCT(($CM$2:$CM$338=$CV2)*1)","v":26},{"$f":"COUNTIFS($CM$2:$CM$338,$CV2,$J$2:$J$338,\"M\")","v":14},{"$f":"COUNTIFS($CM$2:$CM$338,$CV2,$J$2:$J$338,\"F\")","v":12},{"$f":"COUNTIFS($CM$2:$CM$338,$CV2,$CT$2:$CT$338,\"J\")","v":10},{"$f":"COUNTIFS($CM$2:$CM$338,$CV2,$CT$2:$CT$338,\"V\")","v":16},{"$f":"IF(HK4<5,\"\",HL5-HM5)","v":-3.8214285714285694},2,2,{"$f":"$CV3","v":"500.1001"},{"$f":"SUMPRODUCT(($CM$2:$CM$338=$CV2)*1)","v":26},{"$f":"COUNTIFS($CM$2:$CM$338,$CV2,$J$2:$J$338,\"M\")","v":14},{"$f":"COUNTIFS($CM$2:$CM$338,$CV2,$J$2:$J$338,\"F\")","v":12},{"$f":"COUNTIFS($CM$2:$CM$338,$CV2,$CT$2:$CT$338,\"J\")","v":10},{"$f":"COUNTIFS($CM$2:$CM$338,$CV2,$CT$2:$CT$338,\"V\")","v":16},{"$f":"IF(HT4<5,\"\",HU5-HV5)","v":1.25},8,8,{"$f":"$CV3","v":"500.1001"},{"$f":"SUMPRODUCT(($CM$2:$CM$338=$CV2)*1)","v":26},{"$f":"COUNTIFS($CM$2:$CM$338,$CV2,$J$2:$J$338,\"M\")","v":14},{"$f":"COUNTIFS($CM$2:$CM$338,$CV2,$J$2:$J$338,\"F\")","v":12},{"$f":"COUNTIFS($CM$2:$CM$338,$CV2,$CT$2:$CT$338,\"J\")","v":10},{"$f":"COUNTIFS($CM$2:$CM$338,$CV2,$CT$2:$CT$338,\"V\")","v":16},{"$f":"IF(IC4<5,\"\",ID5-IE5)","v":""},null,null,{"$f":"$CV3","v":"500.1001"},{"$f":"SUMPRODUCT(($CM$2:$CM$338=$CV2)*1)","v":26},{"$f":"COUNTIFS($CM$2:$CM$338,$CV2,$J$2:$J$338,\"M\")","v":14},{"$f":"COUNTIFS($CM$2:$CM$338,$CV2,$J$2:$J$338,\"F\")","v":12},{"$f":"COUNTIFS($CM$2:$CM$338,$CV2,$CT$2:$CT$338,\"J\")","v":10},{"$f":"COUNTIFS($CM$2:$CM$338,$CV2,$CT$2:$CT$338,\"V\")","v":16},{"$f":"IF(IL4<5,\"\",IM5-IN5)","v":6.3961038961038952},4,4,{"$f":"$CV3","v":"500.1001"},{"$f":"SUMPRODUCT(($CM$2:$CM$338=$CV2)*1)","v":26},{"$f":"COUNTIFS($CM$2:$CM$338,$CV2,$J$2:$J$338,\"M\")","v":14},{"$f":"COUNTIFS($CM$2:$CM$338,$CV2,$J$2:$J$338,\"F\")","v":12},{"$f":"COUNTIFS($CM$2:$CM$338,$CV2,$CT$2:$CT$338,\"J\")","v":10},{"$f":"COUNTIFS($CM$2:$CM$338,$CV2,$CT$2:$CT$338,\"V\")","v":16},{"$f":"IF(IU4<5,\"\",IV5-IW5)","v":4.577922077922068},3,6,{"$f":"$CV3","v":"500.1001"},{"$f":"SUMPRODUCT(($CM$2:$CM$338=$CV2)*1)","v":26},{"$f":"COUNTIFS($CM$2:$CM$338,$CV2,$J$2:$J$338,\"M\")","v":14},{"$f":"COUNTIFS($CM$2:$CM$338,$CV2,$J$2:$J$338,\"F\")","v":12},{"$f":"COUNTIFS($CM$2:$CM$338,$CV2,$CT$2:$CT$338,\"J\")","v":10},{"$f":"COUNTIFS($CM$2:$CM$338,$CV2,$CT$2:$CT$338,\"V\")","v":16},{"$f":"IF(JD4<5,\"\",JE5-JF5)","v":6.1904761904761898},4,4,{"$f":"$CV3","v":"500.1001"},{"$f":"SUMPRODUCT(($CM$2:$CM$338=$CV2)*1)","v":26},{"$f":"COUNTIFS($CM$2:$CM$338,$CV2,$J$2:$J$338,\"M\")","v":14},{"$f":"COUNTIFS($CM$2:$CM$338,$CV2,$J$2:$J$338,\"F\")","v":12},{"$f":"COUNTIFS($CM$2:$CM$338,$CV2,$CT$2:$CT$338,\"J\")","v":10},{"$f":"COUNTIFS($CM$2:$CM$338,$CV2,$CT$2:$CT$338,\"V\")","v":16},{"$f":"IF(JM4<5,\"\",JN5-JO5)","v":""},null,null,{"$f":"$CV3","v":"500.1001"},{"$f":"SUMPRODUCT(($CM$2:$CM$338=$CV2)*1)","v":26},{"$f":"COUNTIFS($CM$2:$CM$338,$CV2,$J$2:$J$338,\"M\")","v":14},{"$f":"COUNTIFS($CM$2:$CM$338,$CV2,$J$2:$J$338,\"F\")","v":12},{"$f":"COUNTIFS($CM$2:$CM$338,$CV2,$CT$2:$CT$338,\"J\")","v":10},{"$f":"COUNTIFS($CM$2:$CM$338,$CV2,$CT$2:$CT$338,\"V\")","v":16},{"$f":"IF(JV4<5,\"\",JW5-JX5)","v":0.4404761904761898},3,4,{"$f":"$CV3","v":"500.1001"},{"$f":"SUMPRODUCT(($CM$2:$CM$338=$CV2)*1)","v":26},{"$f":"COUNTIFS($CM$2:$CM$338,$CV2,$J$2:$J$338,\"M\")","v":14},{"$f":"COUNTIFS($CM$2:$CM$338,$CV2,$J$2:$J$338,\"F\")","v":12},{"$f":"COUNTIFS($CM$2:$CM$338,$CV2,$CT$2:$CT$338,\"J\")","v":10},{"$f":"COUNTIFS($CM$2:$CM$338,$CV2,$CT$2:$CT$338,\"V\")","v":16},{"$f":"IF(KE4<5,\"\",KF5-KG5)","v":1.6161616161616195},8,8,{"$f":"$CV3","v":"500.1001"},{"$f":"SUMPRODUCT(($CM$2:$CM$338=$CV2)*1)","v":26},{"$f":"COUNTIFS($CM$2:$CM$338,$CV2,$J$2:$J$338,\"M\")","v":14},{"$f":"COUNTIFS($CM$2:$CM$338,$CV2,$J$2:$J$338,\"F\")","v":12},{"$f":"COUNTIFS($CM$2:$CM$338,$CV2,$CT$2:$CT$338,\"J\")","v":10},{"$f":"COUNTIFS($CM$2:$CM$338,$CV2,$CT$2:$CT$338,\"V\")","v":16},{"$f":"IF(KN4<5,\"\",KO5-KP5)","v":""},null,null,{"$f":"$CV3","v":"500.1001"},{"$f":"SUMPRODUCT(($CM$2:$CM$338=$CV2)*1)","v":26},{"$f":"COUNTIFS($CM$2:$CM$338,$CV2,$J$2:$J$338,\"M\")","v":14},{"$f":"COUNTIFS($CM$2:$CM$338,$CV2,$J$2:$J$338,\"F\")","v":12},{"$f":"COUNTIFS($CM$2:$CM$338,$CV2,$CT$2:$CT$338,\"J\")","v":10},{"$f":"COUNTIFS($CM$2:$CM$338,$CV2,$CT$2:$CT$338,\"V\")","v":16},{"$f":"IF(KW4<5,\"\",KX5-KY5)","v":""},null,null,{"$f":"$CV3","v":"500.1001"},{"$f":"SUMPRODUCT(($CM$2:$CM$338=$CV2)*1)","v":26},{"$f":"COUNTIFS($CM$2:$CM$338,$CV2,$J$2:$J$338,\"M\")","v":14},{"$f":"COUNTIFS($CM$2:$CM$338,$CV2,$J$2:$J$338,\"F\")","v":12},{"$f":"COUNTIFS($CM$2:$CM$338,$CV2,$CT$2:$CT$338,\"J\")","v":10},{"$f":"COUNTIFS($CM$2:$CM$338,$CV2,$CT$2:$CT$338,\"V\")","v":16},{"$f":"IF(LF4<5,\"\",LG5-LH5)","v":4.2857142857142918},4,4,{"$f":"$CV3","v":"500.1001"},{"$f":"SUMPRODUCT(($CM$2:$CM$338=$CV2)*1)","v":26},{"$f":"COUNTIFS($CM$2:$CM$338,$CV2,$J$2:$J$338,\"M\")","v":14},{"$f":"COUNTIFS($CM$2:$CM$338,$CV2,$J$2:$J$338,\"F\")","v":12},{"$f":"COUNTIFS($CM$2:$CM$338,$CV2,$CT$2:$CT$338,\"J\")","v":10},{"$f":"COUNTIFS($CM$2:$CM$338,$CV2,$CT$2:$CT$338,\"V\")","v":16},{"$f":"IF(LO4<5,\"\",LP5-LQ5)","v":1.845238095238102},4,4,{"$f":"$CV3","v":"500.1001"},{"$f":"SUMPRODUCT(($CM$2:$CM$338=$CV2)*1)","v":26},{"$f":"COUNTIFS($CM$2:$CM$338,$CV2,$J$2:$J$338,\"M\")","v":14},{"$f":"COUNTIFS($CM$2:$CM$338,$CV2,$J$2:$J$338,\"F\")","v":12},{"$f":"COUNTIFS($CM$2:$CM$338,$CV2,$CT$2:$CT$338,\"J\")","v":10},{"$f":"COUNTIFS($CM$2:$CM$338,$CV2,$CT$2:$CT$338,\"V\")","v":16},{"$f":"IF(LX4<5,\"\",LY5-LZ5)","v":""},null,null,{"$f":"$CV3","v":"500.1001"},{"$f":"SUMPRODUCT(($CM$2:$CM$338=$CV2)*1)","v":26},{"$f":"COUNTIFS($CM$2:$CM$338,$CV2,$J$2:$J$338,\"M\")","v":14},{"$f":"COUNTIFS($CM$2:$CM$338,$CV2,$J$2:$J$338,\"F\")","v":12},{"$f":"COUNTIFS($CM$2:$CM$338,$CV2,$CT$2:$CT$338,\"J\")","v":10},{"$f":"COUNTIFS($CM$2:$CM$338,$CV2,$CT$2:$CT$338,\"V\")","v":16},{"$f":"IF(MG4<5,\"\",MH5-MI5)","v":""},null,null,{"$f":"$CV3","v":"500.1001"},{"$f":"SUMPRODUCT(($CM$2:$CM$338=$CV2)*1)","v":26},{"$f":"COUNTIFS($CM$2:$CM$338,$CV2,$J$2:$J$338,\"M\")","v":14},{"$f":"COUNTIFS($CM$2:$CM$338,$CV2,$J$2:$J$338,\"F\")","v":12},{"$f":"COUNTIFS($CM$2:$CM$338,$CV2,$CT$2:$CT$338,\"J\")","v":10},{"$f":"COUNTIFS($CM$2:$CM$338,$CV2,$CT$2:$CT$338,\"V\")","v":16},{"$f":"IF(MP4<5,\"\",MQ5-MR5)","v":-4},4,4,{"$f":"$CV3","v":"500.1001"},{"$f":"SUMPRODUCT(($CM$2:$CM$338=$CV2)*1)","v":26},{"$f":"COUNTIFS($CM$2:$CM$338,$CV2,$J$2:$J$338,\"M\")","v":14},{"$f":"COUNTIFS($CM$2:$CM$338,$CV2,$J$2:$J$338,\"F\")","v":12},{"$f":"COUNTIFS($CM$2:$CM$338,$CV2,$CT$2:$CT$338,\"J\")","v":10},{"$f":"COUNTIFS($CM$2:$CM$338,$CV2,$CT$2:$CT$338,\"V\")","v":16},{"$f":"IF(MY4<5,\"\",MZ5-NA5)","v":-1.338383838383848},8,8,{"$f":"$CV3","v":"500.1001"},{"$f":"SUMPRODUCT(($CM$2:$CM$338=$CV2)*1)","v":26},{"$f":"COUNTIFS($CM$2:$CM$338,$CV2,$J$2:$J$338,\"M\")","v":14},{"$f":"COUNTIFS($CM$2:$CM$338,$CV2,$J$2:$J$338,\"F\")","v":12},{"$f":"COUNTIFS($CM$2:$CM$338,$CV2,$CT$2:$CT$338,\"J\")","v":10},{"$f":"COUNTIFS($CM$2:$CM$338,$CV2,$CT$2:$CT$338,\"V\")","v":16},{"$f":"IF(NH4<5,\"\",NI5-NJ5)","v":""},null,null,{"$f":"$CV3","v":"500.1001"},{"$f":"SUMPRODUCT(($CM$2:$CM$338=$CV2)*1)","v":26},{"$f":"COUNTIFS($CM$2:$CM$338,$CV2,$J$2:$J$338,\"M\")","v":14},{"$f":"COUNTIFS($CM$2:$CM$338,$CV2,$J$2:$J$338,\"F\")","v":12},{"$f":"COUNTIFS($CM$2:$CM$338,$CV2,$CT$2:$CT$338,\"J\")","v":10},{"$f":"COUNTIFS($CM$2:$CM$338,$CV2,$CT$2:$CT$338,\"V\")","v":16},{"$f":"IF(NQ4<5,\"\",NR5-NS5)","v":-1.0281385281385411},3,6,{"$f":"$CV3","v":"500.1001"},{"$f":"SUMPRODUCT(($CM$2:$CM$338=$CV2)*1)","v":26},{"$f":"COUNTIFS($CM$2:$CM$338,$CV2,$J$2:$J$338,\"M\")","v":14},{"$f":"COUNTIFS($CM$2:$CM$338,$CV2,$J$2:$J$338,\"F\")","v":12},{"$f":"COUNTIFS($CM$2:$CM$338,$CV2,$CT$2:$CT$338,\"J\")","v":10},{"$f":"COUNTIFS($CM$2:$CM$338,$CV2,$CT$2:$CT$338,\"V\")","v":16},{"$f":"IF(NZ4<5,\"\",OA5-OB5)","v":-4.8701298701303131E-2},3,6,{"$f":"$CV3","v":"500.1001"},{"$f":"SUMPRODUCT(($CM$2:$CM$338=$CV2)*1)","v":26},{"$f":"COUNTIFS($CM$2:$CM$338,$CV2,$J$2:$J$338,\"M\")","v":14},{"$f":"COUNTIFS($CM$2:$CM$338,$CV2,$J$2:$J$338,\"F\")","v":12},{"$f":"COUNTIFS($CM$2:$CM$338,$CV2,$CT$2:$CT$338,\"J\")","v":10},{"$f":"COUNTIFS($CM$2:$CM$338,$CV2,$CT$2:$CT$338,\"V\")","v":16},{"$f":"IF(OI4<5,\"\",OJ5-OK5)","v":0.7589285714285694},3,4,{"$f":"$CV3","v":"500.1001"},{"$f":"SUMPRODUCT(($CM$2:$CM$338=$CV2)*1)","v":26},{"$f":"COUNTIFS($CM$2:$CM$338,$CV2,$J$2:$J$338,\"M\")","v":14},{"$f":"COUNTIFS($CM$2:$CM$338,$CV2,$J$2:$J$338,\"F\")","v":12},{"$f":"COUNTIFS($CM$2:$CM$338,$CV2,$CT$2:$CT$338,\"J\")","v":10},{"$f":"COUNTIFS($CM$2:$CM$338,$CV2,$CT$2:$CT$338,\"V\")","v":16},{"$f":"IF(OR4<5,\"\",OS5-OT5)","v":""},null,null,{"$f":"$CV3","v":"500.1001"},{"$f":"SUMPRODUCT(($CM$2:$CM$338=$CV2)*1)","v":26},{"$f":"COUNTIFS($CM$2:$CM$338,$CV2,$J$2:$J$338,\"M\")","v":14},{"$f":"COUNTIFS($CM$2:$CM$338,$CV2,$J$2:$J$338,\"F\")","v":12},{"$f":"COUNTIFS($CM$2:$CM$338,$CV2,$CT$2:$CT$338,\"J\")","v":10},{"$f":"COUNTIFS($CM$2:$CM$338,$CV2,$CT$2:$CT$338,\"V\")","v":16},{"$f":"IF(PA4<5,\"\",PB5-PC5)","v":-3.6726190476190368},3,6]
["2010","001","501",null,null,0,"2000-01-31",null,null,"M",75,70,0,80,80,75,80,75,75,75,70,80,0,0,0,0,75,65,0,65,70,60,70,75,70,80,75,70,0,0,0,0,65,75,0,75,75,70,80,75,70,65,70,75,0,0,0,0,72,70,0,69,77,73,60,74,75,64,64,65,64,61,76,76,null,51.666666666666664,77.5,75,68.333333333333329,68.75,73.75,0,71.666666666666671,75,{"$f":"IF(AZ4=0,0,IF(BA4=0,AVERAGE(AZ4,AY4,BB4),AVERAGE(AY4:BB4)))","v":70},0,67.75,null,null,null,"001501","0.100","50",{"$f":"Tableau_SSRSMSA03_BI_Integration_STEPH_2010[[#This Row],[DAT_NAISSANCE_ELEVE]]","v":"2000-01-31"},"2009-09-30",3530,9.6646132785763168,{"$f":"IF(AND(LEFT(CO4,1)=\"1\",CS4>5.5),\"V\",IF(AND(LEFT(CO4,1)=\"2\",CS4>6.5),\"V\",IF(AND(LEFT(CO4,1)=\"3\",CS4>7.5),\"V\",IF(AND(LEFT(CO4,1)=\"4\",CS4>8.5),\"V\",IF(AND(LEFT(CO4,1)=\"5\",CS4>9.5),\"V\",IF(AND(LEFT(CO4,1)=\"6\",CS4>10.5),\"V\",\"J\"))))))","v":"V"},{"$f":"IF(AJ4=0,0,IF(BH4=0,0,1))","v":1},{"$f":"DC11&DC12&2","v":"500.1002"},"nb note ",{"$f":"SUMPRODUCT(($CM$2:$CM$338=$CV2)*($AJ$2:$AJ$338>3))","v":20},{"$f":"COUNTIFS($CM$2:$CM$338,$CV2,$J$2:$J$338,\"M\",$AJ$2:$AJ$338,\">3\")","v":11},{"$f":"COUNTIFS($CM$2:$CM$338,$CV2,$J$2:$J$338,\"F\",$AJ$2:$AJ$338,\">3\")","v":9},{"$f":"COUNTIFS($CM$2:$CM$338,$CV2,$CT$2:$CT$338,\"J\",$AJ$2:$AJ$338,\">3\")","v":7},{"$f":"COUNTIFS($CM$2:$CM$338,$CV2,$CT$2:$CT$338,\"V\",$AJ$2:$AJ$338,\">3\")","v":13},{"$f":"IF(CX4<5,\"\",CY10-CZ10)","v":-2.3710943512389662},2,2,{"$f":"CV4","v":"500.1002"},{"$f":"SUMPRODUCT(($CM$2:$CM$338=$CV2)*($AN$2:$AN$338>3))","v":0},{"$f":"COUNTIFS($CM$2:$CM$338,$CV2,$J$2:$J$338,\"M\",$AN$2:$AN$338,\">3\")","v":0},{"$f":"COUNTIFS($CM$2:$CM$338,$CV2,$J$2:$J$338,\"F\",$AN$2:$AN$338,\">3\")","v":0},{"$f":"COUNTIFS($CM$2:$CM$338,$CV2,$CT$2:$CT$338,\"J\",$AN$2:$AN$338,\">3\")","v":0},{"$f":"COUNTIFS($CM$2:$CM$338,$CV2,$CT$2:$CT$338,\"V\",$AN$2:$AN$338,\">3\")","v":0},{"$f":"IF(DG4<5,\"\",DH10-DI10)","v":""},null,null,{"$f":"$CV4","v":"500.1002"},{"$f":"SUMPRODUCT(($CM$2:$CM$338=$CV2)*($AR$2:$AR$338>3))","v":25},{"$f":"COUNTIFS($CM$2:$CM$338,$CV2,$J$2:$J$338,\"M\",$AR$2:$AR$338,\">3\")","v":14},{"$f":"COUNTIFS($CM$2:$CM$338,$CV2,$J$2:$J$338,\"F\",$AR$2:$AR$338,\">3\")","v":11},{"$f":"COUNTIFS($CM$2:$CM$338,$CV2,$CT$2:$CT$338,\"J\",$AR$2:$AR$338,\">3\")","v":9},{"$f":"COUNTIFS($CM$2:$CM$338,$CV2,$CT$2:$CT$338,\"V\",$AR$2:$AR$338,\">3\")","v":16},{"$f":"IF(DP4<5,\"\",DQ10-DR10)","v":-1.5286747610436464},2,2,{"$f":"$CV4","v":"500.1002"},{"$f":"SUMPRODUCT(($CM$2:$CM$338=$CV2)*($AV$2:$AV$338>3))","v":25},{"$f":"COUNTIFS($CM$2:$CM$338,$CV2,$J$2:$J$338,\"M\",$AV$2:$AV$338,\">3\")","v":14},{"$f":"COUNTIFS($CM$2:$CM$338,$CV2,$J$2:$J$338,\"F\",$AV$2:$AV$338,\">3\")","v":11},{"$f":"COUNTIFS($CM$2:$CM$338,$CV2,$CT$2:$CT$338,\"J\",$AV$2:$AV$338,\">3\")","v":9},{"$f":"COUNTIFS($CM$2:$CM$338,$CV2,$CT$2:$CT$338,\"V\",$AV$2:$AV$338,\">3\")","v":16},{"$f":"IF(DY4<5,\"\",DZ10-EA10)","v":-1.3604398414525036},3,3,{"$f":"$CV4","v":"500.1002"},{"$f":"SUMPRODUCT(($CM$2:$CM$338=$CV2)*($AZ$2:$AZ$338>3))","v":26},{"$f":"COUNTIFS($CM$2:$CM$338,$CV2,$J$2:$J$338,\"M\",$AZ$2:$AZ$338,\">3\")","v":14},{"$f":"COUNTIFS($CM$2:$CM$338,$CV2,$J$2:$J$338,\"F\",$AZ$2:$AZ$338,\">3\")","v":12},{"$f":"COUNTIFS($CM$2:$CM$338,$CV2,$CT$2:$CT$338,\"J\",$AZ$2:$AZ$338,\">3\")","v":10},{"$f":"COUNTIFS($CM$2:$CM$338,$CV2,$CT$2:$CT$338,\"V\",$AZ$2:$AZ$338,\">3\")","v":16},{"$f":"IF(EH4<5,\"\",EI10-EJ10)","v":-0.54433221099893103},3,6,{"$f":"$CV4","v":"500.1002"},{"$f":"SUMPRODUCT(($CM$2:$CM$338=$CV2)*($BD$2:$BD$338>3))","v":0},{"$f":"COUNTIFS($CM$2:$CM$338,$CV2,$J$2:$J$338,\"M\",$BD$2:$BD$338,\">3\")","v":0},{"$f":"COUNTIFS($CM$2:$CM$338,$CV2,$J$2:$J$338,\"F\",$BD$2:$BD$338,\">3\")","v":0},{"$f":"COUNTIFS($CM$2:$CM$338,$CV2,$CT$2:$CT$338,\"J\",$BD$2:$BD$338,\">3\")","v":0},{"$f":"COUNTIFS($CM$2:$CM$338,$CV2,$CT$2:$CT$338,\"V\",$BD$2:$BD$338,\">3\")","v":0},{"$f":"IF(EQ4<5,\"\",ER10-ES10)","v":""},null,null,{"$f":"$CV4","v":"500.1002"},{"$f":"SUMPRODUCT(($CM$2:$CM$338=$CV2)*($BH$2:$BH$338>3))","v":26},{"$f":"COUNTIFS($CM$2:$CM$338,$CV2,$J$2:$J$338,\"M\",$BH$2:$BH$338,\">3\")","v":14},{"$f":"COUNTIFS($CM$2:$CM$338,$CV2,$J$2:$J$338,\"F\",$BH$2:$BH$338,\">3\")","v":12},{"$f":"COUNTIFS($CM$2:$CM$338,$CV2,$CT$2:$CT$338,\"J\",$BH$2:$BH$338,\">3\")","v":10},{"$f":"COUNTIFS($CM$2:$CM$338,$CV2,$CT$2:$CT$338,\"V\",$BH$2:$BH$338,\">3\")","v":16},{"$f":"IF(EZ4<5,\"\",FA10-FB10)","v":-0.9543495825477919},2,3,{"$f":"$CV4","v":"500.1002"},{"$f":"SUMPRODUCT(($CM$2:$CM$338=$CV2)*($AI$2:$AI$338>3))","v":20},{"$f":"COUNTIFS($CM$2:$CM$338,$CV2,$J$2:$J$338,\"M\",$AI$2:$AI$338,\">3\")","v":11},{"$f":"COUNTIFS($CM$2:$CM$338,$CV2,$J$2:$J$338,\"F\",$AI$2:$AI$338,\">3\")","v":9},{"$f":"COUNTIFS($CM$2:$CM$338,$CV2,$CT$2:$CT$338,\"J\",$AI$2:$AI$338,\">3\")","v":7},{"$f":"COUNTIFS($CM$2:$CM$338,$CV2,$CT$2:$CT$338,\"V\",$AI$2:$AI$338,\">3\")","v":13},{"$f":"IF(FI4<5,\"\",FJ10-FK10)","v":-2.3526242881329296},4,3,{"$f":"$CV4","v":"500.1002"},{"$f":"SUMPRODUCT(($CM$2:$CM$338=$CV2)*($AM$2:$AM$338>3))","v":0},{"$f":"COUNTIFS($CM$2:$CM$338,$CV2,$J$2:$J$338,\"M\",$AM$2:$AM$338,\">3\")","v":0},{"$f":"COUNTIFS($CM$2:$CM$338,$CV2,$J$2:$J$338,\"F\",$AM$2:$AM$338,\">3\")","v":0},{"$f":"COUNTIFS($CM$2:$CM$338,$CV2,$CT$2:$CT$338,\"J\",$AM$2:$AM$338,\">3\")","v":0},{"$f":"COUNTIFS($CM$2:$CM$338,$CV2,$CT$2:$CT$338,\"V\",$AM$2:$AM$338,\">3\")","v":0},{"$f":"IF(FR4<5,\"\",FS10-FT10)","v":""},null,null,{"$f":"$CV4","v":"500.1002"},{"$f":"SUMPRODUCT(($CM$2:$CM$338=$CV2)*($AQ$2:$AQ$338>3))","v":25},{"$f":"COUNTIFS($CM$2:$CM$338,$CV2,$J$2:$J$338,\"M\",$AQ$2:$AQ$338,\">3\")","v":14},{"$f":"COUNTIFS($CM$2:$CM$338,$CV2,$J$2:$J$338,\"F\",$AQ$2:$AQ$338,\">3\")","v":11},{"$f":"COUNTIFS($CM$2:$CM$338,$CV2,$CT$2:$CT$338,\"J\",$AQ$2:$AQ$338,\">3\")","v":9},{"$f":"COUNTIFS($CM$2:$CM$338,$CV2,$CT$2:$CT$338,\"V\",$AQ$2:$AQ$338,\">3\")","v":16},{"$f":"IF(GA4<5,\"\",GB10-GC10)","v":-4.106819943167153},3,6,{"$f":"$CV4","v":"500.1002"},{"$f":"SUMPRODUCT(($CM$2:$CM$338=$CV2)*($AU$2:$AU$338>3))","v":25},{"$f":"COUNTIFS($CM$2:$CM$338,$CV2,$J$2:$J$338,\"M\",$AU$2:$AU$338,\">3\")","v":14},{"$f":"COUNTIFS($CM$2:$CM$338,$CV2,$J$2:$J$338,\"F\",$AU$2:$AU$338,\">3\")","v":11},{"$f":"COUNTIFS($CM$2:$CM$338,$CV2,$CT$2:$CT$338,\"J\",$AU$2:$AU$338,\">3\")","v":9},{"$f":"COUNTIFS($CM$2:$CM$338,$CV2,$CT$2:$CT$338,\"V\",$AU$2:$AU$338,\">3\")","v":16},{"$f":"IF(GJ4<5,\"\",GK10-GL10)","v":-3.9556322720880104},2,2,{"$f":"$CV4","v":"500.1002"},{"$f":"SUMPRODUCT(($CM$2:$CM$338=$CV2)*($AY$2:$AY$338>3))","v":26},{"$f":"COUNTIFS($CM$2:$CM$338,$CV2,$J$2:$J$338,\"M\",$AY$2:$AY$338,\">3\")","v":14},{"$f":"COUNTIFS($CM$2:$CM$338,$CV2,$J$2:$J$338,\"F\",$AY$2:$AY$338,\">3\")","v":12},{"$f":"COUNTIFS($CM$2:$CM$338,$CV2,$CT$2:$CT$338,\"J\",$AY$2:$AY$338,\">3\")","v":10},{"$f":"COUNTIFS($CM$2:$CM$338,$CV2,$CT$2:$CT$338,\"V\",$AY$2:$AY$338,\">3\")","v":16},{"$f":"IF(GS4<5,\"\",GT10-GU10)","v":-3.4118967452301234},3,3,{"$f":"$CV4","v":"500.1002"},{"$f":"SUMPRODUCT(($CM$2:$CM$338=$CV2)*($BC$2:$BC$338>3))","v":0},{"$f":"COUNTIFS($CM$2:$CM$338,$CV2,$J$2:$J$338,\"M\",$BC$2:$BC$338,\">3\")","v":0},{"$f":"COUNTIFS($CM$2:$CM$338,$CV2,$J$2:$J$338,\"F\",$BC$2:$BC$338,\">3\")","v":0},{"$f":"COUNTIFS($CM$2:$CM$338,$CV2,$CT$2:$CT$338,\"J\",$BC$2:$BC$338,\">3\")","v":0},{"$f":"COUNTIFS($CM$2:$CM$338,$CV2,$CT$2:$CT$338,\"V\",$BC$2:$BC$338,\">3\")","v":0},{"$f":"IF(HB4<5,\"\",HC10-HD10)","v":""},null,null,{"$f":"$CV4","v":"500.1002"},{"$f":"SUMPRODUCT(($CM$2:$CM$338=$CV2)*($BG$2:$BG$338>3))","v":26},{"$f":"COUNTIFS($CM$2:$CM$338,$CV2,$J$2:$J$338,\"M\",$BG$2:$BG$338,\">3\")","v":14},{"$f":"COUNTIFS($CM$2:$CM$338,$CV2,$J$2:$J$338,\"F\",$BG$2:$BG$338,\">3\")","v":12},{"$f":"COUNTIFS($CM$2:$CM$338,$CV2,$CT$2:$CT$338,\"J\",$BG$2:$BG$338,\">3\")","v":10},{"$f":"COUNTIFS($CM$2:$CM$338,$CV2,$CT$2:$CT$338,\"V\",$BG$2:$BG$338,\">3\")","v":16},{"$f":"IF(HK4<5,\"\",HL10-HM10)","v":-4.043630487476392},2,3,{"$f":"$CV4","v":"500.1002"},{"$f":"SUMPRODUCT(($CM$2:$CM$338=$CV2)*($AL$2:$AL$338>3))","v":22},{"$f":"COUNTIFS($CM$2:$CM$338,$CV2,$J$2:$J$338,\"M\",$AL$2:$AL$338,\">3\")","v":12},{"$f":"COUNTIFS($CM$2:$CM$338,$CV2,$J$2:$J$338,\"F\",$AL$2:$AL$338,\">3\")","v":10},{"$f":"COUNTIFS($CM$2:$CM$338,$CV2,$CT$2:$CT$338,\"J\",$AL$2:$AL$338,\">3\")","v":7},{"$f":"COUNTIFS($CM$2:$CM$338,$CV2,$CT$2:$CT$338,\"V\",$AL$2:$AL$338,\">3\")","v":15},{"$f":"IF(HT4<5,\"\",HU10-HV10)","v":1.3216513216462999E-2},4,3,{"$f":"$CV4","v":"500.1002"},{"$f":"SUMPRODUCT(($CM$2:$CM$338=$CV2)*($AP$2:$AP$338>3))","v":0},{"$f":"COUNTIFS($CM$2:$CM$338,$CV2,$J$2:$J$338,\"M\",$AP$2:$AP$338,\">3\")","v":0},{"$f":"COUNTIFS($CM$2:$CM$338,$CV2,$J$2:$J$338,\"F\",$AP$2:$AP$338,\">3\")","v":0},{"$f":"COUNTIFS($CM$2:$CM$338,$CV2,$CT$2:$CT$338,\"J\",$AP$2:$AP$338,\">3\")","v":0},{"$f":"COUNTIFS($CM$2:$CM$338,$CV2,$CT$2:$CT$338,\"V\",$AP$2:$AP$338,\">3\")","v":0},{"$f":"IF(IC4<5,\"\",ID10-IE10)","v":""},null,null,{"$f":"$CV4","v":"500.1002"},{"$f":"SUMPRODUCT(($CM$2:$CM$338=$CV2)*($AT$2:$AT$338>3))","v":25},{"$f":"COUNTIFS($CM$2:$CM$338,$CV2,$J$2:$J$338,\"M\",$AT$2:$AT$338,\">3\")","v":14},{"$f":"COUNTIFS($CM$2:$CM$338,$CV2,$J$2:$J$338,\"F\",$AT$2:$AT$338,\">3\")","v":11},{"$f":"COUNTIFS($CM$2:$CM$338,$CV2,$CT$2:$CT$338,\"J\",$AT$2:$AT$338,\">3\")","v":9},{"$f":"COUNTIFS($CM$2:$CM$338,$CV2,$CT$2:$CT$338,\"V\",$AT$2:$AT$338,\">3\")","v":16},{"$f":"IF(IL4<5,\"\",IM10-IN10)","v":0.68586928442256578},2,2,{"$f":"$CV4","v":"500.1002"},{"$f":"SUMPRODUCT(($CM$2:$CM$338=$CV2)*($AX$2:$AX$338>3))","v":25},{"$f":"COUNTIFS($CM$2:$CM$338,$CV2,$J$2:$J$338,\"M\",$AX$2:$AX$338,\">3\")","v":14},{"$f":"COUNTIFS($CM$2:$CM$338,$CV2,$J$2:$J$338,\"F\",$AX$2:$AX$338,\">3\")","v":11},{"$f":"COUNTIFS($CM$2:$CM$338,$CV2,$CT$2:$CT$338,\"J\",$AX$2:$AX$338,\">3\")","v":9},{"$f":"COUNTIFS($CM$2:$CM$338,$CV2,$CT$2:$CT$338,\"V\",$AX$2:$AX$338,\">3\")","v":16},{"$f":"IF(IU4<5,\"\",IV10-IW10)","v":0.59455312619860479},2,2,{"$f":"$CV4","v":"500.1002"},{"$f":"SUMPRODUCT(($CM$2:$CM$338=$CV2)*($BB$2:$BB$338>3))","v":26},{"$f":"COUNTIFS($CM$2:$CM$338,$CV2,$J$2:$J$338,\"M\",$BB$2:$BB$338,\">3\")","v":14},{"$f":"COUNTIFS($CM$2:$CM$338,$CV2,$J$2:$J$338,\"F\",$BB$2:$BB$338,\">3\")","v":12},{"$f":"COUNTIFS($CM$2:$CM$338,$CV2,$CT$2:$CT$338,\"J\",$BB$2:$BB$338,\">3\")","v":10},{"$f":"COUNTIFS($CM$2:$CM$338,$CV2,$CT$2:$CT$338,\"V\",$BB$2:$BB$338,\">3\")","v":16},{"$f":"IF(JD4<5,\"\",JE10-JF10)","v":2.0089786756452526},2,2,{"$f":"$CV4","v":"500.1002"},{"$f":"SUMPRODUCT(($CM$2:$CM$338=$CV2)*($BF$2:$BF$338>3))","v":0},{"$f":"COUNTIFS($CM$2:$CM$338,$CV2,$J$2:$J$338,\"M\",$BF$2:$BF$338,\">3\")","v":0},{"$f":"COUNTIFS($CM$2:$CM$338,$CV2,$J$2:$J$338,\"F\",$BF$2:$BF$338,\">3\")","v":0},{"$f":"COUNTIFS($CM$2:$CM$338,$CV2,$CT$2:$CT$338,\"J\",$BF$2:$BF$338,\">3\")","v":0},{"$f":"COUNTIFS($CM$2:$CM$338,$CV2,$CT$2:$CT$338,\"V\",$BF$2:$BF$338,\">3\")","v":0},{"$f":"IF(JM4<5,\"\",JN10-JO10)","v":""},null,null,{"$f":"$CV4","v":"500.1002"},{"$f":"SUMPRODUCT(($CM$2:$CM$338=$CV2)*($BJ$2:$BJ$338>3))","v":26},{"$f":"COUNTIFS($CM$2:$CM$338,$CV2,$J$2:$J$338,\"M\",$BJ$2:$BJ$338,\">3\")","v":14},{"$f":"COUNTIFS($CM$2:$CM$338,$CV2,$J$2:$J$338,\"F\",$BJ$2:$BJ$338,\">3\")","v":12},{"$f":"COUNTIFS($CM$2:$CM$338,$CV2,$CT$2:$CT$338,\"J\",$BJ$2:$BJ$338,\">3\")","v":10},{"$f":"COUNTIFS($CM$2:$CM$338,$CV2,$CT$2:$CT$338,\"V\",$BJ$2:$BJ$338,\">3\")","v":16},{"$f":"IF(JV4<5,\"\",JW10-JX10)","v":0.64772421222733101},2,3,{"$f":"$CV4","v":"500.1002"},{"$f":"SUMPRODUCT(($CM$2:$CM$338=$CV2)*($AK$2:$AK$338>3))","v":20},{"$f":"COUNTIFS($CM$2:$CM$338,$CV2,$J$2:$J$338,\"M\",$AK$2:$AK$338,\">3\")","v":11},{"$f":"COUNTIFS($CM$2:$CM$338,$CV2,$J$2:$J$338,\"F\",$AK$2:$AK$338,\">3\")","v":9},{"$f":"COUNTIFS($CM$2:$CM$338,$CV2,$CT$2:$CT$338,\"J\",$AK$2:$AK$338,\">3\")","v":7},{"$f":"COUNTIFS($CM$2:$CM$338,$CV2,$CT$2:$CT$338,\"V\",$AK$2:$AK$338,\">3\")","v":13},{"$f":"IF(KE4<5,\"\",KF10-KG10)","v":0.51115899645994034},2,2,{"$f":"$CV4","v":"500.1002"},{"$f":"SUMPRODUCT(($CM$2:$CM$338=$CV2)*($AO$2:$AO$338>3))","v":0},{"$f":"COUNTIFS($CM$2:$CM$338,$CV2,$J$2:$J$338,\"M\",$AO$2:$AO$338,\">3\")","v":0},{"$f":"COUNTIFS($CM$2:$CM$338,$CV2,$J$2:$J$338,\"F\",$AO$2:$AO$338,\">3\")","v":0},{"$f":"COUNTIFS($CM$2:$CM$338,$CV2,$CT$2:$CT$338,\"J\",$AO$2:$AO$338,\">3\")","v":0},{"$f":"COUNTIFS($CM$2:$CM$338,$CV2,$CT$2:$CT$338,\"V\",$AO$2:$AO$338,\">3\")","v":0},{"$f":"IF(KN4<5,\"\",KO10-KP10)","v":""},null,null,{"$f":"$CV4","v":"500.1002"},{"$f":"SUMPRODUCT(($CM$2:$CM$338=$CV2)*($AS$2:$AS$338>3))","v":0},{"$f":"COUNTIFS($CM$2:$CM$338,$CV2,$J$2:$J$338,\"M\",$AS$2:$AS$338,\">3\")","v":0},{"$f":"COUNTIFS($CM$2:$CM$338,$CV2,$J$2:$J$338,\"F\",$AS$2:$AS$338,\">3\")","v":0},{"$f":"COUNTIFS($CM$2:$CM$338,$CV2,$CT$2:$CT$338,\"J\",$AS$2:$AS$338,\">3\")","v":0},{"$f":"COUNTIFS($CM$2:$CM$338,$CV2,$CT$2:$CT$338,\"V\",$AS$2:$AS$338,\">3\")","v":0},{"$f":"IF(KW4<5,\"\",KX10-KY10)","v":""},null,null,{"$f":"$CV4","v":"500.1002"},{"$f":"SUMPRODUCT(($CM$2:$CM$338=$CV2)*($AW$2:$AW$338>3))","v":25},{"$f":"COUNTIFS($CM$2:$CM$338,$CV2,$J$2:$J$338,\"M\",$AW$2:$AW$338,\">3\")","v":14},{"$f":"COUNTIFS($CM$2:$CM$338,$CV2,$J$2:$J$338,\"F\",$AW$2:$AW$338,\">3\")","v":11},{"$f":"COUNTIFS($CM$2:$CM$338,$CV2,$CT$2:$CT$338,\"J\",$AW$2:$AW$338,\">3\")","v":9},{"$f":"COUNTIFS($CM$2:$CM$338,$CV2,$CT$2:$CT$338,\"V\",$AW$2:$AW$338,\">3\")","v":16},{"$f":"IF(LF4<5,\"\",LG10-LH10)","v":-1.2710650811917077},2,2,{"$f":"$CV4","v":"500.1002"},{"$f":"SUMPRODUCT(($CM$2:$CM$338=$CV2)*($BA$2:$BA$338>3))","v":26},{"$f":"COUNTIFS($CM$2:$CM$338,$CV2,$J$2:$J$338,\"M\",$BA$2:$BA$338,\">3\")","v":14},{"$f":"COUNTIFS($CM$2:$CM$338,$CV2,$J$2:$J$338,\"F\",$BA$2:$BA$338,\">3\")","v":12},{"$f":"COUNTIFS($CM$2:$CM$338,$CV2,$CT$2:$CT$338,\"J\",$BA$2:$BA$338,\">3\")","v":10},{"$f":"COUNTIFS($CM$2:$CM$338,$CV2,$CT$2:$CT$338,\"V\",$BA$2:$BA$338,\">3\")","v":16},{"$f":"IF(LO4<5,\"\",LP10-LQ10)","v":-2.3961840628507645},2,3,{"$f":"$CV4","v":"500.1002"},{"$f":"SUMPRODUCT(($CM$2:$CM$338=$CV2)*($BE$2:$BE$338>3))","v":0},{"$f":"COUNTIFS($CM$2:$CM$338,$CV2,$J$2:$J$338,\"M\",$BE$2:$BE$338,\">3\")","v":0},{"$f":"COUNTIFS($CM$2:$CM$338,$CV2,$J$2:$J$338,\"F\",$BE$2:$BE$338,\">3\")","v":0},{"$f":"COUNTIFS($CM$2:$CM$338,$CV2,$CT$2:$CT$338,\"J\",$BE$2:$BE$338,\">3\")","v":0},{"$f":"COUNTIFS($CM$2:$CM$338,$CV2,$CT$2:$CT$338,\"V\",$BE$2:$BE$338,\">3\")","v":0},{"$f":"IF(LX4<5,\"\",LY10-LZ10)","v":""},null,null,{"$f":"$CV4","v":"500.1002"},{"$f":"SUMPRODUCT(($CM$2:$CM$338=$CV2)*($BI$2:$BI$338>3))","v":2},{"$f":"COUNTIFS($CM$2:$CM$338,$CV2,$J$2:$J$338,\"M\",$BI$2:$BI$338,\">3\")","v":0},{"$f":"COUNTIFS($CM$2:$CM$338,$CV2,$J$2:$J$338,\"F\",$BI$2:$BI$338,\">3\")","v":2},{"$f":"COUNTIFS($CM$2:$CM$338,$CV2,$CT$2:$CT$338,\"J\",$BI$2:$BI$338,\">3\")","v":0},{"$f":"COUNTIFS($CM$2:$CM$338,$CV2,$CT$2:$CT$338,\"V\",$BI$2:$BI$338,\">3\")","v":2},{"$f":"IF(MG4<5,\"\",MH10-MI10)","v":""},null,null,{"$f":"$CV4","v":"500.1002"},{"$f":"SUMPRODUCT(($CM$2:$CM$338=$CV2)*($BM$2:$BM$338>3))","v":24},{"$f":"COUNTIFS($CM$2:$CM$338,$CV2,$J$2:$J$338,\"M\",$BM$2:$BM$338,\">3\")","v":14},{"$f":"COUNTIFS($CM$2:$CM$338,$CV2,$J$2:$J$338,\"F\",$BM$2:$BM$338,\">3\")","v":10},{"$f":"COUNTIFS($CM$2:$CM$338,$CV2,$CT$2:$CT$338,\"J\",$BM$2:$BM$338,\">3\")","v":10},{"$f":"COUNTIFS($CM$2:$CM$338,$CV2,$CT$2:$CT$338,\"V\",$BM$2:$BM$338,\">3\")","v":14},{"$f":"IF(MP4<5,\"\",MQ10-MR10)","v":2.0951923076922867},2,6,{"$f":"$CV4","v":"500.1002"},{"$f":"SUMPRODUCT(($CM$2:$CM$338=$CV2)*($CC$2:$CC$338>3))","v":20},{"$f":"COUNTIFS($CM$2:$CM$338,$CV2,$J$2:$J$338,\"M\",$CC$2:$CC$338,\">3\")","v":11},{"$f":"COUNTIFS($CM$2:$CM$338,$CV2,$J$2:$J$338,\"F\",$CC$2:$CC$338,\">3\")","v":9},{"$f":"COUNTIFS($CM$2:$CM$338,$CV2,$CT$2:$CT$338,\"J\",$CC$2:$CC$338,\">3\")","v":7},{"$f":"COUNTIFS($CM$2:$CM$338,$CV2,$CT$2:$CT$338,\"V\",$CC$2:$CC$338,\">3\")","v":13},{"$f":"IF(MY4<5,\"\",MZ10-NA10)","v":-1.0498357824238695},3,2,{"$f":"$CV4","v":"500.1002"},{"$f":"SUMPRODUCT(($CM$2:$CM$338=$CV2)*($CD$2:$CD$338>3))","v":0},{"$f":"COUNTIFS($CM$2:$CM$338,$CV2,$J$2:$J$338,\"M\",$CD$2:$CD$338,\">3\")","v":0},{"$f":"COUNTIFS($CM$2:$CM$338,$CV2,$J$2:$J$338,\"F\",$CD$2:$CD$338,\">3\")","v":0},{"$f":"COUNTIFS($CM$2:$CM$338,$CV2,$CT$2:$CT$338,\"J\",$CD$2:$CD$338,\">3\")","v":0},{"$f":"COUNTIFS($CM$2:$CM$338,$CV2,$CT$2:$CT$338,\"V\",$CD$2:$CD$338,\">3\")","v":0},{"$f":"IF(NH4<5,\"\",NI10-NJ10)","v":""},null,null,{"$f":"$CV4","v":"500.1002"},{"$f":"SUMPRODUCT(($CM$2:$CM$338=$CV2)*($CE$2:$CE$338>3))","v":25},{"$f":"COUNTIFS($CM$2:$CM$338,$CV2,$J$2:$J$338,\"M\",$CE$2:$CE$338,\">3\")","v":14},{"$f":"COUNTIFS($CM$2:$CM$338,$CV2,$J$2:$J$338,\"F\",$CE$2:$CE$338,\">3\")","v":11},{"$f":"COUNTIFS($CM$2:$CM$338,$CV2,$CT$2:$CT$338,\"J\",$CE$2:$CE$338,\">3\")","v":9},{"$f":"COUNTIFS($CM$2:$CM$338,$CV2,$CT$2:$CT$338,\"V\",$CE$2:$CE$338,\">3\")","v":16},{"$f":"IF(NQ4<5,\"\",NR10-NS10)","v":{"$error":"#DIV/0!"}},2,3,{"$f":"$CV4","v":"500.1002"},{"$f":"SUMPRODUCT(($CM$2:$CM$338=$CV2)*($CF$2:$CF$338>3))","v":25},{"$f":"COUNTIFS($CM$2:$CM$338,$CV2,$J$2:$J$338,\"M\",$CF$2:$CF$338,\">3\")","v":14},{"$f":"COUNTIFS($CM$2:$CM$338,$CV2,$J$2:$J$338,\"F\",$CF$2:$CF$338,\">3\")","v":11},{"$f":"COUNTIFS($CM$2:$CM$338,$CV2,$CT$2:$CT$338,\"J\",$CF$2:$CF$338,\">3\")","v":9},{"$f":"COUNTIFS($CM$2:$CM$338,$CV2,$CT$2:$CT$338,\"V\",$CF$2:$CF$338,\">3\")","v":16},{"$f":"IF(NZ4<5,\"\",OA10-OB10)","v":-1.498146017133422},2,2,{"$f":"$CV4","v":"500.1002"},{"$f":"SUMPRODUCT(($CM$2:$CM$338=$CV2)*($CG$2:$CG$338>3))","v":26},{"$f":"COUNTIFS($CM$2:$CM$338,$CV2,$J$2:$J$338,\"M\",$CG$2:$CG$338,\">3\")","v":14},{"$f":"COUNTIFS($CM$2:$CM$338,$CV2,$J$2:$J$338,\"F\",$CG$2:$CG$338,\">3\")","v":12},{"$f":"COUNTIFS($CM$2:$CM$338,$CV2,$CT$2:$CT$338,\"J\",$CG$2:$CG$338,\">3\")","v":10},{"$f":"COUNTIFS($CM$2:$CM$338,$CV2,$CT$2:$CT$338,\"V\",$CG$2:$CG$338,\">3\")","v":16},{"$f":"IF(OI4<5,\"\",OJ10-OK10)","v":-1.0858585858586309},2,3,{"$f":"$CV4","v":"500.1002"},{"$f":"SUMPRODUCT(($CM$2:$CM$338=$CV2)*($CH$2:$CH$338>3))","v":0},{"$f":"COUNTIFS($CM$2:$CM$338,$CV2,$J$2:$J$338,\"M\",$CH$2:$CH$338,\">3\")","v":0},{"$f":"COUNTIFS($CM$2:$CM$338,$CV2,$J$2:$J$338,\"F\",$CH$2:$CH$338,\">3\")","v":0},{"$f":"COUNTIFS($CM$2:$CM$338,$CV2,$CT$2:$CT$338,\"J\",$CH$2:$CH$338,\">3\")","v":0},{"$f":"COUNTIFS($CM$2:$CM$338,$CV2,$CT$2:$CT$338,\"V\",$CH$2:$CH$338,\">3\")","v":0},{"$f":"IF(OR4<5,\"\",OS10-OT10)","v":""},null,null,{"$f":"$CV4","v":"500.1002"},{"$f":"SUMPRODUCT(($CM$2:$CM$338=$CV2)*($CI$2:$CI$338>3))","v":26},{"$f":"COUNTIFS($CM$2:$CM$338,$CV2,$J$2:$J$338,\"M\",$CI$2:$CI$338,\">3\")","v":14},{"$f":"COUNTIFS($CM$2:$CM$338,$CV2,$J$2:$J$338,\"F\",$CI$2:$CI$338,\">3\")","v":12},{"$f":"COUNTIFS($CM$2:$CM$338,$CV2,$CT$2:$CT$338,\"J\",$CI$2:$CI$338,\">3\")","v":10},{"$f":"COUNTIFS($CM$2:$CM$338,$CV2,$CT$2:$CT$338,\"V\",$CI$2:$CI$338,\">3\")","v":16},{"$f":"IF(PA4<5,\"\",PB10-PC10)","v":-2.4804211073063556},2,3]
["2010","001","501",null,null,0,"1999-11-18",null,null,"F",75,80,0,70,75,75,70,70,75,70,65,70,0,0,0,0,70,70,0,70,75,65,65,80,80,80,65,80,0,0,0,0,75,75,0,75,75,75,60,60,70,70,60,55,0,0,0,0,68,72,0,60,75,66,82,53,75,75,81,66,80,79,72,68,null,48.333333333333336,72.5,70,70,71.25,76.25,0,75,67.5,{"$f":"IF(AZ5=0,0,IF(BA5=0,AVERAGE(AZ5,AY5,BB5),AVERAGE(AY5:BB5)))","v":63.75},0,70.5,null,null,null,"001501","0.100","50",{"$f":"Tableau_SSRSMSA03_BI_Integration_STEPH_2010[[#This Row],[DAT_NAISSANCE_ELEVE]]","v":"1999-11-18"},"2009-09-30",3604,9.8672142368240934,{"$f":"IF(AND(LEFT(CO5,1)=\"1\",CS5>5.5),\"V\",IF(AND(LEFT(CO5,1)=\"2\",CS5>6.5),\"V\",IF(AND(LEFT(CO5,1)=\"3\",CS5>7.5),\"V\",IF(AND(LEFT(CO5,1)=\"4\",CS5>8.5),\"V\",IF(AND(LEFT(CO5,1)=\"5\",CS5>9.5),\"V\",IF(AND(LEFT(CO5,1)=\"6\",CS5>10.5),\"V\",\"J\"))))))","v":"V"},{"$f":"IF(AJ5=0,0,IF(BH5=0,0,1))","v":1},{"$f":"DC11&DC12&3","v":"500.1003"},"% moyenne",{"$f":"IF(CX4<5,\"\",SUMPRODUCT((($CM$2:$CM$338=$CV2)*($AJ$2:$AJ$338>3)*($AJ$2:$AJ$338)/CX4)))","v":80},{"$f":"IF(CX4<5,\"\",SUMPRODUCT(($CM$2:$CM$338=$CV2)*($J$2:$J$338=\"M\")*($AJ$2:$AJ$338>3)*($AJ$2:$AJ$338))/CY4)","v":77.727272727272734},{"$f":"IF(CX4<5,\"\",SUMPRODUCT(($CM$2:$CM$338=$CV2)*($J$2:$J$338=\"F\")*($AJ$2:$AJ$338>3)*($AJ$2:$AJ$338))/CZ4)","v":82.777777777777771},{"$f":"IF(CX4<5,\"\",SUMPRODUCT(($CM$2:$CM$338=$CV2)*($CT$2:$CT$338=\"J\")*($AJ$2:$AJ$338>3)*($AJ$2:$AJ$338))/DA4)","v":79.285714285714292},{"$f":"IF(CX4<5,\"\",SUMPRODUCT(($CM$2:$CM$338=$CV2)*($CT$2:$CT$338=\"V\")*($AJ$2:$AJ$338>3)*($AJ$2:$AJ$338))/DB4)","v":80.384615384615387},{"$f":"IF(CX4<5,\"\",CY12-CZ12)","v":-2.3710943512390372},2,2,"500.1003",{"$f":"IF(DG4<5,\"\",SUMPRODUCT((($CM$2:$CM$338=$CV2)*($AN$2:$AN$338>3)*($AN$2:$AN$338)/DG4)))","v":""},{"$f":"IF(DG4<5,\"\",SUMPRODUCT(($CM$2:$CM$338=$CV2)*($J$2:$J$338=\"M\")*($AN$2:$AN$338>3)*($AN$2:$AN$338))/DH4)","v":""},{"$f":"IF(DG4<5,\"\",SUMPRODUCT(($CM$2:$CM$338=$CV2)*($J$2:$J$338=\"F\")*($AN$2:$AN$338>3)*($AN$2:$AN$338))/DI4)","v":""},{"$f":"IF(DG4<5,\"\",SUMPRODUCT(($CM$2:$CM$338=$CV2)*($CT$2:$CT$338=\"J\")*($AN$2:$AN$338>3)*($AN$2:$AN$338))/DJ4)","v":""},{"$f":"IF(DG4<5,\"\",SUMPRODUCT(($CM$2:$CM$338=$CV2)*($CT$2:$CT$338=\"V\")*($AN$2:$AN$338>3)*($AN$2:$AN$338))/DK4)","v":""},{"$f":"IF(DG4<5,\"\",DH12-DI12)","v":""},null,null,"500.1003",{"$f":"IF(DP4<5,\"\",SUMPRODUCT((($CM$2:$CM$338=$CV2)*($AR$2:$AR$338>3)*($AR$2:$AR$338)/DP4)))","v":77},{"$f":"IF(DP4<5,\"\",SUMPRODUCT(($CM$2:$CM$338=$CV2)*($J$2:$J$338=\"M\")*($AR$2:$AR$338>3)*($AR$2:$AR$338))/DQ4)","v":75},{"$f":"IF(DP4<5,\"\",SUMPRODUCT(($CM$2:$CM$338=$CV2)*($J$2:$J$338=\"F\")*($AR$2:$AR$338>3)*($AR$2:$AR$338))/DR4)","v":79.545454545454547},{"$f":"IF(DP4<5,\"\",SUMPRODUCT(($CM$2:$CM$338=$CV2)*($CT$2:$CT$338=\"J\")*($AR$2:$AR$338>3)*($AR$2:$AR$338))/DS4)","v":74.444444444444443},{"$f":"IF(DP4<5,\"\",SUMPRODUCT(($CM$2:$CM$338=$CV2)*($CT$2:$CT$338=\"V\")*($AR$2:$AR$338>3)*($AR$2:$AR$338))/DT4)","v":78.4375},{"$f":"IF(DP4<5,\"\",DQ12-DR12)","v":-1.5286747610436464},2,2,"500.1003",{"$f":"IF(DY4<5,\"\",SUMPRODUCT((($CM$2:$CM$338=$CV2)*($AV$2:$AV$338>3)*($AV$2:$AV$338)/DY4)))","v":76.800000000000011},{"$f":"IF(DY4<5,\"\",SUMPRODUCT(($CM$2:$CM$338=$CV2)*($J$2:$J$338=\"M\")*($AV$2:$AV$338>3)*($AV$2:$AV$338))/DZ4)","v":75.714285714285708},{"$f":"IF(DY4<5,\"\",SUMPRODUCT(($CM$2:$CM$338=$CV2)*($J$2:$J$338=\"F\")*($AV$2:$AV$338>3)*($AV$2:$AV$338))/EA4)","v":78.181818181818187},{"$f":"IF(DY4<5,\"\",SUMPRODUCT(($CM$2:$CM$338=$CV2)*($CT$2:$CT$338=\"J\")*($AV$2:$AV$338>3)*($AV$2:$AV$338))/EB4)","v":72.777777777777771},{"$f":"IF(DY4<5,\"\",SUMPRODUCT(($CM$2:$CM$338=$CV2)*($CT$2:$CT$338=\"V\")*($AV$2:$AV$338>3)*($AV$2:$AV$338))/EC4)","v":79.0625},{"$f":"IF(DY4<5,\"\",DZ12-EA12)","v":-1.3604398414525036},3,2,"500.1003",{"$f":"IF(EH4<5,\"\",SUMPRODUCT((($CM$2:$CM$338=$CV2)*($AZ$2:$AZ$338>3)*($AZ$2:$AZ$338)/EH4)))","v":75.384615384615387},{"$f":"IF(EH4<5,\"\",SUMPRODUCT(($CM$2:$CM$338=$CV2)*($J$2:$J$338=\"M\")*($AZ$2:$AZ$338>3)*($AZ$2:$AZ$338))/EI4)","v":75.714285714285708},{"$f":"IF(EH4<5,\"\",SUMPRODUCT(($CM$2:$CM$338=$CV2)*($J$2:$J$338=\"F\")*($AZ$2:$AZ$338>3)*($AZ$2:$AZ$338))/EJ4)","v":75},{"$f":"IF(EH4<5,\"\",SUMPRODUCT(($CM$2:$CM$338=$CV2)*($CT$2:$CT$338=\"J\")*($AZ$2:$AZ$338>3)*($AZ$2:$AZ$338))/EK4)","v":73.5},{"$f":"IF(EH4<5,\"\",SUMPRODUCT(($CM$2:$CM$338=$CV2)*($CT$2:$CT$338=\"V\")*($AZ$2:$AZ$338>3)*($AZ$2:$AZ$338))/EL4)","v":76.5625},{"$f":"IF(EH4<5,\"\",EI12-EJ12)","v":-0.5443322109988884},3,3,"500.1003",{"$f":"IF(EQ4<5,\"\",SUMPRODUCT((($CM$2:$CM$338=$CV2)*($BD$2:$BD$338>3)*($BD$2:$BD$338)/EQ4)))","v":""},{"$f":"IF(EQ4<5,\"\",SUMPRODUCT(($CM$2:$CM$338=$CV2)*($J$2:$J$338=\"M\")*($BD$2:$BD$338>3)*($BD$2:$BD$338))/ER4)","v":""},{"$f":"IF(EQ4<5,\"\",SUMPRODUCT(($CM$2:$CM$338=$CV2)*($J$2:$J$338=\"F\")*($BD$2:$BD$338>3)*($BD$2:$BD$338))/ES4)","v":""},{"$f":"IF(EQ4<5,\"\",SUMPRODUCT(($CM$2:$CM$338=$CV2)*($CT$2:$CT$338=\"J\")*($BD$2:$BD$338>3)*($BD$2:$BD$338))/ET4)","v":""},{"$f":"IF(EQ4<5,\"\",SUMPRODUCT(($CM$2:$CM$338=$CV2)*($CT$2:$CT$338=\"V\")*($BD$2:$BD$338>3)*($BD$2:$BD$338))/EU4)","v":""},{"$f":"IF(EQ4<5,\"\",ER12-ES12)","v":""},null,null,"500.1003",{"$f":"IF(EZ4<5,\"\",SUMPRODUCT((($CM$2:$CM$338=$CV2)*($BH$2:$BH$338>3)*($BH$2:$BH$338)/EZ4)))","v":74.307692307692292},{"$f":"IF(EZ4<5,\"\",SUMPRODUCT(($CM$2:$CM$338=$CV2)*($J$2:$J$338=\"M\")*($BH$2:$BH$338>3)*($BH$2:$BH$338))/FA4)","v":72.357142857142861},{"$f":"IF(EZ4<5,\"\",SUMPRODUCT(($CM$2:$CM$338=$CV2)*($J$2:$J$338=\"F\")*($BH$2:$BH$338>3)*($BH$2:$BH$338))/FB4)","v":76.583333333333329},{"$f":"IF(EZ4<5,\"\",SUMPRODUCT(($CM$2:$CM$338=$CV2)*($CT$2:$CT$338=\"J\")*($BH$2:$BH$338>3)*($BH$2:$BH$338))/FC4)","v":74},{"$f":"IF(EZ4<5,\"\",SUMPRODUCT(($CM$2:$CM$338=$CV2)*($CT$2:$CT$338=\"V\")*($BH$2:$BH$338>3)*($BH$2:$BH$338))/FD4)","v":74.5},{"$f":"IF(EZ4<5,\"\",FA12-FB12)","v":-0.95434958254780611},2,3,"500.1003",{"$f":"IF(FI4<5,\"\",SUMPRODUCT((($CM$2:$CM$338=$CV2)*($AI$2:$AI$338>3)*($AI$2:$AI$338)/FI4)))","v":78.75},{"$f":"IF(FI4<5,\"\",SUMPRODUCT(($CM$2:$CM$338=$CV2)*($J$2:$J$338=\"M\")*($AI$2:$AI$338>3)*($AI$2:$AI$338))/FJ4)","v":77.272727272727266},{"$f":"IF(FI4<5,\"\",SUMPRODUCT(($CM$2:$CM$338=$CV2)*($J$2:$J$338=\"F\")*($AI$2:$AI$338>3)*($AI$2:$AI$338))/FK4)","v":80.555555555555557},{"$f":"IF(FI4<5,\"\",SUMPRODUCT(($CM$2:$CM$338=$CV2)*($CT$2:$CT$338=\"J\")*($AI$2:$AI$338>3)*($AI$2:$AI$338))/FL4)","v":76.428571428571431},{"$f":"IF(FI4<5,\"\",SUMPRODUCT(($CM$2:$CM$338=$CV2)*($CT$2:$CT$338=\"V\")*($AI$2:$AI$338>3)*($AI$2:$AI$338))/FM4)","v":80},{"$f":"IF(FI4<5,\"\",FJ12-FK12)","v":-2.3526242881329864},2,2,"500.1003",{"$f":"IF(FR4<5,\"\",SUMPRODUCT((($CM$2:$CM$338=$CV2)*($AM$2:$AM$338>3)*($AM$2:$AM$338)/FR4)))","v":""},{"$f":"IF(FR4<5,\"\",SUMPRODUCT(($CM$2:$CM$338=$CV2)*($J$2:$J$338=\"M\")*($AM$2:$AM$338>3)*($AM$2:$AM$338))/FS4)","v":""},{"$f":"IF(FR4<5,\"\",SUMPRODUCT(($CM$2:$CM$338=$CV2)*($J$2:$J$338=\"F\")*($AM$2:$AM$338>3)*($AM$2:$AM$338))/FT4)","v":""},{"$f":"IF(FR4<5,\"\",SUMPRODUCT(($CM$2:$CM$338=$CV2)*($CT$2:$CT$338=\"J\")*($AM$2:$AM$338>3)*($AM$2:$AM$338))/FU4)","v":""},{"$f":"IF(FR4<5,\"\",SUMPRODUCT(($CM$2:$CM$338=$CV2)*($CT$2:$CT$338=\"V\")*($AM$2:$AM$338>3)*($AM$2:$AM$338))/FV4)","v":""},{"$f":"IF(FR4<5,\"\",FS12-FT12)","v":""},null,null,"500.1003",{"$f":"IF(GA4<5,\"\",SUMPRODUCT((($CM$2:$CM$338=$CV2)*($AQ$2:$AQ$338>3)*($AQ$2:$AQ$338)/GA4)))","v":68.600000000000009},{"$f":"IF(GA4<5,\"\",SUMPRODUCT(($CM$2:$CM$338=$CV2)*($J$2:$J$338=\"M\")*($AQ$2:$AQ$338>3)*($AQ$2:$AQ$338))/GB4)","v":66.428571428571431},{"$f":"IF(GA4<5,\"\",SUMPRODUCT(($CM$2:$CM$338=$CV2)*($J$2:$J$338=\"F\")*($AQ$2:$AQ$338>3)*($AQ$2:$AQ$338))/GC4)","v":71.36363636363636},{"$f":"IF(GA4<5,\"\",SUMPRODUCT(($CM$2:$CM$338=$CV2)*($CT$2:$CT$338=\"J\")*($AQ$2:$AQ$338>3)*($AQ$2:$AQ$338))/GD4)","v":66.666666666666671},{"$f":"IF(GA4<5,\"\",SUMPRODUCT(($CM$2:$CM$338=$CV2)*($CT$2:$CT$338=\"V\")*($AQ$2:$AQ$338>3)*($AQ$2:$AQ$338))/GE4)","v":69.6875},{"$f":"IF(GA4<5,\"\",GB12-GC12)","v":-4.1068199431671388},2,2,"500.1003",{"$f":"IF(GJ4<5,\"\",SUMPRODUCT((($CM$2:$CM$338=$CV2)*($AU$2:$AU$338>3)*($AU$2:$AU$338)/GJ4)))","v":75.399999999999977},{"$f":"IF(GJ4<5,\"\",SUMPRODUCT(($CM$2:$CM$338=$CV2)*($J$2:$J$338=\"M\")*($AU$2:$AU$338>3)*($AU$2:$AU$338))/GK4)","v":72.5},{"$f":"IF(GJ4<5,\"\",SUMPRODUCT(($CM$2:$CM$338=$CV2)*($J$2:$J$338=\"F\")*($AU$2:$AU$338>3)*($AU$2:$AU$338))/GL4)","v":79.090909090909093},{"$f":"IF(GJ4<5,\"\",SUMPRODUCT(($CM$2:$CM$338=$CV2)*($CT$2:$CT$338=\"J\")*($AU$2:$AU$338>3)*($AU$2:$AU$338))/GM4)","v":71.666666666666671},{"$f":"IF(GJ4<5,\"\",SUMPRODUCT(($CM$2:$CM$338=$CV2)*($CT$2:$CT$338=\"V\")*($AU$2:$AU$338>3)*($AU$2:$AU$338))/GN4)","v":77.5},{"$f":"IF(GJ4<5,\"\",GK12-GL12)","v":-3.9556322720879677},2,2,"500.1003",{"$f":"IF(GS4<5,\"\",SUMPRODUCT((($CM$2:$CM$338=$CV2)*($AY$2:$AY$338>3)*($AY$2:$AY$338)/GS4)))","v":74.423076923076934},{"$f":"IF(GS4<5,\"\",SUMPRODUCT(($CM$2:$CM$338=$CV2)*($J$2:$J$338=\"M\")*($AY$2:$AY$338>3)*($AY$2:$AY$338))/GT4)","v":71.785714285714292},{"$f":"IF(GS4<5,\"\",SUMPRODUCT(($CM$2:$CM$338=$CV2)*($J$2:$J$338=\"F\")*($AY$2:$AY$338>3)*($AY$2:$AY$338))/GU4)","v":77.5},{"$f":"IF(GS4<5,\"\",SUMPRODUCT(($CM$2:$CM$338=$CV2)*($CT$2:$CT$338=\"J\")*($AY$2:$AY$338>3)*($AY$2:$AY$338))/GV4)","v":71},{"$f":"IF(GS4<5,\"\",SUMPRODUCT(($CM$2:$CM$338=$CV2)*($CT$2:$CT$338=\"V\")*($AY$2:$AY$338>3)*($AY$2:$AY$338))/GW4)","v":76.5625},{"$f":"IF(GS4<5,\"\",GT12-GU12)","v":-3.4118967452300808},3,3,"500.1003",{"$f":"IF(HB4<5,\"\",SUMPRODUCT((($CM$2:$CM$338=$CV2)*($BC$2:$BC$338>3)*($BC$2:$BC$338)/HB4)))","v":""},{"$f":"IF(HB4<5,\"\",SUMPRODUCT(($CM$2:$CM$338=$CV2)*($J$2:$J$338=\"M\")*($BC$2:$BC$338>3)*($BC$2:$BC$338))/HC4)","v":""},{"$f":"IF(HB4<5,\"\",SUMPRODUCT(($CM$2:$CM$338=$CV2)*($J$2:$J$338=\"F\")*($BC$2:$BC$338>3)*($BC$2:$BC$338))/HD4)","v":""},{"$f":"IF(HB4<5,\"\",SUMPRODUCT(($CM$2:$CM$338=$CV2)*($CT$2:$CT$338=\"J\")*($BC$2:$BC$338>3)*($BC$2:$BC$338))/HE4)","v":""},{"$f":"IF(HB4<5,\"\",SUMPRODUCT(($CM$2:$CM$338=$CV2)*($CT$2:$CT$338=\"V\")*($BC$2:$BC$338>3)*($BC$2:$BC$338))/HF4)","v":""},{"$f":"IF(HB4<5,\"\",HC12-HD12)","v":""},null,null,"500.1003",{"$f":"IF(HK4<5,\"\",SUMPRODUCT((($CM$2:$CM$338=$CV2)*($BG$2:$BG$338>3)*($BG$2:$BG$338)/HK4)))","v":73.692307692307693},{"$f":"IF(HK4<5,\"\",SUMPRODUCT(($CM$2:$CM$338=$CV2)*($J$2:$J$338=\"M\")*($BG$2:$BG$338>3)*($BG$2:$BG$338))/HL4)","v":71.928571428571431},{"$f":"IF(HK4<5,\"\",SUMPRODUCT(($CM$2:$CM$338=$CV2)*($J$2:$J$338=\"F\")*($BG$2:$BG$338>3)*($BG$2:$BG$338))/HM4)","v":75.75},{"$f":"IF(HK4<5,\"\",SUMPRODUCT(($CM$2:$CM$338=$CV2)*($CT$2:$CT$338=\"J\")*($BG$2:$BG$338>3)*($BG$2:$BG$338))/HN4)","v":70.3},{"$f":"IF(HK4<5,\"\",SUMPRODUCT(($CM$2:$CM$338=$CV2)*($CT$2:$CT$338=\"V\")*($BG$2:$BG$338>3)*($BG$2:$BG$338))/HO4)","v":75.8125},{"$f":"IF(HK4<5,\"\",HL12-HM12)","v":-4.0436304874764346},2,3,"500.1003",{"$f":"IF(HT4<5,\"\",SUMPRODUCT((($CM$2:$CM$338=$CV2)*($AL$2:$AL$338>3)*($AL$2:$AL$338)/HT4)))","v":80.681818181818173},{"$f":"IF(HT4<5,\"\",SUMPRODUCT(($CM$2:$CM$338=$CV2)*($J$2:$J$338=\"M\")*($AL$2:$AL$338>3)*($AL$2:$AL$338))/HU4)","v":81.25},{"$f":"IF(HT4<5,\"\",SUMPRODUCT(($CM$2:$CM$338=$CV2)*($J$2:$J$338=\"F\")*($AL$2:$AL$338>3)*($AL$2:$AL$338))/HV4)","v":80},{"$f":"IF(HT4<5,\"\",SUMPRODUCT(($CM$2:$CM$338=$CV2)*($CT$2:$CT$338=\"J\")*($AL$2:$AL$338>3)*($AL$2:$AL$338))/HW4)","v":79.285714285714292},{"$f":"IF(HT4<5,\"\",SUMPRODUCT(($CM$2:$CM$338=$CV2)*($CT$2:$CT$338=\"V\")*($AL$2:$AL$338>3)*($AL$2:$AL$338))/HX4)","v":81.333333333333329},{"$f":"IF(HT4<5,\"\",HU12-HV12)","v":1.3216513216519843E-2},3,2,"500.1003",{"$f":"IF(IC4<5,\"\",SUMPRODUCT((($CM$2:$CM$338=$CV2)*($AP$2:$AP$338>3)*($AP$2:$AP$338)/IC4)))","v":""},{"$f":"IF(IC4<5,\"\",SUMPRODUCT(($CM$2:$CM$338=$CV2)*($J$2:$J$338=\"M\")*($AP$2:$AP$338>3)*($AP$2:$AP$338))/ID4)","v":""},{"$f":"IF(IC4<5,\"\",SUMPRODUCT(($CM$2:$CM$338=$CV2)*($J$2:$J$338=\"F\")*($AP$2:$AP$338>3)*($AP$2:$AP$338))/IE4)","v":""},{"$f":"IF(IC4<5,\"\",SUMPRODUCT(($CM$2:$CM$338=$CV2)*($CT$2:$CT$338=\"J\")*($AP$2:$AP$338>3)*($AP$2:$AP$338))/IF4)","v":""},{"$f":"IF(IC4<5,\"\",SUMPRODUCT(($CM$2:$CM$338=$CV2)*($CT$2:$CT$338=\"V\")*($AP$2:$AP$338>3)*($AP$2:$AP$338))/IG4)","v":""},{"$f":"IF(IC4<5,\"\",ID12-IE12)","v":""},null,null,"500.1003",{"$f":"IF(IL4<5,\"\",SUMPRODUCT((($CM$2:$CM$338=$CV2)*($AT$2:$AT$338>3)*($AT$2:$AT$338)/IL4)))","v":75.399999999999991},{"$f":"IF(IL4<5,\"\",SUMPRODUCT(($CM$2:$CM$338=$CV2)*($J$2:$J$338=\"M\")*($AT$2:$AT$338>3)*($AT$2:$AT$338))/IM4)","v":78.214285714285708},{"$f":"IF(IL4<5,\"\",SUMPRODUCT(($CM$2:$CM$338=$CV2)*($J$2:$J$338=\"F\")*($AT$2:$AT$338>3)*($AT$2:$AT$338))/IN4)","v":71.818181818181813},{"$f":"IF(IL4<5,\"\",SUMPRODUCT(($CM$2:$CM$338=$CV2)*($CT$2:$CT$338=\"J\")*($AT$2:$AT$338>3)*($AT$2:$AT$338))/IO4)","v":73.333333333333329},{"$f":"IF(IL4<5,\"\",SUMPRODUCT(($CM$2:$CM$338=$CV2)*($CT$2:$CT$338=\"V\")*($AT$2:$AT$338>3)*($AT$2:$AT$338))/IP4)","v":76.5625},{"$f":"IF(IL4<5,\"\",IM12-IN12)","v":0.68586928442263684},2,2,"500.1003",{"$f":"IF(IU4<5,\"\",SUMPRODUCT((($CM$2:$CM$338=$CV2)*($AX$2:$AX$338>3)*($AX$2:$AX$338)/IU4)))","v":76.2},{"$f":"IF(IU4<5,\"\",SUMPRODUCT(($CM$2:$CM$338=$CV2)*($J$2:$J$338=\"M\")*($AX$2:$AX$338>3)*($AX$2:$AX$338))/IV4)","v":78.214285714285708},{"$f":"IF(IU4<5,\"\",SUMPRODUCT(($CM$2:$CM$338=$CV2)*($J$2:$J$338=\"F\")*($AX$2:$AX$338>3)*($AX$2:$AX$338))/IW4)","v":73.63636363636364},{"$f":"IF(IU4<5,\"\",SUMPRODUCT(($CM$2:$CM$338=$CV2)*($CT$2:$CT$338=\"J\")*($AX$2:$AX$338>3)*($AX$2:$AX$338))/IX4)","v":73.333333333333329},{"$f":"IF(IU4<5,\"\",SUMPRODUCT(($CM$2:$CM$338=$CV2)*($CT$2:$CT$338=\"V\")*($AX$2:$AX$338>3)*($AX$2:$AX$338))/IY4)","v":77.8125},{"$f":"IF(IU4<5,\"\",IV12-IW12)","v":0.59455312619870426},3,6,"500.1003",{"$f":"IF(JD4<5,\"\",SUMPRODUCT((($CM$2:$CM$338=$CV2)*($BB$2:$BB$338>3)*($BB$2:$BB$338)/JD4)))","v":70.000000000000014},{"$f":"IF(JD4<5,\"\",SUMPRODUCT(($CM$2:$CM$338=$CV2)*($J$2:$J$338=\"M\")*($BB$2:$BB$338>3)*($BB$2:$BB$338))/JE4)","v":72.857142857142861},{"$f":"IF(JD4<5,\"\",SUMPRODUCT(($CM$2:$CM$338=$CV2)*($J$2:$J$338=\"F\")*($BB$2:$BB$338>3)*($BB$2:$BB$338))/JF4)","v":66.666666666666671},{"$f":"IF(JD4<5,\"\",SUMPRODUCT(($CM$2:$CM$338=$CV2)*($CT$2:$CT$338=\"J\")*($BB$2:$BB$338>3)*($BB$2:$BB$338))/JG4)","v":65},{"$f":"IF(JD4<5,\"\",SUMPRODUCT(($CM$2:$CM$338=$CV2)*($CT$2:$CT$338=\"V\")*($BB$2:$BB$338>3)*($BB$2:$BB$338))/JH4)","v":73.125},{"$f":"IF(JD4<5,\"\",JE12-JF12)","v":2.0089786756453378},3,4,"500.1003",{"$f":"IF(JM4<5,\"\",SUMPRODUCT((($CM$2:$CM$338=$CV2)*($BF$2:$BF$338>3)*($BF$2:$BF$338)/JM4)))","v":""},{"$f":"IF(JM4<5,\"\",SUMPRODUCT(($CM$2:$CM$338=$CV2)*($J$2:$J$338=\"M\")*($BF$2:$BF$338>3)*($BF$2:$BF$338))/JN4)","v":""},{"$f":"IF(JM4<5,\"\",SUMPRODUCT(($CM$2:$CM$338=$CV2)*($J$2:$J$338=\"F\")*($BF$2:$BF$338>3)*($BF$2:$BF$338))/JO4)","v":""},{"$f":"IF(JM4<5,\"\",SUMPRODUCT(($CM$2:$CM$338=$CV2)*($CT$2:$CT$338=\"J\")*($BF$2:$BF$338>3)*($BF$2:$BF$338))/JP4)","v":""},{"$f":"IF(JM4<5,\"\",SUMPRODUCT(($CM$2:$CM$338=$CV2)*($CT$2:$CT$338=\"V\")*($BF$2:$BF$338>3)*($BF$2:$BF$338))/JQ4)","v":""},{"$f":"IF(JM4<5,\"\",JN12-JO12)","v":""},null,null,"500.1003",{"$f":"IF(JV4<5,\"\",SUMPRODUCT((($CM$2:$CM$338=$CV2)*($BJ$2:$BJ$338>3)*($BJ$2:$BJ$338)/JV4)))","v":72.653846153846146},{"$f":"IF(JV4<5,\"\",SUMPRODUCT(($CM$2:$CM$338=$CV2)*($J$2:$J$338=\"M\")*($BJ$2:$BJ$338>3)*($BJ$2:$BJ$338))/JW4)","v":72.857142857142861},{"$f":"IF(JV4<5,\"\",SUMPRODUCT(($CM$2:$CM$338=$CV2)*($J$2:$J$338=\"F\")*($BJ$2:$BJ$338>3)*($BJ$2:$BJ$338))/JX4)","v":72.416666666666671},{"$f":"IF(JV4<5,\"\",SUMPRODUCT(($CM$2:$CM$338=$CV2)*($CT$2:$CT$338=\"J\")*($BJ$2:$BJ$338>3)*($BJ$2:$BJ$338))/JY4)","v":67.5},{"$f":"IF(JV4<5,\"\",SUMPRODUCT(($CM$2:$CM$338=$CV2)*($CT$2:$CT$338=\"V\")*($BJ$2:$BJ$338>3)*($BJ$2:$BJ$338))/JZ4)","v":75.875},{"$f":"IF(JV4<5,\"\",JW12-JX12)","v":0.64772421222730259},3,6,"500.1003",{"$f":"IF(KE4<5,\"\",SUMPRODUCT((($CM$2:$CM$338=$CV2)*($AK$2:$AK$338>3)*($AK$2:$AK$338)/KE4)))","v":77},{"$f":"IF(KE4<5,\"\",SUMPRODUCT(($CM$2:$CM$338=$CV2)*($J$2:$J$338=\"M\")*($AK$2:$AK$338>3)*($AK$2:$AK$338))/KF4)","v":77.727272727272734},{"$f":"IF(KE4<5,\"\",SUMPRODUCT(($CM$2:$CM$338=$CV2)*($J$2:$J$338=\"F\")*($AK$2:$AK$338>3)*($AK$2:$AK$338))/KG4)","v":76.111111111111114},{"$f":"IF(KE4<5,\"\",SUMPRODUCT(($CM$2:$CM$338=$CV2)*($CT$2:$CT$338=\"J\")*($AK$2:$AK$338>3)*($AK$2:$AK$338))/KH4)","v":82.142857142857139},{"$f":"IF(KE4<5,\"\",SUMPRODUCT(($CM$2:$CM$338=$CV2)*($CT$2:$CT$338=\"V\")*($AK$2:$AK$338>3)*($AK$2:$AK$338))/KI4)","v":74.230769230769226},{"$f":"IF(KE4<5,\"\",KF12-KG12)","v":0.51115899645991192},3,6,"500.1003",{"$f":"IF(KN4<5,\"\",SUMPRODUCT((($CM$2:$CM$338=$CV2)*($AO$2:$AO$338>3)*($AO$2:$AO$338)/KN4)))","v":""},{"$f":"IF(KN4<5,\"\",SUMPRODUCT(($CM$2:$CM$338=$CV2)*($J$2:$J$338=\"M\")*($AO$2:$AO$338>3)*($AO$2:$AO$338))/KO4)","v":""},{"$f":"IF(KN4<5,\"\",SUMPRODUCT(($CM$2:$CM$338=$CV2)*($J$2:$J$338=\"F\")*($AO$2:$AO$338>3)*($AO$2:$AO$338))/KP4)","v":""},{"$f":"IF(KN4<5,\"\",SUMPRODUCT(($CM$2:$CM$338=$CV2)*($CT$2:$CT$338=\"J\")*($AO$2:$AO$338>3)*($AO$2:$AO$338))/KQ4)","v":""},{"$f":"IF(KN4<5,\"\",SUMPRODUCT(($CM$2:$CM$338=$CV2)*($CT$2:$CT$338=\"V\")*($AO$2:$AO$338>3)*($AO$2:$AO$338))/KR4)","v":""},{"$f":"IF(KN4<5,\"\",KO12-KP12)","v":""},null,null,"500.1003",{"$f":"IF(KW4<5,\"\",SUMPRODUCT((($CM$2:$CM$338=$CV2)*($AS$2:$AS$338>3)*($AS$2:$AS$338)/KW4)))","v":""},{"$f":"IF(KW4<5,\"\",SUMPRODUCT(($CM$2:$CM$338=$CV2)*($J$2:$J$338=\"M\")*($AS$2:$AS$338>3)*($AS$2:$AS$338))/KX4)","v":""},{"$f":"IF(KW4<5,\"\",SUMPRODUCT(($CM$2:$CM$338=$CV2)*($J$2:$J$338=\"F\")*($AS$2:$AS$338>3)*($AS$2:$AS$338))/KY4)","v":""},{"$f":"IF(KW4<5,\"\",SUMPRODUCT(($CM$2:$CM$338=$CV2)*($CT$2:$CT$338=\"J\")*($AS$2:$AS$338>3)*($AS$2:$AS$338))/KZ4)","v":""},{"$f":"IF(KW4<5,\"\",SUMPRODUCT(($CM$2:$CM$338=$CV2)*($CT$2:$CT$338=\"V\")*($AS$2:$AS$338>3)*($AS$2:$AS$338))/LA4)","v":""},{"$f":"IF(KW4<5,\"\",KX12-KY12)","v":""},null,null,"500.1003",{"$f":"IF(LF4<5,\"\",SUMPRODUCT((($CM$2:$CM$338=$CV2)*($AW$2:$AW$338>3)*($AW$2:$AW$338)/LF4)))","v":72.400000000000006},{"$f":"IF(LF4<5,\"\",SUMPRODUCT(($CM$2:$CM$338=$CV2)*($J$2:$J$338=\"M\")*($AW$2:$AW$338>3)*($AW$2:$AW$338))/LG4)","v":74.285714285714292},{"$f":"IF(LF4<5,\"\",SUMPRODUCT(($CM$2:$CM$338=$CV2)*($J$2:$J$338=\"F\")*($AW$2:$AW$338>3)*($AW$2:$AW$338))/LH4)","v":70},{"$f":"IF(LF4<5,\"\",SUMPRODUCT(($CM$2:$CM$338=$CV2)*($CT$2:$CT$338=\"J\")*($AW$2:$AW$338>3)*($AW$2:$AW$338))/LI4)","v":68.888888888888886},{"$f":"IF(LF4<5,\"\",SUMPRODUCT(($CM$2:$CM$338=$CV2)*($CT$2:$CT$338=\"V\")*($AW$2:$AW$338>3)*($AW$2:$AW$338))/LJ4)","v":74.375},{"$f":"IF(LF4<5,\"\",LG12-LH12)","v":-1.2710650811916651},3,6,"500.1003",{"$f":"IF(LO4<5,\"\",SUMPRODUCT((($CM$2:$CM$338=$CV2)*($BA$2:$BA$338>3)*($BA$2:$BA$338)/LO4)))","v":68.07692307692308},{"$f":"IF(LO4<5,\"\",SUMPRODUCT(($CM$2:$CM$338=$CV2)*($J$2:$J$338=\"M\")*($BA$2:$BA$338>3)*($BA$2:$BA$338))/LP4)","v":68.928571428571431},{"$f":"IF(LO4<5,\"\",SUMPRODUCT(($CM$2:$CM$338=$CV2)*($J$2:$J$338=\"F\")*($BA$2:$BA$338>3)*($BA$2:$BA$338))/LQ4)","v":67.083333333333329},{"$f":"IF(LO4<5,\"\",SUMPRODUCT(($CM$2:$CM$338=$CV2)*($CT$2:$CT$338=\"J\")*($BA$2:$BA$338>3)*($BA$2:$BA$338))/LR4)","v":60},{"$f":"IF(LO4<5,\"\",SUMPRODUCT(($CM$2:$CM$338=$CV2)*($CT$2:$CT$338=\"V\")*($BA$2:$BA$338>3)*($BA$2:$BA$338))/LS4)","v":73.125},{"$f":"IF(LO4<5,\"\",LP12-LQ12)","v":-2.396184062850736},3,6,"500.1003",{"$f":"IF(LX4<5,\"\",SUMPRODUCT((($CM$2:$CM$338=$CV2)*($BE$2:$BE$338>3)*($BE$2:$BE$338)/LX4)))","v":""},{"$f":"IF(LX4<5,\"\",SUMPRODUCT(($CM$2:$CM$338=$CV2)*($J$2:$J$338=\"M\")*($BE$2:$BE$338>3)*($BE$2:$BE$338))/LY4)","v":""},{"$f":"IF(LX4<5,\"\",SUMPRODUCT(($CM$2:$CM$338=$CV2)*($J$2:$J$338=\"F\")*($BE$2:$BE$338>3)*($BE$2:$BE$338))/LZ4)","v":""},{"$f":"IF(LX4<5,\"\",SUMPRODUCT(($CM$2:$CM$338=$CV2)*($CT$2:$CT$338=\"J\")*($BE$2:$BE$338>3)*($BE$2:$BE$338))/MA4)","v":""},{"$f":"IF(LX4<5,\"\",SUMPRODUCT(($CM$2:$CM$338=$CV2)*($CT$2:$CT$338=\"V\")*($BE$2:$BE$338>3)*($BE$2:$BE$338))/MB4)","v":""},{"$f":"IF(LX4<5,\"\",LY12-LZ12)","v":""},null,null,"500.1003",{"$f":"IF(MG4<5,\"\",SUMPRODUCT((($CM$2:$CM$338=$CV2)*($BI$2:$BI$338>3)*($BI$2:$BI$338)/MG4)))","v":""},{"$f":"IF(MG4<5,\"\",SUMPRODUCT(($CM$2:$CM$338=$CV2)*($J$2:$J$338=\"M\")*($BI$2:$BI$338>3)*($BI$2:$BI$338))/MH4)","v":""},{"$f":"IF(MG4<5,\"\",SUMPRODUCT(($CM$2:$CM$338=$CV2)*($J$2:$J$338=\"F\")*($BI$2:$BI$338>3)*($BI$2:$BI$338))/MI4)","v":""},{"$f":"IF(MG4<5,\"\",SUMPRODUCT(($CM$2:$CM$338=$CV2)*($CT$2:$CT$338=\"J\")*($BI$2:$BI$338>3)*($BI$2:$BI$338))/MJ4)","v":""},{"$f":"IF(MG4<5,\"\",SUMPRODUCT(($CM$2:$CM$338=$CV2)*($CT$2:$CT$338=\"V\")*($BI$2:$BI$338>3)*($BI$2:$BI$338))/MK4)","v":""},{"$f":"IF(MG4<5,\"\",MH12-MI12)","v":""},null,null,"500.1003",{"$f":"IF(MP4<5,\"\",SUMPRODUCT((($CM$2:$CM$338=$CV2)*($BM$2:$BM$338>3)*($BM$2:$BM$338)/MP4)))","v":71.666666666666657},{"$f":"IF(MP4<5,\"\",SUMPRODUCT(($CM$2:$CM$338=$CV2)*($J$2:$J$338=\"M\")*($BM$2:$BM$338>3)*($BM$2:$BM$338))/MQ4)","v":70},{"$f":"IF(MP4<5,\"\",SUMPRODUCT(($CM$2:$CM$338=$CV2)*($J$2:$J$338=\"F\")*($BM$2:$BM$338>3)*($BM$2:$BM$338))/MR4)","v":74},{"$f":"IF(MP4<5,\"\",SUMPRODUCT(($CM$2:$CM$338=$CV2)*($CT$2:$CT$338=\"J\")*($BM$2:$BM$338>3)*($BM$2:$BM$338))/MS4)","v":67.3},{"$f":"IF(MP4<5,\"\",SUMPRODUCT(($CM$2:$CM$338=$CV2)*($CT$2:$CT$338=\"V\")*($BM$2:$BM$338>3)*($BM$2:$BM$338))/MT4)","v":74.785714285714292},{"$f":"IF(MP4<5,\"\",MQ12-MR12)","v":2.0951923076923009},1,2,"500.1003",{"$f":"IF(MY4<5,\"\",SUMPRODUCT((($CM$2:$CM$338=$CV2)*($CC$2:$CC$338>3)*($CC$2:$CC$338)/MY4)))","v":79.125},{"$f":"IF(MY4<5,\"\",SUMPRODUCT(($CM$2:$CM$338=$CV2)*($J$2:$J$338=\"M\")*($CC$2:$CC$338>3)*($CC$2:$CC$338))/MZ4)","v":78.522727272727266},{"$f":"IF(MY4<5,\"\",SUMPRODUCT(($CM$2:$CM$338=$CV2)*($J$2:$J$338=\"F\")*($CC$2:$CC$338>3)*($CC$2:$CC$338))/NA4)","v":79.861111111111114},{"$f":"IF(MY4<5,\"\",SUMPRODUCT(($CM$2:$CM$338=$CV2)*($CT$2:$CT$338=\"J\")*($CC$2:$CC$338>3)*($CC$2:$CC$338))/NB4)","v":79.285714285714292},{"$f":"IF(MY4<5,\"\",SUMPRODUCT(($CM$2:$CM$338=$CV2)*($CT$2:$CT$338=\"V\")*($CC$2:$CC$338>3)*($CC$2:$CC$338))/NC4)","v":79.038461538461533},{"$f":"IF(MY4<5,\"\",MZ12-NA12)","v":-1.0720717254117318},3,2,"500.1003",{"$f":"IF(NH4<5,\"\",SUMPRODUCT((($CM$2:$CM$338=$CV2)*($CD$2:$CD$338>3)*($CD$2:$CD$338)/NH4)))","v":""},{"$f":"IF(NH4<5,\"\",SUMPRODUCT(($CM$2:$CM$338=$CV2)*($J$2:$J$338=\"M\")*($CD$2:$CD$338>3)*($CD$2:$CD$338))/NI4)","v":""},{"$f":"IF(NH4<5,\"\",SUMPRODUCT(($CM$2:$CM$338=$CV2)*($J$2:$J$338=\"F\")*($CD$2:$CD$338>3)*($CD$2:$CD$338))/NJ4)","v":""},{"$f":"IF(NH4<5,\"\",SUMPRODUCT(($CM$2:$CM$338=$CV2)*($CT$2:$CT$338=\"J\")*($CD$2:$CD$338>3)*($CD$2:$CD$338))/NK4)","v":""},{"$f":"IF(NH4<5,\"\",SUMPRODUCT(($CM$2:$CM$338=$CV2)*($CT$2:$CT$338=\"V\")*($CD$2:$CD$338>3)*($CD$2:$CD$338))/NL4)","v":""},{"$f":"IF(NH4<5,\"\",NI12-NJ12)","v":""},null,null,"500.1003",{"$f":"IF(NQ4<5,\"\",SUMPRODUCT((($CM$2:$CM$338=$CV2)*($CE$2:$CE$338>3)*($CE$2:$CE$338)/NQ4)))","v":73.666666666666686},{"$f":"IF(NQ4<5,\"\",SUMPRODUCT(($CM$2:$CM$338=$CV2)*($J$2:$J$338=\"M\")*($CE$2:$CE$338>3)*($CE$2:$CE$338))/NR4)","v":73.214285714285708},{"$f":"IF(NQ4<5,\"\",SUMPRODUCT(($CM$2:$CM$338=$CV2)*($J$2:$J$338=\"F\")*($CE$2:$CE$338>3)*($CE$2:$CE$338))/NS4)","v":74.242424242424249},{"$f":"IF(NQ4<5,\"\",SUMPRODUCT(($CM$2:$CM$338=$CV2)*($CT$2:$CT$338=\"J\")*($CE$2:$CE$338>3)*($CE$2:$CE$338))/NT4)","v":71.481481481481467},{"$f":"IF(NQ4<5,\"\",SUMPRODUCT(($CM$2:$CM$338=$CV2)*($CT$2:$CT$338=\"V\")*($CE$2:$CE$338>3)*($CE$2:$CE$338))/NU4)","v":74.895833333333343},{"$f":"IF(NQ4<5,\"\",NR12-NS12)","v":-1.6498751399294065},2,2,"500.1003",{"$f":"IF(NZ4<5,\"\",SUMPRODUCT((($CM$2:$CM$338=$CV2)*($CF$2:$CF$338>3)*($CF$2:$CF$338)/NZ4)))","v":75.200000000000017},{"$f":"IF(NZ4<5,\"\",SUMPRODUCT(($CM$2:$CM$338=$CV2)*($J$2:$J$338=\"M\")*($CF$2:$CF$338>3)*($CF$2:$CF$338))/OA4)","v":75.178571428571431},{"$f":"IF(NZ4<5,\"\",SUMPRODUCT(($CM$2:$CM$338=$CV2)*($J$2:$J$338=\"F\")*($CF$2:$CF$338>3)*($CF$2:$CF$338))/OB4)","v":75.227272727272734},{"$f":"IF(NZ4<5,\"\",SUMPRODUCT(($CM$2:$CM$338=$CV2)*($CT$2:$CT$338=\"J\")*($CF$2:$CF$338>3)*($CF$2:$CF$338))/OC4)","v":71.666666666666671},{"$f":"IF(NZ4<5,\"\",SUMPRODUCT(($CM$2:$CM$338=$CV2)*($CT$2:$CT$338=\"V\")*($CF$2:$CF$338>3)*($CF$2:$CF$338))/OD4)","v":77.1875},{"$f":"IF(NZ4<5,\"\",OA12-OB12)","v":-1.4981460171333651},3,3,"500.1003",{"$f":"IF(OI4<5,\"\",SUMPRODUCT((($CM$2:$CM$338=$CV2)*($CG$2:$CG$338>3)*($CG$2:$CG$338)/OI4)))","v":71.97115384615384},{"$f":"IF(OI4<5,\"\",SUMPRODUCT(($CM$2:$CM$338=$CV2)*($J$2:$J$338=\"M\")*($CG$2:$CG$338>3)*($CG$2:$CG$338))/OJ4)","v":72.321428571428569},{"$f":"IF(OI4<5,\"\",SUMPRODUCT(($CM$2:$CM$338=$CV2)*($J$2:$J$338=\"F\")*($CG$2:$CG$338>3)*($CG$2:$CG$338))/OK4)","v":71.5625},{"$f":"IF(OI4<5,\"\",SUMPRODUCT(($CM$2:$CM$338=$CV2)*($CT$2:$CT$338=\"J\")*($CG$2:$CG$338>3)*($CG$2:$CG$338))/OL4)","v":67.375},{"$f":"IF(OI4<5,\"\",SUMPRODUCT(($CM$2:$CM$338=$CV2)*($CT$2:$CT$338=\"V\")*($CG$2:$CG$338>3)*($CG$2:$CG$338))/OM4)","v":74.84375},{"$f":"IF(OI4<5,\"\",OJ12-OK12)","v":-1.0858585858585883},3,6,"500.1003",{"$f":"IF(OR4<5,\"\",SUMPRODUCT((($CM$2:$CM$338=$CV2)*($CH$2:$CH$338>3)*($CH$2:$CH$338)/OR4)))","v":""},{"$f":"IF(OR4<5,\"\",SUMPRODUCT(($CM$2:$CM$338=$CV2)*($J$2:$J$338=\"M\")*($CH$2:$CH$338>3)*($CH$2:$CH$338))/OS4)","v":""},{"$f":"IF(OR4<5,\"\",SUMPRODUCT(($CM$2:$CM$338=$CV2)*($J$2:$J$338=\"F\")*($CH$2:$CH$338>3)*($CH$2:$CH$338))/OT4)","v":""},{"$f":"IF(OR4<5,\"\",SUMPRODUCT(($CM$2:$CM$338=$CV2)*($CT$2:$CT$338=\"J\")*($CH$2:$CH$338>3)*($CH$2:$CH$338))/OU4)","v":""},{"$f":"IF(OR4<5,\"\",SUMPRODUCT(($CM$2:$CM$338=$CV2)*($CT$2:$CT$338=\"V\")*($CH$2:$CH$338>3)*($CH$2:$CH$338))/OV4)","v":""},{"$f":"IF(OR4<5,\"\",OS12-OT12)","v":""},null,null,"500.1003",{"$f":"IF(PA4<5,\"\",SUMPRODUCT((($CM$2:$CM$338=$CV2)*($CI$2:$CI$338>3)*($CI$2:$CI$338)/PA4)))","v":73.480769230769226},{"$f":"IF(PA4<5,\"\",SUMPRODUCT(($CM$2:$CM$338=$CV2)*($J$2:$J$338=\"M\")*($CI$2:$CI$338>3)*($CI$2:$CI$338))/PB4)","v":71.785714285714292},{"$f":"IF(PA4<5,\"\",SUMPRODUCT(($CM$2:$CM$338=$CV2)*($J$2:$J$338=\"F\")*($CI$2:$CI$338>3)*($CI$2:$CI$338))/PC4)","v":75.458333333333329},{"$f":"IF(PA4<5,\"\",SUMPRODUCT(($CM$2:$CM$338=$CV2)*($CT$2:$CT$338=\"J\")*($CI$2:$CI$338>3)*($CI$2:$CI$338))/PD4)","v":69.775000000000006},{"$f":"IF(PA4<5,\"\",SUMPRODUCT(($CM$2:$CM$338=$CV2)*($CT$2:$CT$338=\"V\")*($CI$2:$CI$338>3)*($CI$2:$CI$338))/PE4)","v":75.796875},{"$f":"IF(PA4<5,\"\",PB12-PC12)","v":-1.0894492324266167},2,3]
["2010","001","501",null,null,0,"2000-05-31",null,null,"M",70,70,80,0,70,0,0,65,0,75,0,60,0,0,0,0,80,85,0,85,75,85,75,80,70,80,85,80,0,0,0,0,55,70,0,70,60,75,75,70,70,85,65,60,0,0,0,0,62,75,0,63,68,80,60,64,70,76,60,73,68,68,80,70,null,55,0,45,83.333333333333329,78.75,78.75,0,65,70,70,0,65,null,null,null,"001501","0.100",{"$f":"LEFT(C6,2)","v":"50"},{"$f":"Tableau_SSRSMSA03_BI_Integration_STEPH_2010[[#This Row],[DAT_NAISSANCE_ELEVE]]","v":"2000-05-31"},"2009-09-30",{"$f":"DATEDIF(CP6,CQ6,\"d\")","v":3409},{"$f":"CR6/365.25","v":9.3333333333333339},{"$f":"IF(AND(LEFT(CO6,1)=\"1\",CS6>5.5),\"V\",IF(AND(LEFT(CO6,1)=\"2\",CS6>6.5),\"V\",IF(AND(LEFT(CO6,1)=\"3\",CS6>7.5),\"V\",IF(AND(LEFT(CO6,1)=\"4\",CS6>8.5),\"V\",IF(AND(LEFT(CO6,1)=\"5\",CS6>9.5),\"V\",IF(AND(LEFT(CO6,1)=\"6\",CS6>10.5),\"V\",\"J\"))))))","v":"J"},{"$f":"IF(AJ6=0,0,IF(BH6=0,0,1))","v":1},{"$f":"DC11&DC12&4","v":"500.1004"},"ecartype",{"$f":"IF(CX4<5,\"\",STDEV(IF(($CM$2:$CM$338=$CV2)*($AJ$2:$AJ$338>3),($AJ$2:$AJ$338))))","v":7.4339194167502809},{"$f":"IF(CX4<5,\"\",STDEV(IF(($CM$2:$CM$338=$CV2)*($J$2:$J$338=\"M\")*($AJ$2:$AJ$338>3),($AJ$2:$AJ$338))))","v":8.1742389136959925},{"$f":"IF(CX4<5,\"\",STDEV(IF(($CM$2:$CM$338=$CV2)*($J$2:$J$338=\"F\")*($AJ$2:$AJ$338>3),($AJ$2:$AJ$338))))","v":5.65194165260439},{"$f":"IF(CX4<5,\"\",STDEV(IF(($CM$2:$CM$338=$CV2)*($CT$2:$CT$338=\"J\")*($AJ$2:$AJ$338>3),($AJ$2:$AJ$338))))","v":8.8640526042791929},{"$f":"IF(CX4<5,\"\",STDEV(IF(($CM$2:$CM$338=$CV2)*($CT$2:$CT$338=\"V\")*($AJ$2:$AJ$338>3),($AJ$2:$AJ$338))))","v":6.9106012948520084},{"$f":"IF(CX4<5,\"\",DA5-DB5)","v":-1.098901098901095},2,2,"500.1004",{"$f":"IF(DG4<5,\"\",STDEV(IF(($CM$2:$CM$338=$CV2)*($AN$2:$AN$338>3),($AN$2:$AN$338))))","v":""},{"$f":"IF(DG4<5,\"\",STDEV(IF(($CM$2:$CM$338=$CV2)*($J$2:$J$338=\"M\")*($AN$2:$AN$338>3),($AN$2:$AN$338))))","v":""},{"$f":"IF(DG4<5,\"\",STDEV(IF(($CM$2:$CM$338=$CV2)*($J$2:$J$338=\"F\")*($AN$2:$AN$338>3),($AN$2:$AN$338))))","v":""},{"$f":"IF(DG4<5,\"\",STDEV(IF(($CM$2:$CM$338=$CV2)*($CT$2:$CT$338=\"J\")*($AN$2:$AN$338>3),($AN$2:$AN$338))))","v":""},{"$f":"IF(DG4<5,\"\",STDEV(IF(($CM$2:$CM$338=$CV2)*($CT$2:$CT$338=\"V\")*($AN$2:$AN$338>3),($AN$2:$AN$338))))","v":""},{"$f":"IF(DG4<5,\"\",DJ5-DK5)","v":""},null,null,{"$f":"$CV6","v":"500.1004"},{"$f":"IF(DP4<5,\"\",STDEV(IF(($CM$2:$CM$338=$CV2)*($AR$2:$AR$338>3),($AR$2:$AR$338))))","v":10.307764064044152},{"$f":"IF(DP4<5,\"\",STDEV(IF(($CM$2:$CM$338=$CV2)*($J$2:$J$338=\"M\")*($AR$2:$AR$338>3),($AR$2:$AR$338))))","v":9.4053994312596032},{"$f":"IF(DP4<5,\"\",STDEV(IF(($CM$2:$CM$338=$CV2)*($J$2:$J$338=\"F\")*($AR$2:$AR$338>3),($AR$2:$AR$338))))","v":11.281521496355353},{"$f":"IF(DP4<5,\"\",STDEV(IF(($CM$2:$CM$338=$CV2)*($CT$2:$CT$338=\"J\")*($AR$2:$AR$338>3),($AR$2:$AR$338))))","v":8.8191710368819454},{"$f":"IF(DP4<5,\"\",STDEV(IF(($CM$2:$CM$338=$CV2)*($CT$2:$CT$338=\"V\")*($AR$2:$AR$338>3),($AR$2:$AR$338))))","v":11.063265039459795},{"$f":"IF(DP4<5,\"\",DS5-DT5)","v":-3.9930555555555571},3,3,"500.1004",{"$f":"IF(DY4<5,\"\",STDEV(IF(($CM$2:$CM$338=$CV2)*($AV$2:$AV$338>3),($AV$2:$AV$338))))","v":10.594810050208546},{"$f":"IF(DY4<5,\"\",STDEV(IF(($CM$2:$CM$338=$CV2)*($J$2:$J$338=\"M\")*($AV$2:$AV$338>3),($AV$2:$AV$338))))","v":9.5790522369513109},{"$f":"IF(DY4<5,\"\",STDEV(IF(($CM$2:$CM$338=$CV2)*($J$2:$J$338=\"F\")*($AV$2:$AV$338>3),($AV$2:$AV$338))))","v":12.098083995560486},{"$f":"IF(DY4<5,\"\",STDEV(IF(($CM$2:$CM$338=$CV2)*($CT$2:$CT$338=\"J\")*($AV$2:$AV$338>3),($AV$2:$AV$338))))","v":9.3911897246538647},{"$f":"IF(DY4<5,\"\",STDEV(IF(($CM$2:$CM$338=$CV2)*($CT$2:$CT$338=\"V\")*($AV$2:$AV$338>3),($AV$2:$AV$338))))","v":10.834935778920581},{"$f":"IF(DY4<5,\"\",EB5-EC5)","v":-6.2847222222222285},3,2,"500.1004",{"$f":"IF(EH4<5,\"\",STDEV(IF(($CM$2:$CM$338=$CV2)*($AZ$2:$AZ$338>3),($AZ$2:$AZ$338))))","v":11.218117214851775},{"$f":"IF(EH4<5,\"\",STDEV(IF(($CM$2:$CM$338=$CV2)*($J$2:$J$338=\"M\")*($AZ$2:$AZ$338>3),($AZ$2:$AZ$338))))","v":11.906227016071965},{"$f":"IF(EH4<5,\"\",STDEV(IF(($CM$2:$CM$338=$CV2)*($J$2:$J$338=\"F\")*($AZ$2:$AZ$338>3),($AZ$2:$AZ$338))))","v":10.87114613009218},{"$f":"IF(EH4<5,\"\",STDEV(IF(($CM$2:$CM$338=$CV2)*($CT$2:$CT$338=\"J\")*($AZ$2:$AZ$338>3),($AZ$2:$AZ$338))))","v":12.703892666773003},{"$f":"IF(EH4<5,\"\",STDEV(IF(($CM$2:$CM$338=$CV2)*($CT$2:$CT$338=\"V\")*($AZ$2:$AZ$338>3),($AZ$2:$AZ$338))))","v":10.443299287102711},{"$f":"IF(EH4<5,\"\",EK5-EL5)","v":-3.0625},1,2,"500.1004",{"$f":"IF(EQ4<5,\"\",STDEV(IF(($CM$2:$CM$338=$CV2)*($BD$2:$BD$338>3),($BD$2:$BD$338))))","v":""},{"$f":"IF(EQ4<5,\"\",STDEV(IF(($CM$2:$CM$338=$CV2)*($J$2:$J$338=\"M\")*($BD$2:$BD$338>3),($BD$2:$BD$338))))","v":""},{"$f":"IF(EQ4<5,\"\",STDEV(IF(($CM$2:$CM$338=$CV2)*($J$2:$J$338=\"F\")*($BD$2:$BD$338>3),($BD$2:$BD$338))))","v":""},{"$f":"IF(EQ4<5,\"\",STDEV(IF(($CM$2:$CM$338=$CV2)*($CT$2:$CT$338=\"J\")*($BD$2:$BD$338>3),($BD$2:$BD$338))))","v":""},{"$f":"IF(EQ4<5,\"\",STDEV(IF(($CM$2:$CM$338=$CV2)*($CT$2:$CT$338=\"V\")*($BD$2:$BD$338>3),($BD$2:$BD$338))))","v":""},{"$f":"IF(EQ4<5,\"\",ET5-EU5)","v":""},null,null,"500.1004",{"$f":"IF(EZ4<5,\"\",STDEV(IF(($CM$2:$CM$338=$CV2)*($BH$2:$BH$338>3),($BH$2:$BH$338))))","v":10.193210409951259},{"$f":"IF(EZ4<5,\"\",STDEV(IF(($CM$2:$CM$338=$CV2)*($J$2:$J$338=\"M\")*($BH$2:$BH$338>3),($BH$2:$BH$338))))","v":10.944666019834255},{"$f":"IF(EZ4<5,\"\",STDEV(IF(($CM$2:$CM$338=$CV2)*($J$2:$J$338=\"F\")*($BH$2:$BH$338>3),($BH$2:$BH$338))))","v":9.1696964689859701},{"$f":"IF(EZ4<5,\"\",STDEV(IF(($CM$2:$CM$338=$CV2)*($CT$2:$CT$338=\"J\")*($BH$2:$BH$338>3),($BH$2:$BH$338))))","v":9.9777530313971763},{"$f":"IF(EZ4<5,\"\",STDEV(IF(($CM$2:$CM$338=$CV2)*($CT$2:$CT$338=\"V\")*($BH$2:$BH$338>3),($BH$2:$BH$338))))","v":10.64581294844754},{"$f":"IF(EZ4<5,\"\",FC5-FD5)","v":-0.5},2,2,"500.1004",{"$f":"IF(FI4<5,\"\",STDEV(IF(($CM$2:$CM$338=$CV2)*($AI$2:$AI$338>3),($AI$2:$AI$338))))","v":8.5647687159604455},{"$f":"IF(FI4<5,\"\",STDEV(IF(($CM$2:$CM$338=$CV2)*($J$2:$J$338=\"M\")*($AI$2:$AI$338>3),($AI$2:$AI$338))))","v":7.8624539310689636},{"$f":"IF(FI4<5,\"\",STDEV(IF(($CM$2:$CM$338=$CV2)*($J$2:$J$338=\"F\")*($AI$2:$AI$338>3),($AI$2:$AI$338))))","v":9.5014618758261289},{"$f":"IF(FI4<5,\"\",STDEV(IF(($CM$2:$CM$338=$CV2)*($CT$2:$CT$338=\"J\")*($AI$2:$AI$338>3),($AI$2:$AI$338))))","v":10.293317295817731},{"$f":"IF(FI4<5,\"\",STDEV(IF(($CM$2:$CM$338=$CV2)*($CT$2:$CT$338=\"V\")*($AI$2:$AI$338>3),($AI$2:$AI$338))))","v":7.6376261582597333},{"$f":"IF(FI4<5,\"\",FL5-FM5)","v":-3.5714285714285694},4,3,"500.1004",{"$f":"IF(FR4<5,\"\",STDEV(IF(($CM$2:$CM$338=$CV2)*($AM$2:$AM$338>3),($AM$2:$AM$338))))","v":""},{"$f":"IF(FR4<5,\"\",STDEV(IF(($CM$2:$CM$338=$CV2)*($J$2:$J$338=\"M\")*($AM$2:$AM$338>3),($AM$2:$AM$338))))","v":""},{"$f":"IF(FR4<5,\"\",STDEV(IF(($CM$2:$CM$338=$CV2)*($J$2:$J$338=\"F\")*($AM$2:$AM$338>3),($AM$2:$AM$338))))","v":""},{"$f":"IF(FR4<5,\"\",STDEV(IF(($CM$2:$CM$338=$CV2)*($CT$2:$CT$338=\"J\")*($AM$2:$AM$338>3),($AM$2:$AM$338))))","v":""},{"$f":"IF(FR4<5,\"\",STDEV(IF(($CM$2:$CM$338=$CV2)*($CT$2:$CT$338=\"V\")*($AM$2:$AM$338>3),($AM$2:$AM$338))))","v":""},{"$f":"IF(FR4<5,\"\",FU5-FV5)","v":""},null,null,"500.1004",{"$f":"IF(GA4<5,\"\",STDEV(IF(($CM$2:$CM$338=$CV2)*($AQ$2:$AQ$338>3),($AQ$2:$AQ$338))))","v":9.6306801421291119},{"$f":"IF(GA4<5,\"\",STDEV(IF(($CM$2:$CM$338=$CV2)*($J$2:$J$338=\"M\")*($AQ$2:$AQ$338>3),($AQ$2:$AQ$338))))","v":9.4926229309864709},{"$f":"IF(GA4<5,\"\",STDEV(IF(($CM$2:$CM$338=$CV2)*($J$2:$J$338=\"F\")*($AQ$2:$AQ$338>3),($AQ$2:$AQ$338))))","v":9.5107594572960146},{"$f":"IF(GA4<5,\"\",STDEV(IF(($CM$2:$CM$338=$CV2)*($CT$2:$CT$338=\"J\")*($AQ$2:$AQ$338>3),($AQ$2:$AQ$338))))","v":10.606601717798213},{"$f":"IF(GA4<5,\"\",STDEV(IF(($CM$2:$CM$338=$CV2)*($CT$2:$CT$338=\"V\")*($AQ$2:$AQ$338>3),($AQ$2:$AQ$338))))","v":9.2138934947899926},{"$f":"IF(GA4<5,\"\",GD5-GE5)","v":-3.0208333333333286},4,4,"500.1004",{"$f":"IF(GJ4<5,\"\",STDEV(IF(($CM$2:$CM$338=$CV2)*($AU$2:$AU$338>3),($AU$2:$AU$338))))","v":11.895377253370318},{"$f":"IF(GJ4<5,\"\",STDEV(IF(($CM$2:$CM$338=$CV2)*($J$2:$J$338=\"M\")*($AU$2:$AU$338>3),($AU$2:$AU$338))))","v":12.049577075246569},{"$f":"IF(GJ4<5,\"\",STDEV(IF(($CM$2:$CM$338=$CV2)*($J$2:$J$338=\"F\")*($AU$2:$AU$338>3),($AU$2:$AU$338))))","v":11.139609916460667},{"$f":"IF(GJ4<5,\"\",STDEV(IF(($CM$2:$CM$338=$CV2)*($CT$2:$CT$338=\"J\")*($AU$2:$AU$338>3),($AU$2:$AU$338))))","v":13.693063937629153},{"$f":"IF(GJ4<5,\"\",STDEV(IF(($CM$2:$CM$338=$CV2)*($CT$2:$CT$338=\"V\")*($AU$2:$AU$338>3),($AU$2:$AU$338))))","v":10.64581294844754},{"$f":"IF(GJ4<5,\"\",GM5-GN5)","v":-5.8333333333333286},4,6,"500.1004",{"$f":"IF(GS4<5,\"\",STDEV(IF(($CM$2:$CM$338=$CV2)*($AY$2:$AY$338>3),($AY$2:$AY$338))))","v":11.342567881826684},{"$f":"IF(GS4<5,\"\",STDEV(IF(($CM$2:$CM$338=$CV2)*($J$2:$J$338=\"M\")*($AY$2:$AY$338>3),($AY$2:$AY$338))))","v":11.865778663733092},{"$f":"IF(GS4<5,\"\",STDEV(IF(($CM$2:$CM$338=$CV2)*($J$2:$J$338=\"F\")*($AY$2:$AY$338>3),($AY$2:$AY$338))))","v":10.335288182638248},{"$f":"IF(GS4<5,\"\",STDEV(IF(($CM$2:$CM$338=$CV2)*($CT$2:$CT$338=\"J\")*($AY$2:$AY$338>3),($AY$2:$AY$338))))","v":11.005049346146119},{"$f":"IF(GS4<5,\"\",STDEV(IF(($CM$2:$CM$338=$CV2)*($CT$2:$CT$338=\"V\")*($AY$2:$AY$338>3),($AY$2:$AY$338))))","v":11.360567767501763},{"$f":"IF(GS4<5,\"\",GV5-GW5)","v":-5.5625},3,3,"500.1004",{"$f":"IF(HB4<5,\"\",STDEV(IF(($CM$2:$CM$338=$CV2)*($BC$2:$BC$338>3),($BC$2:$BC$338))))","v":""},{"$f":"IF(HB4<5,\"\",STDEV(IF(($CM$2:$CM$338=$CV2)*($J$2:$J$338=\"M\")*($BC$2:$BC$338>3),($BC$2:$BC$338))))","v":""},{"$f":"IF(HB4<5,\"\",STDEV(IF(($CM$2:$CM$338=$CV2)*($J$2:$J$338=\"F\")*($BC$2:$BC$338>3),($BC$2:$BC$338))))","v":""},{"$f":"IF(HB4<5,\"\",STDEV(IF(($CM$2:$CM$338=$CV2)*($CT$2:$CT$338=\"J\")*($BC$2:$BC$338>3),($BC$2:$BC$338))))","v":""},{"$f":"IF(HB4<5,\"\",STDEV(IF(($CM$2:$CM$338=$CV2)*($CT$2:$CT$338=\"V\")*($BC$2:$BC$338>3),($BC$2:$BC$338))))","v":""},{"$f":"IF(HB4<5,\"\",HE5-HF5)","v":""},null,null,"500.1004",{"$f":"IF(HK4<5,\"\",STDEV(IF(($CM$2:$CM$338=$CV2)*($BG$2:$BG$338>3),($BG$2:$BG$338))))","v":11.519615378194652},{"$f":"IF(HK4<5,\"\",STDEV(IF(($CM$2:$CM$338=$CV2)*($J$2:$J$338=\"M\")*($BG$2:$BG$338>3),($BG$2:$BG$338))))","v":12.845018703548275},{"$f":"IF(HK4<5,\"\",STDEV(IF(($CM$2:$CM$338=$CV2)*($J$2:$J$338=\"F\")*($BG$2:$BG$338>3),($BG$2:$BG$338))))","v":9.9006427706855114},{"$f":"IF(HK4<5,\"\",STDEV(IF(($CM$2:$CM$338=$CV2)*($CT$2:$CT$338=\"J\")*($BG$2:$BG$338>3),($BG$2:$BG$338))))","v":13.350405736655841},{"$f":"IF(HK4<5,\"\",STDEV(IF(($CM$2:$CM$338=$CV2)*($CT$2:$CT$338=\"V\")*($BG$2:$BG$338>3),($BG$2:$BG$338))))","v":10.087740083884002},{"$f":"IF(HK4<5,\"\",HN5-HO5)","v":-5.5125000000000028},3,6,"500.1004",{"$f":"IF(HT4<5,\"\",STDEV(IF(($CM$2:$CM$338=$CV2)*($AL$2:$AL$338>3),($AL$2:$AL$338))))","v":7.1206364324730984},{"$f":"IF(HT4<5,\"\",STDEV(IF(($CM$2:$CM$338=$CV2)*($J$2:$J$338=\"M\")*($AL$2:$AL$338>3),($AL$2:$AL$338))))","v":6.4402851433203425},{"$f":"IF(HT4<5,\"\",STDEV(IF(($CM$2:$CM$338=$CV2)*($J$2:$J$338=\"F\")*($AL$2:$AL$338>3),($AL$2:$AL$338))))","v":8.1649658092772608},{"$f":"IF(HT4<5,\"\",STDEV(IF(($CM$2:$CM$338=$CV2)*($CT$2:$CT$338=\"J\")*($AL$2:$AL$338>3),($AL$2:$AL$338))))","v":6.7259270913454925},{"$f":"IF(HT4<5,\"\",STDEV(IF(($CM$2:$CM$338=$CV2)*($CT$2:$CT$338=\"V\")*($AL$2:$AL$338>3),($AL$2:$AL$338))))","v":7.4322335295720645},{"$f":"IF(HT4<5,\"\",HW5-HX5)","v":-2.0476190476190368},3,2,"500.1004",{"$f":"IF(IC4<5,\"\",STDEV(IF(($CM$2:$CM$338=$CV2)*($AP$2:$AP$338>3),($AP$2:$AP$338))))","v":""},{"$f":"IF(IC4<5,\"\",STDEV(IF(($CM$2:$CM$338=$CV2)*($J$2:$J$338=\"M\")*($AP$2:$AP$338>3),($AP$2:$AP$338))))","v":""},{"$f":"IF(IC4<5,\"\",STDEV(IF(($CM$2:$CM$338=$CV2)*($J$2:$J$338=\"F\")*($AP$2:$AP$338>3),($AP$2:$AP$338))))","v":""},{"$f":"IF(IC4<5,\"\",STDEV(IF(($CM$2:$CM$338=$CV2)*($CT$2:$CT$338=\"J\")*($AP$2:$AP$338>3),($AP$2:$AP$338))))","v":""},{"$f":"IF(IC4<5,\"\",STDEV(IF(($CM$2:$CM$338=$CV2)*($CT$2:$CT$338=\"V\")*($AP$2:$AP$338>3),($AP$2:$AP$338))))","v":""},{"$f":"IF(IC4<5,\"\",IF5-IG5)","v":""},null,null,"500.1004",{"$f":"IF(IL4<5,\"\",STDEV(IF(($CM$2:$CM$338=$CV2)*($AT$2:$AT$338>3),($AT$2:$AT$338))))","v":14.282856857085701},{"$f":"IF(IL4<5,\"\",STDEV(IF(($CM$2:$CM$338=$CV2)*($J$2:$J$338=\"M\")*($AT$2:$AT$338>3),($AT$2:$AT$338))))","v":11.198753855321943},{"$f":"IF(IL4<5,\"\",STDEV(IF(($CM$2:$CM$338=$CV2)*($J$2:$J$338=\"F\")*($AT$2:$AT$338>3),($AT$2:$AT$338))))","v":17.359828235430097},{"$f":"IF(IL4<5,\"\",STDEV(IF(($CM$2:$CM$338=$CV2)*($CT$2:$CT$338=\"J\")*($AT$2:$AT$338>3),($AT$2:$AT$338))))","v":12.747548783981962},{"$f":"IF(IL4<5,\"\",STDEV(IF(($CM$2:$CM$338=$CV2)*($CT$2:$CT$338=\"V\")*($AT$2:$AT$338>3),($AT$2:$AT$338))))","v":15.353474091119139},{"$f":"IF(IL4<5,\"\",IO5-IP5)","v":-3.2291666666666714},2,3,"500.1004",{"$f":"IF(IU4<5,\"\",STDEV(IF(($CM$2:$CM$338=$CV2)*($AX$2:$AX$338>3),($AX$2:$AX$338))))","v":13.171939872319491},{"$f":"IF(IU4<5,\"\",STDEV(IF(($CM$2:$CM$338=$CV2)*($J$2:$J$338=\"M\")*($AX$2:$AX$338>3),($AX$2:$AX$338))))","v":12.497252445290478},{"$f":"IF(IU4<5,\"\",STDEV(IF(($CM$2:$CM$338=$CV2)*($J$2:$J$338=\"F\")*($AX$2:$AX$338>3),($AX$2:$AX$338))))","v":14.158197111728088},{"$f":"IF(IU4<5,\"\",STDEV(IF(($CM$2:$CM$338=$CV2)*($CT$2:$CT$338=\"J\")*($AX$2:$AX$338>3),($AX$2:$AX$338))))","v":15.411035007422441},{"$f":"IF(IU4<5,\"\",STDEV(IF(($CM$2:$CM$338=$CV2)*($CT$2:$CT$338=\"V\")*($AX$2:$AX$338>3),($AX$2:$AX$338))))","v":11.967838846954226},{"$f":"IF(IU4<5,\"\",IX5-IY5)","v":-4.4791666666666714},2,3,"500.1004",{"$f":"IF(JD4<5,\"\",STDEV(IF(($CM$2:$CM$338=$CV2)*($BB$2:$BB$338>3),($BB$2:$BB$338))))","v":12.569805089976535},{"$f":"IF(JD4<5,\"\",STDEV(IF(($CM$2:$CM$338=$CV2)*($J$2:$J$338=\"M\")*($BB$2:$BB$338>3),($BB$2:$BB$338))))","v":11.88313053066369},{"$f":"IF(JD4<5,\"\",STDEV(IF(($CM$2:$CM$338=$CV2)*($J$2:$J$338=\"F\")*($BB$2:$BB$338>3),($BB$2:$BB$338))))","v":13.026778945578585},{"$f":"IF(JD4<5,\"\",STDEV(IF(($CM$2:$CM$338=$CV2)*($CT$2:$CT$338=\"J\")*($BB$2:$BB$338>3),($BB$2:$BB$338))))","v":14.907119849998598},{"$f":"IF(JD4<5,\"\",STDEV(IF(($CM$2:$CM$338=$CV2)*($CT$2:$CT$338=\"V\")*($BB$2:$BB$338>3),($BB$2:$BB$338))))","v":10.144785195688801},{"$f":"IF(JD4<5,\"\",JG5-JH5)","v":-8.125},3,6,"500.1004",{"$f":"IF(JM4<5,\"\",STDEV(IF(($CM$2:$CM$338=$CV2)*($BF$2:$BF$338>3),($BF$2:$BF$338))))","v":""},{"$f":"IF(JM4<5,\"\",STDEV(IF(($CM$2:$CM$338=$CV2)*($J$2:$J$338=\"M\")*($BF$2:$BF$338>3),($BF$2:$BF$338))))","v":""},{"$f":"IF(JM4<5,\"\",STDEV(IF(($CM$2:$CM$338=$CV2)*($J$2:$J$338=\"F\")*($BF$2:$BF$338>3),($BF$2:$BF$338))))","v":""},{"$f":"IF(JM4<5,\"\",STDEV(IF(($CM$2:$CM$338=$CV2)*($CT$2:$CT$338=\"J\")*($BF$2:$BF$338>3),($BF$2:$BF$338))))","v":""},{"$f":"IF(JM4<5,\"\",STDEV(IF(($CM$2:$CM$338=$CV2)*($CT$2:$CT$338=\"V\")*($BF$2:$BF$338>3),($BF$2:$BF$338))))","v":""},{"$f":"IF(JM4<5,\"\",JP5-JQ5)","v":""},null,null,"500.1004",{"$f":"IF(JV4<5,\"\",STDEV(IF(($CM$2:$CM$338=$CV2)*($BJ$2:$BJ$338>3),($BJ$2:$BJ$338))))","v":14.019821133501846},{"$f":"IF(JV4<5,\"\",STDEV(IF(($CM$2:$CM$338=$CV2)*($J$2:$J$338=\"M\")*($BJ$2:$BJ$338>3),($BJ$2:$BJ$338))))","v":14.075932229584954},{"$f":"IF(JV4<5,\"\",STDEV(IF(($CM$2:$CM$338=$CV2)*($J$2:$J$338=\"F\")*($BJ$2:$BJ$338>3),($BJ$2:$BJ$338))))","v":14.575560699231076},{"$f":"IF(JV4<5,\"\",STDEV(IF(($CM$2:$CM$338=$CV2)*($CT$2:$CT$338=\"J\")*($BJ$2:$BJ$338>3),($BJ$2:$BJ$338))))","v":16.201851746019649},{"$f":"IF(JV4<5,\"\",STDEV(IF(($CM$2:$CM$338=$CV2)*($CT$2:$CT$338=\"V\")*($BJ$2:$BJ$338>3),($BJ$2:$BJ$338))))","v":11.887668680892258},{"$f":"IF(JV4<5,\"\",JY5-JZ5)","v":-8.375},3,6,"500.1004",{"$f":"IF(KE4<5,\"\",STDEV(IF(($CM$2:$CM$338=$CV2)*($AK$2:$AK$338>3),($AK$2:$AK$338))))","v":10.310954828418375},{"$f":"IF(KE4<5,\"\",STDEV(IF(($CM$2:$CM$338=$CV2)*($J$2:$J$338=\"M\")*($AK$2:$AK$338>3),($AK$2:$AK$338))))","v":11.696930444273931},{"$f":"IF(KE4<5,\"\",STDEV(IF(($CM$2:$CM$338=$CV2)*($J$2:$J$338=\"F\")*($AK$2:$AK$338>3),($AK$2:$AK$338))))","v":8.9365044123030177},{"$f":"IF(KE4<5,\"\",STDEV(IF(($CM$2:$CM$338=$CV2)*($CT$2:$CT$338=\"J\")*($AK$2:$AK$338>3),($AK$2:$AK$338))))","v":3.9339789623472159},{"$f":"IF(KE4<5,\"\",STDEV(IF(($CM$2:$CM$338=$CV2)*($CT$2:$CT$338=\"V\")*($AK$2:$AK$338>3),($AK$2:$AK$338))))","v":11.698674042769719},{"$f":"IF(KE4<5,\"\",KH5-KI5)","v":7.9120879120879124},1,2,"500.1004",{"$f":"IF(KN4<5,\"\",STDEV(IF(($CM$2:$CM$338=$CV2)*($AO$2:$AO$338>3),($AO$2:$AO$338))))","v":""},{"$f":"IF(KN4<5,\"\",STDEV(IF(($CM$2:$CM$338=$CV2)*($J$2:$J$338=\"M\")*($AO$2:$AO$338>3),($AO$2:$AO$338))))","v":""},{"$f":"IF(KN4<5,\"\",STDEV(IF(($CM$2:$CM$338=$CV2)*($J$2:$J$338=\"F\")*($AO$2:$AO$338>3),($AO$2:$AO$338))))","v":""},{"$f":"IF(KN4<5,\"\",STDEV(IF(($CM$2:$CM$338=$CV2)*($CT$2:$CT$338=\"J\")*($AO$2:$AO$338>3),($AO$2:$AO$338))))","v":""},{"$f":"IF(KN4<5,\"\",STDEV(IF(($CM$2:$CM$338=$CV2)*($CT$2:$CT$338=\"V\")*($AO$2:$AO$338>3),($AO$2:$AO$338))))","v":""},{"$f":"IF(KN4<5,\"\",KQ5-KR5)","v":""},null,null,"500.1004",{"$f":"IF(KW4<5,\"\",STDEV(IF(($CM$2:$CM$338=$CV2)*($AS$2:$AS$338>3),($AS$2:$AS$338))))","v":""},{"$f":"IF(KW4<5,\"\",STDEV(IF(($CM$2:$CM$338=$CV2)*($J$2:$J$338=\"M\")*($AS$2:$AS$338>3),($AS$2:$AS$338))))","v":""},{"$f":"IF(KW4<5,\"\",STDEV(IF(($CM$2:$CM$338=$CV2)*($J$2:$J$338=\"F\")*($AS$2:$AS$338>3),($AS$2:$AS$338))))","v":""},{"$f":"IF(KW4<5,\"\",STDEV(IF(($CM$2:$CM$338=$CV2)*($CT$2:$CT$338=\"J\")*($AS$2:$AS$338>3),($AS$2:$AS$338))))","v":""},{"$f":"IF(KW4<5,\"\",STDEV(IF(($CM$2:$CM$338=$CV2)*($CT$2:$CT$338=\"V\")*($AS$2:$AS$338>3),($AS$2:$AS$338))))","v":""},{"$f":"IF(KW4<5,\"\",KZ5-LA5)","v":""},null,null,"500.1004",{"$f":"IF(LF4<5,\"\",STDEV(IF(($CM$2:$CM$338=$CV2)*($AW$2:$AW$338>3),($AW$2:$AW$338))))","v":15.077577170531523},{"$f":"IF(LF4<5,\"\",STDEV(IF(($CM$2:$CM$338=$CV2)*($J$2:$J$338=\"M\")*($AW$2:$AW$338>3),($AW$2:$AW$338))))","v":13.847680013570574},{"$f":"IF(LF4<5,\"\",STDEV(IF(($CM$2:$CM$338=$CV2)*($J$2:$J$338=\"F\")*($AW$2:$AW$338>3),($AW$2:$AW$338))))","v":16.881943016134134},{"$f":"IF(LF4<5,\"\",STDEV(IF(($CM$2:$CM$338=$CV2)*($CT$2:$CT$338=\"J\")*($AW$2:$AW$338>3),($AW$2:$AW$338))))","v":18.671130418673403},{"$f":"IF(LF4<5,\"\",STDEV(IF(($CM$2:$CM$338=$CV2)*($CT$2:$CT$338=\"V\")*($AW$2:$AW$338>3),($AW$2:$AW$338))))","v":12.893796958227627},{"$f":"IF(LF4<5,\"\",LI5-LJ5)","v":-5.4861111111111143},2,2,"500.1004",{"$f":"IF(LO4<5,\"\",STDEV(IF(($CM$2:$CM$338=$CV2)*($BA$2:$BA$338>3),($BA$2:$BA$338))))","v":14.147573861049329},{"$f":"IF(LO4<5,\"\",STDEV(IF(($CM$2:$CM$338=$CV2)*($J$2:$J$338=\"M\")*($BA$2:$BA$338>3),($BA$2:$BA$338))))","v":13.035243857234967},{"$f":"IF(LO4<5,\"\",STDEV(IF(($CM$2:$CM$338=$CV2)*($J$2:$J$338=\"F\")*($BA$2:$BA$338>3),($BA$2:$BA$338))))","v":15.877132402714702},{"$f":"IF(LO4<5,\"\",STDEV(IF(($CM$2:$CM$338=$CV2)*($CT$2:$CT$338=\"J\")*($BA$2:$BA$338>3),($BA$2:$BA$338))))","v":13.743685418725535},{"$f":"IF(LO4<5,\"\",STDEV(IF(($CM$2:$CM$338=$CV2)*($CT$2:$CT$338=\"V\")*($BA$2:$BA$338>3),($BA$2:$BA$338))))","v":12.230426539304888},{"$f":"IF(LO4<5,\"\",LR5-LS5)","v":-13.125},2,6,"500.1004",{"$f":"IF(LX4<5,\"\",STDEV(IF(($CM$2:$CM$338=$CV2)*($BE$2:$BE$338>3),($BE$2:$BE$338))))","v":""},{"$f":"IF(LX4<5,\"\",STDEV(IF(($CM$2:$CM$338=$CV2)*($J$2:$J$338=\"M\")*($BE$2:$BE$338>3),($BE$2:$BE$338))))","v":""},{"$f":"IF(LX4<5,\"\",STDEV(IF(($CM$2:$CM$338=$CV2)*($J$2:$J$338=\"F\")*($BE$2:$BE$338>3),($BE$2:$BE$338))))","v":""},{"$f":"IF(LX4<5,\"\",STDEV(IF(($CM$2:$CM$338=$CV2)*($CT$2:$CT$338=\"J\")*($BE$2:$BE$338>3),($BE$2:$BE$338))))","v":""},{"$f":"IF(LX4<5,\"\",STDEV(IF(($CM$2:$CM$338=$CV2)*($CT$2:$CT$338=\"V\")*($BE$2:$BE$338>3),($BE$2:$BE$338))))","v":""},{"$f":"IF(LX4<5,\"\",MA5-MB5)","v":""},null,null,"500.1004",{"$f":"IF(MG4<5,\"\",STDEV(IF(($CM$2:$CM$338=$CV2)*($BI$2:$BI$338>3),($BI$2:$BI$338))))","v":""},{"$f":"IF(MG4<5,\"\",STDEV(IF(($CM$2:$CM$338=$CV2)*($J$2:$J$338=\"M\")*($BI$2:$BI$338>3),($BI$2:$BI$338))))","v":""},{"$f":"IF(MG4<5,\"\",STDEV(IF(($CM$2:$CM$338=$CV2)*($J$2:$J$338=\"F\")*($BI$2:$BI$338>3),($BI$2:$BI$338))))","v":""},{"$f":"IF(MG4<5,\"\",STDEV(IF(($CM$2:$CM$338=$CV2)*($CT$2:$CT$338=\"J\")*($BI$2:$BI$338>3),($BI$2:$BI$338))))","v":""},{"$f":"IF(MG4<5,\"\",STDEV(IF(($CM$2:$CM$338=$CV2)*($CT$2:$CT$338=\"V\")*($BI$2:$BI$338>3),($BI$2:$BI$338))))","v":""},{"$f":"IF(MG4<5,\"\",MJ5-MK5)","v":""},null,null,"500.1004",{"$f":"IF(MP4<5,\"\",STDEV(IF(($CM$2:$CM$338=$CV2)*($BM$2:$BM$338>3),($BM$2:$BM$338))))","v":19.604051636835433},{"$f":"IF(MP4<5,\"\",STDEV(IF(($CM$2:$CM$338=$CV2)*($J$2:$J$338=\"M\")*($BM$2:$BM$338>3),($BM$2:$BM$338))))","v":19.67427058563857},{"$f":"IF(MP4<5,\"\",STDEV(IF(($CM$2:$CM$338=$CV2)*($J$2:$J$338=\"F\")*($BM$2:$BM$338>3),($BM$2:$BM$338))))","v":20.314198646923455},{"$f":"IF(MP4<5,\"\",STDEV(IF(($CM$2:$CM$338=$CV2)*($CT$2:$CT$338=\"J\")*($BM$2:$BM$338>3),($BM$2:$BM$338))))","v":24.761304937789973},{"$f":"IF(MP4<5,\"\",STDEV(IF(($CM$2:$CM$338=$CV2)*($CT$2:$CT$338=\"V\")*($BM$2:$BM$338>3),($BM$2:$BM$338))))","v":15.176796922775404},{"$f":"IF(MP4<5,\"\",MS5-MT5)","v":-7.4857142857142946},2,6,"500.1004",{"$f":"IF(MY4<5,\"\",STDEV(IF(($CM$2:$CM$338=$CV2)*($CC$2:$CC$338>3),($CC$2:$CC$338))))","v":6.3362470213675754},{"$f":"IF(MY4<5,\"\",STDEV(IF(($CM$2:$CM$338=$CV2)*($J$2:$J$338=\"M\")*($CC$2:$CC$338>3),($CC$2:$CC$338))))","v":6.245452891358787},{"$f":"IF(MY4<5,\"\",STDEV(IF(($CM$2:$CM$338=$CV2)*($J$2:$J$338=\"F\")*($CC$2:$CC$338>3),($CC$2:$CC$338))))","v":6.7443391900994358},{"$f":"IF(MY4<5,\"\",STDEV(IF(($CM$2:$CM$338=$CV2)*($CT$2:$CT$338=\"J\")*($CC$2:$CC$338>3),($CC$2:$CC$338))))","v":6.3679349272817829},{"$f":"IF(MY4<5,\"\",STDEV(IF(($CM$2:$CM$338=$CV2)*($CT$2:$CT$338=\"V\")*($CC$2:$CC$338>3),($CC$2:$CC$338))))","v":6.5779351448027192},{"$f":"IF(MY4<5,\"\",NB5-NC5)","v":0.24725274725275881},2,2,"500.1004",{"$f":"IF(NH4<5,\"\",STDEV(IF(($CM$2:$CM$338=$CV2)*($CD$2:$CD$338>3),($CD$2:$CD$338))))","v":""},{"$f":"IF(NH4<5,\"\",STDEV(IF(($CM$2:$CM$338=$CV2)*($J$2:$J$338=\"M\")*($CD$2:$CD$338>3),($CD$2:$CD$338))))","v":""},{"$f":"IF(NH4<5,\"\",STDEV(IF(($CM$2:$CM$338=$CV2)*($J$2:$J$338=\"F\")*($CD$2:$CD$338>3),($CD$2:$CD$338))))","v":""},{"$f":"IF(NH4<5,\"\",STDEV(IF(($CM$2:$CM$338=$CV2)*($CT$2:$CT$338=\"J\")*($CD$2:$CD$338>3),($CD$2:$CD$338))))","v":""},{"$f":"IF(NH4<5,\"\",STDEV(IF(($CM$2:$CM$338=$CV2)*($CT$2:$CT$338=\"V\")*($CD$2:$CD$338>3),($CD$2:$CD$338))))","v":""},{"$f":"IF(NH4<5,\"\",NK5-NL5)","v":""},null,null,"500.1004",{"$f":"IF(NQ4<5,\"\",STDEV(IF(($CM$2:$CM$338=$CV2)*($CE$2:$CE$338>3),($CE$2:$CE$338))))","v":9.5863521815207271},{"$f":"IF(NQ4<5,\"\",STDEV(IF(($CM$2:$CM$338=$CV2)*($J$2:$J$338=\"M\")*($CE$2:$CE$338>3),($CE$2:$CE$338))))","v":8.018788985936558},{"$f":"IF(NQ4<5,\"\",STDEV(IF(($CM$2:$CM$338=$CV2)*($J$2:$J$338=\"F\")*($CE$2:$CE$338>3),($CE$2:$CE$338))))","v":11.675321465087373},{"$f":"IF(NQ4<5,\"\",STDEV(IF(($CM$2:$CM$338=$CV2)*($CT$2:$CT$338=\"J\")*($CE$2:$CE$338>3),($CE$2:$CE$338))))","v":8.6379510030368643},{"$f":"IF(NQ4<5,\"\",STDEV(IF(($CM$2:$CM$338=$CV2)*($CT$2:$CT$338=\"V\")*($CE$2:$CE$338>3),($CE$2:$CE$338))))","v":10.137366704608361},{"$f":"IF(NQ4<5,\"\",NT5-NU5)","v":-3.4143518518518761},3,6,"500.1004",{"$f":"IF(NZ4<5,\"\",STDEV(IF(($CM$2:$CM$338=$CV2)*($CF$2:$CF$338>3),($CF$2:$CF$338))))","v":10.883377998887417},{"$f":"IF(NZ4<5,\"\",STDEV(IF(($CM$2:$CM$338=$CV2)*($J$2:$J$338=\"M\")*($CF$2:$CF$338>3),($CF$2:$CF$338))))","v":10.53676191476068},{"$f":"IF(NZ4<5,\"\",STDEV(IF(($CM$2:$CM$338=$CV2)*($J$2:$J$338=\"F\")*($CF$2:$CF$338>3),($CF$2:$CF$338))))","v":11.829758316135694},{"$f":"IF(NZ4<5,\"\",STDEV(IF(($CM$2:$CM$338=$CV2)*($CT$2:$CT$338=\"J\")*($CF$2:$CF$338>3),($CF$2:$CF$338))))","v":12.39014225099938},{"$f":"IF(NZ4<5,\"\",STDEV(IF(($CM$2:$CM$338=$CV2)*($CT$2:$CT$338=\"V\")*($CF$2:$CF$338>3),($CF$2:$CF$338))))","v":9.7947690120798665},{"$f":"IF(NZ4<5,\"\",OC5-OD5)","v":-5.5208333333333286},3,3,"500.1004",{"$f":"IF(OI4<5,\"\",STDEV(IF(($CM$2:$CM$338=$CV2)*($CG$2:$CG$338>3),($CG$2:$CG$338))))","v":10.955438586171937},{"$f":"IF(OI4<5,\"\",STDEV(IF(($CM$2:$CM$338=$CV2)*($J$2:$J$338=\"M\")*($CG$2:$CG$338>3),($CG$2:$CG$338))))","v":10.884634799811808},{"$f":"IF(OI4<5,\"\",STDEV(IF(($CM$2:$CM$338=$CV2)*($J$2:$J$338=\"F\")*($CG$2:$CG$338>3),($CG$2:$CG$338))))","v":11.50747039970123},{"$f":"IF(OI4<5,\"\",STDEV(IF(($CM$2:$CM$338=$CV2)*($CT$2:$CT$338=\"J\")*($CG$2:$CG$338>3),($CG$2:$CG$338))))","v":11.156245136942607},{"$f":"IF(OI4<5,\"\",STDEV(IF(($CM$2:$CM$338=$CV2)*($CT$2:$CT$338=\"V\")*($CG$2:$CG$338>3),($CG$2:$CG$338))))","v":10.122942177713618},{"$f":"IF(OI4<5,\"\",OL5-OM5)","v":-7.46875},2,3,"500.1004",{"$f":"IF(OR4<5,\"\",STDEV(IF(($CM$2:$CM$338=$CV2)*($CH$2:$CH$338>3),($CH$2:$CH$338))))","v":""},{"$f":"IF(OR4<5,\"\",STDEV(IF(($CM$2:$CM$338=$CV2)*($J$2:$J$338=\"M\")*($CH$2:$CH$338>3),($CH$2:$CH$338))))","v":""},{"$f":"IF(OR4<5,\"\",STDEV(IF(($CM$2:$CM$338=$CV2)*($J$2:$J$338=\"F\")*($CH$2:$CH$338>3),($CH$2:$CH$338))))","v":""},{"$f":"IF(OR4<5,\"\",STDEV(IF(($CM$2:$CM$338=$CV2)*($CT$2:$CT$338=\"J\")*($CH$2:$CH$338>3),($CH$2:$CH$338))))","v":""},{"$f":"IF(OR4<5,\"\",STDEV(IF(($CM$2:$CM$338=$CV2)*($CT$2:$CT$338=\"V\")*($CH$2:$CH$338>3),($CH$2:$CH$338))))","v":""},{"$f":"IF(OR4<5,\"\",OU5-OV5)","v":""},null,null,"500.1004",{"$f":"IF(PA4<5,\"\",STDEV(IF(($CM$2:$CM$338=$CV2)*($CI$2:$CI$338>3),($CI$2:$CI$338))))","v":11.956990231016125},{"$f":"IF(PA4<5,\"\",STDEV(IF(($CM$2:$CM$338=$CV2)*($J$2:$J$338=\"M\")*($CI$2:$CI$338>3),($CI$2:$CI$338))))","v":13.03429542180387},{"$f":"IF(PA4<5,\"\",STDEV(IF(($CM$2:$CM$338=$CV2)*($J$2:$J$338=\"F\")*($CI$2:$CI$338>3),($CI$2:$CI$338))))","v":10.780787484589389},{"$f":"IF(PA4<5,\"\",STDEV(IF(($CM$2:$CM$338=$CV2)*($CT$2:$CT$338=\"J\")*($CI$2:$CI$338>3),($CI$2:$CI$338))))","v":14.131058189518424},{"$f":"IF(PA4<5,\"\",STDEV(IF(($CM$2:$CM$338=$CV2)*($CT$2:$CT$338=\"V\")*($CI$2:$CI$338>3),($CI$2:$CI$338))))","v":10.178088699914799},{"$f":"IF(PA4<5,\"\",PD5-PE5)","v":-6.0218749999999943},2,6]
["2010","001","501",null,null,0,"2000-05-23",null,null,"F",0,0,0,0,0,0,0,0,0,0,0,0,0,0,0,0,0,0,0,0,0,0,0,0,0,0,0,0,0,0,0,0,0,0,0,0,0,0,0,0,65,75,50,60,0,0,0,0,68,76,0,71,78,71,87,70,70,80,80,75,72,82,72,81,null,0,0,0,0,0,0,0,0,0,62.5,0,75.5,null,null,null,"001501","0.100","50",{"$f":"Tableau_SSRSMSA03_BI_Integration_STEPH_2010[[#This Row],[DAT_NAISSANCE_ELEVE]]","v":"2000-05-23"},"2009-09-30",3417,9.3552361396303905,{"$f":"IF(AND(LEFT(CO7,1)=\"1\",CS7>5.5),\"V\",IF(AND(LEFT(CO7,1)=\"2\",CS7>6.5),\"V\",IF(AND(LEFT(CO7,1)=\"3\",CS7>7.5),\"V\",IF(AND(LEFT(CO7,1)=\"4\",CS7>8.5),\"V\",IF(AND(LEFT(CO7,1)=\"5\",CS7>9.5),\"V\",IF(AND(LEFT(CO7,1)=\"6\",CS7>10.5),\"V\",\"J\"))))))","v":"J"},{"$f":"IF(AJ7=0,0,IF(BH7=0,0,1))","v":0},{"$f":"DC11&DC12&5","v":"500.1005"},{"$f":"\"moy \"&$CX4","v":"moy 20"},{"$f":"IF(CX4<5,\"\",SUMPRODUCT((($CM$2:$CM$338=$CV2)*($CU$2:$CU$338=1)*($AJ$2:$AJ$338>3)*($AJ$2:$AJ$338)/$CX4)))","v":80},{"$f":"IF(CX4<5,\"\",SUMPRODUCT(($CM$2:$CM$338=$CV2)*($CU$2:$CU$338=1)*($J$2:$J$338=\"M\")*($AJ$2:$AJ$338>3)*($AJ$2:$AJ$338))/$CY4)","v":77.727272727272734},{"$f":"IF(CX4<5,\"\",SUMPRODUCT(($CM$2:$CM$338=$CV2)*($CU$2:$CU$338=1)*($J$2:$J$338=\"F\")*($AJ$2:$AJ$338>3)*($AJ$2:$AJ$338))/$CZ4)","v":82.777777777777771},{"$f":"IF(CX4<5,\"\",SUMPRODUCT(($CM$2:$CM$338=$CV2)*($CU$2:$CU$338=1)*($CT$2:$CT$338=\"J\")*($AJ$2:$AJ$338>3)*($AJ$2:$AJ$338))/$DA4)","v":79.285714285714292},{"$f":"IF(CX4<5,\"\",SUMPRODUCT(($CM$2:$CM$338=$CV2)*($CU$2:$CU$338=1)*($CT$2:$CT$338=\"V\")*($AJ$2:$AJ$338>3)*($AJ$2:$AJ$338))/$DB4)","v":80.384615384615387},{"$f":"IF(CX4<5,\"\",DA10-DB10)","v":0.7223001402525},8,8,"500.1005",{"$f":"IF(DG4<5,\"\",SUMPRODUCT((($CM$2:$CM$338=$CV2)*($CU$2:$CU$338=1)*($AN$2:$AN$338>3)*($AN$2:$AN$338)/$CX4)))","v":""},{"$f":"IF(DG4<5,\"\",SUMPRODUCT(($CM$2:$CM$338=$CV2)*($CU$2:$CU$338=1)*($J$2:$J$338=\"M\")*($AN$2:$AN$338>3)*($AN$2:$AN$338))/$CY4)","v":""},{"$f":"IF(DG4<5,\"\",SUMPRODUCT(($CM$2:$CM$338=$CV2)*($CU$2:$CU$338=1)*($J$2:$J$338=\"F\")*($AN$2:$AN$338>3)*($AN$2:$AN$338))/$CZ4)","v":""},{"$f":"IF(DG4<5,\"\",SUMPRODUCT(($CM$2:$CM$338=$CV2)*($CU$2:$CU$338=1)*($CT$2:$CT$338=\"J\")*($AN$2:$AN$338>3)*($AN$2:$AN$338))/$DA4)","v":""},{"$f":"IF(DG4<5,\"\",SUMPRODUCT(($CM$2:$CM$338=$CV2)*($CU$2:$CU$338=1)*($CT$2:$CT$338=\"V\")*($AN$2:$AN$338>3)*($AN$2:$AN$338))/$DB4)","v":""},{"$f":"IF(DG4<5,\"\",DJ10-DK10)","v":""},null,null,"500.1005",{"$f":"IF(DP4<5,\"\",SUMPRODUCT((($CM$2:$CM$338=$CV2)*($CU$2:$CU$338=1)*($AR$2:$AR$338>3)*($AR$2:$AR$338)/$CX4)))","v":78.5},{"$f":"IF(DP4<5,\"\",SUMPRODUCT(($CM$2:$CM$338=$CV2)*($CU$2:$CU$338=1)*($J$2:$J$338=\"M\")*($AR$2:$AR$338>3)*($AR$2:$AR$338))/$CY4)","v":75.909090909090907},{"$f":"IF(DP4<5,\"\",SUMPRODUCT(($CM$2:$CM$338=$CV2)*($CU$2:$CU$338=1)*($J$2:$J$338=\"F\")*($AR$2:$AR$338>3)*($AR$2:$AR$338))/$CZ4)","v":81.666666666666671},{"$f":"IF(DP4<5,\"\",SUMPRODUCT(($CM$2:$CM$338=$CV2)*($CU$2:$CU$338=1)*($CT$2:$CT$338=\"J\")*($AR$2:$AR$338>3)*($AR$2:$AR$338))/$DA4)","v":75.714285714285708},{"$f":"IF(DP4<5,\"\",SUMPRODUCT(($CM$2:$CM$338=$CV2)*($CU$2:$CU$338=1)*($CT$2:$CT$338=\"V\")*($AR$2:$AR$338>3)*($AR$2:$AR$338))/$DB4)","v":80},{"$f":"IF(DP4<5,\"\",DS10-DT10)","v":-0.11724856696193342},8,8,"500.1005",{"$f":"IF(DY4<5,\"\",SUMPRODUCT((($CM$2:$CM$338=$CV2)*($CU$2:$CU$338=1)*($AV$2:$AV$338>3)*($AV$2:$AV$338)/$CX4)))","v":78.75},{"$f":"IF(DY4<5,\"\",SUMPRODUCT(($CM$2:$CM$338=$CV2)*($CU$2:$CU$338=1)*($J$2:$J$338=\"M\")*($AV$2:$AV$338>3)*($AV$2:$AV$338))/$CY4)","v":76.818181818181813},{"$f":"IF(DY4<5,\"\",SUMPRODUCT(($CM$2:$CM$338=$CV2)*($CU$2:$CU$338=1)*($J$2:$J$338=\"F\")*($AV$2:$AV$338>3)*($AV$2:$AV$338))/$CZ4)","v":81.111111111111114},{"$f":"IF(DY4<5,\"\",SUMPRODUCT(($CM$2:$CM$338=$CV2)*($CU$2:$CU$338=1)*($CT$2:$CT$338=\"J\")*($AV$2:$AV$338>3)*($AV$2:$AV$338))/$DA4)","v":75},{"$f":"IF(DY4<5,\"\",SUMPRODUCT(($CM$2:$CM$338=$CV2)*($CU$2:$CU$338=1)*($CT$2:$CT$338=\"V\")*($AV$2:$AV$338>3)*($AV$2:$AV$338))/$DB4)","v":80.769230769230774},{"$f":"IF(DY4<5,\"\",EB10-EC10)","v":-0.54437564499485802},8,8,"500.1005",{"$f":"IF(EH4<5,\"\",SUMPRODUCT((($CM$2:$CM$338=$CV2)*($CU$2:$CU$338=1)*($AZ$2:$AZ$338>3)*($AZ$2:$AZ$338)/$CX4)))","v":76.75},{"$f":"IF(EH4<5,\"\",SUMPRODUCT(($CM$2:$CM$338=$CV2)*($CU$2:$CU$338=1)*($J$2:$J$338=\"M\")*($AZ$2:$AZ$338>3)*($AZ$2:$AZ$338))/$CY4)","v":76.36363636363636},{"$f":"IF(EH4<5,\"\",SUMPRODUCT(($CM$2:$CM$338=$CV2)*($CU$2:$CU$338=1)*($J$2:$J$338=\"F\")*($AZ$2:$AZ$338>3)*($AZ$2:$AZ$338))/$CZ4)","v":77.222222222222229},{"$f":"IF(EH4<5,\"\",SUMPRODUCT(($CM$2:$CM$338=$CV2)*($CU$2:$CU$338=1)*($CT$2:$CT$338=\"J\")*($AZ$2:$AZ$338>3)*($AZ$2:$AZ$338))/$DA4)","v":74.285714285714292},{"$f":"IF(EH4<5,\"\",SUMPRODUCT(($CM$2:$CM$338=$CV2)*($CU$2:$CU$338=1)*($CT$2:$CT$338=\"V\")*($AZ$2:$AZ$338>3)*($AZ$2:$AZ$338))/$DB4)","v":78.07692307692308},{"$f":"IF(EH4<5,\"\",EK10-EL10)","v":0.71806833942753201},2,2,"500.1005",{"$f":"IF(EQ4<5,\"\",SUMPRODUCT((($CM$2:$CM$338=$CV2)*($CU$2:$CU$338=1)*($BD$2:$BD$338>3)*($BD$2:$BD$338)/$CX4)))","v":""},{"$f":"IF(EQ4<5,\"\",SUMPRODUCT(($CM$2:$CM$338=$CV2)*($CU$2:$CU$338=1)*($J$2:$J$338=\"M\")*($BD$2:$BD$338>3)*($BD$2:$BD$338))/$CY4)","v":""},{"$f":"IF(EQ4<5,\"\",SUMPRODUCT(($CM$2:$CM$338=$CV2)*($CU$2:$CU$338=1)*($J$2:$J$338=\"F\")*($BD$2:$BD$338>3)*($BD$2:$BD$338))/$CZ4)","v":""},{"$f":"IF(EQ4<5,\"\",SUMPRODUCT(($CM$2:$CM$338=$CV2)*($CU$2:$CU$338=1)*($CT$2:$CT$338=\"J\")*($BD$2:$BD$338>3)*($BD$2:$BD$338))/$DA4)","v":""},{"$f":"IF(EQ4<5,\"\",SUMPRODUCT(($CM$2:$CM$338=$CV2)*($CU$2:$CU$338=1)*($CT$2:$CT$338=\"V\")*($BD$2:$BD$338>3)*($BD$2:$BD$338))/$DB4)","v":""},{"$f":"IF(EQ4<5,\"\",ET10-EU10)","v":""},null,null,"500.1005",{"$f":"IF(EZ4<5,\"\",SUMPRODUCT((($CM$2:$CM$338=$CV2)*($CU$2:$CU$338=1)*($BH$2:$BH$338>3)*($BH$2:$BH$338)/$CX4)))","v":75.25},{"$f":"IF(EZ4<5,\"\",SUMPRODUCT(($CM$2:$CM$338=$CV2)*($CU$2:$CU$338=1)*($J$2:$J$338=\"M\")*($BH$2:$BH$338>3)*($BH$2:$BH$338))/$CY4)","v":73},{"$f":"IF(EZ4<5,\"\",SUMPRODUCT(($CM$2:$CM$338=$CV2)*($CU$2:$CU$338=1)*($J$2:$J$338=\"F\")*($BH$2:$BH$338>3)*($BH$2:$BH$338))/$CZ4)","v":78},{"$f":"IF(EZ4<5,\"\",SUMPRODUCT(($CM$2:$CM$338=$CV2)*($CU$2:$CU$338=1)*($CT$2:$CT$338=\"J\")*($BH$2:$BH$338>3)*($BH$2:$BH$338))/$DA4)","v":73.428571428571431},{"$f":"IF(EZ4<5,\"\",SUMPRODUCT(($CM$2:$CM$338=$CV2)*($CU$2:$CU$338=1)*($CT$2:$CT$338=\"V\")*($BH$2:$BH$338>3)*($BH$2:$BH$338))/$DB4)","v":76.230769230769226},{"$f":"IF(EZ4<5,\"\",FC10-FD10)","v":1.1557243624524602},2,2,"500.1005",{"$f":"IF(FI4<5,\"\",SUMPRODUCT((($CM$2:$CM$338=$CV2)*($CU$2:$CU$338=1)*($AI$2:$AI$338>3)*($AI$2:$AI$338)/$CX4)))","v":78.75},{"$f":"IF(FI4<5,\"\",SUMPRODUCT(($CM$2:$CM$338=$CV2)*($CU$2:$CU$338=1)*($J$2:$J$338=\"M\")*($AI$2:$AI$338>3)*($AI$2:$AI$338))/$CY4)","v":77.272727272727266},{"$f":"IF(FI4<5,\"\",SUMPRODUCT(($CM$2:$CM$338=$CV2)*($CU$2:$CU$338=1)*($J$2:$J$338=\"F\")*($AI$2:$AI$338>3)*($AI$2:$AI$338))/$CZ4)","v":80.555555555555557},{"$f":"IF(FI4<5,\"\",SUMPRODUCT(($CM$2:$CM$338=$CV2)*($CU$2:$CU$338=1)*($CT$2:$CT$338=\"J\")*($AI$2:$AI$338>3)*($AI$2:$AI$338))/$DA4)","v":76.428571428571431},{"$f":"IF(FI4<5,\"\",SUMPRODUCT(($CM$2:$CM$338=$CV2)*($CU$2:$CU$338=1)*($CT$2:$CT$338=\"V\")*($AI$2:$AI$338>3)*($AI$2:$AI$338))/$DB4)","v":80},{"$f":"IF(FI4<5,\"\",FL10-FM10)","v":-1.5217391304347956},8,8,"500.1005",{"$f":"IF(FR4<5,\"\",SUMPRODUCT((($CM$2:$CM$338=$CV2)*($CU$2:$CU$338=1)*($AM$2:$AM$338>3)*($AM$2:$AM$338)/$CX4)))","v":""},{"$f":"IF(FR4<5,\"\",SUMPRODUCT(($CM$2:$CM$338=$CV2)*($CU$2:$CU$338=1)*($J$2:$J$338=\"M\")*($AM$2:$AM$338>3)*($AM$2:$AM$338))/$CY4)","v":""},{"$f":"IF(FR4<5,\"\",SUMPRODUCT(($CM$2:$CM$338=$CV2)*($CU$2:$CU$338=1)*($J$2:$J$338=\"F\")*($AM$2:$AM$338>3)*($AM$2:$AM$338))/$CZ4)","v":""},{"$f":"IF(FR4<5,\"\",SUMPRODUCT(($CM$2:$CM$338=$CV2)*($CU$2:$CU$338=1)*($CT$2:$CT$338=\"J\")*($AM$2:$AM$338>3)*($AM$2:$AM$338))/$DA4)","v":""},{"$f":"IF(FR4<5,\"\",SUMPRODUCT(($CM$2:$CM$338=$CV2)*($CU$2:$CU$338=1)*($CT$2:$CT$338=\"V\")*($AM$2:$AM$338>3)*($AM$2:$AM$338))/$DB4)","v":""},{"$f":"IF(FR4<5,\"\",FU10-FV10)","v":""},null,null,"500.1005",{"$f":"IF(GA4<5,\"\",SUMPRODUCT((($CM$2:$CM$338=$CV2)*($CU$2:$CU$338=1)*($AQ$2:$AQ$338>3)*($AQ$2:$AQ$338)/$CX4)))","v":70.5},{"$f":"IF(GA4<5,\"\",SUMPRODUCT(($CM$2:$CM$338=$CV2)*($CU$2:$CU$338=1)*($J$2:$J$338=\"M\")*($AQ$2:$AQ$338>3)*($AQ$2:$AQ$338))/$CY4)","v":67.727272727272734},{"$f":"IF(GA4<5,\"\",SUMPRODUCT(($CM$2:$CM$338=$CV2)*($CU$2:$CU$338=1)*($J$2:$J$338=\"F\")*($AQ$2:$AQ$338>3)*($AQ$2:$AQ$338))/$CZ4)","v":73.888888888888886},{"$f":"IF(GA4<5,\"\",SUMPRODUCT(($CM$2:$CM$338=$CV2)*($CU$2:$CU$338=1)*($CT$2:$CT$338=\"J\")*($AQ$2:$AQ$338>3)*($AQ$2:$AQ$338))/$DA4)","v":67.857142857142861},{"$f":"IF(GA4<5,\"\",SUMPRODUCT(($CM$2:$CM$338=$CV2)*($CU$2:$CU$338=1)*($CT$2:$CT$338=\"V\")*($AQ$2:$AQ$338>3)*($AQ$2:$AQ$338))/$DB4)","v":71.92307692307692},{"$f":"IF(GA4<5,\"\",GD10-GE10)","v":2.2381448671182937},8,8,"500.1005",{"$f":"IF(GJ4<5,\"\",SUMPRODUCT((($CM$2:$CM$338=$CV2)*($CU$2:$CU$338=1)*($AU$2:$AU$338>3)*($AU$2:$AU$338)/$CX4)))","v":77.5},{"$f":"IF(GJ4<5,\"\",SUMPRODUCT(($CM$2:$CM$338=$CV2)*($CU$2:$CU$338=1)*($J$2:$J$338=\"M\")*($AU$2:$AU$338>3)*($AU$2:$AU$338))/$CY4)","v":74.090909090909093},{"$f":"IF(GJ4<5,\"\",SUMPRODUCT(($CM$2:$CM$338=$CV2)*($CU$2:$CU$338=1)*($J$2:$J$338=\"F\")*($AU$2:$AU$338>3)*($AU$2:$AU$338))/$CZ4)","v":81.666666666666671},{"$f":"IF(GJ4<5,\"\",SUMPRODUCT(($CM$2:$CM$338=$CV2)*($CU$2:$CU$338=1)*($CT$2:$CT$338=\"J\")*($AU$2:$AU$338>3)*($AU$2:$AU$338))/$DA4)","v":73.571428571428569},{"$f":"IF(GJ4<5,\"\",SUMPRODUCT(($CM$2:$CM$338=$CV2)*($CU$2:$CU$338=1)*($CT$2:$CT$338=\"V\")*($AU$2:$AU$338>3)*($AU$2:$AU$338))/$DB4)","v":79.615384615384613},{"$f":"IF(GJ4<5,\"\",GM10-GN10)","v":0.21826625386989917},8,8,"500.1005",{"$f":"IF(GS4<5,\"\",SUMPRODUCT((($CM$2:$CM$338=$CV2)*($CU$2:$CU$338=1)*($AY$2:$AY$338>3)*($AY$2:$AY$338)/$CX4)))","v":76},{"$f":"IF(GS4<5,\"\",SUMPRODUCT(($CM$2:$CM$338=$CV2)*($CU$2:$CU$338=1)*($J$2:$J$338=\"M\")*($AY$2:$AY$338>3)*($AY$2:$AY$338))/$CY4)","v":73.181818181818187},{"$f":"IF(GS4<5,\"\",SUMPRODUCT(($CM$2:$CM$338=$CV2)*($CU$2:$CU$338=1)*($J$2:$J$338=\"F\")*($AY$2:$AY$338>3)*($AY$2:$AY$338))/$CZ4)","v":79.444444444444443},{"$f":"IF(GS4<5,\"\",SUMPRODUCT(($CM$2:$CM$338=$CV2)*($CU$2:$CU$338=1)*($CT$2:$CT$338=\"J\")*($AY$2:$AY$338>3)*($AY$2:$AY$338))/$DA4)","v":72.142857142857139},{"$f":"IF(GS4<5,\"\",SUMPRODUCT(($CM$2:$CM$338=$CV2)*($CU$2:$CU$338=1)*($CT$2:$CT$338=\"V\")*($AY$2:$AY$338>3)*($AY$2:$AY$338))/$DB4)","v":78.07692307692308},{"$f":"IF(GS4<5,\"\",GV10-GW10)","v":0.77922077922076483},3,6,"500.1005",{"$f":"IF(HB4<5,\"\",SUMPRODUCT((($CM$2:$CM$338=$CV2)*($CU$2:$CU$338=1)*($BC$2:$BC$338>3)*($BC$2:$BC$338)/$CX4)))","v":""},{"$f":"IF(HB4<5,\"\",SUMPRODUCT(($CM$2:$CM$338=$CV2)*($CU$2:$CU$338=1)*($J$2:$J$338=\"M\")*($BC$2:$BC$338>3)*($BC$2:$BC$338))/$CY4)","v":""},{"$f":"IF(HB4<5,\"\",SUMPRODUCT(($CM$2:$CM$338=$CV2)*($CU$2:$CU$338=1)*($J$2:$J$338=\"F\")*($BC$2:$BC$338>3)*($BC$2:$BC$338))/$CZ4)","v":""},{"$f":"IF(HB4<5,\"\",SUMPRODUCT(($CM$2:$CM$338=$CV2)*($CU$2:$CU$338=1)*($CT$2:$CT$338=\"J\")*($BC$2:$BC$338>3)*($BC$2:$BC$338))/$DA4)","v":""},{"$f":"IF(HB4<5,\"\",SUMPRODUCT(($CM$2:$CM$338=$CV2)*($CU$2:$CU$338=1)*($CT$2:$CT$338=\"V\")*($BC$2:$BC$338>3)*($BC$2:$BC$338))/$DB4)","v":""},{"$f":"IF(HB4<5,\"\",HE10-HF10)","v":""},null,null,"500.1005",{"$f":"IF(HK4<5,\"\",SUMPRODUCT((($CM$2:$CM$338=$CV2)*($CU$2:$CU$338=1)*($BG$2:$BG$338>3)*($BG$2:$BG$338)/$CX4)))","v":74.5},{"$f":"IF(HK4<5,\"\",SUMPRODUCT(($CM$2:$CM$338=$CV2)*($CU$2:$CU$338=1)*($J$2:$J$338=\"M\")*($BG$2:$BG$338>3)*($BG$2:$BG$338))/$CY4)","v":72.090909090909093},{"$f":"IF(HK4<5,\"\",SUMPRODUCT(($CM$2:$CM$338=$CV2)*($CU$2:$CU$338=1)*($J$2:$J$338=\"F\")*($BG$2:$BG$338>3)*($BG$2:$BG$338))/$CZ4)","v":77.444444444444443},{"$f":"IF(HK4<5,\"\",SUMPRODUCT(($CM$2:$CM$338=$CV2)*($CU$2:$CU$338=1)*($CT$2:$CT$338=\"J\")*($BG$2:$BG$338>3)*($BG$2:$BG$338))/$DA4)","v":70.285714285714292},{"$f":"IF(HK4<5,\"\",SUMPRODUCT(($CM$2:$CM$338=$CV2)*($CU$2:$CU$338=1)*($CT$2:$CT$338=\"V\")*($BG$2:$BG$338>3)*($BG$2:$BG$338))/$DB4)","v":76.769230769230774},{"$f":"IF(HK4<5,\"\",HN10-HO10)","v":1.9102007596310244},2,3,"500.1005",{"$f":"IF(HT4<5,\"\",SUMPRODUCT((($CM$2:$CM$338=$CV2)*($CU$2:$CU$338=1)*($AL$2:$AL$338>3)*($AL$2:$AL$338)/$CX4)))","v":80.75},{"$f":"IF(HT4<5,\"\",SUMPRODUCT(($CM$2:$CM$338=$CV2)*($CU$2:$CU$338=1)*($J$2:$J$338=\"M\")*($AL$2:$AL$338>3)*($AL$2:$AL$338))/$CY4)","v":81.36363636363636},{"$f":"IF(HT4<5,\"\",SUMPRODUCT(($CM$2:$CM$338=$CV2)*($CU$2:$CU$338=1)*($J$2:$J$338=\"F\")*($AL$2:$AL$338>3)*($AL$2:$AL$338))/$CZ4)","v":80},{"$f":"IF(HT4<5,\"\",SUMPRODUCT(($CM$2:$CM$338=$CV2)*($CU$2:$CU$338=1)*($CT$2:$CT$338=\"J\")*($AL$2:$AL$338>3)*($AL$2:$AL$338))/$DA4)","v":79.285714285714292},{"$f":"IF(HT4<5,\"\",SUMPRODUCT(($CM$2:$CM$338=$CV2)*($CU$2:$CU$338=1)*($CT$2:$CT$338=\"V\")*($AL$2:$AL$338>3)*($AL$2:$AL$338))/$DB4)","v":81.538461538461533},{"$f":"IF(HT4<5,\"\",HW10-HX10)","v":0.28708420737189044},8,8,"500.1005",{"$f":"IF(IC4<5,\"\",SUMPRODUCT((($CM$2:$CM$338=$CV2)*($CU$2:$CU$338=1)*($AP$2:$AP$338>3)*($AP$2:$AP$338)/$CX4)))","v":""},{"$f":"IF(IC4<5,\"\",SUMPRODUCT(($CM$2:$CM$338=$CV2)*($CU$2:$CU$338=1)*($J$2:$J$338=\"M\")*($AP$2:$AP$338>3)*($AP$2:$AP$338))/$CY4)","v":""},{"$f":"IF(IC4<5,\"\",SUMPRODUCT(($CM$2:$CM$338=$CV2)*($CU$2:$CU$338=1)*($J$2:$J$338=\"F\")*($AP$2:$AP$338>3)*($AP$2:$AP$338))/$CZ4)","v":""},{"$f":"IF(IC4<5,\"\",SUMPRODUCT(($CM$2:$CM$338=$CV2)*($CU$2:$CU$338=1)*($CT$2:$CT$338=\"J\")*($AP$2:$AP$338>3)*($AP$2:$AP$338))/$DA4)","v":""},{"$f":"IF(IC4<5,\"\",SUMPRODUCT(($CM$2:$CM$338=$CV2)*($CU$2:$CU$338=1)*($CT$2:$CT$338=\"V\")*($AP$2:$AP$338>3)*($AP$2:$AP$338))/$DB4)","v":""},{"$f":"IF(IC4<5,\"\",IF10-IG10)","v":""},null,null,"500.1005",{"$f":"IF(IL4<5,\"\",SUMPRODUCT((($CM$2:$CM$338=$CV2)*($CU$2:$CU$338=1)*($AT$2:$AT$338>3)*($AT$2:$AT$338)/$CX4)))","v":77.25},{"$f":"IF(IL4<5,\"\",SUMPRODUCT(($CM$2:$CM$338=$CV2)*($CU$2:$CU$338=1)*($J$2:$J$338=\"M\")*($AT$2:$AT$338>3)*($AT$2:$AT$338))/$CY4)","v":77.272727272727266},{"$f":"IF(IL4<5,\"\",SUMPRODUCT(($CM$2:$CM$338=$CV2)*($CU$2:$CU$338=1)*($J$2:$J$338=\"F\")*($AT$2:$AT$338>3)*($AT$2:$AT$338))/$CZ4)","v":77.222222222222229},{"$f":"IF(IL4<5,\"\",SUMPRODUCT(($CM$2:$CM$338=$CV2)*($CU$2:$CU$338=1)*($CT$2:$CT$338=\"J\")*($AT$2:$AT$338>3)*($AT$2:$AT$338))/$DA4)","v":76.428571428571431},{"$f":"IF(IL4<5,\"\",SUMPRODUCT(($CM$2:$CM$338=$CV2)*($CU$2:$CU$338=1)*($CT$2:$CT$338=\"V\")*($AT$2:$AT$338>3)*($AT$2:$AT$338))/$DB4)","v":77.692307692307693},{"$f":"IF(IL4<5,\"\",IO10-IP10)","v":0.23058884835846527},8,8,"500.1005",{"$f":"IF(IU4<5,\"\",SUMPRODUCT((($CM$2:$CM$338=$CV2)*($CU$2:$CU$338=1)*($AX$2:$AX$338>3)*($AX$2:$AX$338)/$CX4)))","v":78},{"$f":"IF(IU4<5,\"\",SUMPRODUCT(($CM$2:$CM$338=$CV2)*($CU$2:$CU$338=1)*($J$2:$J$338=\"M\")*($AX$2:$AX$338>3)*($AX$2:$AX$338))/$CY4)","v":78.63636363636364},{"$f":"IF(IU4<5,\"\",SUMPRODUCT(($CM$2:$CM$338=$CV2)*($CU$2:$CU$338=1)*($J$2:$J$338=\"F\")*($AX$2:$AX$338>3)*($AX$2:$AX$338))/$CZ4)","v":77.222222222222229},{"$f":"IF(IU4<5,\"\",SUMPRODUCT(($CM$2:$CM$338=$CV2)*($CU$2:$CU$338=1)*($CT$2:$CT$338=\"J\")*($AX$2:$AX$338>3)*($AX$2:$AX$338))/$DA4)","v":75},{"$f":"IF(IU4<5,\"\",SUMPRODUCT(($CM$2:$CM$338=$CV2)*($CU$2:$CU$338=1)*($CT$2:$CT$338=\"V\")*($AX$2:$AX$338>3)*($AX$2:$AX$338))/$DB4)","v":79.615384615384613},{"$f":"IF(IU4<5,\"\",IX10-IY10)","v":-1.3441692466461461},8,8,"500.1005",{"$f":"IF(JD4<5,\"\",SUMPRODUCT((($CM$2:$CM$338=$CV2)*($CU$2:$CU$338=1)*($BB$2:$BB$338>3)*($BB$2:$BB$338)/$CX4)))","v":70.75},{"$f":"IF(JD4<5,\"\",SUMPRODUCT(($CM$2:$CM$338=$CV2)*($CU$2:$CU$338=1)*($J$2:$J$338=\"M\")*($BB$2:$BB$338>3)*($BB$2:$BB$338))/$CY4)","v":70.909090909090907},{"$f":"IF(JD4<5,\"\",SUMPRODUCT(($CM$2:$CM$338=$CV2)*($CU$2:$CU$338=1)*($J$2:$J$338=\"F\")*($BB$2:$BB$338>3)*($BB$2:$BB$338))/$CZ4)","v":70.555555555555557},{"$f":"IF(JD4<5,\"\",SUMPRODUCT(($CM$2:$CM$338=$CV2)*($CU$2:$CU$338=1)*($CT$2:$CT$338=\"J\")*($BB$2:$BB$338>3)*($BB$2:$BB$338))/$DA4)","v":66.428571428571431},{"$f":"IF(JD4<5,\"\",SUMPRODUCT(($CM$2:$CM$338=$CV2)*($CU$2:$CU$338=1)*($CT$2:$CT$338=\"V\")*($BB$2:$BB$338>3)*($BB$2:$BB$338))/$DB4)","v":73.07692307692308},{"$f":"IF(JD4<5,\"\",JG10-JH10)","v":1.1057874164670096},3,6,"500.1005",{"$f":"IF(JM4<5,\"\",SUMPRODUCT((($CM$2:$CM$338=$CV2)*($CU$2:$CU$338=1)*($BF$2:$BF$338>3)*($BF$2:$BF$338)/$CX4)))","v":""},{"$f":"IF(JM4<5,\"\",SUMPRODUCT(($CM$2:$CM$338=$CV2)*($CU$2:$CU$338=1)*($J$2:$J$338=\"M\")*($BF$2:$BF$338>3)*($BF$2:$BF$338))/$CY4)","v":""},{"$f":"IF(JM4<5,\"\",SUMPRODUCT(($CM$2:$CM$338=$CV2)*($CU$2:$CU$338=1)*($J$2:$J$338=\"F\")*($BF$2:$BF$338>3)*($BF$2:$BF$338))/$CZ4)","v":""},{"$f":"IF(JM4<5,\"\",SUMPRODUCT(($CM$2:$CM$338=$CV2)*($CU$2:$CU$338=1)*($CT$2:$CT$338=\"J\")*($BF$2:$BF$338>3)*($BF$2:$BF$338))/$DA4)","v":""},{"$f":"IF(JM4<5,\"\",SUMPRODUCT(($CM$2:$CM$338=$CV2)*($CU$2:$CU$338=1)*($CT$2:$CT$338=\"V\")*($BF$2:$BF$338>3)*($BF$2:$BF$338))/$DB4)","v":""},{"$f":"IF(JM4<5,\"\",JP10-JQ10)","v":""},null,null,"500.1005",{"$f":"IF(JV4<5,\"\",SUMPRODUCT((($CM$2:$CM$338=$CV2)*($CU$2:$CU$338=1)*($BJ$2:$BJ$338>3)*($BJ$2:$BJ$338)/$CX4)))","v":73.250000000000014},{"$f":"IF(JV4<5,\"\",SUMPRODUCT(($CM$2:$CM$338=$CV2)*($CU$2:$CU$338=1)*($J$2:$J$338=\"M\")*($BJ$2:$BJ$338>3)*($BJ$2:$BJ$338))/$CY4)","v":71.63636363636364},{"$f":"IF(JV4<5,\"\",SUMPRODUCT(($CM$2:$CM$338=$CV2)*($CU$2:$CU$338=1)*($J$2:$J$338=\"F\")*($BJ$2:$BJ$338>3)*($BJ$2:$BJ$338))/$CZ4)","v":75.222222222222229},{"$f":"IF(JV4<5,\"\",SUMPRODUCT(($CM$2:$CM$338=$CV2)*($CU$2:$CU$338=1)*($CT$2:$CT$338=\"J\")*($BJ$2:$BJ$338>3)*($BJ$2:$BJ$338))/$DA4)","v":67.857142857142861},{"$f":"IF(JV4<5,\"\",SUMPRODUCT(($CM$2:$CM$338=$CV2)*($CU$2:$CU$338=1)*($CT$2:$CT$338=\"V\")*($BJ$2:$BJ$338>3)*($BJ$2:$BJ$338))/$DB4)","v":76.15384615384616},{"$f":"IF(JV4<5,\"\",JY10-JZ10)","v":-0.11909929462831315},2,3,"500.1005",{"$f":"IF(KE4<5,\"\",SUMPRODUCT((($CM$2:$CM$338=$CV2)*($CU$2:$CU$338=1)*($AK$2:$AK$338>3)*($AK$2:$AK$338)/$CX4)))","v":77},{"$f":"IF(KE4<5,\"\",SUMPRODUCT(($CM$2:$CM$338=$CV2)*($CU$2:$CU$338=1)*($J$2:$J$338=\"M\")*($AK$2:$AK$338>3)*($AK$2:$AK$338))/$CY4)","v":77.727272727272734},{"$f":"IF(KE4<5,\"\",SUMPRODUCT(($CM$2:$CM$338=$CV2)*($CU$2:$CU$338=1)*($J$2:$J$338=\"F\")*($AK$2:$AK$338>3)*($AK$2:$AK$338))/$CZ4)","v":76.111111111111114},{"$f":"IF(KE4<5,\"\",SUMPRODUCT(($CM$2:$CM$338=$CV2)*($CU$2:$CU$338=1)*($CT$2:$CT$338=\"J\")*($AK$2:$AK$338>3)*($AK$2:$AK$338))/$DA4)","v":82.142857142857139},{"$f":"IF(KE4<5,\"\",SUMPRODUCT(($CM$2:$CM$338=$CV2)*($CU$2:$CU$338=1)*($CT$2:$CT$338=\"V\")*($AK$2:$AK$338>3)*($AK$2:$AK$338))/$DB4)","v":74.230769230769226},{"$f":"IF(KE4<5,\"\",KH10-KI10)","v":-0.39130434782610735},8,8,"500.1005",{"$f":"IF(KN4<5,\"\",SUMPRODUCT((($CM$2:$CM$338=$CV2)*($CU$2:$CU$338=1)*($AO$2:$AO$338>3)*($AO$2:$AO$338)/$CX4)))","v":""},{"$f":"IF(KN4<5,\"\",SUMPRODUCT(($CM$2:$CM$338=$CV2)*($CU$2:$CU$338=1)*($J$2:$J$338=\"M\")*($AO$2:$AO$338>3)*($AO$2:$AO$338))/$CY4)","v":""},{"$f":"IF(KN4<5,\"\",SUMPRODUCT(($CM$2:$CM$338=$CV2)*($CU$2:$CU$338=1)*($J$2:$J$338=\"F\")*($AO$2:$AO$338>3)*($AO$2:$AO$338))/$CZ4)","v":""},{"$f":"IF(KN4<5,\"\",SUMPRODUCT(($CM$2:$CM$338=$CV2)*($CU$2:$CU$338=1)*($CT$2:$CT$338=\"J\")*($AO$2:$AO$338>3)*($AO$2:$AO$338))/$DA4)","v":""},{"$f":"IF(KN4<5,\"\",SUMPRODUCT(($CM$2:$CM$338=$CV2)*($CU$2:$CU$338=1)*($CT$2:$CT$338=\"V\")*($AO$2:$AO$338>3)*($AO$2:$AO$338))/$DB4)","v":""},{"$f":"IF(KN4<5,\"\",KQ10-KR10)","v":""},null,null,"500.1005",{"$f":"IF(KW4<5,\"\",SUMPRODUCT((($CM$2:$CM$338=$CV2)*($CU$2:$CU$338=1)*($AS$2:$AS$338>3)*($AS$2:$AS$338)/$CX4)))","v":""},{"$f":"IF(KW4<5,\"\",SUMPRODUCT(($CM$2:$CM$338=$CV2)*($CU$2:$CU$338=1)*($J$2:$J$338=\"M\")*($AS$2:$AS$338>3)*($AS$2:$AS$338))/$CY4)","v":""},{"$f":"IF(KW4<5,\"\",SUMPRODUCT(($CM$2:$CM$338=$CV2)*($CU$2:$CU$338=1)*($J$2:$J$338=\"F\")*($AS$2:$AS$338>3)*($AS$2:$AS$338))/$CZ4)","v":""},{"$f":"IF(KW4<5,\"\",SUMPRODUCT(($CM$2:$CM$338=$CV2)*($CU$2:$CU$338=1)*($CT$2:$CT$338=\"J\")*($AS$2:$AS$338>3)*($AS$2:$AS$338))/$DA4)","v":""},{"$f":"IF(KW4<5,\"\",SUMPRODUCT(($CM$2:$CM$338=$CV2)*($CU$2:$CU$338=1)*($CT$2:$CT$338=\"V\")*($AS$2:$AS$338>3)*($AS$2:$AS$338))/$DB4)","v":""},{"$f":"IF(KW4<5,\"\",KZ10-LA10)","v":""},null,null,"500.1005",{"$f":"IF(LF4<5,\"\",SUMPRODUCT((($CM$2:$CM$338=$CV2)*($CU$2:$CU$338=1)*($AW$2:$AW$338>3)*($AW$2:$AW$338)/$CX4)))","v":75},{"$f":"IF(LF4<5,\"\",SUMPRODUCT(($CM$2:$CM$338=$CV2)*($CU$2:$CU$338=1)*($J$2:$J$338=\"M\")*($AW$2:$AW$338>3)*($AW$2:$AW$338))/$CY4)","v":75},{"$f":"IF(LF4<5,\"\",SUMPRODUCT(($CM$2:$CM$338=$CV2)*($CU$2:$CU$338=1)*($J$2:$J$338=\"F\")*($AW$2:$AW$338>3)*($AW$2:$AW$338))/$CZ4)","v":75},{"$f":"IF(LF4<5,\"\",SUMPRODUCT(($CM$2:$CM$338=$CV2)*($CU$2:$CU$338=1)*($CT$2:$CT$338=\"J\")*($AW$2:$AW$338>3)*($AW$2:$AW$338))/$DA4)","v":72.857142857142861},{"$f":"IF(LF4<5,\"\",SUMPRODUCT(($CM$2:$CM$338=$CV2)*($CU$2:$CU$338=1)*($CT$2:$CT$338=\"V\")*($AW$2:$AW$338>3)*($AW$2:$AW$338))/$DB4)","v":76.15384615384616},{"$f":"IF(LF4<5,\"\",LI10-LJ10)","v":-4.1274509803921546},8,8,"500.1005",{"$f":"IF(LO4<5,\"\",SUMPRODUCT((($CM$2:$CM$338=$CV2)*($CU$2:$CU$338=1)*($BA$2:$BA$338>3)*($BA$2:$BA$338)/$CX4)))","v":71},{"$f":"IF(LO4<5,\"\",SUMPRODUCT(($CM$2:$CM$338=$CV2)*($CU$2:$CU$338=1)*($J$2:$J$338=\"M\")*($BA$2:$BA$338>3)*($BA$2:$BA$338))/$CY4)","v":69.545454545454547},{"$f":"IF(LO4<5,\"\",SUMPRODUCT(($CM$2:$CM$338=$CV2)*($CU$2:$CU$338=1)*($J$2:$J$338=\"F\")*($BA$2:$BA$338>3)*($BA$2:$BA$338))/$CZ4)","v":72.777777777777771},{"$f":"IF(LO4<5,\"\",SUMPRODUCT(($CM$2:$CM$338=$CV2)*($CU$2:$CU$338=1)*($CT$2:$CT$338=\"J\")*($BA$2:$BA$338>3)*($BA$2:$BA$338))/$DA4)","v":65.714285714285708},{"$f":"IF(LO4<5,\"\",SUMPRODUCT(($CM$2:$CM$338=$CV2)*($CU$2:$CU$338=1)*($CT$2:$CT$338=\"V\")*($BA$2:$BA$338>3)*($BA$2:$BA$338))/$DB4)","v":73.84615384615384},{"$f":"IF(LO4<5,\"\",LR10-LS10)","v":-2.1378136426680072},4,4,"500.1005",{"$f":"IF(LX4<5,\"\",SUMPRODUCT((($CM$2:$CM$338=$CV2)*($CU$2:$CU$338=1)*($BE$2:$BE$338>3)*($BE$2:$BE$338)/$CX4)))","v":""},{"$f":"IF(LX4<5,\"\",SUMPRODUCT(($CM$2:$CM$338=$CV2)*($CU$2:$CU$338=1)*($J$2:$J$338=\"M\")*($BE$2:$BE$338>3)*($BE$2:$BE$338))/$CY4)","v":""},{"$f":"IF(LX4<5,\"\",SUMPRODUCT(($CM$2:$CM$338=$CV2)*($CU$2:$CU$338=1)*($J$2:$J$338=\"F\")*($BE$2:$BE$338>3)*($BE$2:$BE$338))/$CZ4)","v":""},{"$f":"IF(LX4<5,\"\",SUMPRODUCT(($CM$2:$CM$338=$CV2)*($CU$2:$CU$338=1)*($CT$2:$CT$338=\"J\")*($BE$2:$BE$338>3)*($BE$2:$BE$338))/$DA4)","v":""},{"$f":"IF(LX4<5,\"\",SUMPRODUCT(($CM$2:$CM$338=$CV2)*($CU$2:$CU$338=1)*($CT$2:$CT$338=\"V\")*($BE$2:$BE$338>3)*($BE$2:$BE$338))/$DB4)","v":""},{"$f":"IF(LX4<5,\"\",MA10-MB10)","v":""},null,null,"500.1005",{"$f":"IF(MG4<5,\"\",SUMPRODUCT((($CM$2:$CM$338=$CV2)*($CU$2:$CU$338=1)*($BI$2:$BI$338>3)*($BI$2:$BI$338)/$CX4)))","v":""},{"$f":"IF(MG4<5,\"\",SUMPRODUCT(($CM$2:$CM$338=$CV2)*($CU$2:$CU$338=1)*($J$2:$J$338=\"M\")*($BI$2:$BI$338>3)*($BI$2:$BI$338))/$CY4)","v":""},{"$f":"IF(MG4<5,\"\",SUMPRODUCT(($CM$2:$CM$338=$CV2)*($CU$2:$CU$338=1)*($J$2:$J$338=\"F\")*($BI$2:$BI$338>3)*($BI$2:$BI$338))/$CZ4)","v":""},{"$f":"IF(MG4<5,\"\",SUMPRODUCT(($CM$2:$CM$338=$CV2)*($CU$2:$CU$338=1)*($CT$2:$CT$338=\"J\")*($BI$2:$BI$338>3)*($BI$2:$BI$338))/$DA4)","v":""},{"$f":"IF(MG4<5,\"\",SUMPRODUCT(($CM$2:$CM$338=$CV2)*($CU$2:$CU$338=1)*($CT$2:$CT$338=\"V\")*($BI$2:$BI$338>3)*($BI$2:$BI$338))/$DB4)","v":""},{"$f":"IF(MG4<5,\"\",MJ10-MK10)","v":""},null,null,"500.1005",{"$f":"IF(MP4<5,\"\",SUMPRODUCT((($CM$2:$CM$338=$CV2)*($CU$2:$CU$338=1)*($BM$2:$BM$338>3)*($BM$2:$BM$338)/$CX4)))","v":65.149999999999991},{"$f":"IF(MP4<5,\"\",SUMPRODUCT(($CM$2:$CM$338=$CV2)*($CU$2:$CU$338=1)*($J$2:$J$338=\"M\")*($BM$2:$BM$338>3)*($BM$2:$BM$338))/$CY4)","v":66.727272727272734},{"$f":"IF(MP4<5,\"\",SUMPRODUCT(($CM$2:$CM$338=$CV2)*($CU$2:$CU$338=1)*($J$2:$J$338=\"F\")*($BM$2:$BM$338>3)*($BM$2:$BM$338))/$CZ4)","v":63.222222222222221},{"$f":"IF(MP4<5,\"\",SUMPRODUCT(($CM$2:$CM$338=$CV2)*($CU$2:$CU$338=1)*($CT$2:$CT$338=\"J\")*($BM$2:$BM$338>3)*($BM$2:$BM$338))/$DA4)","v":69},{"$f":"IF(MP4<5,\"\",SUMPRODUCT(($CM$2:$CM$338=$CV2)*($CU$2:$CU$338=1)*($CT$2:$CT$338=\"V\")*($BM$2:$BM$338>3)*($BM$2:$BM$338))/$DB4)","v":63.07692307692308},{"$f":"IF(MP4<5,\"\",MS10-MT10)","v":-1.3121141975308461},1,1,"500.1005",{"$f":"IF(MY4<5,\"\",SUMPRODUCT((($CM$2:$CM$338=$CV2)*($CU$2:$CU$338=1)*($CC$2:$CC$338>3)*($CC$2:$CC$338)/$CX4)))","v":79.125},{"$f":"IF(MY4<5,\"\",SUMPRODUCT(($CM$2:$CM$338=$CV2)*($CU$2:$CU$338=1)*($J$2:$J$338=\"M\")*($CC$2:$CC$338>3)*($CC$2:$CC$338))/$CY4)","v":78.522727272727266},{"$f":"IF(MY4<5,\"\",SUMPRODUCT(($CM$2:$CM$338=$CV2)*($CU$2:$CU$338=1)*($J$2:$J$338=\"F\")*($CC$2:$CC$338>3)*($CC$2:$CC$338))/$CZ4)","v":79.861111111111114},{"$f":"IF(MY4<5,\"\",SUMPRODUCT(($CM$2:$CM$338=$CV2)*($CU$2:$CU$338=1)*($CT$2:$CT$338=\"J\")*($CC$2:$CC$338>3)*($CC$2:$CC$338))/$DA4)","v":79.285714285714292},{"$f":"IF(MY4<5,\"\",SUMPRODUCT(($CM$2:$CM$338=$CV2)*($CU$2:$CU$338=1)*($CT$2:$CT$338=\"V\")*($CC$2:$CC$338>3)*($CC$2:$CC$338))/$DB4)","v":79.038461538461533},{"$f":"IF(MY4<5,\"\",NB10-NC10)","v":-0.22591478265911746},8,8,"500.1005",{"$f":"IF(NH4<5,\"\",SUMPRODUCT((($CM$2:$CM$338=$CV2)*($CU$2:$CU$338=1)*($CD$2:$CD$338>3)*($CD$2:$CD$338)/$CX4)))","v":""},{"$f":"IF(NH4<5,\"\",SUMPRODUCT(($CM$2:$CM$338=$CV2)*($CU$2:$CU$338=1)*($J$2:$J$338=\"M\")*($CD$2:$CD$338>3)*($CD$2:$CD$338))/$CY4)","v":""},{"$f":"IF(NH4<5,\"\",SUMPRODUCT(($CM$2:$CM$338=$CV2)*($CU$2:$CU$338=1)*($J$2:$J$338=\"F\")*($CD$2:$CD$338>3)*($CD$2:$CD$338))/$CZ4)","v":""},{"$f":"IF(NH4<5,\"\",SUMPRODUCT(($CM$2:$CM$338=$CV2)*($CU$2:$CU$338=1)*($CT$2:$CT$338=\"J\")*($CD$2:$CD$338>3)*($CD$2:$CD$338))/$DA4)","v":""},{"$f":"IF(NH4<5,\"\",SUMPRODUCT(($CM$2:$CM$338=$CV2)*($CU$2:$CU$338=1)*($CT$2:$CT$338=\"V\")*($CD$2:$CD$338>3)*($CD$2:$CD$338))/$DB4)","v":""},{"$f":"IF(NH4<5,\"\",NK10-NL10)","v":""},null,null,"500.1005",{"$f":"IF(NQ4<5,\"\",SUMPRODUCT((($CM$2:$CM$338=$CV2)*($CU$2:$CU$338=1)*($CE$2:$CE$338>3)*($CE$2:$CE$338)/$CX4)))","v":75.416666666666671},{"$f":"IF(NQ4<5,\"\",SUMPRODUCT(($CM$2:$CM$338=$CV2)*($CU$2:$CU$338=1)*($J$2:$J$338=\"M\")*($CE$2:$CE$338>3)*($CE$2:$CE$338))/$CY4)","v":73.63636363636364},{"$f":"IF(NQ4<5,\"\",SUMPRODUCT(($CM$2:$CM$338=$CV2)*($CU$2:$CU$338=1)*($J$2:$J$338=\"F\")*($CE$2:$CE$338>3)*($CE$2:$CE$338))/$CZ4)","v":77.592592592592595},{"$f":"IF(NQ4<5,\"\",SUMPRODUCT(($CM$2:$CM$338=$CV2)*($CU$2:$CU$338=1)*($CT$2:$CT$338=\"J\")*($CE$2:$CE$338>3)*($CE$2:$CE$338))/$DA4)","v":73.333333333333329},{"$f":"IF(NQ4<5,\"\",SUMPRODUCT(($CM$2:$CM$338=$CV2)*($CU$2:$CU$338=1)*($CT$2:$CT$338=\"V\")*($CE$2:$CE$338>3)*($CE$2:$CE$338))/$DB4)","v":76.538461538461533},{"$f":"IF(NQ4<5,\"\",NT10-NU10)","v":{"$error":"#DIV/0!"}},8,8,"500.1005",{"$f":"IF(NZ4<5,\"\",SUMPRODUCT((($CM$2:$CM$338=$CV2)*($CU$2:$CU$338=1)*($CF$2:$CF$338>3)*($CF$2:$CF$338)/$CX4)))","v":77.3125},{"$f":"IF(NZ4<5,\"\",SUMPRODUCT(($CM$2:$CM$338=$CV2)*($CU$2:$CU$338=1)*($J$2:$J$338=\"M\")*($CF$2:$CF$338>3)*($CF$2:$CF$338))/$CY4)","v":76.13636363636364},{"$f":"IF(NZ4<5,\"\",SUMPRODUCT(($CM$2:$CM$338=$CV2)*($CU$2:$CU$338=1)*($J$2:$J$338=\"F\")*($CF$2:$CF$338>3)*($CF$2:$CF$338))/$CZ4)","v":78.75},{"$f":"IF(NZ4<5,\"\",SUMPRODUCT(($CM$2:$CM$338=$CV2)*($CU$2:$CU$338=1)*($CT$2:$CT$338=\"J\")*($CF$2:$CF$338>3)*($CF$2:$CF$338))/$DA4)","v":74.107142857142861},{"$f":"IF(NZ4<5,\"\",SUMPRODUCT(($CM$2:$CM$338=$CV2)*($CU$2:$CU$338=1)*($CT$2:$CT$338=\"V\")*($CF$2:$CF$338>3)*($CF$2:$CF$338))/$DB4)","v":79.038461538461533},{"$f":"IF(NZ4<5,\"\",OC10-OD10)","v":-1.4494324045408149},8,8,"500.1005",{"$f":"IF(OI4<5,\"\",SUMPRODUCT((($CM$2:$CM$338=$CV2)*($CU$2:$CU$338=1)*($CG$2:$CG$338>3)*($CG$2:$CG$338)/$CX4)))","v":73.625},{"$f":"IF(OI4<5,\"\",SUMPRODUCT(($CM$2:$CM$338=$CV2)*($CU$2:$CU$338=1)*($J$2:$J$338=\"M\")*($CG$2:$CG$338>3)*($CG$2:$CG$338))/$CY4)","v":72.5},{"$f":"IF(OI4<5,\"\",SUMPRODUCT(($CM$2:$CM$338=$CV2)*($CU$2:$CU$338=1)*($J$2:$J$338=\"F\")*($CG$2:$CG$338>3)*($CG$2:$CG$338))/$CZ4)","v":75},{"$f":"IF(OI4<5,\"\",SUMPRODUCT(($CM$2:$CM$338=$CV2)*($CU$2:$CU$338=1)*($CT$2:$CT$338=\"J\")*($CG$2:$CG$338>3)*($CG$2:$CG$338))/$DA4)","v":69.642857142857139},{"$f":"IF(OI4<5,\"\",SUMPRODUCT(($CM$2:$CM$338=$CV2)*($CU$2:$CU$338=1)*($CT$2:$CT$338=\"V\")*($CG$2:$CG$338>3)*($CG$2:$CG$338))/$DB4)","v":75.769230769230774},{"$f":"IF(OI4<5,\"\",OL10-OM10)","v":0.11631572311182481},3,6,"500.1005",{"$f":"IF(OR4<5,\"\",SUMPRODUCT((($CM$2:$CM$338=$CV2)*($CU$2:$CU$338=1)*($CH$2:$CH$338>3)*($CH$2:$CH$338)/$CX4)))","v":""},{"$f":"IF(OR4<5,\"\",SUMPRODUCT(($CM$2:$CM$338=$CV2)*($CU$2:$CU$338=1)*($J$2:$J$338=\"M\")*($CH$2:$CH$338>3)*($CH$2:$CH$338))/$CY4)","v":""},{"$f":"IF(OR4<5,\"\",SUMPRODUCT(($CM$2:$CM$338=$CV2)*($CU$2:$CU$338=1)*($J$2:$J$338=\"F\")*($CH$2:$CH$338>3)*($CH$2:$CH$338))/$CZ4)","v":""},{"$f":"IF(OR4<5,\"\",SUMPRODUCT(($CM$2:$CM$338=$CV2)*($CU$2:$CU$338=1)*($CT$2:$CT$338=\"J\")*($CH$2:$CH$338>3)*($CH$2:$CH$338))/$DA4)","v":""},{"$f":"IF(OR4<5,\"\",SUMPRODUCT(($CM$2:$CM$338=$CV2)*($CU$2:$CU$338=1)*($CT$2:$CT$338=\"V\")*($CH$2:$CH$338>3)*($CH$2:$CH$338))/$DB4)","v":""},{"$f":"IF(OR4<5,\"\",OU10-OV10)","v":""},null,null,"500.1005",{"$f":"IF(PA4<5,\"\",SUMPRODUCT((($CM$2:$CM$338=$CV2)*($CU$2:$CU$338=1)*($CI$2:$CI$338>3)*($CI$2:$CI$338)/$CX4)))","v":74.349999999999994},{"$f":"IF(PA4<5,\"\",SUMPRODUCT(($CM$2:$CM$338=$CV2)*($CU$2:$CU$338=1)*($J$2:$J$338=\"M\")*($CI$2:$CI$338>3)*($CI$2:$CI$338))/$CY4)","v":70.86363636363636},{"$f":"IF(PA4<5,\"\",SUMPRODUCT(($CM$2:$CM$338=$CV2)*($CU$2:$CU$338=1)*($J$2:$J$338=\"F\")*($CI$2:$CI$338>3)*($CI$2:$CI$338))/$CZ4)","v":78.611111111111114},{"$f":"IF(PA4<5,\"\",SUMPRODUCT(($CM$2:$CM$338=$CV2)*($CU$2:$CU$338=1)*($CT$2:$CT$338=\"J\")*($CI$2:$CI$338>3)*($CI$2:$CI$338))/$DA4)","v":70.142857142857139},{"$f":"IF(PA4<5,\"\",SUMPRODUCT(($CM$2:$CM$338=$CV2)*($CU$2:$CU$338=1)*($CT$2:$CT$338=\"V\")*($CI$2:$CI$338>3)*($CI$2:$CI$338))/$DB4)","v":76.615384615384613},{"$f":"IF(PA4<5,\"\",PD10-PE10)","v":0.29018239269267099},2,2]
["2010","001","501",null,null,0,"1999-06-01",null,null,"M",0,0,0,0,0,0,0,0,0,0,0,0,0,0,0,0,0,0,0,0,0,0,0,80,0,0,0,80,0,0,0,0,70,75,0,90,80,80,75,80,80,75,80,85,0,0,0,0,76,64,0,79,80,85,95,80,75,75,80,90,76,75,99,93,null,0,0,0,0,0,0,0,78.333333333333329,78.75,80,0,78.5,null,null,null,"001501","0.100","50",{"$f":"Tableau_SSRSMSA03_BI_Integration_STEPH_2010[[#This Row],[DAT_NAISSANCE_ELEVE]]","v":"1999-06-01"},"2009-09-30",3774,10.33264887063655,{"$f":"IF(AND(LEFT(CO8,1)=\"1\",CS8>5.5),\"V\",IF(AND(LEFT(CO8,1)=\"2\",CS8>6.5),\"V\",IF(AND(LEFT(CO8,1)=\"3\",CS8>7.5),\"V\",IF(AND(LEFT(CO8,1)=\"4\",CS8>8.5),\"V\",IF(AND(LEFT(CO8,1)=\"5\",CS8>9.5),\"V\",IF(AND(LEFT(CO8,1)=\"6\",CS8>10.5),\"V\",\"J\"))))))","v":"V"},{"$f":"IF(AJ8=0,0,IF(BH8=0,0,1))","v":0},{"$f":"DC11&DC12&6","v":"500.1006"},{"$f":"\"ecar \"&$CX4","v":"ecar 20"},{"$f":"IF(CX4<5,\"\",STDEV(IF(($CM$2:$CM$338=$CV2)*($CU$2:$CU$338=1)*($AJ$2:$AJ$338>3),($AJ$2:$AJ$338))))","v":7.4339194167502809},{"$f":"IF(CX4<5,\"\",STDEV(IF(($CM$2:$CM$338=$CV2)*($CU$2:$CU$338=1)*($J$2:$J$338=\"M\")*($AJ$2:$AJ$338>3),($AJ$2:$AJ$338))))","v":8.1742389136959925},{"$f":"IF(CX4<5,\"\",STDEV(IF(($CM$2:$CM$338=$CV2)*($CU$2:$CU$338=1)*($J$2:$J$338=\"F\")*($AJ$2:$AJ$338>3),($AJ$2:$AJ$338))))","v":5.65194165260439},{"$f":"IF(CX4<5,\"\",STDEV(IF(($CM$2:$CM$338=$CV2)*($CU$2:$CU$338=1)*($CT$2:$CT$338=\"J\")*($AJ$2:$AJ$338>3),($AJ$2:$AJ$338))))","v":8.8640526042791929},{"$f":"IF(CX4<5,\"\",STDEV(IF(($CM$2:$CM$338=$CV2)*($CU$2:$CU$338=1)*($CT$2:$CT$338=\"V\")*($AJ$2:$AJ$338>3),($AJ$2:$AJ$338))))","v":6.9106012948520084},{"$f":"IF(CX4<5,\"\",DA12-DB12)","v":0.72230014025244316},8,8,"500.1006",{"$f":"IF(DG4<5,\"\",STDEV(IF(($CM$2:$CM$338=$CV2)*($CU$2:$CU$338=1)*($AN$2:$AN$338>3),($AN$2:$AN$338))))","v":""},{"$f":"IF(DG4<5,\"\",STDEV(IF(($CM$2:$CM$338=$CV2)*($CU$2:$CU$338=1)*($J$2:$J$338=\"M\")*($AN$2:$AN$338>3),($AN$2:$AN$338))))","v":""},{"$f":"IF(DG4<5,\"\",STDEV(IF(($CM$2:$CM$338=$CV2)*($CU$2:$CU$338=1)*($J$2:$J$338=\"F\")*($AN$2:$AN$338>3),($AN$2:$AN$338))))","v":""},{"$f":"IF(DG4<5,\"\",STDEV(IF(($CM$2:$CM$338=$CV2)*($CU$2:$CU$338=1)*($CT$2:$CT$338=\"J\")*($AN$2:$AN$338>3),($AN$2:$AN$338))))","v":""},{"$f":"IF(DG4<5,\"\",STDEV(IF(($CM$2:$CM$338=$CV2)*($CU$2:$CU$338=1)*($CT$2:$CT$338=\"V\")*($AN$2:$AN$338>3),($AN$2:$AN$338))))","v":""},{"$f":"IF(DG4<5,\"\",DJ12-DK12)","v":""},null,null,"500.1006",{"$f":"IF(DP4<5,\"\",STDEV(IF(($CM$2:$CM$338=$CV2)*($CU$2:$CU$338=1)*($AR$2:$AR$338>3),($AR$2:$AR$338))))","v":10.772772696894117},{"$f":"IF(DP4<5,\"\",STDEV(IF(($CM$2:$CM$338=$CV2)*($CU$2:$CU$338=1)*($J$2:$J$338=\"M\")*($AR$2:$AR$338>3),($AR$2:$AR$338))))","v":10.202495238465383},{"$f":"IF(DP4<5,\"\",STDEV(IF(($CM$2:$CM$338=$CV2)*($CU$2:$CU$338=1)*($J$2:$J$338=\"F\")*($AR$2:$AR$338>3),($AR$2:$AR$338))))","v":11.180339887498949},{"$f":"IF(DP4<5,\"\",STDEV(IF(($CM$2:$CM$338=$CV2)*($CU$2:$CU$338=1)*($CT$2:$CT$338=\"J\")*($AR$2:$AR$338>3),($AR$2:$AR$338))))","v":9.3222723573580542},{"$f":"IF(DP4<5,\"\",STDEV(IF(($CM$2:$CM$338=$CV2)*($CU$2:$CU$338=1)*($CT$2:$CT$338=\"V\")*($AR$2:$AR$338>3),($AR$2:$AR$338))))","v":11.547005383792516},{"$f":"IF(DP4<5,\"\",DS12-DT12)","v":-0.11724856696196184},2,2,"500.1006",{"$f":"IF(DY4<5,\"\",STDEV(IF(($CM$2:$CM$338=$CV2)*($CU$2:$CU$338=1)*($AV$2:$AV$338>3),($AV$2:$AV$338))))","v":10.243740065343117},{"$f":"IF(DY4<5,\"\",STDEV(IF(($CM$2:$CM$338=$CV2)*($CU$2:$CU$338=1)*($J$2:$J$338=\"M\")*($AV$2:$AV$338>3),($AV$2:$AV$338))))","v":9.55843273573843},{"$f":"IF(DY4<5,\"\",STDEV(IF(($CM$2:$CM$338=$CV2)*($CU$2:$CU$338=1)*($J$2:$J$338=\"F\")*($AV$2:$AV$338>3),($AV$2:$AV$338))))","v":11.118053386771955},{"$f":"IF(DY4<5,\"\",STDEV(IF(($CM$2:$CM$338=$CV2)*($CU$2:$CU$338=1)*($CT$2:$CT$338=\"J\")*($AV$2:$AV$338>3),($AV$2:$AV$338))))","v":9.1287092917527684},{"$f":"IF(DY4<5,\"\",STDEV(IF(($CM$2:$CM$338=$CV2)*($CU$2:$CU$338=1)*($CT$2:$CT$338=\"V\")*($AV$2:$AV$338>3),($AV$2:$AV$338))))","v":10.576340310285689},{"$f":"IF(DY4<5,\"\",EB12-EC12)","v":-0.5443756449948296},2,2,"500.1006",{"$f":"IF(EH4<5,\"\",STDEV(IF(($CM$2:$CM$338=$CV2)*($CU$2:$CU$338=1)*($AZ$2:$AZ$338>3),($AZ$2:$AZ$338))))","v":12.16930997481607},{"$f":"IF(EH4<5,\"\",STDEV(IF(($CM$2:$CM$338=$CV2)*($CU$2:$CU$338=1)*($J$2:$J$338=\"M\")*($AZ$2:$AZ$338>3),($AZ$2:$AZ$338))))","v":13.433337093013991},{"$f":"IF(EH4<5,\"\",STDEV(IF(($CM$2:$CM$338=$CV2)*($CU$2:$CU$338=1)*($J$2:$J$338=\"F\")*($AZ$2:$AZ$338>3),($AZ$2:$AZ$338))))","v":11.211353372561421},{"$f":"IF(EH4<5,\"\",STDEV(IF(($CM$2:$CM$338=$CV2)*($CU$2:$CU$338=1)*($CT$2:$CT$338=\"J\")*($AZ$2:$AZ$338>3),($AZ$2:$AZ$338))))","v":15.391710817994277},{"$f":"IF(EH4<5,\"\",STDEV(IF(($CM$2:$CM$338=$CV2)*($CU$2:$CU$338=1)*($CT$2:$CT$338=\"V\")*($AZ$2:$AZ$338>3),($AZ$2:$AZ$338))))","v":10.515556241917171},{"$f":"IF(EH4<5,\"\",EK12-EL12)","v":0.71806833942756043},2,2,"500.1006",{"$f":"IF(EQ4<5,\"\",STDEV(IF(($CM$2:$CM$338=$CV2)*($CU$2:$CU$338=1)*($BD$2:$BD$338>3),($BD$2:$BD$338))))","v":""},{"$f":"IF(EQ4<5,\"\",STDEV(IF(($CM$2:$CM$338=$CV2)*($CU$2:$CU$338=1)*($J$2:$J$338=\"M\")*($BD$2:$BD$338>3),($BD$2:$BD$338))))","v":""},{"$f":"IF(EQ4<5,\"\",STDEV(IF(($CM$2:$CM$338=$CV2)*($CU$2:$CU$338=1)*($J$2:$J$338=\"F\")*($BD$2:$BD$338>3),($BD$2:$BD$338))))","v":""},{"$f":"IF(EQ4<5,\"\",STDEV(IF(($CM$2:$CM$338=$CV2)*($CU$2:$CU$338=1)*($CT$2:$CT$338=\"J\")*($BD$2:$BD$338>3),($BD$2:$BD$338))))","v":""},{"$f":"IF(EQ4<5,\"\",STDEV(IF(($CM$2:$CM$338=$CV2)*($CU$2:$CU$338=1)*($CT$2:$CT$338=\"V\")*($BD$2:$BD$338>3),($BD$2:$BD$338))))","v":""},{"$f":"IF(EQ4<5,\"\",ET12-EU12)","v":""},null,null,"500.1006",{"$f":"IF(EZ4<5,\"\",STDEV(IF(($CM$2:$CM$338=$CV2)*($CU$2:$CU$338=1)*($BH$2:$BH$338>3),($BH$2:$BH$338))))","v":10.725645606871902},{"$f":"IF(EZ4<5,\"\",STDEV(IF(($CM$2:$CM$338=$CV2)*($CU$2:$CU$338=1)*($J$2:$J$338=\"M\")*($BH$2:$BH$338>3),($BH$2:$BH$338))))","v":12.041594578792296},{"$f":"IF(EZ4<5,\"\",STDEV(IF(($CM$2:$CM$338=$CV2)*($CU$2:$CU$338=1)*($J$2:$J$338=\"F\")*($BH$2:$BH$338>3),($BH$2:$BH$338))))","v":8.7464278422679502},{"$f":"IF(EZ4<5,\"\",STDEV(IF(($CM$2:$CM$338=$CV2)*($CU$2:$CU$338=1)*($CT$2:$CT$338=\"J\")*($BH$2:$BH$338>3),($BH$2:$BH$338))))","v":11.659861961120313},{"$f":"IF(EZ4<5,\"\",STDEV(IF(($CM$2:$CM$338=$CV2)*($CU$2:$CU$338=1)*($CT$2:$CT$338=\"V\")*($BH$2:$BH$338>3),($BH$2:$BH$338))))","v":10.544776322535595},{"$f":"IF(EZ4<5,\"\",FC12-FD12)","v":1.1557243624525313},3,6,"500.1006",{"$f":"IF(FI4<5,\"\",STDEV(IF(($CM$2:$CM$338=$CV2)*($CU$2:$CU$338=1)*($AI$2:$AI$338>3),($AI$2:$AI$338))))","v":8.5647687159604455},{"$f":"IF(FI4<5,\"\",STDEV(IF(($CM$2:$CM$338=$CV2)*($CU$2:$CU$338=1)*($J$2:$J$338=\"M\")*($AI$2:$AI$338>3),($AI$2:$AI$338))))","v":7.8624539310689636},{"$f":"IF(FI4<5,\"\",STDEV(IF(($CM$2:$CM$338=$CV2)*($CU$2:$CU$338=1)*($J$2:$J$338=\"F\")*($AI$2:$AI$338>3),($AI$2:$AI$338))))","v":9.5014618758261289},{"$f":"IF(FI4<5,\"\",STDEV(IF(($CM$2:$CM$338=$CV2)*($CU$2:$CU$338=1)*($CT$2:$CT$338=\"J\")*($AI$2:$AI$338>3),($AI$2:$AI$338))))","v":10.293317295817731},{"$f":"IF(FI4<5,\"\",STDEV(IF(($CM$2:$CM$338=$CV2)*($CU$2:$CU$338=1)*($CT$2:$CT$338=\"V\")*($AI$2:$AI$338>3),($AI$2:$AI$338))))","v":7.6376261582597333},{"$f":"IF(FI4<5,\"\",FL12-FM12)","v":-1.5217391304347814},8,8,"500.1006",{"$f":"IF(FR4<5,\"\",STDEV(IF(($CM$2:$CM$338=$CV2)*($CU$2:$CU$338=1)*($AM$2:$AM$338>3),($AM$2:$AM$338))))","v":""},{"$f":"IF(FR4<5,\"\",STDEV(IF(($CM$2:$CM$338=$CV2)*($CU$2:$CU$338=1)*($J$2:$J$338=\"M\")*($AM$2:$AM$338>3),($AM$2:$AM$338))))","v":""},{"$f":"IF(FR4<5,\"\",STDEV(IF(($CM$2:$CM$338=$CV2)*($CU$2:$CU$338=1)*($J$2:$J$338=\"F\")*($AM$2:$AM$338>3),($AM$2:$AM$338))))","v":""},{"$f":"IF(FR4<5,\"\",STDEV(IF(($CM$2:$CM$338=$CV2)*($CU$2:$CU$338=1)*($CT$2:$CT$338=\"J\")*($AM$2:$AM$338>3),($AM$2:$AM$338))))","v":""},{"$f":"IF(FR4<5,\"\",STDEV(IF(($CM$2:$CM$338=$CV2)*($CU$2:$CU$338=1)*($CT$2:$CT$338=\"V\")*($AM$2:$AM$338>3),($AM$2:$AM$338))))","v":""},{"$f":"IF(FR4<5,\"\",FU12-FV12)","v":""},null,null,"500.1006",{"$f":"IF(GA4<5,\"\",STDEV(IF(($CM$2:$CM$338=$CV2)*($CU$2:$CU$338=1)*($AQ$2:$AQ$338>3),($AQ$2:$AQ$338))))","v":9.0175267936216414},{"$f":"IF(GA4<5,\"\",STDEV(IF(($CM$2:$CM$338=$CV2)*($CU$2:$CU$338=1)*($J$2:$J$338=\"M\")*($AQ$2:$AQ$338>3),($AQ$2:$AQ$338))))","v":9.8396230526469672},{"$f":"IF(GA4<5,\"\",STDEV(IF(($CM$2:$CM$338=$CV2)*($CU$2:$CU$338=1)*($J$2:$J$338=\"F\")*($AQ$2:$AQ$338>3),($AQ$2:$AQ$338))))","v":6.9721668877839633},{"$f":"IF(GA4<5,\"\",STDEV(IF(($CM$2:$CM$338=$CV2)*($CU$2:$CU$338=1)*($CT$2:$CT$338=\"J\")*($AQ$2:$AQ$338>3),($AQ$2:$AQ$338))))","v":11.126972805283724},{"$f":"IF(GA4<5,\"\",STDEV(IF(($CM$2:$CM$338=$CV2)*($CU$2:$CU$338=1)*($CT$2:$CT$338=\"V\")*($AQ$2:$AQ$338>3),($AQ$2:$AQ$338))))","v":7.7831178249415682},{"$f":"IF(GA4<5,\"\",GD12-GE12)","v":2.2381448671182795},2,3,"500.1006",{"$f":"IF(GJ4<5,\"\",STDEV(IF(($CM$2:$CM$338=$CV2)*($CU$2:$CU$338=1)*($AU$2:$AU$338>3),($AU$2:$AU$338))))","v":11.527997954636584},{"$f":"IF(GJ4<5,\"\",STDEV(IF(($CM$2:$CM$338=$CV2)*($CU$2:$CU$338=1)*($J$2:$J$338=\"M\")*($AU$2:$AU$338>3),($AU$2:$AU$338))))","v":12.003787281142099},{"$f":"IF(GJ4<5,\"\",STDEV(IF(($CM$2:$CM$338=$CV2)*($CU$2:$CU$338=1)*($J$2:$J$338=\"F\")*($AU$2:$AU$338>3),($AU$2:$AU$338))))","v":10},{"$f":"IF(GJ4<5,\"\",STDEV(IF(($CM$2:$CM$338=$CV2)*($CU$2:$CU$338=1)*($CT$2:$CT$338=\"J\")*($AU$2:$AU$338>3),($AU$2:$AU$338))))","v":14.057704208690945},{"$f":"IF(GJ4<5,\"\",STDEV(IF(($CM$2:$CM$338=$CV2)*($CU$2:$CU$338=1)*($CT$2:$CT$338=\"V\")*($AU$2:$AU$338>3),($AU$2:$AU$338))))","v":9.8871841419288913},{"$f":"IF(GJ4<5,\"\",GM12-GN12)","v":0.21826625386997023},2,2,"500.1006",{"$f":"IF(GS4<5,\"\",STDEV(IF(($CM$2:$CM$338=$CV2)*($CU$2:$CU$338=1)*($AY$2:$AY$338>3),($AY$2:$AY$338))))","v":11.652874052533585},{"$f":"IF(GS4<5,\"\",STDEV(IF(($CM$2:$CM$338=$CV2)*($CU$2:$CU$338=1)*($J$2:$J$338=\"M\")*($AY$2:$AY$338>3),($AY$2:$AY$338))))","v":12.098083995560456},{"$f":"IF(GS4<5,\"\",STDEV(IF(($CM$2:$CM$338=$CV2)*($CU$2:$CU$338=1)*($J$2:$J$338=\"F\")*($AY$2:$AY$338>3),($AY$2:$AY$338))))","v":10.736748938937586},{"$f":"IF(GS4<5,\"\",STDEV(IF(($CM$2:$CM$338=$CV2)*($CU$2:$CU$338=1)*($CT$2:$CT$338=\"J\")*($AY$2:$AY$338>3),($AY$2:$AY$338))))","v":11.852265204432054},{"$f":"IF(GS4<5,\"\",STDEV(IF(($CM$2:$CM$338=$CV2)*($CU$2:$CU$338=1)*($CT$2:$CT$338=\"V\")*($AY$2:$AY$338>3),($AY$2:$AY$338))))","v":11.463431266870163},{"$f":"IF(GS4<5,\"\",GV12-GW12)","v":0.77922077922077904},2,2,"500.1006",{"$f":"IF(HB4<5,\"\",STDEV(IF(($CM$2:$CM$338=$CV2)*($CU$2:$CU$338=1)*($BC$2:$BC$338>3),($BC$2:$BC$338))))","v":""},{"$f":"IF(HB4<5,\"\",STDEV(IF(($CM$2:$CM$338=$CV2)*($CU$2:$CU$338=1)*($J$2:$J$338=\"M\")*($BC$2:$BC$338>3),($BC$2:$BC$338))))","v":""},{"$f":"IF(HB4<5,\"\",STDEV(IF(($CM$2:$CM$338=$CV2)*($CU$2:$CU$338=1)*($J$2:$J$338=\"F\")*($BC$2:$BC$338>3),($BC$2:$BC$338))))","v":""},{"$f":"IF(HB4<5,\"\",STDEV(IF(($CM$2:$CM$338=$CV2)*($CU$2:$CU$338=1)*($CT$2:$CT$338=\"J\")*($BC$2:$BC$338>3),($BC$2:$BC$338))))","v":""},{"$f":"IF(HB4<5,\"\",STDEV(IF(($CM$2:$CM$338=$CV2)*($CU$2:$CU$338=1)*($CT$2:$CT$338=\"V\")*($BC$2:$BC$338>3),($BC$2:$BC$338))))","v":""},{"$f":"IF(HB4<5,\"\",HE12-HF12)","v":""},null,null,"500.1006",{"$f":"IF(HK4<5,\"\",STDEV(IF(($CM$2:$CM$338=$CV2)*($CU$2:$CU$338=1)*($BG$2:$BG$338>3),($BG$2:$BG$338))))","v":12.709300365853098},{"$f":"IF(HK4<5,\"\",STDEV(IF(($CM$2:$CM$338=$CV2)*($CU$2:$CU$338=1)*($J$2:$J$338=\"M\")*($BG$2:$BG$338>3),($BG$2:$BG$338))))","v":14.355866713330437},{"$f":"IF(HK4<5,\"\",STDEV(IF(($CM$2:$CM$338=$CV2)*($CU$2:$CU$338=1)*($J$2:$J$338=\"F\")*($BG$2:$BG$338>3),($BG$2:$BG$338))))","v":10.40566085252529},{"$f":"IF(HK4<5,\"\",STDEV(IF(($CM$2:$CM$338=$CV2)*($CU$2:$CU$338=1)*($CT$2:$CT$338=\"J\")*($BG$2:$BG$338>3),($BG$2:$BG$338))))","v":15.723806639554413},{"$f":"IF(HK4<5,\"\",STDEV(IF(($CM$2:$CM$338=$CV2)*($CU$2:$CU$338=1)*($CT$2:$CT$338=\"V\")*($BG$2:$BG$338>3),($BG$2:$BG$338))))","v":10.779253577697638},{"$f":"IF(HK4<5,\"\",HN12-HO12)","v":1.9102007596310386},2,2,"500.1006",{"$f":"IF(HT4<5,\"\",STDEV(IF(($CM$2:$CM$338=$CV2)*($CU$2:$CU$338=1)*($AL$2:$AL$338>3),($AL$2:$AL$338))))","v":7.4824355730780043},{"$f":"IF(HT4<5,\"\",STDEV(IF(($CM$2:$CM$338=$CV2)*($CU$2:$CU$338=1)*($J$2:$J$338=\"M\")*($AL$2:$AL$338>3),($AL$2:$AL$338))))","v":6.7419986246324211},{"$f":"IF(HT4<5,\"\",STDEV(IF(($CM$2:$CM$338=$CV2)*($CU$2:$CU$338=1)*($J$2:$J$338=\"F\")*($AL$2:$AL$338>3),($AL$2:$AL$338))))","v":8.6602540378443873},{"$f":"IF(HT4<5,\"\",STDEV(IF(($CM$2:$CM$338=$CV2)*($CU$2:$CU$338=1)*($CT$2:$CT$338=\"J\")*($AL$2:$AL$338>3),($AL$2:$AL$338))))","v":6.7259270913454925},{"$f":"IF(HT4<5,\"\",STDEV(IF(($CM$2:$CM$338=$CV2)*($CU$2:$CU$338=1)*($CT$2:$CT$338=\"V\")*($AL$2:$AL$338>3),($AL$2:$AL$338))))","v":8.0064076902543562},{"$f":"IF(HT4<5,\"\",HW12-HX12)","v":0.28708420737189044},3,2,"500.1006",{"$f":"IF(IC4<5,\"\",STDEV(IF(($CM$2:$CM$338=$CV2)*($CU$2:$CU$338=1)*($AP$2:$AP$338>3),($AP$2:$AP$338))))","v":""},{"$f":"IF(IC4<5,\"\",STDEV(IF(($CM$2:$CM$338=$CV2)*($CU$2:$CU$338=1)*($J$2:$J$338=\"M\")*($AP$2:$AP$338>3),($AP$2:$AP$338))))","v":""},{"$f":"IF(IC4<5,\"\",STDEV(IF(($CM$2:$CM$338=$CV2)*($CU$2:$CU$338=1)*($J$2:$J$338=\"F\")*($AP$2:$AP$338>3),($AP$2:$AP$338))))","v":""},{"$f":"IF(IC4<5,\"\",STDEV(IF(($CM$2:$CM$338=$CV2)*($CU$2:$CU$338=1)*($CT$2:$CT$338=\"J\")*($AP$2:$AP$338>3),($AP$2:$AP$338))))","v":""},{"$f":"IF(IC4<5,\"\",STDEV(IF(($CM$2:$CM$338=$CV2)*($CU$2:$CU$338=1)*($CT$2:$CT$338=\"V\")*($AP$2:$AP$338>3),($AP$2:$AP$338))))","v":""},{"$f":"IF(IC4<5,\"\",IF12-IG12)","v":""},null,null,"500.1006",{"$f":"IF(IL4<5,\"\",STDEV(IF(($CM$2:$CM$338=$CV2)*($CU$2:$CU$338=1)*($AT$2:$AT$338>3),($AT$2:$AT$338))))","v":12.615258096531567},{"$f":"IF(IL4<5,\"\",STDEV(IF(($CM$2:$CM$338=$CV2)*($CU$2:$CU$338=1)*($J$2:$J$338=\"M\")*($AT$2:$AT$338>3),($AT$2:$AT$338))))","v":12.116855277595022},{"$f":"IF(IL4<5,\"\",STDEV(IF(($CM$2:$CM$338=$CV2)*($CU$2:$CU$338=1)*($J$2:$J$338=\"F\")*($AT$2:$AT$338>3),($AT$2:$AT$338))))","v":13.944333775567921},{"$f":"IF(IL4<5,\"\",STDEV(IF(($CM$2:$CM$338=$CV2)*($CU$2:$CU$338=1)*($CT$2:$CT$338=\"J\")*($AT$2:$AT$338>3),($AT$2:$AT$338))))","v":10.690449676496952},{"$f":"IF(IL4<5,\"\",STDEV(IF(($CM$2:$CM$338=$CV2)*($CU$2:$CU$338=1)*($CT$2:$CT$338=\"V\")*($AT$2:$AT$338>3),($AT$2:$AT$338))))","v":13.936669947687271},{"$f":"IF(IL4<5,\"\",IO12-IP12)","v":0.23058884835852211},1,1,"500.1006",{"$f":"IF(IU4<5,\"\",STDEV(IF(($CM$2:$CM$338=$CV2)*($CU$2:$CU$338=1)*($AX$2:$AX$338>3),($AX$2:$AX$338))))","v":13.317973609098029},{"$f":"IF(IU4<5,\"\",STDEV(IF(($CM$2:$CM$338=$CV2)*($CU$2:$CU$338=1)*($J$2:$J$338=\"M\")*($AX$2:$AX$338>3),($AX$2:$AX$338))))","v":14.158197111728088},{"$f":"IF(IU4<5,\"\",STDEV(IF(($CM$2:$CM$338=$CV2)*($CU$2:$CU$338=1)*($J$2:$J$338=\"F\")*($AX$2:$AX$338>3),($AX$2:$AX$338))))","v":13.017082793177753},{"$f":"IF(IU4<5,\"\",STDEV(IF(($CM$2:$CM$338=$CV2)*($CU$2:$CU$338=1)*($CT$2:$CT$338=\"J\")*($AX$2:$AX$338>3),($AX$2:$AX$338))))","v":16.832508230603462},{"$f":"IF(IU4<5,\"\",STDEV(IF(($CM$2:$CM$338=$CV2)*($CU$2:$CU$338=1)*($CT$2:$CT$338=\"V\")*($AX$2:$AX$338>3),($AX$2:$AX$338))))","v":11.449442937966175},{"$f":"IF(IU4<5,\"\",IX12-IY12)","v":-1.3441692466460324},2,2,"500.1006",{"$f":"IF(JD4<5,\"\",STDEV(IF(($CM$2:$CM$338=$CV2)*($CU$2:$CU$338=1)*($BB$2:$BB$338>3),($BB$2:$BB$338))))","v":12.060701733970104},{"$f":"IF(JD4<5,\"\",STDEV(IF(($CM$2:$CM$338=$CV2)*($CU$2:$CU$338=1)*($J$2:$J$338=\"M\")*($BB$2:$BB$338>3),($BB$2:$BB$338))))","v":12.613124477737815},{"$f":"IF(JD4<5,\"\",STDEV(IF(($CM$2:$CM$338=$CV2)*($CU$2:$CU$338=1)*($J$2:$J$338=\"F\")*($BB$2:$BB$338>3),($BB$2:$BB$338))))","v":12.104865871944941},{"$f":"IF(JD4<5,\"\",STDEV(IF(($CM$2:$CM$338=$CV2)*($CU$2:$CU$338=1)*($CT$2:$CT$338=\"J\")*($BB$2:$BB$338>3),($BB$2:$BB$338))))","v":14.920423841803144},{"$f":"IF(JD4<5,\"\",STDEV(IF(($CM$2:$CM$338=$CV2)*($CU$2:$CU$338=1)*($CT$2:$CT$338=\"V\")*($BB$2:$BB$338>3),($BB$2:$BB$338))))","v":10.111557236330606},{"$f":"IF(JD4<5,\"\",JG12-JH12)","v":1.1057874164670238},1,2,"500.1006",{"$f":"IF(JM4<5,\"\",STDEV(IF(($CM$2:$CM$338=$CV2)*($CU$2:$CU$338=1)*($BF$2:$BF$338>3),($BF$2:$BF$338))))","v":""},{"$f":"IF(JM4<5,\"\",STDEV(IF(($CM$2:$CM$338=$CV2)*($CU$2:$CU$338=1)*($J$2:$J$338=\"M\")*($BF$2:$BF$338>3),($BF$2:$BF$338))))","v":""},{"$f":"IF(JM4<5,\"\",STDEV(IF(($CM$2:$CM$338=$CV2)*($CU$2:$CU$338=1)*($J$2:$J$338=\"F\")*($BF$2:$BF$338>3),($BF$2:$BF$338))))","v":""},{"$f":"IF(JM4<5,\"\",STDEV(IF(($CM$2:$CM$338=$CV2)*($CU$2:$CU$338=1)*($CT$2:$CT$338=\"J\")*($BF$2:$BF$338>3),($BF$2:$BF$338))))","v":""},{"$f":"IF(JM4<5,\"\",STDEV(IF(($CM$2:$CM$338=$CV2)*($CU$2:$CU$338=1)*($CT$2:$CT$338=\"V\")*($BF$2:$BF$338>3),($BF$2:$BF$338))))","v":""},{"$f":"IF(JM4<5,\"\",JP12-JQ12)","v":""},null,null,"500.1006",{"$f":"IF(JV4<5,\"\",STDEV(IF(($CM$2:$CM$338=$CV2)*($CU$2:$CU$338=1)*($BJ$2:$BJ$338>3),($BJ$2:$BJ$338))))","v":15.053850705139585},{"$f":"IF(JV4<5,\"\",STDEV(IF(($CM$2:$CM$338=$CV2)*($CU$2:$CU$338=1)*($J$2:$J$338=\"M\")*($BJ$2:$BJ$338>3),($BJ$2:$BJ$338))))","v":15.756095501568451},{"$f":"IF(JV4<5,\"\",STDEV(IF(($CM$2:$CM$338=$CV2)*($CU$2:$CU$338=1)*($J$2:$J$338=\"F\")*($BJ$2:$BJ$338>3),($BJ$2:$BJ$338))))","v":14.830524078549765},{"$f":"IF(JV4<5,\"\",STDEV(IF(($CM$2:$CM$338=$CV2)*($CU$2:$CU$338=1)*($CT$2:$CT$338=\"J\")*($BJ$2:$BJ$338>3),($BJ$2:$BJ$338))))","v":17.845901223423549},{"$f":"IF(JV4<5,\"\",STDEV(IF(($CM$2:$CM$338=$CV2)*($CU$2:$CU$338=1)*($CT$2:$CT$338=\"V\")*($BJ$2:$BJ$338>3),($BJ$2:$BJ$338))))","v":13.170966516332784},{"$f":"IF(JV4<5,\"\",JY12-JZ12)","v":-0.11909929462832736},2,2,"500.1006",{"$f":"IF(KE4<5,\"\",STDEV(IF(($CM$2:$CM$338=$CV2)*($CU$2:$CU$338=1)*($AK$2:$AK$338>3),($AK$2:$AK$338))))","v":10.310954828418375},{"$f":"IF(KE4<5,\"\",STDEV(IF(($CM$2:$CM$338=$CV2)*($CU$2:$CU$338=1)*($J$2:$J$338=\"M\")*($AK$2:$AK$338>3),($AK$2:$AK$338))))","v":11.696930444273931},{"$f":"IF(KE4<5,\"\",STDEV(IF(($CM$2:$CM$338=$CV2)*($CU$2:$CU$338=1)*($J$2:$J$338=\"F\")*($AK$2:$AK$338>3),($AK$2:$AK$338))))","v":8.9365044123030177},{"$f":"IF(KE4<5,\"\",STDEV(IF(($CM$2:$CM$338=$CV2)*($CU$2:$CU$338=1)*($CT$2:$CT$338=\"J\")*($AK$2:$AK$338>3),($AK$2:$AK$338))))","v":3.9339789623472159},{"$f":"IF(KE4<5,\"\",STDEV(IF(($CM$2:$CM$338=$CV2)*($CU$2:$CU$338=1)*($CT$2:$CT$338=\"V\")*($AK$2:$AK$338>3),($AK$2:$AK$338))))","v":11.698674042769719},{"$f":"IF(KE4<5,\"\",KH12-KI12)","v":-0.39130434782609314},8,8,"500.1006",{"$f":"IF(KN4<5,\"\",STDEV(IF(($CM$2:$CM$338=$CV2)*($CU$2:$CU$338=1)*($AO$2:$AO$338>3),($AO$2:$AO$338))))","v":""},{"$f":"IF(KN4<5,\"\",STDEV(IF(($CM$2:$CM$338=$CV2)*($CU$2:$CU$338=1)*($J$2:$J$338=\"M\")*($AO$2:$AO$338>3),($AO$2:$AO$338))))","v":""},{"$f":"IF(KN4<5,\"\",STDEV(IF(($CM$2:$CM$338=$CV2)*($CU$2:$CU$338=1)*($J$2:$J$338=\"F\")*($AO$2:$AO$338>3),($AO$2:$AO$338))))","v":""},{"$f":"IF(KN4<5,\"\",STDEV(IF(($CM$2:$CM$338=$CV2)*($CU$2:$CU$338=1)*($CT$2:$CT$338=\"J\")*($AO$2:$AO$338>3),($AO$2:$AO$338))))","v":""},{"$f":"IF(KN4<5,\"\",STDEV(IF(($CM$2:$CM$338=$CV2)*($CU$2:$CU$338=1)*($CT$2:$CT$338=\"V\")*($AO$2:$AO$338>3),($AO$2:$AO$338))))","v":""},{"$f":"IF(KN4<5,\"\",KQ12-KR12)","v":""},null,null,"500.1006",{"$f":"IF(KW4<5,\"\",STDEV(IF(($CM$2:$CM$338=$CV2)*($CU$2:$CU$338=1)*($AS$2:$AS$338>3),($AS$2:$AS$338))))","v":""},{"$f":"IF(KW4<5,\"\",STDEV(IF(($CM$2:$CM$338=$CV2)*($CU$2:$CU$338=1)*($J$2:$J$338=\"M\")*($AS$2:$AS$338>3),($AS$2:$AS$338))))","v":""},{"$f":"IF(KW4<5,\"\",STDEV(IF(($CM$2:$CM$338=$CV2)*($CU$2:$CU$338=1)*($J$2:$J$338=\"F\")*($AS$2:$AS$338>3),($AS$2:$AS$338))))","v":""},{"$f":"IF(KW4<5,\"\",STDEV(IF(($CM$2:$CM$338=$CV2)*($CU$2:$CU$338=1)*($CT$2:$CT$338=\"J\")*($AS$2:$AS$338>3),($AS$2:$AS$338))))","v":""},{"$f":"IF(KW4<5,\"\",STDEV(IF(($CM$2:$CM$338=$CV2)*($CU$2:$CU$338=1)*($CT$2:$CT$338=\"V\")*($AS$2:$AS$338>3),($AS$2:$AS$338))))","v":""},{"$f":"IF(KW4<5,\"\",KZ12-LA12)","v":""},null,null,"500.1006",{"$f":"IF(LF4<5,\"\",STDEV(IF(($CM$2:$CM$338=$CV2)*($CU$2:$CU$338=1)*($AW$2:$AW$338>3),($AW$2:$AW$338))))","v":14.418555296634446},{"$f":"IF(LF4<5,\"\",STDEV(IF(($CM$2:$CM$338=$CV2)*($CU$2:$CU$338=1)*($J$2:$J$338=\"M\")*($AW$2:$AW$338>3),($AW$2:$AW$338))))","v":15.652475842498529},{"$f":"IF(LF4<5,\"\",STDEV(IF(($CM$2:$CM$338=$CV2)*($CU$2:$CU$338=1)*($J$2:$J$338=\"F\")*($AW$2:$AW$338>3),($AW$2:$AW$338))))","v":13.693063937629153},{"$f":"IF(LF4<5,\"\",STDEV(IF(($CM$2:$CM$338=$CV2)*($CU$2:$CU$338=1)*($CT$2:$CT$338=\"J\")*($AW$2:$AW$338>3),($AW$2:$AW$338))))","v":17.525491637693293},{"$f":"IF(LF4<5,\"\",STDEV(IF(($CM$2:$CM$338=$CV2)*($CU$2:$CU$338=1)*($CT$2:$CT$338=\"V\")*($AW$2:$AW$338>3),($AW$2:$AW$338))))","v":13.094821838206098},{"$f":"IF(LF4<5,\"\",LI12-LJ12)","v":-4.1274509803921546},2,2,"500.1006",{"$f":"IF(LO4<5,\"\",STDEV(IF(($CM$2:$CM$338=$CV2)*($CU$2:$CU$338=1)*($BA$2:$BA$338>3),($BA$2:$BA$338))))","v":12.937094768634555},{"$f":"IF(LO4<5,\"\",STDEV(IF(($CM$2:$CM$338=$CV2)*($CU$2:$CU$338=1)*($J$2:$J$338=\"M\")*($BA$2:$BA$338>3),($BA$2:$BA$338))))","v":13.125270559981885},{"$f":"IF(LO4<5,\"\",STDEV(IF(($CM$2:$CM$338=$CV2)*($CU$2:$CU$338=1)*($J$2:$J$338=\"F\")*($BA$2:$BA$338>3),($BA$2:$BA$338))))","v":13.254978100489051},{"$f":"IF(LO4<5,\"\",STDEV(IF(($CM$2:$CM$338=$CV2)*($CU$2:$CU$338=1)*($CT$2:$CT$338=\"J\")*($BA$2:$BA$338>3),($BA$2:$BA$338))))","v":12.051476890327402},{"$f":"IF(LO4<5,\"\",STDEV(IF(($CM$2:$CM$338=$CV2)*($CU$2:$CU$338=1)*($CT$2:$CT$338=\"V\")*($BA$2:$BA$338>3),($BA$2:$BA$338))))","v":12.934747477538659},{"$f":"IF(LO4<5,\"\",LR12-LS12)","v":-2.1378136426680072},1,2,"500.1006",{"$f":"IF(LX4<5,\"\",STDEV(IF(($CM$2:$CM$338=$CV2)*($CU$2:$CU$338=1)*($BE$2:$BE$338>3),($BE$2:$BE$338))))","v":""},{"$f":"IF(LX4<5,\"\",STDEV(IF(($CM$2:$CM$338=$CV2)*($CU$2:$CU$338=1)*($J$2:$J$338=\"M\")*($BE$2:$BE$338>3),($BE$2:$BE$338))))","v":""},{"$f":"IF(LX4<5,\"\",STDEV(IF(($CM$2:$CM$338=$CV2)*($CU$2:$CU$338=1)*($J$2:$J$338=\"F\")*($BE$2:$BE$338>3),($BE$2:$BE$338))))","v":""},{"$f":"IF(LX4<5,\"\",STDEV(IF(($CM$2:$CM$338=$CV2)*($CU$2:$CU$338=1)*($CT$2:$CT$338=\"J\")*($BE$2:$BE$338>3),($BE$2:$BE$338))))","v":""},{"$f":"IF(LX4<5,\"\",STDEV(IF(($CM$2:$CM$338=$CV2)*($CU$2:$CU$338=1)*($CT$2:$CT$338=\"V\")*($BE$2:$BE$338>3),($BE$2:$BE$338))))","v":""},{"$f":"IF(LX4<5,\"\",MA12-MB12)","v":""},null,null,"500.1006",{"$f":"IF(MG4<5,\"\",STDEV(IF(($CM$2:$CM$338=$CV2)*($CU$2:$CU$338=1)*($BI$2:$BI$338>3),($BI$2:$BI$338))))","v":""},{"$f":"IF(MG4<5,\"\",STDEV(IF(($CM$2:$CM$338=$CV2)*($CU$2:$CU$338=1)*($J$2:$J$338=\"M\")*($BI$2:$BI$338>3),($BI$2:$BI$338))))","v":""},{"$f":"IF(MG4<5,\"\",STDEV(IF(($CM$2:$CM$338=$CV2)*($CU$2:$CU$338=1)*($J$2:$J$338=\"F\")*($BI$2:$BI$338>3),($BI$2:$BI$338))))","v":""},{"$f":"IF(MG4<5,\"\",STDEV(IF(($CM$2:$CM$338=$CV2)*($CU$2:$CU$338=1)*($CT$2:$CT$338=\"J\")*($BI$2:$BI$338>3),($BI$2:$BI$338))))","v":""},{"$f":"IF(MG4<5,\"\",STDEV(IF(($CM$2:$CM$338=$CV2)*($CU$2:$CU$338=1)*($CT$2:$CT$338=\"V\")*($BI$2:$BI$338>3),($BI$2:$BI$338))))","v":""},{"$f":"IF(MG4<5,\"\",MJ12-MK12)","v":""},null,null,"500.1006",{"$f":"IF(MP4<5,\"\",STDEV(IF(($CM$2:$CM$338=$CV2)*($CU$2:$CU$338=1)*($BM$2:$BM$338>3),($BM$2:$BM$338))))","v":18.724437913149725},{"$f":"IF(MP4<5,\"\",STDEV(IF(($CM$2:$CM$338=$CV2)*($CU$2:$CU$338=1)*($J$2:$J$338=\"M\")*($BM$2:$BM$338>3),($BM$2:$BM$338))))","v":20.533343171977172},{"$f":"IF(MP4<5,\"\",STDEV(IF(($CM$2:$CM$338=$CV2)*($CU$2:$CU$338=1)*($J$2:$J$338=\"F\")*($BM$2:$BM$338>3),($BM$2:$BM$338))))","v":11.814035236591634},{"$f":"IF(MP4<5,\"\",STDEV(IF(($CM$2:$CM$338=$CV2)*($CU$2:$CU$338=1)*($CT$2:$CT$338=\"J\")*($BM$2:$BM$338>3),($BM$2:$BM$338))))","v":24.785748593361738},{"$f":"IF(MP4<5,\"\",STDEV(IF(($CM$2:$CM$338=$CV2)*($CU$2:$CU$338=1)*($CT$2:$CT$338=\"V\")*($BM$2:$BM$338>3),($BM$2:$BM$338))))","v":14.638057496564468},{"$f":"IF(MP4<5,\"\",MS12-MT12)","v":-1.3121141975308603},1,1,"500.1006",{"$f":"IF(MY4<5,\"\",STDEV(IF(($CM$2:$CM$338=$CV2)*($CU$2:$CU$338=1)*($CC$2:$CC$338>3),($CC$2:$CC$338))))","v":6.3362470213675754},{"$f":"IF(MY4<5,\"\",STDEV(IF(($CM$2:$CM$338=$CV2)*($CU$2:$CU$338=1)*($J$2:$J$338=\"M\")*($CC$2:$CC$338>3),($CC$2:$CC$338))))","v":6.245452891358787},{"$f":"IF(MY4<5,\"\",STDEV(IF(($CM$2:$CM$338=$CV2)*($CU$2:$CU$338=1)*($J$2:$J$338=\"F\")*($CC$2:$CC$338>3),($CC$2:$CC$338))))","v":6.7443391900994358},{"$f":"IF(MY4<5,\"\",STDEV(IF(($CM$2:$CM$338=$CV2)*($CU$2:$CU$338=1)*($CT$2:$CT$338=\"J\")*($CC$2:$CC$338>3),($CC$2:$CC$338))))","v":6.3679349272817829},{"$f":"IF(MY4<5,\"\",STDEV(IF(($CM$2:$CM$338=$CV2)*($CU$2:$CU$338=1)*($CT$2:$CT$338=\"V\")*($CC$2:$CC$338>3),($CC$2:$CC$338))))","v":6.5779351448027192},{"$f":"IF(MY4<5,\"\",NB12-NC12)","v":-0.26332398316969829},8,8,"500.1006",{"$f":"IF(NH4<5,\"\",STDEV(IF(($CM$2:$CM$338=$CV2)*($CU$2:$CU$338=1)*($CD$2:$CD$338>3),($CD$2:$CD$338))))","v":""},{"$f":"IF(NH4<5,\"\",STDEV(IF(($CM$2:$CM$338=$CV2)*($CU$2:$CU$338=1)*($J$2:$J$338=\"M\")*($CD$2:$CD$338>3),($CD$2:$CD$338))))","v":""},{"$f":"IF(NH4<5,\"\",STDEV(IF(($CM$2:$CM$338=$CV2)*($CU$2:$CU$338=1)*($J$2:$J$338=\"F\")*($CD$2:$CD$338>3),($CD$2:$CD$338))))","v":""},{"$f":"IF(NH4<5,\"\",STDEV(IF(($CM$2:$CM$338=$CV2)*($CU$2:$CU$338=1)*($CT$2:$CT$338=\"J\")*($CD$2:$CD$338>3),($CD$2:$CD$338))))","v":""},{"$f":"IF(NH4<5,\"\",STDEV(IF(($CM$2:$CM$338=$CV2)*($CU$2:$CU$338=1)*($CT$2:$CT$338=\"V\")*($CD$2:$CD$338>3),($CD$2:$CD$338))))","v":""},{"$f":"IF(NH4<5,\"\",NK12-NL12)","v":""},null,null,"500.1006",{"$f":"IF(NQ4<5,\"\",STDEV(IF(($CM$2:$CM$338=$CV2)*($CU$2:$CU$338=1)*($CE$2:$CE$338>3),($CE$2:$CE$338))))","v":9.046258636676038},{"$f":"IF(NQ4<5,\"\",STDEV(IF(($CM$2:$CM$338=$CV2)*($CU$2:$CU$338=1)*($J$2:$J$338=\"M\")*($CE$2:$CE$338>3),($CE$2:$CE$338))))","v":8.5899871238482746},{"$f":"IF(NQ4<5,\"\",STDEV(IF(($CM$2:$CM$338=$CV2)*($CU$2:$CU$338=1)*($J$2:$J$338=\"F\")*($CE$2:$CE$338>3),($CE$2:$CE$338))))","v":9.6144823888204023},{"$f":"IF(NQ4<5,\"\",STDEV(IF(($CM$2:$CM$338=$CV2)*($CU$2:$CU$338=1)*($CT$2:$CT$338=\"J\")*($CE$2:$CE$338>3),($CE$2:$CE$338))))","v":9.0267093384844816},{"$f":"IF(NQ4<5,\"\",STDEV(IF(($CM$2:$CM$338=$CV2)*($CU$2:$CU$338=1)*($CT$2:$CT$338=\"V\")*($CE$2:$CE$338>3),($CE$2:$CE$338))))","v":9.2160673519619181},{"$f":"IF(NQ4<5,\"\",NT12-NU12)","v":0.78382838283825151},2,2,"500.1006",{"$f":"IF(NZ4<5,\"\",STDEV(IF(($CM$2:$CM$338=$CV2)*($CU$2:$CU$338=1)*($CF$2:$CF$338>3),($CF$2:$CF$338))))","v":10.546536909785775},{"$f":"IF(NZ4<5,\"\",STDEV(IF(($CM$2:$CM$338=$CV2)*($CU$2:$CU$338=1)*($J$2:$J$338=\"M\")*($CF$2:$CF$338>3),($CF$2:$CF$338))))","v":11.407981655601729},{"$f":"IF(NZ4<5,\"\",STDEV(IF(($CM$2:$CM$338=$CV2)*($CU$2:$CU$338=1)*($J$2:$J$338=\"F\")*($CF$2:$CF$338>3),($CF$2:$CF$338))))","v":9.8623336487871871},{"$f":"IF(NZ4<5,\"\",STDEV(IF(($CM$2:$CM$338=$CV2)*($CU$2:$CU$338=1)*($CT$2:$CT$338=\"J\")*($CF$2:$CF$338>3),($CF$2:$CF$338))))","v":13.124291364089878},{"$f":"IF(NZ4<5,\"\",STDEV(IF(($CM$2:$CM$338=$CV2)*($CU$2:$CU$338=1)*($CT$2:$CT$338=\"V\")*($CF$2:$CF$338>3),($CF$2:$CF$338))))","v":8.987170342729156},{"$f":"IF(NZ4<5,\"\",OC12-OD12)","v":-1.4494324045407581},2,2,"500.1006",{"$f":"IF(OI4<5,\"\",STDEV(IF(($CM$2:$CM$338=$CV2)*($CU$2:$CU$338=1)*($CG$2:$CG$338>3),($CG$2:$CG$338))))","v":11.412568095144746},{"$f":"IF(OI4<5,\"\",STDEV(IF(($CM$2:$CM$338=$CV2)*($CU$2:$CU$338=1)*($J$2:$J$338=\"M\")*($CG$2:$CG$338>3),($CG$2:$CG$338))))","v":11.924240017711821},{"$f":"IF(OI4<5,\"\",STDEV(IF(($CM$2:$CM$338=$CV2)*($CU$2:$CU$338=1)*($J$2:$J$338=\"F\")*($CG$2:$CG$338>3),($CG$2:$CG$338))))","v":11.301963325015702},{"$f":"IF(OI4<5,\"\",STDEV(IF(($CM$2:$CM$338=$CV2)*($CU$2:$CU$338=1)*($CT$2:$CT$338=\"J\")*($CG$2:$CG$338>3),($CG$2:$CG$338))))","v":12.782521548695213},{"$f":"IF(OI4<5,\"\",STDEV(IF(($CM$2:$CM$338=$CV2)*($CU$2:$CU$338=1)*($CT$2:$CT$338=\"V\")*($CG$2:$CG$338>3),($CG$2:$CG$338))))","v":10.502212831540502},{"$f":"IF(OI4<5,\"\",OL12-OM12)","v":0.11631572311183902},2,2,"500.1006",{"$f":"IF(OR4<5,\"\",STDEV(IF(($CM$2:$CM$338=$CV2)*($CU$2:$CU$338=1)*($CH$2:$CH$338>3),($CH$2:$CH$338))))","v":""},{"$f":"IF(OR4<5,\"\",STDEV(IF(($CM$2:$CM$338=$CV2)*($CU$2:$CU$338=1)*($J$2:$J$338=\"M\")*($CH$2:$CH$338>3),($CH$2:$CH$338))))","v":""},{"$f":"IF(OR4<5,\"\",STDEV(IF(($CM$2:$CM$338=$CV2)*($CU$2:$CU$338=1)*($J$2:$J$338=\"F\")*($CH$2:$CH$338>3),($CH$2:$CH$338))))","v":""},{"$f":"IF(OR4<5,\"\",STDEV(IF(($CM$2:$CM$338=$CV2)*($CU$2:$CU$338=1)*($CT$2:$CT$338=\"J\")*($CH$2:$CH$338>3),($CH$2:$CH$338))))","v":""},{"$f":"IF(OR4<5,\"\",STDEV(IF(($CM$2:$CM$338=$CV2)*($CU$2:$CU$338=1)*($CT$2:$CT$338=\"V\")*($CH$2:$CH$338>3),($CH$2:$CH$338))))","v":""},{"$f":"IF(OR4<5,\"\",OU12-OV12)","v":""},null,null,"500.1006",{"$f":"IF(PA4<5,\"\",STDEV(IF(($CM$2:$CM$338=$CV2)*($CU$2:$CU$338=1)*($CI$2:$CI$338>3),($CI$2:$CI$338))))","v":13.012999573301192},{"$f":"IF(PA4<5,\"\",STDEV(IF(($CM$2:$CM$338=$CV2)*($CU$2:$CU$338=1)*($J$2:$J$338=\"M\")*($CI$2:$CI$338>3),($CI$2:$CI$338))))","v":14.622484243607364},{"$f":"IF(PA4<5,\"\",STDEV(IF(($CM$2:$CM$338=$CV2)*($CU$2:$CU$338=1)*($J$2:$J$338=\"F\")*($CI$2:$CI$338>3),($CI$2:$CI$338))))","v":9.8877379167892236},{"$f":"IF(PA4<5,\"\",STDEV(IF(($CM$2:$CM$338=$CV2)*($CU$2:$CU$338=1)*($CT$2:$CT$338=\"J\")*($CI$2:$CI$338>3),($CI$2:$CI$338))))","v":16.661993392434297},{"$f":"IF(PA4<5,\"\",STDEV(IF(($CM$2:$CM$338=$CV2)*($CU$2:$CU$338=1)*($CT$2:$CT$338=\"V\")*($CI$2:$CI$338>3),($CI$2:$CI$338))))","v":10.650027085556019},{"$f":"IF(PA4<5,\"\",PD12-PE12)","v":0.74460797612587726},2,2]
["2010","001","501",null,null,0,"1999-12-09",null,null,"F",80,85,0,90,80,80,90,90,80,0,0,80,0,0,0,0,85,90,0,75,85,85,80,80,90,85,80,80,0,0,0,0,75,95,0,90,90,90,90,80,85,85,85,80,0,0,0,0,87,90,100,74,0,0,0,0,86,93,90,88,84,92,92,97,null,56.666666666666664,85,0,83.333333333333329,82.5,83.75,0,86.666666666666671,87.5,83.75,0,87.75,null,null,null,"001501","0.100","50",{"$f":"Tableau_SSRSMSA03_BI_Integration_STEPH_2010[[#This Row],[DAT_NAISSANCE_ELEVE]]","v":"1999-12-09"},"2009-09-30",3583,9.8097193702943191,{"$f":"IF(AND(LEFT(CO9,1)=\"1\",CS9>5.5),\"V\",IF(AND(LEFT(CO9,1)=\"2\",CS9>6.5),\"V\",IF(AND(LEFT(CO9,1)=\"3\",CS9>7.5),\"V\",IF(AND(LEFT(CO9,1)=\"4\",CS9>8.5),\"V\",IF(AND(LEFT(CO9,1)=\"5\",CS9>9.5),\"V\",IF(AND(LEFT(CO9,1)=\"6\",CS9>10.5),\"V\",\"J\"))))))","v":"V"},{"$f":"IF(AJ9=0,0,IF(BH9=0,0,1))","v":1},{"$f":"DC11&DC12&7","v":"500.1007"},"Nb ele cs",{"$f":"SUM(CY9:CZ9)","v":162},{"$f":"COUNTIFS($CO$2:$CO$338,DC11,$J$2:$J$338,\"M\",$AJ$2:$AJ$338,\">3\")","v":89},{"$f":"COUNTIFS($CO$2:$CO$338,DC11,$J$2:$J$338,\"F\",$AJ$2:$AJ$338,\">3\")","v":73},{"$f":"COUNTIFS($CO$2:$CO$338,DC11,$CT$2:$CT$338,\"J\",$AJ$2:$AJ$338,\">3\")","v":93},{"$f":"COUNTIFS($CO$2:$CO$338,DC11,$CT$2:$CT$338,\"V\",$AJ$2:$AJ$338,\">3\")","v":69},null,1,2,"500.1007",{"$f":"SUM(DH9:DI9)","v":0},{"$f":"COUNTIFS($CO$2:$CO$338,DL11,$J$2:$J$338,\"M\",$AN$2:$AN$338,\">3\")","v":0},{"$f":"COUNTIFS($CO$2:$CO$338,DL11,$J$2:$J$338,\"F\",$AN$2:$AN$338,\">3\")","v":0},{"$f":"COUNTIFS($CO$2:$CO$338,DL11,$CT$2:$CT$338,\"J\",$AN$2:$AN$338,\">3\")","v":0},{"$f":"COUNTIFS($CO$2:$CO$338,DL11,$CT$2:$CT$338,\"V\",$AN$2:$AN$338,\">3\")","v":0},null,null,null,"500.1007",{"$f":"SUM(DQ9:DR9)","v":177},{"$f":"COUNTIFS($CO$2:$CO$338,DU11,$J$2:$J$338,\"M\",$AR$2:$AR$338,\">3\")","v":98},{"$f":"COUNTIFS($CO$2:$CO$338,DU11,$J$2:$J$338,\"F\",$AR$2:$AR$338,\">3\")","v":79},{"$f":"COUNTIFS($CO$2:$CO$338,DU11,$CT$2:$CT$338,\"J\",$AR$2:$AR$338,\">3\")","v":101},{"$f":"COUNTIFS($CO$2:$CO$338,DU11,$CT$2:$CT$338,\"V\",$AR$2:$AR$338,\">3\")","v":76},null,1,1,"500.1007",{"$f":"SUM(DZ9:EA9)","v":178},{"$f":"COUNTIFS($CO$2:$CO$338,ED11,$J$2:$J$338,\"M\",$AV$2:$AV$338,\">3\")","v":99},{"$f":"COUNTIFS($CO$2:$CO$338,ED11,$J$2:$J$338,\"F\",$AV$2:$AV$338,\">3\")","v":79},{"$f":"COUNTIFS($CO$2:$CO$338,ED11,$CT$2:$CT$338,\"J\",$AV$2:$AV$338,\">3\")","v":102},{"$f":"COUNTIFS($CO$2:$CO$338,ED11,$CT$2:$CT$338,\"V\",$AV$2:$AV$338,\">3\")","v":76},null,1,1,"500.1007",{"$f":"SUM(EI9:EJ9)","v":180},{"$f":"COUNTIFS($CO$2:$CO$338,EM11,$J$2:$J$338,\"M\",$AZ$2:$AZ$338,\">3\")","v":99},{"$f":"COUNTIFS($CO$2:$CO$338,EM11,$J$2:$J$338,\"F\",$AZ$2:$AZ$338,\">3\")","v":81},{"$f":"COUNTIFS($CO$2:$CO$338,EM11,$CT$2:$CT$338,\"J\",$AZ$2:$AZ$338,\">3\")","v":103},{"$f":"COUNTIFS($CO$2:$CO$338,EM11,$CT$2:$CT$338,\"V\",$AZ$2:$AZ$338,\">3\")","v":77},null,1,2,"500.1007",{"$f":"SUM(ER9:ES9)","v":0},{"$f":"COUNTIFS($CO$2:$CO$338,EV11,$J$2:$J$338,\"M\",$BD$2:$BD$338,\">3\")","v":0},{"$f":"COUNTIFS($CO$2:$CO$338,EV11,$J$2:$J$338,\"F\",$BD$2:$BD$338,\">3\")","v":0},{"$f":"COUNTIFS($CO$2:$CO$338,EV11,$CT$2:$CT$338,\"J\",$BD$2:$BD$338,\">3\")","v":0},{"$f":"COUNTIFS($CO$2:$CO$338,EV11,$CT$2:$CT$338,\"V\",$BD$2:$BD$338,\">3\")","v":0},null,null,null,"500.1007",{"$f":"SUM(FA9:FB9)","v":173},{"$f":"COUNTIFS($CO$2:$CO$338,FE11,$J$2:$J$338,\"M\",$BH$2:$BH$338,\">3\")","v":94},{"$f":"COUNTIFS($CO$2:$CO$338,FE11,$J$2:$J$338,\"F\",$BH$2:$BH$338,\">3\")","v":79},{"$f":"COUNTIFS($CO$2:$CO$338,FE11,$CT$2:$CT$338,\"J\",$BH$2:$BH$338,\">3\")","v":97},{"$f":"COUNTIFS($CO$2:$CO$338,FE11,$CT$2:$CT$338,\"V\",$BH$2:$BH$338,\">3\")","v":76},null,1,1,"500.1007",{"$f":"SUM(FJ9:FK9)","v":162},{"$f":"COUNTIFS($CO$2:$CO$338,FN11,$J$2:$J$338,\"M\",$AI$2:$AI$338,\">3\")","v":89},{"$f":"COUNTIFS($CO$2:$CO$338,FN11,$J$2:$J$338,\"F\",$AI$2:$AI$338,\">3\")","v":73},{"$f":"COUNTIFS($CO$2:$CO$338,FN11,$CT$2:$CT$338,\"J\",$AI$2:$AI$338,\">3\")","v":93},{"$f":"COUNTIFS($CO$2:$CO$338,FN11,$CT$2:$CT$338,\"V\",$AI$2:$AI$338,\">3\")","v":69},null,1,1,"500.1007",{"$f":"SUM(FS9:FT9)","v":0},{"$f":"COUNTIFS($CO$2:$CO$338,FW11,$J$2:$J$338,\"M\",$AM$2:$AM$338,\">3\")","v":0},{"$f":"COUNTIFS($CO$2:$CO$338,FW11,$J$2:$J$338,\"F\",$AM$2:$AM$338,\">3\")","v":0},{"$f":"COUNTIFS($CO$2:$CO$338,FW11,$CT$2:$CT$338,\"J\",$AM$2:$AM$338,\">3\")","v":0},{"$f":"COUNTIFS($CO$2:$CO$338,FW11,$CT$2:$CT$338,\"V\",$AM$2:$AM$338,\">3\")","v":0},null,null,null,"500.1007",{"$f":"SUM(GB9:GC9)","v":177},{"$f":"COUNTIFS($CO$2:$CO$338,GF11,$J$2:$J$338,\"M\",$AQ$2:$AQ$338,\">3\")","v":98},{"$f":"COUNTIFS($CO$2:$CO$338,GF11,$J$2:$J$338,\"F\",$AQ$2:$AQ$338,\">3\")","v":79},{"$f":"COUNTIFS($CO$2:$CO$338,GF11,$CT$2:$CT$338,\"J\",$AQ$2:$AQ$338,\">3\")","v":101},{"$f":"COUNTIFS($CO$2:$CO$338,GF11,$CT$2:$CT$338,\"V\",$AQ$2:$AQ$338,\">3\")","v":76},null,2,2,"500.1007",{"$f":"SUM(GK9:GL9)","v":178},{"$f":"COUNTIFS($CO$2:$CO$338,GO11,$J$2:$J$338,\"M\",$AU$2:$AU$338,\">3\")","v":99},{"$f":"COUNTIFS($CO$2:$CO$338,GO11,$J$2:$J$338,\"F\",$AU$2:$AU$338,\">3\")","v":79},{"$f":"COUNTIFS($CO$2:$CO$338,GO11,$CT$2:$CT$338,\"J\",$AU$2:$AU$338,\">3\")","v":102},{"$f":"COUNTIFS($CO$2:$CO$338,GO11,$CT$2:$CT$338,\"V\",$AU$2:$AU$338,\">3\")","v":76},null,1,1,"500.1007",{"$f":"SUM(GT9:GU9)","v":180},{"$f":"COUNTIFS($CO$2:$CO$338,GX11,$J$2:$J$338,\"M\",$AY$2:$AY$338,\">3\")","v":99},{"$f":"COUNTIFS($CO$2:$CO$338,GX11,$J$2:$J$338,\"F\",$AY$2:$AY$338,\">3\")","v":81},{"$f":"COUNTIFS($CO$2:$CO$338,GX11,$CT$2:$CT$338,\"J\",$AY$2:$AY$338,\">3\")","v":103},{"$f":"COUNTIFS($CO$2:$CO$338,GX11,$CT$2:$CT$338,\"V\",$AY$2:$AY$338,\">3\")","v":77},null,1,2,"500.1007",{"$f":"SUM(HC9:HD9)","v":0},{"$f":"COUNTIFS($CO$2:$CO$338,HG11,$J$2:$J$338,\"M\",$BC$2:$BC$338,\">3\")","v":0},{"$f":"COUNTIFS($CO$2:$CO$338,HG11,$J$2:$J$338,\"F\",$BC$2:$BC$338,\">3\")","v":0},{"$f":"COUNTIFS($CO$2:$CO$338,HG11,$CT$2:$CT$338,\"J\",$BC$2:$BC$338,\">3\")","v":0},{"$f":"COUNTIFS($CO$2:$CO$338,HG11,$CT$2:$CT$338,\"V\",$BC$2:$BC$338,\">3\")","v":0},null,null,null,"500.1007",{"$f":"SUM(HL9:HM9)","v":173},{"$f":"COUNTIFS($CO$2:$CO$338,HP11,$J$2:$J$338,\"M\",$BG$2:$BG$338,\">3\")","v":94},{"$f":"COUNTIFS($CO$2:$CO$338,HP11,$J$2:$J$338,\"F\",$BG$2:$BG$338,\">3\")","v":79},{"$f":"COUNTIFS($CO$2:$CO$338,HP11,$CT$2:$CT$338,\"J\",$BG$2:$BG$338,\">3\")","v":97},{"$f":"COUNTIFS($CO$2:$CO$338,HP11,$CT$2:$CT$338,\"V\",$BG$2:$BG$338,\">3\")","v":76},null,1,1,"500.1007",{"$f":"SUM(HU9:HV9)","v":165},{"$f":"COUNTIFS($CO$2:$CO$338,HY11,$J$2:$J$338,\"M\",$AL$2:$AL$338,\">3\")","v":91},{"$f":"COUNTIFS($CO$2:$CO$338,HY11,$J$2:$J$338,\"F\",$AL$2:$AL$338,\">3\")","v":74},{"$f":"COUNTIFS($CO$2:$CO$338,HY11,$CT$2:$CT$338,\"J\",$AL$2:$AL$338,\">3\")","v":94},{"$f":"COUNTIFS($CO$2:$CO$338,HY11,$CT$2:$CT$338,\"V\",$AL$2:$AL$338,\">3\")","v":71},null,3,2,"500.1007",{"$f":"SUM(ID9:IE9)","v":0},{"$f":"COUNTIFS($CO$2:$CO$338,IH11,$J$2:$J$338,\"M\",$AP$2:$AP$338,\">3\")","v":0},{"$f":"COUNTIFS($CO$2:$CO$338,IH11,$J$2:$J$338,\"F\",$AP$2:$AP$338,\">3\")","v":0},{"$f":"COUNTIFS($CO$2:$CO$338,IH11,$CT$2:$CT$338,\"J\",$AP$2:$AP$338,\">3\")","v":0},{"$f":"COUNTIFS($CO$2:$CO$338,IH11,$CT$2:$CT$338,\"V\",$AP$2:$AP$338,\">3\")","v":0},null,null,null,"500.1007",{"$f":"SUM(IM9:IN9)","v":177},{"$f":"COUNTIFS($CO$2:$CO$338,IQ11,$J$2:$J$338,\"M\",$AT$2:$AT$338,\">3\")","v":98},{"$f":"COUNTIFS($CO$2:$CO$338,IQ11,$J$2:$J$338,\"F\",$AT$2:$AT$338,\">3\")","v":79},{"$f":"COUNTIFS($CO$2:$CO$338,IQ11,$CT$2:$CT$338,\"J\",$AT$2:$AT$338,\">3\")","v":101},{"$f":"COUNTIFS($CO$2:$CO$338,IQ11,$CT$2:$CT$338,\"V\",$AT$2:$AT$338,\">3\")","v":76},null,1,1,"500.1007",{"$f":"SUM(IV9:IW9)","v":178},{"$f":"COUNTIFS($CO$2:$CO$338,IZ11,$J$2:$J$338,\"M\",$AX$2:$AX$338,\">3\")","v":99},{"$f":"COUNTIFS($CO$2:$CO$338,IZ11,$J$2:$J$338,\"F\",$AX$2:$AX$338,\">3\")","v":79},{"$f":"COUNTIFS($CO$2:$CO$338,IZ11,$CT$2:$CT$338,\"J\",$AX$2:$AX$338,\">3\")","v":102},{"$f":"COUNTIFS($CO$2:$CO$338,IZ11,$CT$2:$CT$338,\"V\",$AX$2:$AX$338,\">3\")","v":76},null,2,2,"500.1007",{"$f":"SUM(JE9:JF9)","v":180},{"$f":"COUNTIFS($CO$2:$CO$338,JI11,$J$2:$J$338,\"M\",$BB$2:$BB$338,\">3\")","v":99},{"$f":"COUNTIFS($CO$2:$CO$338,JI11,$J$2:$J$338,\"F\",$BB$2:$BB$338,\">3\")","v":81},{"$f":"COUNTIFS($CO$2:$CO$338,JI11,$CT$2:$CT$338,\"J\",$BB$2:$BB$338,\">3\")","v":103},{"$f":"COUNTIFS($CO$2:$CO$338,JI11,$CT$2:$CT$338,\"V\",$BB$2:$BB$338,\">3\")","v":77},null,1,2,"500.1007",{"$f":"SUM(JN9:JO9)","v":0},{"$f":"COUNTIFS($CO$2:$CO$338,JR11,$J$2:$J$338,\"M\",$BF$2:$BF$338,\">3\")","v":0},{"$f":"COUNTIFS($CO$2:$CO$338,JR11,$J$2:$J$338,\"F\",$BF$2:$BF$338,\">3\")","v":0},{"$f":"COUNTIFS($CO$2:$CO$338,JR11,$CT$2:$CT$338,\"J\",$BF$2:$BF$338,\">3\")","v":0},{"$f":"COUNTIFS($CO$2:$CO$338,JR11,$CT$2:$CT$338,\"V\",$BF$2:$BF$338,\">3\")","v":0},null,null,null,"500.1007",{"$f":"SUM(JW9:JX9)","v":173},{"$f":"COUNTIFS($CO$2:$CO$338,KA11,$J$2:$J$338,\"M\",$BJ$2:$BJ$338,\">3\")","v":94},{"$f":"COUNTIFS($CO$2:$CO$338,KA11,$J$2:$J$338,\"F\",$BJ$2:$BJ$338,\">3\")","v":79},{"$f":"COUNTIFS($CO$2:$CO$338,KA11,$CT$2:$CT$338,\"J\",$BJ$2:$BJ$338,\">3\")","v":97},{"$f":"COUNTIFS($CO$2:$CO$338,KA11,$CT$2:$CT$338,\"V\",$BJ$2:$BJ$338,\">3\")","v":76},null,2,2,"500.1007",{"$f":"SUM(KF9:KG9)","v":162},{"$f":"COUNTIFS($CO$2:$CO$338,KJ11,$J$2:$J$338,\"M\",$AK$2:$AK$338,\">3\")","v":89},{"$f":"COUNTIFS($CO$2:$CO$338,KJ11,$J$2:$J$338,\"F\",$AK$2:$AK$338,\">3\")","v":73},{"$f":"COUNTIFS($CO$2:$CO$338,KJ11,$CT$2:$CT$338,\"J\",$AK$2:$AK$338,\">3\")","v":93},{"$f":"COUNTIFS($CO$2:$CO$338,KJ11,$CT$2:$CT$338,\"V\",$AK$2:$AK$338,\">3\")","v":69},null,2,2,"500.1007",{"$f":"SUM(KO9:KP9)","v":0},{"$f":"COUNTIFS($CO$2:$CO$338,KS11,$J$2:$J$338,\"M\",$AO$2:$AO$338,\">3\")","v":0},{"$f":"COUNTIFS($CO$2:$CO$338,KS11,$J$2:$J$338,\"F\",$AO$2:$AO$338,\">3\")","v":0},{"$f":"COUNTIFS($CO$2:$CO$338,KS11,$CT$2:$CT$338,\"J\",$AO$2:$AO$338,\">3\")","v":0},{"$f":"COUNTIFS($CO$2:$CO$338,KS11,$CT$2:$CT$338,\"V\",$AO$2:$AO$338,\">3\")","v":0},null,null,null,"500.1007",{"$f":"SUM(KX9:KY9)","v":0},{"$f":"COUNTIFS($CO$2:$CO$338,LB11,$J$2:$J$338,\"M\",$AS$2:$AS$338,\">3\")","v":0},{"$f":"COUNTIFS($CO$2:$CO$338,LB11,$J$2:$J$338,\"F\",$AS$2:$AS$338,\">3\")","v":0},{"$f":"COUNTIFS($CO$2:$CO$338,LB11,$CT$2:$CT$338,\"J\",$AS$2:$AS$338,\">3\")","v":0},{"$f":"COUNTIFS($CO$2:$CO$338,LB11,$CT$2:$CT$338,\"V\",$AS$2:$AS$338,\">3\")","v":0},null,null,null,"500.1007",{"$f":"SUM(LG9:LH9)","v":178},{"$f":"COUNTIFS($CO$2:$CO$338,LK11,$J$2:$J$338,\"M\",$AW$2:$AW$338,\">3\")","v":99},{"$f":"COUNTIFS($CO$2:$CO$338,LK11,$J$2:$J$338,\"F\",$AW$2:$AW$338,\">3\")","v":79},{"$f":"COUNTIFS($CO$2:$CO$338,LK11,$CT$2:$CT$338,\"J\",$AW$2:$AW$338,\">3\")","v":102},{"$f":"COUNTIFS($CO$2:$CO$338,LK11,$CT$2:$CT$338,\"V\",$AW$2:$AW$338,\">3\")","v":76},null,1,1,"500.1007",{"$f":"SUM(LP9:LQ9)","v":180},{"$f":"COUNTIFS($CO$2:$CO$338,LT11,$J$2:$J$338,\"M\",$BA$2:$BA$338,\">3\")","v":99},{"$f":"COUNTIFS($CO$2:$CO$338,LT11,$J$2:$J$338,\"F\",$BA$2:$BA$338,\">3\")","v":81},{"$f":"COUNTIFS($CO$2:$CO$338,LT11,$CT$2:$CT$338,\"J\",$BA$2:$BA$338,\">3\")","v":103},{"$f":"COUNTIFS($CO$2:$CO$338,LT11,$CT$2:$CT$338,\"V\",$BA$2:$BA$338,\">3\")","v":77},null,1,2,"500.1007",{"$f":"SUM(LY9:LZ9)","v":0},{"$f":"COUNTIFS($CO$2:$CO$338,MC11,$J$2:$J$338,\"M\",$BE$2:$BE$338,\">3\")","v":0},{"$f":"COUNTIFS($CO$2:$CO$338,MC11,$J$2:$J$338,\"F\",$BE$2:$BE$338,\">3\")","v":0},{"$f":"COUNTIFS($CO$2:$CO$338,MC11,$CT$2:$CT$338,\"J\",$BE$2:$BE$338,\">3\")","v":0},{"$f":"COUNTIFS($CO$2:$CO$338,MC11,$CT$2:$CT$338,\"V\",$BE$2:$BE$338,\">3\")","v":0},null,null,null,"500.1007",{"$f":"SUM(MH9:MI9)","v":28},{"$f":"COUNTIFS($CO$2:$CO$338,ML11,$J$2:$J$338,\"M\",$BI$2:$BI$338,\">3\")","v":14},{"$f":"COUNTIFS($CO$2:$CO$338,ML11,$J$2:$J$338,\"F\",$BI$2:$BI$338,\">3\")","v":14},{"$f":"COUNTIFS($CO$2:$CO$338,ML11,$CT$2:$CT$338,\"J\",$BI$2:$BI$338,\">3\")","v":17},{"$f":"COUNTIFS($CO$2:$CO$338,ML11,$CT$2:$CT$338,\"V\",$BI$2:$BI$338,\">3\")","v":11},null,null,null,"500.1007",{"$f":"SUM(MQ9:MR9)","v":145},{"$f":"COUNTIFS($CO$2:$CO$338,MU11,$J$2:$J$338,\"M\",$BM$2:$BM$338,\">3\")","v":80},{"$f":"COUNTIFS($CO$2:$CO$338,MU11,$J$2:$J$338,\"F\",$BM$2:$BM$338,\">3\")","v":65},{"$f":"COUNTIFS($CO$2:$CO$338,MU11,$CT$2:$CT$338,\"J\",$BM$2:$BM$338,\">3\")","v":81},{"$f":"COUNTIFS($CO$2:$CO$338,MU11,$CT$2:$CT$338,\"V\",$BM$2:$BM$338,\">3\")","v":64},null,8,8,"500.1007",{"$f":"SUM(MZ9:NA9)","v":162},{"$f":"COUNTIFS($CO$2:$CO$338,ND11,$J$2:$J$338,\"M\",$CC$2:$CC$338,\">3\")","v":89},{"$f":"COUNTIFS($CO$2:$CO$338,ND11,$J$2:$J$338,\"F\",$CC$2:$CC$338,\">3\")","v":73},{"$f":"COUNTIFS($CO$2:$CO$338,ND11,$CT$2:$CT$338,\"J\",$CC$2:$CC$338,\">3\")","v":93},{"$f":"COUNTIFS($CO$2:$CO$338,ND11,$CT$2:$CT$338,\"V\",$CC$2:$CC$338,\">3\")","v":69},null,2,2,"500.1007",{"$f":"SUM(NI9:NJ9)","v":0},{"$f":"COUNTIFS($CO$2:$CO$338,NM11,$J$2:$J$338,\"M\",$CD$2:$CD$338,\">3\")","v":0},{"$f":"COUNTIFS($CO$2:$CO$338,NM11,$J$2:$J$338,\"F\",$CD$2:$CD$338,\">3\")","v":0},{"$f":"COUNTIFS($CO$2:$CO$338,NM11,$CT$2:$CT$338,\"J\",$CD$2:$CD$338,\">3\")","v":0},{"$f":"COUNTIFS($CO$2:$CO$338,NM11,$CT$2:$CT$338,\"V\",$CD$2:$CD$338,\">3\")","v":0},null,null,null,"500.1007",{"$f":"SUM(NR9:NS9)","v":177},{"$f":"COUNTIFS($CO$2:$CO$338,NV11,$J$2:$J$338,\"M\",$CE$2:$CE$338,\">3\")","v":98},{"$f":"COUNTIFS($CO$2:$CO$338,NV11,$J$2:$J$338,\"F\",$CE$2:$CE$338,\">3\")","v":79},{"$f":"COUNTIFS($CO$2:$CO$338,NV11,$CT$2:$CT$338,\"J\",$CE$2:$CE$338,\">3\")","v":101},{"$f":"COUNTIFS($CO$2:$CO$338,NV11,$CT$2:$CT$338,\"V\",$CE$2:$CE$338,\">3\")","v":76},null,1,1,"500.1007",{"$f":"SUM(OA9:OB9)","v":178},{"$f":"COUNTIFS($CO$2:$CO$338,OE11,$J$2:$J$338,\"M\",$CF$2:$CF$338,\">3\")","v":99},{"$f":"COUNTIFS($CO$2:$CO$338,OE11,$J$2:$J$338,\"F\",$CF$2:$CF$338,\">3\")","v":79},{"$f":"COUNTIFS($CO$2:$CO$338,OE11,$CT$2:$CT$338,\"J\",$CF$2:$CF$338,\">3\")","v":102},{"$f":"COUNTIFS($CO$2:$CO$338,OE11,$CT$2:$CT$338,\"V\",$CF$2:$CF$338,\">3\")","v":76},null,1,1,"500.1007",{"$f":"SUM(OJ9:OK9)","v":180},{"$f":"COUNTIFS($CO$2:$CO$338,ON11,$J$2:$J$338,\"M\",$CG$2:$CG$338,\">3\")","v":99},{"$f":"COUNTIFS($CO$2:$CO$338,ON11,$J$2:$J$338,\"F\",$CG$2:$CG$338,\">3\")","v":81},{"$f":"COUNTIFS($CO$2:$CO$338,ON11,$CT$2:$CT$338,\"J\",$CG$2:$CG$338,\">3\")","v":103},{"$f":"COUNTIFS($CO$2:$CO$338,ON11,$CT$2:$CT$338,\"V\",$CG$2:$CG$338,\">3\")","v":77},null,1,2,"500.1007",{"$f":"SUM(OS9:OT9)","v":0},{"$f":"COUNTIFS($CO$2:$CO$338,OW11,$J$2:$J$338,\"M\",$CH$2:$CH$338,\">3\")","v":0},{"$f":"COUNTIFS($CO$2:$CO$338,OW11,$J$2:$J$338,\"F\",$CH$2:$CH$338,\">3\")","v":0},{"$f":"COUNTIFS($CO$2:$CO$338,OW11,$CT$2:$CT$338,\"J\",$CH$2:$CH$338,\">3\")","v":0},{"$f":"COUNTIFS($CO$2:$CO$338,OW11,$CT$2:$CT$338,\"V\",$CH$2:$CH$338,\">3\")","v":0},null,null,null,"500.1007",{"$f":"SUM(PB9:PC9)","v":173},{"$f":"COUNTIFS($CO$2:$CO$338,PF11,$J$2:$J$338,\"M\",$CI$2:$CI$338,\">3\")","v":94},{"$f":"COUNTIFS($CO$2:$CO$338,PF11,$J$2:$J$338,\"F\",$CI$2:$CI$338,\">3\")","v":79},{"$f":"COUNTIFS($CO$2:$CO$338,PF11,$CT$2:$CT$338,\"J\",$CI$2:$CI$338,\">3\")","v":97},{"$f":"COUNTIFS($CO$2:$CO$338,PF11,$CT$2:$CT$338,\"V\",$CI$2:$CI$338,\">3\")","v":76},null,1,1]
["2010","001","501",null,null,0,"2000-07-17",null,null,"F",80,80,0,75,80,80,75,85,80,80,75,75,0,0,0,0,80,80,0,80,80,75,75,65,85,90,80,85,0,0,0,0,75,90,0,75,85,85,85,80,85,80,70,70,0,0,0,0,84,83,0,78,84,84,81,71,80,76,84,81,84,89,80,82,null,51.666666666666664,80,77.5,80,73.75,85,0,80,83.75,76.25,0,81.5,null,null,null,"001501","0.100","50",{"$f":"Tableau_SSRSMSA03_BI_Integration_STEPH_2010[[#This Row],[DAT_NAISSANCE_ELEVE]]","v":"2000-07-17"},"2009-09-30",3362,9.2046543463381241,{"$f":"IF(AND(LEFT(CO10,1)=\"1\",CS10>5.5),\"V\",IF(AND(LEFT(CO10,1)=\"2\",CS10>6.5),\"V\",IF(AND(LEFT(CO10,1)=\"3\",CS10>7.5),\"V\",IF(AND(LEFT(CO10,1)=\"4\",CS10>8.5),\"V\",IF(AND(LEFT(CO10,1)=\"5\",CS10>9.5),\"V\",IF(AND(LEFT(CO10,1)=\"6\",CS10>10.5),\"V\",\"J\"))))))","v":"J"},{"$f":"IF(AJ10=0,0,IF(BH10=0,0,1))","v":1},{"$f":"DC11&DC12&8","v":"500.1008"},"moy cs niveau",{"$f":"IF(CX4<5,\"\",((CY10*CY9)+(CZ10*CZ9))/CX9)","v":81.574074074074076},{"$f":"IF(CX4<5,\"\",INDEX(compilations,MATCH(DC11&\"M\",$J$339:$J$424,0),27))","v":80.505617977528118},{"$f":"IF(CX4<5,\"\",INDEX(compilations,MATCH(DC11&\"F\",$J$339:$J$424,0),27))","v":82.876712328767084},{"$f":"IF(CX4<5,\"\",INDEX(compilations,MATCH(DC11&\"J\",$J$339:$J$424,0),27))","v":81.881720430107535},{"$f":"IF(CX4<5,\"\",INDEX(compilations,MATCH(DC11&\"V\",$J$339:$J$424,0),27))","v":81.159420289855035},null,1,1,"500.1008",{"$f":"IF(DG4<5,\"\",((DH10*DH9)+(DI10*DI9))/DG9)","v":""},{"$f":"IF(DG4<5,\"\",INDEX(compilations,MATCH(DL11&\"M\",$J$339:$J$424,0),31))","v":""},{"$f":"IF(DG4<5,\"\",INDEX(compilations,MATCH(DL11&\"F\",$J$339:$J$424,0),31))","v":""},{"$f":"IF(DG4<5,\"\",INDEX(compilations,MATCH(DL11&\"J\",$J$339:$J$424,0),31))","v":""},{"$f":"IF(DG4<5,\"\",INDEX(compilations,MATCH(DL11&\"V\",$J$339:$J$424,0),31))","v":""},null,null,null,"500.1008",{"$f":"IF(DP4<5,\"\",((DQ10*DQ9)+(DR10*DR9))/DP9)","v":79.406779661016984},{"$f":"IF(DP4<5,\"\",INDEX(compilations,MATCH(DU11&\"M\",$J$339:$J$424,0),35))","v":78.724489795918402},{"$f":"IF(DP4<5,\"\",INDEX(compilations,MATCH(DU11&\"F\",$J$339:$J$424,0),35))","v":80.253164556962048},{"$f":"IF(DP4<5,\"\",INDEX(compilations,MATCH(DU11&\"J\",$J$339:$J$424,0),35))","v":79.356435643564396},{"$f":"IF(DP4<5,\"\",INDEX(compilations,MATCH(DU11&\"V\",$J$339:$J$424,0),35))","v":79.473684210526329},null,1,1,"500.1008",{"$f":"IF(DY4<5,\"\",((DZ10*DZ9)+(EA10*EA9))/DY9)","v":77.977528089887656},{"$f":"IF(DY4<5,\"\",INDEX(compilations,MATCH(ED11&\"M\",$J$339:$J$424,0),39))","v":77.373737373737384},{"$f":"IF(DY4<5,\"\",INDEX(compilations,MATCH(ED11&\"F\",$J$339:$J$424,0),39))","v":78.734177215189888},{"$f":"IF(DY4<5,\"\",INDEX(compilations,MATCH(ED11&\"J\",$J$339:$J$424,0),39))","v":77.745098039215677},{"$f":"IF(DY4<5,\"\",INDEX(compilations,MATCH(ED11&\"V\",$J$339:$J$424,0),39))","v":78.289473684210535},null,2,2,"500.1008",{"$f":"IF(EH4<5,\"\",((EI10*EI9)+(EJ10*EJ9))/EH9)","v":78.527777777777771},{"$f":"IF(EH4<5,\"\",INDEX(compilations,MATCH(EM11&\"M\",$J$339:$J$424,0),43))","v":78.282828282828248},{"$f":"IF(EH4<5,\"\",INDEX(compilations,MATCH(EM11&\"F\",$J$339:$J$424,0),43))","v":78.827160493827179},{"$f":"IF(EH4<5,\"\",INDEX(compilations,MATCH(EM11&\"J\",$J$339:$J$424,0),43))","v":78.834951456310691},{"$f":"IF(EH4<5,\"\",INDEX(compilations,MATCH(EM11&\"V\",$J$339:$J$424,0),43))","v":78.116883116883159},null,2,2,"500.1008",{"$f":"IF(EQ4<5,\"\",((ER10*ER9)+(ES10*ES9))/EQ9)","v":""},{"$f":"IF(EQ4<5,\"\",INDEX(compilations,MATCH(EV11&\"M\",$J$339:$J$424,0),47))","v":""},{"$f":"IF(EQ4<5,\"\",INDEX(compilations,MATCH(EV11&\"F\",$J$339:$J$424,0),47))","v":""},{"$f":"IF(EQ4<5,\"\",INDEX(compilations,MATCH(EV11&\"J\",$J$339:$J$424,0),47))","v":""},{"$f":"IF(EQ4<5,\"\",INDEX(compilations,MATCH(EV11&\"V\",$J$339:$J$424,0),47))","v":""},null,null,null,"500.1008",{"$f":"IF(EZ4<5,\"\",((FA10*FA9)+(FB10*FB9))/EZ9)","v":76.595375722543352},{"$f":"IF(EZ4<5,\"\",INDEX(compilations,MATCH(FE11&\"M\",$J$339:$J$424,0),51))","v":76.159574468085111},{"$f":"IF(EZ4<5,\"\",INDEX(compilations,MATCH(FE11&\"F\",$J$339:$J$424,0),51))","v":77.113924050632903},{"$f":"IF(EZ4<5,\"\",INDEX(compilations,MATCH(FE11&\"J\",$J$339:$J$424,0),51))","v":77.103092783505076},{"$f":"IF(EZ4<5,\"\",INDEX(compilations,MATCH(FE11&\"V\",$J$339:$J$424,0),51))","v":75.947368421052616},null,1,2,"500.1008",{"$f":"IF(FI4<5,\"\",((FJ10*FJ9)+(FK10*FK9))/FI9)","v":78.981481481481453},{"$f":"IF(FI4<5,\"\",INDEX(compilations,MATCH(FN11&\"M\",$J$339:$J$424,0),26))","v":77.921348314606746},{"$f":"IF(FI4<5,\"\",INDEX(compilations,MATCH(FN11&\"F\",$J$339:$J$424,0),26))","v":80.273972602739676},{"$f":"IF(FI4<5,\"\",INDEX(compilations,MATCH(FN11&\"J\",$J$339:$J$424,0),26))","v":78.3333333333333},{"$f":"IF(FI4<5,\"\",INDEX(compilations,MATCH(FN11&\"V\",$J$339:$J$424,0),26))","v":79.855072463768096},null,1,2,"500.1008",{"$f":"IF(FR4<5,\"\",((FS10*FS9)+(FT10*FT9))/FR9)","v":""},{"$f":"IF(FR4<5,\"\",INDEX(compilations,MATCH(FW11&\"M\",$J$339:$J$424,0),30))","v":""},{"$f":"IF(FR4<5,\"\",INDEX(compilations,MATCH(FW11&\"F\",$J$339:$J$424,0),30))","v":""},{"$f":"IF(FR4<5,\"\",INDEX(compilations,MATCH(FW11&\"J\",$J$339:$J$424,0),30))","v":""},{"$f":"IF(FR4<5,\"\",INDEX(compilations,MATCH(FW11&\"V\",$J$339:$J$424,0),30))","v":""},null,null,null,"500.1008",{"$f":"IF(GA4<5,\"\",((GB10*GB9)+(GC10*GC9))/GA9)","v":74.435028248587557},{"$f":"IF(GA4<5,\"\",INDEX(compilations,MATCH(GF11&\"M\",$J$339:$J$424,0),34))","v":72.602040816326507},{"$f":"IF(GA4<5,\"\",INDEX(compilations,MATCH(GF11&\"F\",$J$339:$J$424,0),34))","v":76.70886075949366},{"$f":"IF(GA4<5,\"\",INDEX(compilations,MATCH(GF11&\"J\",$J$339:$J$424,0),34))","v":75.396039603960432},{"$f":"IF(GA4<5,\"\",INDEX(compilations,MATCH(GF11&\"V\",$J$339:$J$424,0),34))","v":73.157894736842138},null,2,2,"500.1008",{"$f":"IF(GJ4<5,\"\",((GK10*GK9)+(GL10*GL9))/GJ9)","v":77.230337078651672},{"$f":"IF(GJ4<5,\"\",INDEX(compilations,MATCH(GO11&\"M\",$J$339:$J$424,0),38))","v":75.474747474747446},{"$f":"IF(GJ4<5,\"\",INDEX(compilations,MATCH(GO11&\"F\",$J$339:$J$424,0),38))","v":79.430379746835456},{"$f":"IF(GJ4<5,\"\",INDEX(compilations,MATCH(GO11&\"J\",$J$339:$J$424,0),38))","v":77.323529411764653},{"$f":"IF(GJ4<5,\"\",INDEX(compilations,MATCH(GO11&\"V\",$J$339:$J$424,0),38))","v":77.105263157894754},null,1,2,"500.1008",{"$f":"IF(GS4<5,\"\",((GT10*GT9)+(GU10*GU9))/GS9)","v":79.666666666666643},{"$f":"IF(GS4<5,\"\",INDEX(compilations,MATCH(GX11&\"M\",$J$339:$J$424,0),42))","v":78.131313131313092},{"$f":"IF(GS4<5,\"\",INDEX(compilations,MATCH(GX11&\"F\",$J$339:$J$424,0),42))","v":81.543209876543216},{"$f":"IF(GS4<5,\"\",INDEX(compilations,MATCH(GX11&\"J\",$J$339:$J$424,0),42))","v":80.000000000000028},{"$f":"IF(GS4<5,\"\",INDEX(compilations,MATCH(GX11&\"V\",$J$339:$J$424,0),42))","v":79.220779220779264},null,1,2,"500.1008",{"$f":"IF(HB4<5,\"\",((HC10*HC9)+(HD10*HD9))/HB9)","v":""},{"$f":"IF(HB4<5,\"\",INDEX(compilations,MATCH(HG11&\"M\",$J$339:$J$424,0),46))","v":""},{"$f":"IF(HB4<5,\"\",INDEX(compilations,MATCH(HG11&\"F\",$J$339:$J$424,0),46))","v":""},{"$f":"IF(HB4<5,\"\",INDEX(compilations,MATCH(HG11&\"J\",$J$339:$J$424,0),46))","v":""},{"$f":"IF(HB4<5,\"\",INDEX(compilations,MATCH(HG11&\"V\",$J$339:$J$424,0),46))","v":""},null,null,null,"500.1008",{"$f":"IF(HK4<5,\"\",((HL10*HL9)+(HM10*HM9))/HK9)","v":77.676300578034699},{"$f":"IF(HK4<5,\"\",INDEX(compilations,MATCH(HP11&\"M\",$J$339:$J$424,0),50))","v":75.829787234042584},{"$f":"IF(HK4<5,\"\",INDEX(compilations,MATCH(HP11&\"F\",$J$339:$J$424,0),50))","v":79.873417721518976},{"$f":"IF(HK4<5,\"\",INDEX(compilations,MATCH(HP11&\"J\",$J$339:$J$424,0),50))","v":78.515463917525722},{"$f":"IF(HK4<5,\"\",INDEX(compilations,MATCH(HP11&\"V\",$J$339:$J$424,0),50))","v":76.605263157894697},null,1,2,"500.1008",{"$f":"IF(HT4<5,\"\",((HU10*HU9)+(HV10*HV9))/HT9)","v":82.642424242424227},{"$f":"IF(HT4<5,\"\",INDEX(compilations,MATCH(HY11&\"M\",$J$339:$J$424,0),29))","v":82.648351648351607},{"$f":"IF(HT4<5,\"\",INDEX(compilations,MATCH(HY11&\"F\",$J$339:$J$424,0),29))","v":82.635135135135144},{"$f":"IF(HT4<5,\"\",INDEX(compilations,MATCH(HY11&\"J\",$J$339:$J$424,0),29))","v":82.765957446808528},{"$f":"IF(HT4<5,\"\",INDEX(compilations,MATCH(HY11&\"V\",$J$339:$J$424,0),29))","v":82.478873239436638},null,2,2,"500.1008",{"$f":"IF(IC4<5,\"\",((ID10*ID9)+(IE10*IE9))/IC9)","v":""},{"$f":"IF(IC4<5,\"\",INDEX(compilations,MATCH(IH11&\"M\",$J$339:$J$424,0),33))","v":""},{"$f":"IF(IC4<5,\"\",INDEX(compilations,MATCH(IH11&\"F\",$J$339:$J$424,0),33))","v":""},{"$f":"IF(IC4<5,\"\",INDEX(compilations,MATCH(IH11&\"J\",$J$339:$J$424,0),33))","v":""},{"$f":"IF(IC4<5,\"\",INDEX(compilations,MATCH(IH11&\"V\",$J$339:$J$424,0),33))","v":""},null,null,null,"500.1008",{"$f":"IF(IL4<5,\"\",((IM10*IM9)+(IN10*IN9))/IL9)","v":80.000000000000028},{"$f":"IF(IL4<5,\"\",INDEX(compilations,MATCH(IQ11&\"M\",$J$339:$J$424,0),37))","v":80.306122448979593},{"$f":"IF(IL4<5,\"\",INDEX(compilations,MATCH(IQ11&\"F\",$J$339:$J$424,0),37))","v":79.620253164557028},{"$f":"IF(IL4<5,\"\",INDEX(compilations,MATCH(IQ11&\"J\",$J$339:$J$424,0),37))","v":80.099009900990069},{"$f":"IF(IL4<5,\"\",INDEX(compilations,MATCH(IQ11&\"V\",$J$339:$J$424,0),37))","v":79.868421052631604},null,2,2,"500.1008",{"$f":"IF(IU4<5,\"\",((IV10*IV9)+(IW10*IW9))/IU9)","v":79.88764044943818},{"$f":"IF(IU4<5,\"\",INDEX(compilations,MATCH(IZ11&\"M\",$J$339:$J$424,0),41))","v":80.151515151515085},{"$f":"IF(IU4<5,\"\",INDEX(compilations,MATCH(IZ11&\"F\",$J$339:$J$424,0),41))","v":79.55696202531648},{"$f":"IF(IU4<5,\"\",INDEX(compilations,MATCH(IZ11&\"J\",$J$339:$J$424,0),41))","v":79.313725490196006},{"$f":"IF(IU4<5,\"\",INDEX(compilations,MATCH(IZ11&\"V\",$J$339:$J$424,0),41))","v":80.657894736842152},null,2,2,"500.1008",{"$f":"IF(JD4<5,\"\",((JE10*JE9)+(JF10*JF9))/JD9)","v":78.9444444444444},{"$f":"IF(JD4<5,\"\",INDEX(compilations,MATCH(JI11&\"M\",$J$339:$J$424,0),45))","v":79.848484848484773},{"$f":"IF(JD4<5,\"\",INDEX(compilations,MATCH(JI11&\"F\",$J$339:$J$424,0),45))","v":77.839506172839521},{"$f":"IF(JD4<5,\"\",INDEX(compilations,MATCH(JI11&\"J\",$J$339:$J$424,0),45))","v":79.417475728155338},{"$f":"IF(JD4<5,\"\",INDEX(compilations,MATCH(JI11&\"V\",$J$339:$J$424,0),45))","v":78.311688311688329},null,2,3,"500.1008",{"$f":"IF(JM4<5,\"\",((JN10*JN9)+(JO10*JO9))/JM9)","v":""},{"$f":"IF(JM4<5,\"\",INDEX(compilations,MATCH(JR11&\"M\",$J$339:$J$424,0),49))","v":""},{"$f":"IF(JM4<5,\"\",INDEX(compilations,MATCH(JR11&\"F\",$J$339:$J$424,0),49))","v":""},{"$f":"IF(JM4<5,\"\",INDEX(compilations,MATCH(JR11&\"J\",$J$339:$J$424,0),49))","v":""},{"$f":"IF(JM4<5,\"\",INDEX(compilations,MATCH(JR11&\"V\",$J$339:$J$424,0),49))","v":""},null,null,null,"500.1008",{"$f":"IF(JV4<5,\"\",((JW10*JW9)+(JX10*JX9))/JV9)","v":79.95953757225432},{"$f":"IF(JV4<5,\"\",INDEX(compilations,MATCH(KA11&\"M\",$J$339:$J$424,0),53))","v":80.255319148936167},{"$f":"IF(JV4<5,\"\",INDEX(compilations,MATCH(KA11&\"F\",$J$339:$J$424,0),53))","v":79.607594936708836},{"$f":"IF(JV4<5,\"\",INDEX(compilations,MATCH(KA11&\"J\",$J$339:$J$424,0),53))","v":79.907216494845329},{"$f":"IF(JV4<5,\"\",INDEX(compilations,MATCH(KA11&\"V\",$J$339:$J$424,0),53))","v":80.026315789473642},null,2,2,"500.1008",{"$f":"IF(KE4<5,\"\",((KF10*KF9)+(KG10*KG9))/KE9)","v":78.499999999999972},{"$f":"IF(KE4<5,\"\",INDEX(compilations,MATCH(KJ11&\"M\",$J$339:$J$424,0),28))","v":78.730337078651687},{"$f":"IF(KE4<5,\"\",INDEX(compilations,MATCH(KJ11&\"F\",$J$339:$J$424,0),28))","v":78.219178082191746},{"$f":"IF(KE4<5,\"\",INDEX(compilations,MATCH(KJ11&\"J\",$J$339:$J$424,0),28))","v":78.3333333333333},{"$f":"IF(KE4<5,\"\",INDEX(compilations,MATCH(KJ11&\"V\",$J$339:$J$424,0),28))","v":78.724637681159408},null,2,2,"500.1008",{"$f":"IF(KN4<5,\"\",((KO10*KO9)+(KP10*KP9))/KN9)","v":""},{"$f":"IF(KN4<5,\"\",INDEX(compilations,MATCH(KS11&\"M\",$J$339:$J$424,0),32))","v":""},{"$f":"IF(KN4<5,\"\",INDEX(compilations,MATCH(KS11&\"F\",$J$339:$J$424,0),32))","v":""},{"$f":"IF(KN4<5,\"\",INDEX(compilations,MATCH(KS11&\"J\",$J$339:$J$424,0),32))","v":""},{"$f":"IF(KN4<5,\"\",INDEX(compilations,MATCH(KS11&\"V\",$J$339:$J$424,0),32))","v":""},null,null,null,"500.1008",{"$f":"IF(KW4<5,\"\",((KX10*KX9)+(KY10*KY9))/KW9)","v":""},{"$f":"IF(KW4<5,\"\",INDEX(compilations,MATCH(LB11&\"M\",$J$339:$J$424,0),36))","v":""},{"$f":"IF(KW4<5,\"\",INDEX(compilations,MATCH(LB11&\"F\",$J$339:$J$424,0),36))","v":""},{"$f":"IF(KW4<5,\"\",INDEX(compilations,MATCH(LB11&\"J\",$J$339:$J$424,0),36))","v":""},{"$f":"IF(KW4<5,\"\",INDEX(compilations,MATCH(LB11&\"V\",$J$339:$J$424,0),36))","v":""},null,null,null,"500.1008",{"$f":"IF(LF4<5,\"\",((LG10*LG9)+(LH10*LH9))/LF9)","v":77.634831460674164},{"$f":"IF(LF4<5,\"\",INDEX(compilations,MATCH(LK11&\"M\",$J$339:$J$424,0),40))","v":77.070707070707059},{"$f":"IF(LF4<5,\"\",INDEX(compilations,MATCH(LK11&\"F\",$J$339:$J$424,0),40))","v":78.341772151898766},{"$f":"IF(LF4<5,\"\",INDEX(compilations,MATCH(LK11&\"J\",$J$339:$J$424,0),40))","v":75.872549019607845},{"$f":"IF(LF4<5,\"\",INDEX(compilations,MATCH(LK11&\"V\",$J$339:$J$424,0),40))","v":80},null,1,2,"500.1008",{"$f":"IF(LO4<5,\"\",((LP10*LP9)+(LQ10*LQ9))/LO9)","v":79.361111111111114},{"$f":"IF(LO4<5,\"\",INDEX(compilations,MATCH(LT11&\"M\",$J$339:$J$424,0),44))","v":78.282828282828262},{"$f":"IF(LO4<5,\"\",INDEX(compilations,MATCH(LT11&\"F\",$J$339:$J$424,0),44))","v":80.679012345679027},{"$f":"IF(LO4<5,\"\",INDEX(compilations,MATCH(LT11&\"J\",$J$339:$J$424,0),44))","v":78.446601941747574},{"$f":"IF(LO4<5,\"\",INDEX(compilations,MATCH(LT11&\"V\",$J$339:$J$424,0),44))","v":80.584415584415581},null,2,3,"500.1008",{"$f":"IF(LX4<5,\"\",((LY10*LY9)+(LZ10*LZ9))/LX9)","v":""},{"$f":"IF(LX4<5,\"\",INDEX(compilations,MATCH(MC11&\"M\",$J$339:$J$424,0),48))","v":""},{"$f":"IF(LX4<5,\"\",INDEX(compilations,MATCH(MC11&\"F\",$J$339:$J$424,0),48))","v":""},{"$f":"IF(LX4<5,\"\",INDEX(compilations,MATCH(MC11&\"J\",$J$339:$J$424,0),48))","v":""},{"$f":"IF(LX4<5,\"\",INDEX(compilations,MATCH(MC11&\"V\",$J$339:$J$424,0),48))","v":""},null,null,null,"500.1008",{"$f":"IF(MG4<5,\"\",((MH10*MH9)+(MI10*MI9))/MG9)","v":""},{"$f":"IF(MG4<5,\"\",INDEX(compilations,MATCH(ML11&\"M\",$J$339:$J$424,0),52))","v":""},{"$f":"IF(MG4<5,\"\",INDEX(compilations,MATCH(ML11&\"F\",$J$339:$J$424,0),52))","v":""},{"$f":"IF(MG4<5,\"\",INDEX(compilations,MATCH(ML11&\"J\",$J$339:$J$424,0),52))","v":""},{"$f":"IF(MG4<5,\"\",INDEX(compilations,MATCH(ML11&\"V\",$J$339:$J$424,0),52))","v":""},null,null,null,"500.1008",{"$f":"IF(MP4<5,\"\",((MQ10*MQ9)+(MR10*MR9))/MP9)","v":74.048275862068991},{"$f":"IF(MP4<5,\"\",INDEX(compilations,MATCH(MU11&\"M\",$J$339:$J$424,0),56))","v":74.987500000000011},{"$f":"IF(MP4<5,\"\",INDEX(compilations,MATCH(MU11&\"F\",$J$339:$J$424,0),56))","v":72.892307692307725},{"$f":"IF(MP4<5,\"\",INDEX(compilations,MATCH(MU11&\"J\",$J$339:$J$424,0),56))","v":73.469135802469154},{"$f":"IF(MP4<5,\"\",INDEX(compilations,MATCH(MU11&\"V\",$J$339:$J$424,0),56))","v":74.78125},null,1,2,"500.1008",{"$f":"IF(MY4<5,\"\",((MZ10*MZ9)+(NA10*NA9))/MY9)","v":80.424487903654551},{"$f":"IF(MY4<5,\"\",INDEX(compilations,MATCH(ND11&\"M\",$J$339:$J$424,0),72))","v":79.951413754784539},{"$f":"IF(MY4<5,\"\",INDEX(compilations,MATCH(ND11&\"F\",$J$339:$J$424,0),72))","v":81.001249537208409},{"$f":"IF(MY4<5,\"\",INDEX(compilations,MATCH(ND11&\"J\",$J$339:$J$424,0),72))","v":80.328586135895677},{"$f":"IF(MY4<5,\"\",INDEX(compilations,MATCH(ND11&\"V\",$J$339:$J$424,0),72))","v":80.554500918554794},null,1,2,"500.1008",{"$f":"IF(NH4<5,\"\",((NI10*NI9)+(NJ10*NJ9))/NH9)","v":""},{"$f":"IF(NH4<5,\"\",INDEX(compilations,MATCH(NM11&\"M\",$J$339:$J$424,0),73))","v":""},{"$f":"IF(NH4<5,\"\",INDEX(compilations,MATCH(NM11&\"F\",$J$339:$J$424,0),73))","v":""},{"$f":"IF(NH4<5,\"\",INDEX(compilations,MATCH(NM11&\"J\",$J$339:$J$424,0),73))","v":""},{"$f":"IF(NH4<5,\"\",INDEX(compilations,MATCH(NM11&\"V\",$J$339:$J$424,0),73))","v":""},null,null,null,"500.1008",{"$f":"IF(NQ4<5,\"\",((NR10*NR9)+(NS10*NS9))/NQ9)","v":{"$error":"#DIV/0!"}},{"$f":"IF(NQ4<5,\"\",INDEX(compilations,MATCH(NV11&\"M\",$J$339:$J$424,0),74))","v":{"$error":"#DIV/0!"}},{"$f":"IF(NQ4<5,\"\",INDEX(compilations,MATCH(NV11&\"F\",$J$339:$J$424,0),74))","v":{"$error":"#DIV/0!"}},{"$f":"IF(NQ4<5,\"\",INDEX(compilations,MATCH(NV11&\"J\",$J$339:$J$424,0),74))","v":{"$error":"#DIV/0!"}},{"$f":"IF(NQ4<5,\"\",INDEX(compilations,MATCH(NV11&\"V\",$J$339:$J$424,0),74))","v":{"$error":"#DIV/0!"}},null,2,2,"500.1008",{"$f":"IF(NZ4<5,\"\",((OA10*OA9)+(OB10*OB9))/NZ9)","v":78.182584269662911},{"$f":"IF(NZ4<5,\"\",INDEX(compilations,MATCH(OE11&\"M\",$J$339:$J$424,0),75))","v":77.517676767676733},{"$f":"IF(NZ4<5,\"\",INDEX(compilations,MATCH(OE11&\"F\",$J$339:$J$424,0),75))","v":79.015822784810155},{"$f":"IF(NZ4<5,\"\",INDEX(compilations,MATCH(OE11&\"J\",$J$339:$J$424,0),75))","v":77.563725490196049},{"$f":"IF(NZ4<5,\"\",INDEX(compilations,MATCH(OE11&\"V\",$J$339:$J$424,0),75))","v":79.013157894736864},null,1,2,"500.1008",{"$f":"IF(OI4<5,\"\",((OJ10*OJ9)+(OK10*OK9))/OI9)","v":79.124999999999986},{"$f":"IF(OI4<5,\"\",INDEX(compilations,MATCH(ON11&\"M\",$J$339:$J$424,0),76))","v":78.636363636363598},{"$f":"IF(OI4<5,\"\",INDEX(compilations,MATCH(ON11&\"F\",$J$339:$J$424,0),76))","v":79.722222222222229},{"$f":"IF(OI4<5,\"\",INDEX(compilations,MATCH(ON11&\"J\",$J$339:$J$424,0),76))","v":79.174757281553411},{"$f":"IF(OI4<5,\"\",INDEX(compilations,MATCH(ON11&\"V\",$J$339:$J$424,0),76))","v":79.058441558441586},null,2,2,"500.1008",{"$f":"IF(OR4<5,\"\",((OS10*OS9)+(OT10*OT9))/OR9)","v":""},{"$f":"IF(OR4<5,\"\",INDEX(compilations,MATCH(OW11&\"M\",$J$339:$J$424,0),77))","v":""},{"$f":"IF(OR4<5,\"\",INDEX(compilations,MATCH(OW11&\"F\",$J$339:$J$424,0),77))","v":""},{"$f":"IF(OR4<5,\"\",INDEX(compilations,MATCH(OW11&\"J\",$J$339:$J$424,0),77))","v":""},{"$f":"IF(OR4<5,\"\",INDEX(compilations,MATCH(OW11&\"V\",$J$339:$J$424,0),77))","v":""},null,null,null,"500.1008",{"$f":"IF(PA4<5,\"\",((PB10*PB9)+(PC10*PC9))/PA9)","v":79.158133773740701},{"$f":"IF(PA4<5,\"\",INDEX(compilations,MATCH(PF11&\"M\",$J$339:$J$424,0),78))","v":78.025455927051681},{"$f":"IF(PA4<5,\"\",INDEX(compilations,MATCH(PF11&\"F\",$J$339:$J$424,0),78))","v":80.505877034358036},{"$f":"IF(PA4<5,\"\",INDEX(compilations,MATCH(PF11&\"J\",$J$339:$J$424,0),78))","v":79.36673741661609},{"$f":"IF(PA4<5,\"\",INDEX(compilations,MATCH(PF11&\"V\",$J$339:$J$424,0),78))","v":79.076555023923419},null,1,2]
["2010","001","501",null,null,0,"2000-02-22",null,null,"F",85,85,0,80,90,95,90,90,90,0,0,95,0,0,0,0,85,85,0,85,85,85,85,90,85,85,85,95,0,0,0,0,80,95,0,90,90,90,85,95,95,90,90,85,0,0,0,0,88,86,85,95,0,0,0,0,94,81,95,80,84,90,100,93,null,55,91.25,0,85,86.25,87.5,0,88.333333333333329,90,90,0,88.5,null,null,null,"001501","0.100","50",{"$f":"Tableau_SSRSMSA03_BI_Integration_STEPH_2010[[#This Row],[DAT_NAISSANCE_ELEVE]]","v":"2000-02-22"},"2009-09-30",3508,9.6043805612594113,{"$f":"IF(AND(LEFT(CO11,1)=\"1\",CS11>5.5),\"V\",IF(AND(LEFT(CO11,1)=\"2\",CS11>6.5),\"V\",IF(AND(LEFT(CO11,1)=\"3\",CS11>7.5),\"V\",IF(AND(LEFT(CO11,1)=\"4\",CS11>8.5),\"V\",IF(AND(LEFT(CO11,1)=\"5\",CS11>9.5),\"V\",IF(AND(LEFT(CO11,1)=\"6\",CS11>10.5),\"V\",\"J\"))))))","v":"V"},{"$f":"IF(AJ11=0,0,IF(BH11=0,0,1))","v":1},{"$f":"DC11&DC12&9","v":"500.1009"},"nb compa",{"$f":"SUM(CY11:CZ11)","v":162},{"$f":"COUNTIFS($CO$2:$CO$338,DC11,$CN$2:$CN$338,DC12,$J$2:$J$338,\"M\",$AJ$2:$AJ$338,\">3\")","v":89},{"$f":"COUNTIFS($CO$2:$CO$338,DC11,$CN$2:$CN$338,DC12,$J$2:$J$338,\"F\",$AJ$2:$AJ$338,\">3\")","v":73},{"$f":"COUNTIFS($CO$2:$CO$338,DC11,$CN$2:$CN$338,DC12,$CT$2:$CT$338,\"J\",$AJ$2:$AJ$338,\">3\")","v":93},{"$f":"COUNTIFS($CO$2:$CO$338,DC11,$CN$2:$CN$338,DC12,$CT$2:$CT$338,\"V\",$AJ$2:$AJ$338,\">3\")","v":69},{"$f":"$CO2","v":"50"},1,2,"500.1009",{"$f":"SUM(DH11:DI11)","v":0},{"$f":"COUNTIFS($CO$2:$CO$338,DL11,$CN$2:$CN$338,DL12,$J$2:$J$338,\"M\",$AN$2:$AN$338,\">3\")","v":0},{"$f":"COUNTIFS($CO$2:$CO$338,DL11,$CN$2:$CN$338,DL12,$J$2:$J$338,\"F\",$AN$2:$AN$338,\">3\")","v":0},{"$f":"COUNTIFS($CO$2:$CO$338,DL11,$CN$2:$CN$338,DL12,$CT$2:$CT$338,\"J\",$AN$2:$AN$338,\">3\")","v":0},{"$f":"COUNTIFS($CO$2:$CO$338,DL11,$CN$2:$CN$338,DL12,$CT$2:$CT$338,\"V\",$AN$2:$AN$338,\">3\")","v":0},{"$f":"$CO2","v":"50"},null,null,"500.1009",{"$f":"SUM(DQ11:DR11)","v":177},{"$f":"COUNTIFS($CO$2:$CO$338,DU11,$CN$2:$CN$338,DU12,$J$2:$J$338,\"M\",$AR$2:$AR$338,\">3\")","v":98},{"$f":"COUNTIFS($CO$2:$CO$338,DU11,$CN$2:$CN$338,DU12,$J$2:$J$338,\"F\",$AR$2:$AR$338,\">3\")","v":79},{"$f":"COUNTIFS($CO$2:$CO$338,DU11,$CN$2:$CN$338,DU12,$CT$2:$CT$338,\"J\",$AR$2:$AR$338,\">3\")","v":101},{"$f":"COUNTIFS($CO$2:$CO$338,DU11,$CN$2:$CN$338,DU12,$CT$2:$CT$338,\"V\",$AR$2:$AR$338,\">3\")","v":76},{"$f":"$CO2","v":"50"},1,1,"500.1009",{"$f":"SUM(DZ11:EA11)","v":178},{"$f":"COUNTIFS($CO$2:$CO$338,ED11,$CN$2:$CN$338,ED12,$J$2:$J$338,\"M\",$AV$2:$AV$338,\">3\")","v":99},{"$f":"COUNTIFS($CO$2:$CO$338,ED11,$CN$2:$CN$338,ED12,$J$2:$J$338,\"F\",$AV$2:$AV$338,\">3\")","v":79},{"$f":"COUNTIFS($CO$2:$CO$338,ED11,$CN$2:$CN$338,ED12,$CT$2:$CT$338,\"J\",$AV$2:$AV$338,\">3\")","v":102},{"$f":"COUNTIFS($CO$2:$CO$338,ED11,$CN$2:$CN$338,ED12,$CT$2:$CT$338,\"V\",$AV$2:$AV$338,\">3\")","v":76},{"$f":"$CO2","v":"50"},1,1,"500.1009",{"$f":"SUM(EI11:EJ11)","v":180},{"$f":"COUNTIFS($CO$2:$CO$338,EM11,$CN$2:$CN$338,EM12,$J$2:$J$338,\"M\",$AZ$2:$AZ$338,\">3\")","v":99},{"$f":"COUNTIFS($CO$2:$CO$338,EM11,$CN$2:$CN$338,EM12,$J$2:$J$338,\"F\",$AZ$2:$AZ$338,\">3\")","v":81},{"$f":"COUNTIFS($CO$2:$CO$338,EM11,$CN$2:$CN$338,EM12,$CT$2:$CT$338,\"J\",$AZ$2:$AZ$338,\">3\")","v":103},{"$f":"COUNTIFS($CO$2:$CO$338,EM11,$CN$2:$CN$338,EM12,$CT$2:$CT$338,\"V\",$AZ$2:$AZ$338,\">3\")","v":77},{"$f":"$CO2","v":"50"},1,1,"500.1009",{"$f":"SUM(ER11:ES11)","v":0},{"$f":"COUNTIFS($CO$2:$CO$338,EV11,$CN$2:$CN$338,EV12,$J$2:$J$338,\"M\",$BD$2:$BD$338,\">3\")","v":0},{"$f":"COUNTIFS($CO$2:$CO$338,EV11,$CN$2:$CN$338,EV12,$J$2:$J$338,\"F\",$BD$2:$BD$338,\">3\")","v":0},{"$f":"COUNTIFS($CO$2:$CO$338,EV11,$CN$2:$CN$338,EV12,$CT$2:$CT$338,\"J\",$BD$2:$BD$338,\">3\")","v":0},{"$f":"COUNTIFS($CO$2:$CO$338,EV11,$CN$2:$CN$338,EV12,$CT$2:$CT$338,\"V\",$BD$2:$BD$338,\">3\")","v":0},{"$f":"$CO2","v":"50"},null,null,"500.1009",{"$f":"SUM(FA11:FB11)","v":173},{"$f":"COUNTIFS($CO$2:$CO$338,FE11,$CN$2:$CN$338,FE12,$J$2:$J$338,\"M\",$BH$2:$BH$338,\">3\")","v":94},{"$f":"COUNTIFS($CO$2:$CO$338,FE11,$CN$2:$CN$338,FE12,$J$2:$J$338,\"F\",$BH$2:$BH$338,\">3\")","v":79},{"$f":"COUNTIFS($CO$2:$CO$338,FE11,$CN$2:$CN$338,FE12,$CT$2:$CT$338,\"J\",$BH$2:$BH$338,\">3\")","v":97},{"$f":"COUNTIFS($CO$2:$CO$338,FE11,$CN$2:$CN$338,FE12,$CT$2:$CT$338,\"V\",$BH$2:$BH$338,\">3\")","v":76},{"$f":"$CO2","v":"50"},1,1,"500.1009",{"$f":"SUM(FJ11:FK11)","v":162},{"$f":"COUNTIFS($CO$2:$CO$338,FN11,$CN$2:$CN$338,FN12,$J$2:$J$338,\"M\",$AI$2:$AI$338,\">3\")","v":89},{"$f":"COUNTIFS($CO$2:$CO$338,FN11,$CN$2:$CN$338,FN12,$J$2:$J$338,\"F\",$AI$2:$AI$338,\">3\")","v":73},{"$f":"COUNTIFS($CO$2:$CO$338,FN11,$CN$2:$CN$338,FN12,$CT$2:$CT$338,\"J\",$AI$2:$AI$338,\">3\")","v":93},{"$f":"COUNTIFS($CO$2:$CO$338,FN11,$CN$2:$CN$338,FN12,$CT$2:$CT$338,\"V\",$AI$2:$AI$338,\">3\")","v":69},{"$f":"$CO2","v":"50"},1,2,"500.1009",{"$f":"SUM(FS11:FT11)","v":0},{"$f":"COUNTIFS($CO$2:$CO$338,FW11,$CN$2:$CN$338,FW12,$J$2:$J$338,\"M\",$AM$2:$AM$338,\">3\")","v":0},{"$f":"COUNTIFS($CO$2:$CO$338,FW11,$CN$2:$CN$338,FW12,$J$2:$J$338,\"F\",$AM$2:$AM$338,\">3\")","v":0},{"$f":"COUNTIFS($CO$2:$CO$338,FW11,$CN$2:$CN$338,FW12,$CT$2:$CT$338,\"J\",$AM$2:$AM$338,\">3\")","v":0},{"$f":"COUNTIFS($CO$2:$CO$338,FW11,$CN$2:$CN$338,FW12,$CT$2:$CT$338,\"V\",$AM$2:$AM$338,\">3\")","v":0},{"$f":"$CO2","v":"50"},null,null,"500.1009",{"$f":"SUM(GB11:GC11)","v":177},{"$f":"COUNTIFS($CO$2:$CO$338,GF11,$CN$2:$CN$338,GF12,$J$2:$J$338,\"M\",$AQ$2:$AQ$338,\">3\")","v":98},{"$f":"COUNTIFS($CO$2:$CO$338,GF11,$CN$2:$CN$338,GF12,$J$2:$J$338,\"F\",$AQ$2:$AQ$338,\">3\")","v":79},{"$f":"COUNTIFS($CO$2:$CO$338,GF11,$CN$2:$CN$338,GF12,$CT$2:$CT$338,\"J\",$AQ$2:$AQ$338,\">3\")","v":101},{"$f":"COUNTIFS($CO$2:$CO$338,GF11,$CN$2:$CN$338,GF12,$CT$2:$CT$338,\"V\",$AQ$2:$AQ$338,\">3\")","v":76},{"$f":"$CO2","v":"50"},1,2,"500.1009",{"$f":"SUM(GK11:GL11)","v":178},{"$f":"COUNTIFS($CO$2:$CO$338,GO11,$CN$2:$CN$338,GO12,$J$2:$J$338,\"M\",$AU$2:$AU$338,\">3\")","v":99},{"$f":"COUNTIFS($CO$2:$CO$338,GO11,$CN$2:$CN$338,GO12,$J$2:$J$338,\"F\",$AU$2:$AU$338,\">3\")","v":79},{"$f":"COUNTIFS($CO$2:$CO$338,GO11,$CN$2:$CN$338,GO12,$CT$2:$CT$338,\"J\",$AU$2:$AU$338,\">3\")","v":102},{"$f":"COUNTIFS($CO$2:$CO$338,GO11,$CN$2:$CN$338,GO12,$CT$2:$CT$338,\"V\",$AU$2:$AU$338,\">3\")","v":76},{"$f":"$CO2","v":"50"},1,1,"500.1009",{"$f":"SUM(GT11:GU11)","v":180},{"$f":"COUNTIFS($CO$2:$CO$338,GX11,$CN$2:$CN$338,GX12,$J$2:$J$338,\"M\",$AY$2:$AY$338,\">3\")","v":99},{"$f":"COUNTIFS($CO$2:$CO$338,GX11,$CN$2:$CN$338,GX12,$J$2:$J$338,\"F\",$AY$2:$AY$338,\">3\")","v":81},{"$f":"COUNTIFS($CO$2:$CO$338,GX11,$CN$2:$CN$338,GX12,$CT$2:$CT$338,\"J\",$AY$2:$AY$338,\">3\")","v":103},{"$f":"COUNTIFS($CO$2:$CO$338,GX11,$CN$2:$CN$338,GX12,$CT$2:$CT$338,\"V\",$AY$2:$AY$338,\">3\")","v":77},{"$f":"$CO2","v":"50"},1,1,"500.1009",{"$f":"SUM(HC11:HD11)","v":0},{"$f":"COUNTIFS($CO$2:$CO$338,HG11,$CN$2:$CN$338,HG12,$J$2:$J$338,\"M\",$BC$2:$BC$338,\">3\")","v":0},{"$f":"COUNTIFS($CO$2:$CO$338,HG11,$CN$2:$CN$338,HG12,$J$2:$J$338,\"F\",$BC$2:$BC$338,\">3\")","v":0},{"$f":"COUNTIFS($CO$2:$CO$338,HG11,$CN$2:$CN$338,HG12,$CT$2:$CT$338,\"J\",$BC$2:$BC$338,\">3\")","v":0},{"$f":"COUNTIFS($CO$2:$CO$338,HG11,$CN$2:$CN$338,HG12,$CT$2:$CT$338,\"V\",$BC$2:$BC$338,\">3\")","v":0},{"$f":"$CO2","v":"50"},null,null,"500.1009",{"$f":"SUM(HL11:HM11)","v":173},{"$f":"COUNTIFS($CO$2:$CO$338,HP11,$CN$2:$CN$338,HP12,$J$2:$J$338,\"M\",$BG$2:$BG$338,\">3\")","v":94},{"$f":"COUNTIFS($CO$2:$CO$338,HP11,$CN$2:$CN$338,HP12,$J$2:$J$338,\"F\",$BG$2:$BG$338,\">3\")","v":79},{"$f":"COUNTIFS($CO$2:$CO$338,HP11,$CN$2:$CN$338,HP12,$CT$2:$CT$338,\"J\",$BG$2:$BG$338,\">3\")","v":97},{"$f":"COUNTIFS($CO$2:$CO$338,HP11,$CN$2:$CN$338,HP12,$CT$2:$CT$338,\"V\",$BG$2:$BG$338,\">3\")","v":76},{"$f":"$CO2","v":"50"},1,1,"500.1009",{"$f":"SUM(HU11:HV11)","v":165},{"$f":"COUNTIFS($CO$2:$CO$338,HY11,$CN$2:$CN$338,HY12,$J$2:$J$338,\"M\",$AL$2:$AL$338,\">3\")","v":91},{"$f":"COUNTIFS($CO$2:$CO$338,HY11,$CN$2:$CN$338,HY12,$J$2:$J$338,\"F\",$AL$2:$AL$338,\">3\")","v":74},{"$f":"COUNTIFS($CO$2:$CO$338,HY11,$CN$2:$CN$338,HY12,$CT$2:$CT$338,\"J\",$AL$2:$AL$338,\">3\")","v":94},{"$f":"COUNTIFS($CO$2:$CO$338,HY11,$CN$2:$CN$338,HY12,$CT$2:$CT$338,\"V\",$AL$2:$AL$338,\">3\")","v":71},{"$f":"$CO2","v":"50"},1,1,"500.1009",{"$f":"SUM(ID11:IE11)","v":0},{"$f":"COUNTIFS($CO$2:$CO$338,IH11,$CN$2:$CN$338,IH12,$J$2:$J$338,\"M\",$AP$2:$AP$338,\">3\")","v":0},{"$f":"COUNTIFS($CO$2:$CO$338,IH11,$CN$2:$CN$338,IH12,$J$2:$J$338,\"F\",$AP$2:$AP$338,\">3\")","v":0},{"$f":"COUNTIFS($CO$2:$CO$338,IH11,$CN$2:$CN$338,IH12,$CT$2:$CT$338,\"J\",$AP$2:$AP$338,\">3\")","v":0},{"$f":"COUNTIFS($CO$2:$CO$338,IH11,$CN$2:$CN$338,IH12,$CT$2:$CT$338,\"V\",$AP$2:$AP$338,\">3\")","v":0},{"$f":"$CO2","v":"50"},null,null,"500.1009",{"$f":"SUM(IM11:IN11)","v":177},{"$f":"COUNTIFS($CO$2:$CO$338,IQ11,$CN$2:$CN$338,IQ12,$J$2:$J$338,\"M\",$AT$2:$AT$338,\">3\")","v":98},{"$f":"COUNTIFS($CO$2:$CO$338,IQ11,$CN$2:$CN$338,IQ12,$J$2:$J$338,\"F\",$AT$2:$AT$338,\">3\")","v":79},{"$f":"COUNTIFS($CO$2:$CO$338,IQ11,$CN$2:$CN$338,IQ12,$CT$2:$CT$338,\"J\",$AT$2:$AT$338,\">3\")","v":101},{"$f":"COUNTIFS($CO$2:$CO$338,IQ11,$CN$2:$CN$338,IQ12,$CT$2:$CT$338,\"V\",$AT$2:$AT$338,\">3\")","v":76},{"$f":"$CO2","v":"50"},1,1,"500.1009",{"$f":"SUM(IV11:IW11)","v":178},{"$f":"COUNTIFS($CO$2:$CO$338,IZ11,$CN$2:$CN$338,IZ12,$J$2:$J$338,\"M\",$AX$2:$AX$338,\">3\")","v":99},{"$f":"COUNTIFS($CO$2:$CO$338,IZ11,$CN$2:$CN$338,IZ12,$J$2:$J$338,\"F\",$AX$2:$AX$338,\">3\")","v":79},{"$f":"COUNTIFS($CO$2:$CO$338,IZ11,$CN$2:$CN$338,IZ12,$CT$2:$CT$338,\"J\",$AX$2:$AX$338,\">3\")","v":102},{"$f":"COUNTIFS($CO$2:$CO$338,IZ11,$CN$2:$CN$338,IZ12,$CT$2:$CT$338,\"V\",$AX$2:$AX$338,\">3\")","v":76},{"$f":"$CO2","v":"50"},1,1,"500.1009",{"$f":"SUM(JE11:JF11)","v":180},{"$f":"COUNTIFS($CO$2:$CO$338,JI11,$CN$2:$CN$338,JI12,$J$2:$J$338,\"M\",$BB$2:$BB$338,\">3\")","v":99},{"$f":"COUNTIFS($CO$2:$CO$338,JI11,$CN$2:$CN$338,JI12,$J$2:$J$338,\"F\",$BB$2:$BB$338,\">3\")","v":81},{"$f":"COUNTIFS($CO$2:$CO$338,JI11,$CN$2:$CN$338,JI12,$CT$2:$CT$338,\"J\",$BB$2:$BB$338,\">3\")","v":103},{"$f":"COUNTIFS($CO$2:$CO$338,JI11,$CN$2:$CN$338,JI12,$CT$2:$CT$338,\"V\",$BB$2:$BB$338,\">3\")","v":77},{"$f":"$CO2","v":"50"},1,2,"500.1009",{"$f":"SUM(JN11:JO11)","v":0},{"$f":"COUNTIFS($CO$2:$CO$338,JR11,$CN$2:$CN$338,JR12,$J$2:$J$338,\"M\",$BF$2:$BF$338,\">3\")","v":0},{"$f":"COUNTIFS($CO$2:$CO$338,JR11,$CN$2:$CN$338,JR12,$J$2:$J$338,\"F\",$BF$2:$BF$338,\">3\")","v":0},{"$f":"COUNTIFS($CO$2:$CO$338,JR11,$CN$2:$CN$338,JR12,$CT$2:$CT$338,\"J\",$BF$2:$BF$338,\">3\")","v":0},{"$f":"COUNTIFS($CO$2:$CO$338,JR11,$CN$2:$CN$338,JR12,$CT$2:$CT$338,\"V\",$BF$2:$BF$338,\">3\")","v":0},{"$f":"$CO2","v":"50"},null,null,"500.1009",{"$f":"SUM(JW11:JX11)","v":173},{"$f":"COUNTIFS($CO$2:$CO$338,KA11,$CN$2:$CN$338,KA12,$J$2:$J$338,\"M\",$BJ$2:$BJ$338,\">3\")","v":94},{"$f":"COUNTIFS($CO$2:$CO$338,KA11,$CN$2:$CN$338,KA12,$J$2:$J$338,\"F\",$BJ$2:$BJ$338,\">3\")","v":79},{"$f":"COUNTIFS($CO$2:$CO$338,KA11,$CN$2:$CN$338,KA12,$CT$2:$CT$338,\"J\",$BJ$2:$BJ$338,\">3\")","v":97},{"$f":"COUNTIFS($CO$2:$CO$338,KA11,$CN$2:$CN$338,KA12,$CT$2:$CT$338,\"V\",$BJ$2:$BJ$338,\">3\")","v":76},{"$f":"$CO2","v":"50"},1,1,"500.1009",{"$f":"SUM(KF11:KG11)","v":162},{"$f":"COUNTIFS($CO$2:$CO$338,KJ11,$CN$2:$CN$338,KJ12,$J$2:$J$338,\"M\",$AK$2:$AK$338,\">3\")","v":89},{"$f":"COUNTIFS($CO$2:$CO$338,KJ11,$CN$2:$CN$338,KJ12,$J$2:$J$338,\"F\",$AK$2:$AK$338,\">3\")","v":73},{"$f":"COUNTIFS($CO$2:$CO$338,KJ11,$CN$2:$CN$338,KJ12,$CT$2:$CT$338,\"J\",$AK$2:$AK$338,\">3\")","v":93},{"$f":"COUNTIFS($CO$2:$CO$338,KJ11,$CN$2:$CN$338,KJ12,$CT$2:$CT$338,\"V\",$AK$2:$AK$338,\">3\")","v":69},{"$f":"$CO2","v":"50"},1,2,"500.1009",{"$f":"SUM(KO11:KP11)","v":0},{"$f":"COUNTIFS($CO$2:$CO$338,KS11,$CN$2:$CN$338,KS12,$J$2:$J$338,\"M\",$AO$2:$AO$338,\">3\")","v":0},{"$f":"COUNTIFS($CO$2:$CO$338,KS11,$CN$2:$CN$338,KS12,$J$2:$J$338,\"F\",$AO$2:$AO$338,\">3\")","v":0},{"$f":"COUNTIFS($CO$2:$CO$338,KS11,$CN$2:$CN$338,KS12,$CT$2:$CT$338,\"J\",$AO$2:$AO$338,\">3\")","v":0},{"$f":"COUNTIFS($CO$2:$CO$338,KS11,$CN$2:$CN$338,KS12,$CT$2:$CT$338,\"V\",$AO$2:$AO$338,\">3\")","v":0},{"$f":"$CO2","v":"50"},null,null,"500.1009",{"$f":"SUM(KX11:KY11)","v":0},{"$f":"COUNTIFS($CO$2:$CO$338,LB11,$CN$2:$CN$338,LB12,$J$2:$J$338,\"M\",$AS$2:$AS$338,\">3\")","v":0},{"$f":"COUNTIFS($CO$2:$CO$338,LB11,$CN$2:$CN$338,LB12,$J$2:$J$338,\"F\",$AS$2:$AS$338,\">3\")","v":0},{"$f":"COUNTIFS($CO$2:$CO$338,LB11,$CN$2:$CN$338,LB12,$CT$2:$CT$338,\"J\",$AS$2:$AS$338,\">3\")","v":0},{"$f":"COUNTIFS($CO$2:$CO$338,LB11,$CN$2:$CN$338,LB12,$CT$2:$CT$338,\"V\",$AS$2:$AS$338,\">3\")","v":0},{"$f":"$CO2","v":"50"},null,null,"500.1009",{"$f":"SUM(LG11:LH11)","v":178},{"$f":"COUNTIFS($CO$2:$CO$338,LK11,$CN$2:$CN$338,LK12,$J$2:$J$338,\"M\",$AW$2:$AW$338,\">3\")","v":99},{"$f":"COUNTIFS($CO$2:$CO$338,LK11,$CN$2:$CN$338,LK12,$J$2:$J$338,\"F\",$AW$2:$AW$338,\">3\")","v":79},{"$f":"COUNTIFS($CO$2:$CO$338,LK11,$CN$2:$CN$338,LK12,$CT$2:$CT$338,\"J\",$AW$2:$AW$338,\">3\")","v":102},{"$f":"COUNTIFS($CO$2:$CO$338,LK11,$CN$2:$CN$338,LK12,$CT$2:$CT$338,\"V\",$AW$2:$AW$338,\">3\")","v":76},{"$f":"$CO2","v":"50"},1,2,"500.1009",{"$f":"SUM(LP11:LQ11)","v":180},{"$f":"COUNTIFS($CO$2:$CO$338,LT11,$CN$2:$CN$338,LT12,$J$2:$J$338,\"M\",$BA$2:$BA$338,\">3\")","v":99},{"$f":"COUNTIFS($CO$2:$CO$338,LT11,$CN$2:$CN$338,LT12,$J$2:$J$338,\"F\",$BA$2:$BA$338,\">3\")","v":81},{"$f":"COUNTIFS($CO$2:$CO$338,LT11,$CN$2:$CN$338,LT12,$CT$2:$CT$338,\"J\",$BA$2:$BA$338,\">3\")","v":103},{"$f":"COUNTIFS($CO$2:$CO$338,LT11,$CN$2:$CN$338,LT12,$CT$2:$CT$338,\"V\",$BA$2:$BA$338,\">3\")","v":77},{"$f":"$CO2","v":"50"},1,1,"500.1009",{"$f":"SUM(LY11:LZ11)","v":0},{"$f":"COUNTIFS($CO$2:$CO$338,MC11,$CN$2:$CN$338,MC12,$J$2:$J$338,\"M\",$BE$2:$BE$338,\">3\")","v":0},{"$f":"COUNTIFS($CO$2:$CO$338,MC11,$CN$2:$CN$338,MC12,$J$2:$J$338,\"F\",$BE$2:$BE$338,\">3\")","v":0},{"$f":"COUNTIFS($CO$2:$CO$338,MC11,$CN$2:$CN$338,MC12,$CT$2:$CT$338,\"J\",$BE$2:$BE$338,\">3\")","v":0},{"$f":"COUNTIFS($CO$2:$CO$338,MC11,$CN$2:$CN$338,MC12,$CT$2:$CT$338,\"V\",$BE$2:$BE$338,\">3\")","v":0},{"$f":"$CO2","v":"50"},null,null,"500.1009",{"$f":"SUM(MH11:MI11)","v":28},{"$f":"COUNTIFS($CO$2:$CO$338,ML11,$CN$2:$CN$338,ML12,$J$2:$J$338,\"M\",$BI$2:$BI$338,\">3\")","v":14},{"$f":"COUNTIFS($CO$2:$CO$338,ML11,$CN$2:$CN$338,ML12,$J$2:$J$338,\"F\",$BI$2:$BI$338,\">3\")","v":14},{"$f":"COUNTIFS($CO$2:$CO$338,ML11,$CN$2:$CN$338,ML12,$CT$2:$CT$338,\"J\",$BI$2:$BI$338,\">3\")","v":17},{"$f":"COUNTIFS($CO$2:$CO$338,ML11,$CN$2:$CN$338,ML12,$CT$2:$CT$338,\"V\",$BI$2:$BI$338,\">3\")","v":11},{"$f":"$CO2","v":"50"},null,null,"500.1009",{"$f":"SUM(MQ11:MR11)","v":145},{"$f":"COUNTIFS($CO$2:$CO$338,MU11,$CN$2:$CN$338,MU12,$J$2:$J$338,\"M\",$BM$2:$BM$338,\">3\")","v":80},{"$f":"COUNTIFS($CO$2:$CO$338,MU11,$CN$2:$CN$338,MU12,$J$2:$J$338,\"F\",$BM$2:$BM$338,\">3\")","v":65},{"$f":"COUNTIFS($CO$2:$CO$338,MU11,$CN$2:$CN$338,MU12,$CT$2:$CT$338,\"J\",$BM$2:$BM$338,\">3\")","v":81},{"$f":"COUNTIFS($CO$2:$CO$338,MU11,$CN$2:$CN$338,MU12,$CT$2:$CT$338,\"V\",$BM$2:$BM$338,\">3\")","v":64},{"$f":"$CO2","v":"50"},8,8,"500.1009",{"$f":"SUM(MZ11:NA11)","v":162},{"$f":"COUNTIFS($CO$2:$CO$338,ND11,$CN$2:$CN$338,ND12,$J$2:$J$338,\"M\",$CC$2:$CC$338,\">3\")","v":89},{"$f":"COUNTIFS($CO$2:$CO$338,ND11,$CN$2:$CN$338,ND12,$J$2:$J$338,\"F\",$CC$2:$CC$338,\">3\")","v":73},{"$f":"COUNTIFS($CO$2:$CO$338,ND11,$CN$2:$CN$338,ND12,$CT$2:$CT$338,\"J\",$CC$2:$CC$338,\">3\")","v":93},{"$f":"COUNTIFS($CO$2:$CO$338,ND11,$CN$2:$CN$338,ND12,$CT$2:$CT$338,\"V\",$CC$2:$CC$338,\">3\")","v":69},{"$f":"$CO2","v":"50"},1,1,"500.1009",{"$f":"SUM(NI11:NJ11)","v":0},{"$f":"COUNTIFS($CO$2:$CO$338,NM11,$CN$2:$CN$338,NM12,$J$2:$J$338,\"M\",$CD$2:$CD$338,\">3\")","v":0},{"$f":"COUNTIFS($CO$2:$CO$338,NM11,$CN$2:$CN$338,NM12,$J$2:$J$338,\"F\",$CD$2:$CD$338,\">3\")","v":0},{"$f":"COUNTIFS($CO$2:$CO$338,NM11,$CN$2:$CN$338,NM12,$CT$2:$CT$338,\"J\",$CD$2:$CD$338,\">3\")","v":0},{"$f":"COUNTIFS($CO$2:$CO$338,NM11,$CN$2:$CN$338,NM12,$CT$2:$CT$338,\"V\",$CD$2:$CD$338,\">3\")","v":0},{"$f":"$CO2","v":"50"},null,null,"500.1009",{"$f":"SUM(NR11:NS11)","v":177},{"$f":"COUNTIFS($CO$2:$CO$338,NV11,$CN$2:$CN$338,NV12,$J$2:$J$338,\"M\",$CE$2:$CE$338,\">3\")","v":98},{"$f":"COUNTIFS($CO$2:$CO$338,NV11,$CN$2:$CN$338,NV12,$J$2:$J$338,\"F\",$CE$2:$CE$338,\">3\")","v":79},{"$f":"COUNTIFS($CO$2:$CO$338,NV11,$CN$2:$CN$338,NV12,$CT$2:$CT$338,\"J\",$CE$2:$CE$338,\">3\")","v":101},{"$f":"COUNTIFS($CO$2:$CO$338,NV11,$CN$2:$CN$338,NV12,$CT$2:$CT$338,\"V\",$CE$2:$CE$338,\">3\")","v":76},{"$f":"$CO2","v":"50"},1,1,"500.1009",{"$f":"SUM(OA11:OB11)","v":178},{"$f":"COUNTIFS($CO$2:$CO$338,OE11,$CN$2:$CN$338,OE12,$J$2:$J$338,\"M\",$CF$2:$CF$338,\">3\")","v":99},{"$f":"COUNTIFS($CO$2:$CO$338,OE11,$CN$2:$CN$338,OE12,$J$2:$J$338,\"F\",$CF$2:$CF$338,\">3\")","v":79},{"$f":"COUNTIFS($CO$2:$CO$338,OE11,$CN$2:$CN$338,OE12,$CT$2:$CT$338,\"J\",$CF$2:$CF$338,\">3\")","v":102},{"$f":"COUNTIFS($CO$2:$CO$338,OE11,$CN$2:$CN$338,OE12,$CT$2:$CT$338,\"V\",$CF$2:$CF$338,\">3\")","v":76},{"$f":"$CO2","v":"50"},1,1,"500.1009",{"$f":"SUM(OJ11:OK11)","v":180},{"$f":"COUNTIFS($CO$2:$CO$338,ON11,$CN$2:$CN$338,ON12,$J$2:$J$338,\"M\",$CG$2:$CG$338,\">3\")","v":99},{"$f":"COUNTIFS($CO$2:$CO$338,ON11,$CN$2:$CN$338,ON12,$J$2:$J$338,\"F\",$CG$2:$CG$338,\">3\")","v":81},{"$f":"COUNTIFS($CO$2:$CO$338,ON11,$CN$2:$CN$338,ON12,$CT$2:$CT$338,\"J\",$CG$2:$CG$338,\">3\")","v":103},{"$f":"COUNTIFS($CO$2:$CO$338,ON11,$CN$2:$CN$338,ON12,$CT$2:$CT$338,\"V\",$CG$2:$CG$338,\">3\")","v":77},{"$f":"$CO2","v":"50"},1,1,"500.1009",{"$f":"SUM(OS11:OT11)","v":0},{"$f":"COUNTIFS($CO$2:$CO$338,OW11,$CN$2:$CN$338,OW12,$J$2:$J$338,\"M\",$CH$2:$CH$338,\">3\")","v":0},{"$f":"COUNTIFS($CO$2:$CO$338,OW11,$CN$2:$CN$338,OW12,$J$2:$J$338,\"F\",$CH$2:$CH$338,\">3\")","v":0},{"$f":"COUNTIFS($CO$2:$CO$338,OW11,$CN$2:$CN$338,OW12,$CT$2:$CT$338,\"J\",$CH$2:$CH$338,\">3\")","v":0},{"$f":"COUNTIFS($CO$2:$CO$338,OW11,$CN$2:$CN$338,OW12,$CT$2:$CT$338,\"V\",$CH$2:$CH$338,\">3\")","v":0},{"$f":"$CO2","v":"50"},null,null,"500.1009",{"$f":"SUM(PB11:PC11)","v":173},{"$f":"COUNTIFS($CO$2:$CO$338,PF11,$CN$2:$CN$338,PF12,$J$2:$J$338,\"M\",$CI$2:$CI$338,\">3\")","v":94},{"$f":"COUNTIFS($CO$2:$CO$338,PF11,$CN$2:$CN$338,PF12,$J$2:$J$338,\"F\",$CI$2:$CI$338,\">3\")","v":79},{"$f":"COUNTIFS($CO$2:$CO$338,PF11,$CN$2:$CN$338,PF12,$CT$2:$CT$338,\"J\",$CI$2:$CI$338,\">3\")","v":97},{"$f":"COUNTIFS($CO$2:$CO$338,PF11,$CN$2:$CN$338,PF12,$CT$2:$CT$338,\"V\",$CI$2:$CI$338,\">3\")","v":76},{"$f":"$CO2","v":"50"},1,1]
["2010","001","501",null,null,0,"2000-07-30",null,null,"F",80,75,0,80,75,85,80,85,90,0,0,90,0,0,0,0,80,75,0,80,80,75,85,85,85,80,80,75,0,0,0,0,70,65,0,70,80,60,60,75,70,60,55,65,0,0,0,0,70,77,0,77,73,65,73,75,62,65,73,78,80,75,92,68,null,53.333333333333336,81.25,0,78.333333333333329,81.25,80,0,68.333333333333329,68.75,62.5,0,74.25,null,null,null,"001501","0.100","50",{"$f":"Tableau_SSRSMSA03_BI_Integration_STEPH_2010[[#This Row],[DAT_NAISSANCE_ELEVE]]","v":"2000-07-30"},"2009-09-30",3349,9.1690622861054081,{"$f":"IF(AND(LEFT(CO12,1)=\"1\",CS12>5.5),\"V\",IF(AND(LEFT(CO12,1)=\"2\",CS12>6.5),\"V\",IF(AND(LEFT(CO12,1)=\"3\",CS12>7.5),\"V\",IF(AND(LEFT(CO12,1)=\"4\",CS12>8.5),\"V\",IF(AND(LEFT(CO12,1)=\"5\",CS12>9.5),\"V\",IF(AND(LEFT(CO12,1)=\"6\",CS12>10.5),\"V\",\"J\"))))))","v":"J"},{"$f":"IF(AJ12=0,0,IF(BH12=0,0,1))","v":1},{"$f":"DC11&DC12&10","v":"500.10010"},"moy def niveau",{"$f":"IF(CX4<5,\"\",((CY12*CY11)+(CZ12*CZ11))/CX11)","v":81.574074074074076},{"$f":"IF(CX4<5,\"\",SUMPRODUCT((($CO$2:$CO$338=DC11)*($CN$2:$CN$338=DC12)*($J$2:$J$338=\"M\")*($AJ$2:$AJ$338)))/CY11)","v":80.50561797752809},{"$f":"IF(CX4<5,\"\",SUMPRODUCT((($CO$2:$CO$338=DC11)*($CN$2:$CN$338=DC12)*($J$2:$J$338=\"F\")*($AJ$2:$AJ$338)))/CZ11)","v":82.876712328767127},{"$f":"IF(CX4<5,\"\",SUMPRODUCT((($CO$2:$CO$338=DC11)*($CN$2:$CN$338=DC12)*($CT$2:$CT$338=\"J\")*($AJ$2:$AJ$338)))/DA11)","v":81.881720430107521},{"$f":"IF(CX4<5,\"\",SUMPRODUCT((($CO$2:$CO$338=DC11)*($CN$2:$CN$338=DC12)*($CT$2:$CT$338=\"V\")*($AJ$2:$AJ$338)))/DB11)","v":81.159420289855078},{"$f":"$CN2","v":"0.100"},2,2,"500.10010",{"$f":"IF(DG4<5,\"\",((DH12*DH11)+(DI12*DI11))/DG11)","v":""},{"$f":"IF(DG4<5,\"\",SUMPRODUCT((($CO$2:$CO$338=DL11)*($CN$2:$CN$338=DL12)*($J$2:$J$338=\"M\")*($AN$2:$AN$338)))/DH11)","v":""},{"$f":"IF(DG4<5,\"\",SUMPRODUCT((($CO$2:$CO$338=DL11)*($CN$2:$CN$338=DL12)*($J$2:$J$338=\"F\")*($AN$2:$AN$338)))/DI11)","v":""},{"$f":"IF(DG4<5,\"\",SUMPRODUCT((($CO$2:$CO$338=DL11)*($CN$2:$CN$338=DL12)*($CT$2:$CT$338=\"J\")*($AN$2:$AN$338)))/DJ11)","v":""},{"$f":"IF(DG4<5,\"\",SUMPRODUCT((($CO$2:$CO$338=DL11)*($CN$2:$CN$338=DL12)*($CT$2:$CT$338=\"V\")*($AN$2:$AN$338)))/DK11)","v":""},{"$f":"$CN2","v":"0.100"},null,null,"500.10010",{"$f":"IF(DP4<5,\"\",((DQ12*DQ11)+(DR12*DR11))/DP11)","v":79.406779661016955},{"$f":"IF(DP4<5,\"\",SUMPRODUCT((($CO$2:$CO$338=DU11)*($CN$2:$CN$338=DU12)*($J$2:$J$338=\"M\")*($AR$2:$AR$338)))/DQ11)","v":78.724489795918373},{"$f":"IF(DP4<5,\"\",SUMPRODUCT((($CO$2:$CO$338=DU11)*($CN$2:$CN$338=DU12)*($J$2:$J$338=\"F\")*($AR$2:$AR$338)))/DR11)","v":80.25316455696202},{"$f":"IF(DP4<5,\"\",SUMPRODUCT((($CO$2:$CO$338=DU11)*($CN$2:$CN$338=DU12)*($CT$2:$CT$338=\"J\")*($AR$2:$AR$338)))/DS11)","v":79.356435643564353},{"$f":"IF(DP4<5,\"\",SUMPRODUCT((($CO$2:$CO$338=DU11)*($CN$2:$CN$338=DU12)*($CT$2:$CT$338=\"V\")*($AR$2:$AR$338)))/DT11)","v":79.473684210526315},{"$f":"$CN2","v":"0.100"},3,6,"500.10010",{"$f":"IF(DY4<5,\"\",((DZ12*DZ11)+(EA12*EA11))/DY11)","v":77.977528089887642},{"$f":"IF(DY4<5,\"\",SUMPRODUCT((($CO$2:$CO$338=ED11)*($CN$2:$CN$338=ED12)*($J$2:$J$338=\"M\")*($AV$2:$AV$338)))/DZ11)","v":77.37373737373737},{"$f":"IF(DY4<5,\"\",SUMPRODUCT((($CO$2:$CO$338=ED11)*($CN$2:$CN$338=ED12)*($J$2:$J$338=\"F\")*($AV$2:$AV$338)))/EA11)","v":78.734177215189874},{"$f":"IF(DY4<5,\"\",SUMPRODUCT((($CO$2:$CO$338=ED11)*($CN$2:$CN$338=ED12)*($CT$2:$CT$338=\"J\")*($AV$2:$AV$338)))/EB11)","v":77.745098039215691},{"$f":"IF(DY4<5,\"\",SUMPRODUCT((($CO$2:$CO$338=ED11)*($CN$2:$CN$338=ED12)*($CT$2:$CT$338=\"V\")*($AV$2:$AV$338)))/EC11)","v":78.28947368421052},{"$f":"$CN2","v":"0.100"},4,6,"500.10010",{"$f":"IF(EH4<5,\"\",((EI12*EI11)+(EJ12*EJ11))/EH11)","v":78.527777777777771},{"$f":"IF(EH4<5,\"\",SUMPRODUCT((($CO$2:$CO$338=EM11)*($CN$2:$CN$338=EM12)*($J$2:$J$338=\"M\")*($AZ$2:$AZ$338)))/EI11)","v":78.282828282828277},{"$f":"IF(EH4<5,\"\",SUMPRODUCT((($CO$2:$CO$338=EM11)*($CN$2:$CN$338=EM12)*($J$2:$J$338=\"F\")*($AZ$2:$AZ$338)))/EJ11)","v":78.827160493827165},{"$f":"IF(EH4<5,\"\",SUMPRODUCT((($CO$2:$CO$338=EM11)*($CN$2:$CN$338=EM12)*($CT$2:$CT$338=\"J\")*($AZ$2:$AZ$338)))/EK11)","v":78.834951456310677},{"$f":"IF(EH4<5,\"\",SUMPRODUCT((($CO$2:$CO$338=EM11)*($CN$2:$CN$338=EM12)*($CT$2:$CT$338=\"V\")*($AZ$2:$AZ$338)))/EL11)","v":78.116883116883116},{"$f":"$CN2","v":"0.100"},4,6,"500.10010",{"$f":"IF(EQ4<5,\"\",((ER12*ER11)+(ES12*ES11))/EQ11)","v":""},{"$f":"IF(EQ4<5,\"\",SUMPRODUCT((($CO$2:$CO$338=EV11)*($CN$2:$CN$338=EV12)*($J$2:$J$338=\"M\")*($BD$2:$BD$338)))/ER11)","v":""},{"$f":"IF(EQ4<5,\"\",SUMPRODUCT((($CO$2:$CO$338=EV11)*($CN$2:$CN$338=EV12)*($J$2:$J$338=\"F\")*($BD$2:$BD$338)))/ES11)","v":""},{"$f":"IF(EQ4<5,\"\",SUMPRODUCT((($CO$2:$CO$338=EV11)*($CN$2:$CN$338=EV12)*($CT$2:$CT$338=\"J\")*($BD$2:$BD$338)))/ET11)","v":""},{"$f":"IF(EQ4<5,\"\",SUMPRODUCT((($CO$2:$CO$338=EV11)*($CN$2:$CN$338=EV12)*($CT$2:$CT$338=\"V\")*($BD$2:$BD$338)))/EU11)","v":""},{"$f":"$CN2","v":"0.100"},null,null,"500.10010",{"$f":"IF(EZ4<5,\"\",((FA12*FA11)+(FB12*FB11))/EZ11)","v":76.595375722543352},{"$f":"IF(EZ4<5,\"\",SUMPRODUCT((($CO$2:$CO$338=FE11)*($CN$2:$CN$338=FE12)*($J$2:$J$338=\"M\")*($BH$2:$BH$338)))/FA11)","v":76.159574468085111},{"$f":"IF(EZ4<5,\"\",SUMPRODUCT((($CO$2:$CO$338=FE11)*($CN$2:$CN$338=FE12)*($J$2:$J$338=\"F\")*($BH$2:$BH$338)))/FB11)","v":77.113924050632917},{"$f":"IF(EZ4<5,\"\",SUMPRODUCT((($CO$2:$CO$338=FE11)*($CN$2:$CN$338=FE12)*($CT$2:$CT$338=\"J\")*($BH$2:$BH$338)))/FC11)","v":77.103092783505161},{"$f":"IF(EZ4<5,\"\",SUMPRODUCT((($CO$2:$CO$338=FE11)*($CN$2:$CN$338=FE12)*($CT$2:$CT$338=\"V\")*($BH$2:$BH$338)))/FD11)","v":75.94736842105263},{"$f":"$CN2","v":"0.100"},2,2,"500.10010",{"$f":"IF(FI4<5,\"\",((FJ12*FJ11)+(FK12*FK11))/FI11)","v":78.981481481481481},{"$f":"IF(FI4<5,\"\",SUMPRODUCT((($CO$2:$CO$338=FN11)*($CN$2:$CN$338=FN12)*($J$2:$J$338=\"M\")*($AI$2:$AI$338)))/FJ11)","v":77.921348314606746},{"$f":"IF(FI4<5,\"\",SUMPRODUCT((($CO$2:$CO$338=FN11)*($CN$2:$CN$338=FN12)*($J$2:$J$338=\"F\")*($AI$2:$AI$338)))/FK11)","v":80.273972602739732},{"$f":"IF(FI4<5,\"\",SUMPRODUCT((($CO$2:$CO$338=FN11)*($CN$2:$CN$338=FN12)*($CT$2:$CT$338=\"J\")*($AI$2:$AI$338)))/FL11)","v":78.333333333333329},{"$f":"IF(FI4<5,\"\",SUMPRODUCT((($CO$2:$CO$338=FN11)*($CN$2:$CN$338=FN12)*($CT$2:$CT$338=\"V\")*($AI$2:$AI$338)))/FM11)","v":79.85507246376811},{"$f":"$CN2","v":"0.100"},1,2,"500.10010",{"$f":"IF(FR4<5,\"\",((FS12*FS11)+(FT12*FT11))/FR11)","v":""},{"$f":"IF(FR4<5,\"\",SUMPRODUCT((($CO$2:$CO$338=FW11)*($CN$2:$CN$338=FW12)*($J$2:$J$338=\"M\")*($AM$2:$AM$338)))/FS11)","v":""},{"$f":"IF(FR4<5,\"\",SUMPRODUCT((($CO$2:$CO$338=FW11)*($CN$2:$CN$338=FW12)*($J$2:$J$338=\"F\")*($AM$2:$AM$338)))/FT11)","v":""},{"$f":"IF(FR4<5,\"\",SUMPRODUCT((($CO$2:$CO$338=FW11)*($CN$2:$CN$338=FW12)*($CT$2:$CT$338=\"J\")*($AM$2:$AM$338)))/FU11)","v":""},{"$f":"IF(FR4<5,\"\",SUMPRODUCT((($CO$2:$CO$338=FW11)*($CN$2:$CN$338=FW12)*($CT$2:$CT$338=\"V\")*($AM$2:$AM$338)))/FV11)","v":""},{"$f":"$CN2","v":"0.100"},null,null,"500.10010",{"$f":"IF(GA4<5,\"\",((GB12*GB11)+(GC12*GC11))/GA11)","v":74.435028248587571},{"$f":"IF(GA4<5,\"\",SUMPRODUCT((($CO$2:$CO$338=GF11)*($CN$2:$CN$338=GF12)*($J$2:$J$338=\"M\")*($AQ$2:$AQ$338)))/GB11)","v":72.602040816326536},{"$f":"IF(GA4<5,\"\",SUMPRODUCT((($CO$2:$CO$338=GF11)*($CN$2:$CN$338=GF12)*($J$2:$J$338=\"F\")*($AQ$2:$AQ$338)))/GC11)","v":76.708860759493675},{"$f":"IF(GA4<5,\"\",SUMPRODUCT((($CO$2:$CO$338=GF11)*($CN$2:$CN$338=GF12)*($CT$2:$CT$338=\"J\")*($AQ$2:$AQ$338)))/GD11)","v":75.396039603960389},{"$f":"IF(GA4<5,\"\",SUMPRODUCT((($CO$2:$CO$338=GF11)*($CN$2:$CN$338=GF12)*($CT$2:$CT$338=\"V\")*($AQ$2:$AQ$338)))/GE11)","v":73.15789473684211},{"$f":"$CN2","v":"0.100"},2,3,"500.10010",{"$f":"IF(GJ4<5,\"\",((GK12*GK11)+(GL12*GL11))/GJ11)","v":77.230337078651687},{"$f":"IF(GJ4<5,\"\",SUMPRODUCT((($CO$2:$CO$338=GO11)*($CN$2:$CN$338=GO12)*($J$2:$J$338=\"M\")*($AU$2:$AU$338)))/GK11)","v":75.474747474747474},{"$f":"IF(GJ4<5,\"\",SUMPRODUCT((($CO$2:$CO$338=GO11)*($CN$2:$CN$338=GO12)*($J$2:$J$338=\"F\")*($AU$2:$AU$338)))/GL11)","v":79.430379746835442},{"$f":"IF(GJ4<5,\"\",SUMPRODUCT((($CO$2:$CO$338=GO11)*($CN$2:$CN$338=GO12)*($CT$2:$CT$338=\"J\")*($AU$2:$AU$338)))/GM11)","v":77.32352941176471},{"$f":"IF(GJ4<5,\"\",SUMPRODUCT((($CO$2:$CO$338=GO11)*($CN$2:$CN$338=GO12)*($CT$2:$CT$338=\"V\")*($AU$2:$AU$338)))/GN11)","v":77.10526315789474},{"$f":"$CN2","v":"0.100"},2,2,"500.10010",{"$f":"IF(GS4<5,\"\",((GT12*GT11)+(GU12*GU11))/GS11)","v":79.666666666666671},{"$f":"IF(GS4<5,\"\",SUMPRODUCT((($CO$2:$CO$338=GX11)*($CN$2:$CN$338=GX12)*($J$2:$J$338=\"M\")*($AY$2:$AY$338)))/GT11)","v":78.131313131313135},{"$f":"IF(GS4<5,\"\",SUMPRODUCT((($CO$2:$CO$338=GX11)*($CN$2:$CN$338=GX12)*($J$2:$J$338=\"F\")*($AY$2:$AY$338)))/GU11)","v":81.543209876543216},{"$f":"IF(GS4<5,\"\",SUMPRODUCT((($CO$2:$CO$338=GX11)*($CN$2:$CN$338=GX12)*($CT$2:$CT$338=\"J\")*($AY$2:$AY$338)))/GV11)","v":80},{"$f":"IF(GS4<5,\"\",SUMPRODUCT((($CO$2:$CO$338=GX11)*($CN$2:$CN$338=GX12)*($CT$2:$CT$338=\"V\")*($AY$2:$AY$338)))/GW11)","v":79.220779220779221},{"$f":"$CN2","v":"0.100"},3,3,"500.10010",{"$f":"IF(HB4<5,\"\",((HC12*HC11)+(HD12*HD11))/HB11)","v":""},{"$f":"IF(HB4<5,\"\",SUMPRODUCT((($CO$2:$CO$338=HG11)*($CN$2:$CN$338=HG12)*($J$2:$J$338=\"M\")*($BC$2:$BC$338)))/HC11)","v":""},{"$f":"IF(HB4<5,\"\",SUMPRODUCT((($CO$2:$CO$338=HG11)*($CN$2:$CN$338=HG12)*($J$2:$J$338=\"F\")*($BC$2:$BC$338)))/HD11)","v":""},{"$f":"IF(HB4<5,\"\",SUMPRODUCT((($CO$2:$CO$338=HG11)*($CN$2:$CN$338=HG12)*($CT$2:$CT$338=\"J\")*($BC$2:$BC$338)))/HE11)","v":""},{"$f":"IF(HB4<5,\"\",SUMPRODUCT((($CO$2:$CO$338=HG11)*($CN$2:$CN$338=HG12)*($CT$2:$CT$338=\"V\")*($BC$2:$BC$338)))/HF11)","v":""},{"$f":"$CN2","v":"0.100"},null,null,"500.10010",{"$f":"IF(HK4<5,\"\",((HL12*HL11)+(HM12*HM11))/HK11)","v":77.676300578034684},{"$f":"IF(HK4<5,\"\",SUMPRODUCT((($CO$2:$CO$338=HP11)*($CN$2:$CN$338=HP12)*($J$2:$J$338=\"M\")*($BG$2:$BG$338)))/HL11)","v":75.829787234042556},{"$f":"IF(HK4<5,\"\",SUMPRODUCT((($CO$2:$CO$338=HP11)*($CN$2:$CN$338=HP12)*($J$2:$J$338=\"F\")*($BG$2:$BG$338)))/HM11)","v":79.87341772151899},{"$f":"IF(HK4<5,\"\",SUMPRODUCT((($CO$2:$CO$338=HP11)*($CN$2:$CN$338=HP12)*($CT$2:$CT$338=\"J\")*($BG$2:$BG$338)))/HN11)","v":78.515463917525778},{"$f":"IF(HK4<5,\"\",SUMPRODUCT((($CO$2:$CO$338=HP11)*($CN$2:$CN$338=HP12)*($CT$2:$CT$338=\"V\")*($BG$2:$BG$338)))/HO11)","v":76.60526315789474},{"$f":"$CN2","v":"0.100"},2,3,"500.10010",{"$f":"IF(HT4<5,\"\",((HU12*HU11)+(HV12*HV11))/HT11)","v":82.642424242424241},{"$f":"IF(HT4<5,\"\",SUMPRODUCT((($CO$2:$CO$338=HY11)*($CN$2:$CN$338=HY12)*($J$2:$J$338=\"M\")*($AL$2:$AL$338)))/HU11)","v":82.64835164835165},{"$f":"IF(HT4<5,\"\",SUMPRODUCT((($CO$2:$CO$338=HY11)*($CN$2:$CN$338=HY12)*($J$2:$J$338=\"F\")*($AL$2:$AL$338)))/HV11)","v":82.63513513513513},{"$f":"IF(HT4<5,\"\",SUMPRODUCT((($CO$2:$CO$338=HY11)*($CN$2:$CN$338=HY12)*($CT$2:$CT$338=\"J\")*($AL$2:$AL$338)))/HW11)","v":82.765957446808514},{"$f":"IF(HT4<5,\"\",SUMPRODUCT((($CO$2:$CO$338=HY11)*($CN$2:$CN$338=HY12)*($CT$2:$CT$338=\"V\")*($AL$2:$AL$338)))/HX11)","v":82.478873239436624},{"$f":"$CN2","v":"0.100"},4,2,"500.10010",{"$f":"IF(IC4<5,\"\",((ID12*ID11)+(IE12*IE11))/IC11)","v":""},{"$f":"IF(IC4<5,\"\",SUMPRODUCT((($CO$2:$CO$338=IH11)*($CN$2:$CN$338=IH12)*($J$2:$J$338=\"M\")*($AP$2:$AP$338)))/ID11)","v":""},{"$f":"IF(IC4<5,\"\",SUMPRODUCT((($CO$2:$CO$338=IH11)*($CN$2:$CN$338=IH12)*($J$2:$J$338=\"F\")*($AP$2:$AP$338)))/IE11)","v":""},{"$f":"IF(IC4<5,\"\",SUMPRODUCT((($CO$2:$CO$338=IH11)*($CN$2:$CN$338=IH12)*($CT$2:$CT$338=\"J\")*($AP$2:$AP$338)))/IF11)","v":""},{"$f":"IF(IC4<5,\"\",SUMPRODUCT((($CO$2:$CO$338=IH11)*($CN$2:$CN$338=IH12)*($CT$2:$CT$338=\"V\")*($AP$2:$AP$338)))/IG11)","v":""},{"$f":"$CN2","v":"0.100"},null,null,"500.10010",{"$f":"IF(IL4<5,\"\",((IM12*IM11)+(IN12*IN11))/IL11)","v":80},{"$f":"IF(IL4<5,\"\",SUMPRODUCT((($CO$2:$CO$338=IQ11)*($CN$2:$CN$338=IQ12)*($J$2:$J$338=\"M\")*($AT$2:$AT$338)))/IM11)","v":80.306122448979593},{"$f":"IF(IL4<5,\"\",SUMPRODUCT((($CO$2:$CO$338=IQ11)*($CN$2:$CN$338=IQ12)*($J$2:$J$338=\"F\")*($AT$2:$AT$338)))/IN11)","v":79.620253164556956},{"$f":"IF(IL4<5,\"\",SUMPRODUCT((($CO$2:$CO$338=IQ11)*($CN$2:$CN$338=IQ12)*($CT$2:$CT$338=\"J\")*($AT$2:$AT$338)))/IO11)","v":80.099009900990097},{"$f":"IF(IL4<5,\"\",SUMPRODUCT((($CO$2:$CO$338=IQ11)*($CN$2:$CN$338=IQ12)*($CT$2:$CT$338=\"V\")*($AT$2:$AT$338)))/IP11)","v":79.868421052631575},{"$f":"$CN2","v":"0.100"},2,3,"500.10010",{"$f":"IF(IU4<5,\"\",((IV12*IV11)+(IW12*IW11))/IU11)","v":79.887640449438209},{"$f":"IF(IU4<5,\"\",SUMPRODUCT((($CO$2:$CO$338=IZ11)*($CN$2:$CN$338=IZ12)*($J$2:$J$338=\"M\")*($AX$2:$AX$338)))/IV11)","v":80.151515151515156},{"$f":"IF(IU4<5,\"\",SUMPRODUCT((($CO$2:$CO$338=IZ11)*($CN$2:$CN$338=IZ12)*($J$2:$J$338=\"F\")*($AX$2:$AX$338)))/IW11)","v":79.556962025316452},{"$f":"IF(IU4<5,\"\",SUMPRODUCT((($CO$2:$CO$338=IZ11)*($CN$2:$CN$338=IZ12)*($CT$2:$CT$338=\"J\")*($AX$2:$AX$338)))/IX11)","v":79.313725490196077},{"$f":"IF(IU4<5,\"\",SUMPRODUCT((($CO$2:$CO$338=IZ11)*($CN$2:$CN$338=IZ12)*($CT$2:$CT$338=\"V\")*($AX$2:$AX$338)))/IY11)","v":80.65789473684211},{"$f":"$CN2","v":"0.100"},2,2,"500.10010",{"$f":"IF(JD4<5,\"\",((JE12*JE11)+(JF12*JF11))/JD11)","v":78.944444444444443},{"$f":"IF(JD4<5,\"\",SUMPRODUCT((($CO$2:$CO$338=JI11)*($CN$2:$CN$338=JI12)*($J$2:$J$338=\"M\")*($BB$2:$BB$338)))/JE11)","v":79.848484848484844},{"$f":"IF(JD4<5,\"\",SUMPRODUCT((($CO$2:$CO$338=JI11)*($CN$2:$CN$338=JI12)*($J$2:$J$338=\"F\")*($BB$2:$BB$338)))/JF11)","v":77.839506172839506},{"$f":"IF(JD4<5,\"\",SUMPRODUCT((($CO$2:$CO$338=JI11)*($CN$2:$CN$338=JI12)*($CT$2:$CT$338=\"J\")*($BB$2:$BB$338)))/JG11)","v":79.417475728155338},{"$f":"IF(JD4<5,\"\",SUMPRODUCT((($CO$2:$CO$338=JI11)*($CN$2:$CN$338=JI12)*($CT$2:$CT$338=\"V\")*($BB$2:$BB$338)))/JH11)","v":78.311688311688314},{"$f":"$CN2","v":"0.100"},2,6,"500.10010",{"$f":"IF(JM4<5,\"\",((JN12*JN11)+(JO12*JO11))/JM11)","v":""},{"$f":"IF(JM4<5,\"\",SUMPRODUCT((($CO$2:$CO$338=JR11)*($CN$2:$CN$338=JR12)*($J$2:$J$338=\"M\")*($BF$2:$BF$338)))/JN11)","v":""},{"$f":"IF(JM4<5,\"\",SUMPRODUCT((($CO$2:$CO$338=JR11)*($CN$2:$CN$338=JR12)*($J$2:$J$338=\"F\")*($BF$2:$BF$338)))/JO11)","v":""},{"$f":"IF(JM4<5,\"\",SUMPRODUCT((($CO$2:$CO$338=JR11)*($CN$2:$CN$338=JR12)*($CT$2:$CT$338=\"J\")*($BF$2:$BF$338)))/JP11)","v":""},{"$f":"IF(JM4<5,\"\",SUMPRODUCT((($CO$2:$CO$338=JR11)*($CN$2:$CN$338=JR12)*($CT$2:$CT$338=\"V\")*($BF$2:$BF$338)))/JQ11)","v":""},{"$f":"$CN2","v":"0.100"},null,null,"500.10010",{"$f":"IF(JV4<5,\"\",((JW12*JW11)+(JX12*JX11))/JV11)","v":79.959537572254334},{"$f":"IF(JV4<5,\"\",SUMPRODUCT((($CO$2:$CO$338=KA11)*($CN$2:$CN$338=KA12)*($J$2:$J$338=\"M\")*($BJ$2:$BJ$338)))/JW11)","v":80.255319148936167},{"$f":"IF(JV4<5,\"\",SUMPRODUCT((($CO$2:$CO$338=KA11)*($CN$2:$CN$338=KA12)*($J$2:$J$338=\"F\")*($BJ$2:$BJ$338)))/JX11)","v":79.607594936708864},{"$f":"IF(JV4<5,\"\",SUMPRODUCT((($CO$2:$CO$338=KA11)*($CN$2:$CN$338=KA12)*($CT$2:$CT$338=\"J\")*($BJ$2:$BJ$338)))/JY11)","v":79.907216494845358},{"$f":"IF(JV4<5,\"\",SUMPRODUCT((($CO$2:$CO$338=KA11)*($CN$2:$CN$338=KA12)*($CT$2:$CT$338=\"V\")*($BJ$2:$BJ$338)))/JZ11)","v":80.026315789473685},{"$f":"$CN2","v":"0.100"},2,2,"500.10010",{"$f":"IF(KE4<5,\"\",((KF12*KF11)+(KG12*KG11))/KE11)","v":78.5},{"$f":"IF(KE4<5,\"\",SUMPRODUCT((($CO$2:$CO$338=KJ11)*($CN$2:$CN$338=KJ12)*($J$2:$J$338=\"M\")*($AK$2:$AK$338)))/KF11)","v":78.730337078651687},{"$f":"IF(KE4<5,\"\",SUMPRODUCT((($CO$2:$CO$338=KJ11)*($CN$2:$CN$338=KJ12)*($J$2:$J$338=\"F\")*($AK$2:$AK$338)))/KG11)","v":78.219178082191775},{"$f":"IF(KE4<5,\"\",SUMPRODUCT((($CO$2:$CO$338=KJ11)*($CN$2:$CN$338=KJ12)*($CT$2:$CT$338=\"J\")*($AK$2:$AK$338)))/KH11)","v":78.333333333333329},{"$f":"IF(KE4<5,\"\",SUMPRODUCT((($CO$2:$CO$338=KJ11)*($CN$2:$CN$338=KJ12)*($CT$2:$CT$338=\"V\")*($AK$2:$AK$338)))/KI11)","v":78.724637681159422},{"$f":"$CN2","v":"0.100"},2,2,"500.10010",{"$f":"IF(KN4<5,\"\",((KO12*KO11)+(KP12*KP11))/KN11)","v":""},{"$f":"IF(KN4<5,\"\",SUMPRODUCT((($CO$2:$CO$338=KS11)*($CN$2:$CN$338=KS12)*($J$2:$J$338=\"M\")*($AO$2:$AO$338)))/KO11)","v":""},{"$f":"IF(KN4<5,\"\",SUMPRODUCT((($CO$2:$CO$338=KS11)*($CN$2:$CN$338=KS12)*($J$2:$J$338=\"F\")*($AO$2:$AO$338)))/KP11)","v":""},{"$f":"IF(KN4<5,\"\",SUMPRODUCT((($CO$2:$CO$338=KS11)*($CN$2:$CN$338=KS12)*($CT$2:$CT$338=\"J\")*($AO$2:$AO$338)))/KQ11)","v":""},{"$f":"IF(KN4<5,\"\",SUMPRODUCT((($CO$2:$CO$338=KS11)*($CN$2:$CN$338=KS12)*($CT$2:$CT$338=\"V\")*($AO$2:$AO$338)))/KR11)","v":""},{"$f":"$CN2","v":"0.100"},null,null,"500.10010",{"$f":"IF(KW4<5,\"\",((KX12*KX11)+(KY12*KY11))/KW11)","v":""},{"$f":"IF(KW4<5,\"\",SUMPRODUCT((($CO$2:$CO$338=LB11)*($CN$2:$CN$338=LB12)*($J$2:$J$338=\"M\")*($AS$2:$AS$338)))/KX11)","v":""},{"$f":"IF(KW4<5,\"\",SUMPRODUCT((($CO$2:$CO$338=LB11)*($CN$2:$CN$338=LB12)*($J$2:$J$338=\"F\")*($AS$2:$AS$338)))/KY11)","v":""},{"$f":"IF(KW4<5,\"\",SUMPRODUCT((($CO$2:$CO$338=LB11)*($CN$2:$CN$338=LB12)*($CT$2:$CT$338=\"J\")*($AS$2:$AS$338)))/KZ11)","v":""},{"$f":"IF(KW4<5,\"\",SUMPRODUCT((($CO$2:$CO$338=LB11)*($CN$2:$CN$338=LB12)*($CT$2:$CT$338=\"V\")*($AS$2:$AS$338)))/LA11)","v":""},{"$f":"$CN2","v":"0.100"},null,null,"500.10010",{"$f":"IF(LF4<5,\"\",((LG12*LG11)+(LH12*LH11))/LF11)","v":77.634831460674164},{"$f":"IF(LF4<5,\"\",SUMPRODUCT((($CO$2:$CO$338=LK11)*($CN$2:$CN$338=LK12)*($J$2:$J$338=\"M\")*($AW$2:$AW$338)))/LG11)","v":77.070707070707073},{"$f":"IF(LF4<5,\"\",SUMPRODUCT((($CO$2:$CO$338=LK11)*($CN$2:$CN$338=LK12)*($J$2:$J$338=\"F\")*($AW$2:$AW$338)))/LH11)","v":78.341772151898738},{"$f":"IF(LF4<5,\"\",SUMPRODUCT((($CO$2:$CO$338=LK11)*($CN$2:$CN$338=LK12)*($CT$2:$CT$338=\"J\")*($AW$2:$AW$338)))/LI11)","v":75.872549019607845},{"$f":"IF(LF4<5,\"\",SUMPRODUCT((($CO$2:$CO$338=LK11)*($CN$2:$CN$338=LK12)*($CT$2:$CT$338=\"V\")*($AW$2:$AW$338)))/LJ11)","v":80},{"$f":"$CN2","v":"0.100"},3,6,"500.10010",{"$f":"IF(LO4<5,\"\",((LP12*LP11)+(LQ12*LQ11))/LO11)","v":79.361111111111114},{"$f":"IF(LO4<5,\"\",SUMPRODUCT((($CO$2:$CO$338=LT11)*($CN$2:$CN$338=LT12)*($J$2:$J$338=\"M\")*($BA$2:$BA$338)))/LP11)","v":78.282828282828277},{"$f":"IF(LO4<5,\"\",SUMPRODUCT((($CO$2:$CO$338=LT11)*($CN$2:$CN$338=LT12)*($J$2:$J$338=\"F\")*($BA$2:$BA$338)))/LQ11)","v":80.679012345679013},{"$f":"IF(LO4<5,\"\",SUMPRODUCT((($CO$2:$CO$338=LT11)*($CN$2:$CN$338=LT12)*($CT$2:$CT$338=\"J\")*($BA$2:$BA$338)))/LR11)","v":78.446601941747574},{"$f":"IF(LO4<5,\"\",SUMPRODUCT((($CO$2:$CO$338=LT11)*($CN$2:$CN$338=LT12)*($CT$2:$CT$338=\"V\")*($BA$2:$BA$338)))/LS11)","v":80.584415584415581},{"$f":"$CN2","v":"0.100"},3,4,"500.10010",{"$f":"IF(LX4<5,\"\",((LY12*LY11)+(LZ12*LZ11))/LX11)","v":""},{"$f":"IF(LX4<5,\"\",SUMPRODUCT((($CO$2:$CO$338=MC11)*($CN$2:$CN$338=MC12)*($J$2:$J$338=\"M\")*($BE$2:$BE$338)))/LY11)","v":""},{"$f":"IF(LX4<5,\"\",SUMPRODUCT((($CO$2:$CO$338=MC11)*($CN$2:$CN$338=MC12)*($J$2:$J$338=\"F\")*($BE$2:$BE$338)))/LZ11)","v":""},{"$f":"IF(LX4<5,\"\",SUMPRODUCT((($CO$2:$CO$338=MC11)*($CN$2:$CN$338=MC12)*($CT$2:$CT$338=\"J\")*($BE$2:$BE$338)))/MA11)","v":""},{"$f":"IF(LX4<5,\"\",SUMPRODUCT((($CO$2:$CO$338=MC11)*($CN$2:$CN$338=MC12)*($CT$2:$CT$338=\"V\")*($BE$2:$BE$338)))/MB11)","v":""},{"$f":"$CN2","v":"0.100"},null,null,"500.10010",{"$f":"IF(MG4<5,\"\",((MH12*MH11)+(MI12*MI11))/MG11)","v":""},{"$f":"IF(MG4<5,\"\",SUMPRODUCT((($CO$2:$CO$338=ML11)*($CN$2:$CN$338=ML12)*($J$2:$J$338=\"M\")*($BI$2:$BI$338)))/MH11)","v":""},{"$f":"IF(MG4<5,\"\",SUMPRODUCT((($CO$2:$CO$338=ML11)*($CN$2:$CN$338=ML12)*($J$2:$J$338=\"F\")*($BI$2:$BI$338)))/MI11)","v":""},{"$f":"IF(MG4<5,\"\",SUMPRODUCT((($CO$2:$CO$338=ML11)*($CN$2:$CN$338=ML12)*($CT$2:$CT$338=\"J\")*($BI$2:$BI$338)))/MJ11)","v":""},{"$f":"IF(MG4<5,\"\",SUMPRODUCT((($CO$2:$CO$338=ML11)*($CN$2:$CN$338=ML12)*($CT$2:$CT$338=\"V\")*($BI$2:$BI$338)))/MK11)","v":""},{"$f":"$CN2","v":"0.100"},null,null,"500.10010",{"$f":"IF(MP4<5,\"\",((MQ12*MQ11)+(MR12*MR11))/MP11)","v":74.048275862068962},{"$f":"IF(MP4<5,\"\",SUMPRODUCT((($CO$2:$CO$338=MU11)*($CN$2:$CN$338=MU12)*($J$2:$J$338=\"M\")*($BM$2:$BM$338)))/MQ11)","v":74.987499999999997},{"$f":"IF(MP4<5,\"\",SUMPRODUCT((($CO$2:$CO$338=MU11)*($CN$2:$CN$338=MU12)*($J$2:$J$338=\"F\")*($BM$2:$BM$338)))/MR11)","v":72.892307692307696},{"$f":"IF(MP4<5,\"\",SUMPRODUCT((($CO$2:$CO$338=MU11)*($CN$2:$CN$338=MU12)*($CT$2:$CT$338=\"J\")*($BM$2:$BM$338)))/MS11)","v":73.46913580246914},{"$f":"IF(MP4<5,\"\",SUMPRODUCT((($CO$2:$CO$338=MU11)*($CN$2:$CN$338=MU12)*($CT$2:$CT$338=\"V\")*($BM$2:$BM$338)))/MT11)","v":74.78125},{"$f":"$CN2","v":"0.100"},2,2,"500.10010",{"$f":"IF(MY4<5,\"\",((MZ12*MZ11)+(NA12*NA11))/MY11)","v":80.421296296296291},{"$f":"IF(MY4<5,\"\",SUMPRODUCT((($CO$2:$CO$338=ND11)*($CN$2:$CN$338=ND12)*($J$2:$J$338=\"M\")*($CC$2:$CC$338)))/MZ11)","v":79.938202247191015},{"$f":"IF(MY4<5,\"\",SUMPRODUCT((($CO$2:$CO$338=ND11)*($CN$2:$CN$338=ND12)*($J$2:$J$338=\"F\")*($CC$2:$CC$338)))/NA11)","v":81.010273972602747},{"$f":"IF(MY4<5,\"\",SUMPRODUCT((($CO$2:$CO$338=ND11)*($CN$2:$CN$338=ND12)*($CT$2:$CT$338=\"J\")*($CC$2:$CC$338)))/NB11)","v":80.30913978494624},{"$f":"IF(MY4<5,\"\",SUMPRODUCT((($CO$2:$CO$338=ND11)*($CN$2:$CN$338=ND12)*($CT$2:$CT$338=\"V\")*($CC$2:$CC$338)))/NC11)","v":80.572463768115938},{"$f":"$CN2","v":"0.100"},2,2,"500.10010",{"$f":"IF(NH4<5,\"\",((NI12*NI11)+(NJ12*NJ11))/NH11)","v":""},{"$f":"IF(NH4<5,\"\",SUMPRODUCT((($CO$2:$CO$338=NM11)*($CN$2:$CN$338=NM12)*($J$2:$J$338=\"M\")*($CD$2:$CD$338)))/NI11)","v":""},{"$f":"IF(NH4<5,\"\",SUMPRODUCT((($CO$2:$CO$338=NM11)*($CN$2:$CN$338=NM12)*($J$2:$J$338=\"F\")*($CD$2:$CD$338)))/NJ11)","v":""},{"$f":"IF(NH4<5,\"\",SUMPRODUCT((($CO$2:$CO$338=NM11)*($CN$2:$CN$338=NM12)*($CT$2:$CT$338=\"J\")*($CD$2:$CD$338)))/NK11)","v":""},{"$f":"IF(NH4<5,\"\",SUMPRODUCT((($CO$2:$CO$338=NM11)*($CN$2:$CN$338=NM12)*($CT$2:$CT$338=\"V\")*($CD$2:$CD$338)))/NL11)","v":""},{"$f":"$CN2","v":"0.100"},null,null,"500.10010",{"$f":"IF(NQ4<5,\"\",((NR12*NR11)+(NS12*NS11))/NQ11)","v":77.947269303201494},{"$f":"IF(NQ4<5,\"\",SUMPRODUCT((($CO$2:$CO$338=NV11)*($CN$2:$CN$338=NV12)*($J$2:$J$338=\"M\")*($CE$2:$CE$338)))/NR11)","v":77.210884353741477},{"$f":"IF(NQ4<5,\"\",SUMPRODUCT((($CO$2:$CO$338=NV11)*($CN$2:$CN$338=NV12)*($J$2:$J$338=\"F\")*($CE$2:$CE$338)))/NS11)","v":78.860759493670884},{"$f":"IF(NQ4<5,\"\",SUMPRODUCT((($CO$2:$CO$338=NV11)*($CN$2:$CN$338=NV12)*($CT$2:$CT$338=\"J\")*($CE$2:$CE$338)))/NT11)","v":78.283828382838266},{"$f":"IF(NQ4<5,\"\",SUMPRODUCT((($CO$2:$CO$338=NV11)*($CN$2:$CN$338=NV12)*($CT$2:$CT$338=\"V\")*($CE$2:$CE$338)))/NU11)","v":77.500000000000014},{"$f":"$CN2","v":"0.100"},3,3,"500.10010",{"$f":"IF(NZ4<5,\"\",((OA12*OA11)+(OB12*OB11))/NZ11)","v":78.182584269662925},{"$f":"IF(NZ4<5,\"\",SUMPRODUCT((($CO$2:$CO$338=OE11)*($CN$2:$CN$338=OE12)*($J$2:$J$338=\"M\")*($CF$2:$CF$338)))/OA11)","v":77.517676767676761},{"$f":"IF(NZ4<5,\"\",SUMPRODUCT((($CO$2:$CO$338=OE11)*($CN$2:$CN$338=OE12)*($J$2:$J$338=\"F\")*($CF$2:$CF$338)))/OB11)","v":79.015822784810126},{"$f":"IF(NZ4<5,\"\",SUMPRODUCT((($CO$2:$CO$338=OE11)*($CN$2:$CN$338=OE12)*($CT$2:$CT$338=\"J\")*($CF$2:$CF$338)))/OC11)","v":77.563725490196077},{"$f":"IF(NZ4<5,\"\",SUMPRODUCT((($CO$2:$CO$338=OE11)*($CN$2:$CN$338=OE12)*($CT$2:$CT$338=\"V\")*($CF$2:$CF$338)))/OD11)","v":79.013157894736835},{"$f":"$CN2","v":"0.100"},3,3,"500.10010",{"$f":"IF(OI4<5,\"\",((OJ12*OJ11)+(OK12*OK11))/OI11)","v":79.125},{"$f":"IF(OI4<5,\"\",SUMPRODUCT((($CO$2:$CO$338=ON11)*($CN$2:$CN$338=ON12)*($J$2:$J$338=\"M\")*($CG$2:$CG$338)))/OJ11)","v":78.63636363636364},{"$f":"IF(OI4<5,\"\",SUMPRODUCT((($CO$2:$CO$338=ON11)*($CN$2:$CN$338=ON12)*($J$2:$J$338=\"F\")*($CG$2:$CG$338)))/OK11)","v":79.722222222222229},{"$f":"IF(OI4<5,\"\",SUMPRODUCT((($CO$2:$CO$338=ON11)*($CN$2:$CN$338=ON12)*($CT$2:$CT$338=\"J\")*($CG$2:$CG$338)))/OL11)","v":79.174757281553397},{"$f":"IF(OI4<5,\"\",SUMPRODUCT((($CO$2:$CO$338=ON11)*($CN$2:$CN$338=ON12)*($CT$2:$CT$338=\"V\")*($CG$2:$CG$338)))/OM11)","v":79.058441558441558},{"$f":"$CN2","v":"0.100"},3,6,"500.10010",{"$f":"IF(OR4<5,\"\",((OS12*OS11)+(OT12*OT11))/OR11)","v":""},{"$f":"IF(OR4<5,\"\",SUMPRODUCT((($CO$2:$CO$338=OW11)*($CN$2:$CN$338=OW12)*($J$2:$J$338=\"M\")*($CH$2:$CH$338)))/OS11)","v":""},{"$f":"IF(OR4<5,\"\",SUMPRODUCT((($CO$2:$CO$338=OW11)*($CN$2:$CN$338=OW12)*($J$2:$J$338=\"F\")*($CH$2:$CH$338)))/OT11)","v":""},{"$f":"IF(OR4<5,\"\",SUMPRODUCT((($CO$2:$CO$338=OW11)*($CN$2:$CN$338=OW12)*($CT$2:$CT$338=\"J\")*($CH$2:$CH$338)))/OU11)","v":""},{"$f":"IF(OR4<5,\"\",SUMPRODUCT((($CO$2:$CO$338=OW11)*($CN$2:$CN$338=OW12)*($CT$2:$CT$338=\"V\")*($CH$2:$CH$338)))/OV11)","v":""},{"$f":"$CN2","v":"0.100"},null,null,"500.10010",{"$f":"IF(PA4<5,\"\",((PB12*PB11)+(PC12*PC11))/PA11)","v":77.335260115606943},{"$f":"IF(PA4<5,\"\",SUMPRODUCT((($CO$2:$CO$338=PF11)*($CN$2:$CN$338=PF12)*($J$2:$J$338=\"M\")*($CI$2:$CI$338)))/PB11)","v":76.837765957446805},{"$f":"IF(PA4<5,\"\",SUMPRODUCT((($CO$2:$CO$338=PF11)*($CN$2:$CN$338=PF12)*($J$2:$J$338=\"F\")*($CI$2:$CI$338)))/PC11)","v":77.927215189873422},{"$f":"IF(PA4<5,\"\",SUMPRODUCT((($CO$2:$CO$338=PF11)*($CN$2:$CN$338=PF12)*($CT$2:$CT$338=\"J\")*($CI$2:$CI$338)))/PD11)","v":77.662371134020617},{"$f":"IF(PA4<5,\"\",SUMPRODUCT((($CO$2:$CO$338=PF11)*($CN$2:$CN$338=PF12)*($CT$2:$CT$338=\"V\")*($CI$2:$CI$338)))/PE11)","v":76.91776315789474},{"$f":"$CN2","v":"0.100"},2,2]
["2010","001","501",null,null,0,"1999-09-30",null,null,"M",0,0,0,0,0,0,0,0,0,0,0,0,0,0,0,0,0,0,0,0,0,0,0,0,0,0,0,0,0,0,0,0,60,75,0,80,65,75,70,75,60,75,70,75,0,0,0,0,74,77,0,74,73,67,78,91,60,80,70,85,76,93,76,80,null,0,0,0,0,0,0,0,71.666666666666671,71.25,70,0,75.75,null,null,null,"001501","0.100","50",{"$f":"Tableau_SSRSMSA03_BI_Integration_STEPH_2010[[#This Row],[DAT_NAISSANCE_ELEVE]]","v":"1999-09-30"},"2009-09-30",3653,10.001368925393566,{"$f":"IF(AND(LEFT(CO13,1)=\"1\",CS13>5.5),\"V\",IF(AND(LEFT(CO13,1)=\"2\",CS13>6.5),\"V\",IF(AND(LEFT(CO13,1)=\"3\",CS13>7.5),\"V\",IF(AND(LEFT(CO13,1)=\"4\",CS13>8.5),\"V\",IF(AND(LEFT(CO13,1)=\"5\",CS13>9.5),\"V\",IF(AND(LEFT(CO13,1)=\"6\",CS13>10.5),\"V\",\"J\"))))))","v":"V"},{"$f":"IF(AJ13=0,0,IF(BH13=0,0,1))","v":0},{"$f":"DC11&DC12&11","v":"500.10011"},"taux réussite",{"$f":"IF(CX4<5,\"\",SUMPRODUCT((($CM$2:$CM$338=$CV2)*($AJ$2:$AJ$338>=60)/CX4*100)))","v":100},"qrel",{"$f":"CY14&\",\"&CY15&\",\"&CY16&\",\"&CY17","v":"8,4,5,3"},"qfix",{"$f":"DA14&\",\"&DA15&\",\"&DA16&\",\"&DA17","v":"4,13,1,0"},{"$f":"(SUMPRODUCT(MAX(($CM$2:$CM$338=$CV2)*($AJ$2:$AJ$338>3)*($AJ$2:$AJ$338))))","v":90},8,8,"500.10011",{"$f":"IF(DG4<5,\"\",SUMPRODUCT((($CM$2:$CM$338=$CV2)*($AN$2:$AN$338>=60)/DG4*100)))","v":""},"qrel",{"$f":"DH14&\",\"&DH15&\",\"&DH16&\",\"&DH17","v":"0,0,0,0"},"qfix",{"$f":"DJ14&\",\"&DJ15&\",\"&DJ16&\",\"&DJ17","v":"0,0,0,0"},{"$f":"(SUMPRODUCT(MAX(($CM$2:$CM$338=$CV2)*($AN$2:$AN$338>3)*($AN$2:$AN$338))))","v":0},null,null,"500.10011",{"$f":"IF(DP4<5,\"\",SUMPRODUCT((($CM$2:$CM$338=$CV2)*($AR$2:$AR$338>=60)/DP4*100)))","v":96},"qrel",{"$f":"DQ14&\",\"&DQ15&\",\"&DQ16&\",\"&DQ17","v":"7,10,7,1"},"qfix",{"$f":"DS14&\",\"&DS15&\",\"&DS16&\",\"&DS17","v":"6,11,3,1"},{"$f":"(SUMPRODUCT(MAX(($CM$2:$CM$338=$CV2)*($AR$2:$AR$338>3)*($AR$2:$AR$338))))","v":95},2,2,"500.10011",{"$f":"IF(DY4<5,\"\",SUMPRODUCT((($CM$2:$CM$338=$CV2)*($AV$2:$AV$338>=60)/DY4*100)))","v":100},"qrel",{"$f":"DZ14&\",\"&DZ15&\",\"&DZ16&\",\"&DZ17","v":"4,9,7,5"},"qfix",{"$f":"EB14&\",\"&EB15&\",\"&EB16&\",\"&EB17","v":"4,12,5,0"},{"$f":"(SUMPRODUCT(MAX(($CM$2:$CM$338=$CV2)*($AV$2:$AV$338>3)*($AV$2:$AV$338))))","v":95},3,2,"500.10011",{"$f":"IF(EH4<5,\"\",SUMPRODUCT((($CM$2:$CM$338=$CV2)*($AZ$2:$AZ$338>=60)/EH4*100)))","v":96.153846153846104},"qrel",{"$f":"EI14&\",\"&EI15&\",\"&EI16&\",\"&EI17","v":"8,7,7,4"},"qfix",{"$f":"EK14&\",\"&EK15&\",\"&EK16&\",\"&EK17","v":"3,12,4,1"},{"$f":"(SUMPRODUCT(MAX(($CM$2:$CM$338=$CV2)*($AZ$2:$AZ$338>3)*($AZ$2:$AZ$338))))","v":95},2,2,"500.10011",{"$f":"IF(EQ4<5,\"\",SUMPRODUCT((($CM$2:$CM$338=$CV2)*($BD$2:$BD$338>=60)/EQ4*100)))","v":""},"qrel",{"$f":"ER14&\",\"&ER15&\",\"&ER16&\",\"&ER17","v":"0,0,0,0"},"qfix",{"$f":"ET14&\",\"&ET15&\",\"&ET16&\",\"&ET17","v":"0,0,0,0"},{"$f":"(SUMPRODUCT(MAX(($CM$2:$CM$338=$CV2)*($BD$2:$BD$338>3)*($BD$2:$BD$338))))","v":0},null,null,"500.10011",{"$f":"IF(EZ4<5,\"\",SUMPRODUCT((($CM$2:$CM$338=$CV2)*($BH$2:$BH$338>=60)/EZ4*100)))","v":92.307692307692264},"qrel",{"$f":"FA14&\",\"&FA15&\",\"&FA16&\",\"&FA17","v":"9,10,4,3"},"qfix",{"$f":"FC14&\",\"&FC15&\",\"&FC16&\",\"&FC17","v":"4,10,3,2"},{"$f":"(SUMPRODUCT(MAX(($CM$2:$CM$338=$CV2)*($BH$2:$BH$338>3)*($BH$2:$BH$338))))","v":90},2,2,"500.10011",{"$f":"IF(FI4<5,\"\",SUMPRODUCT((($CM$2:$CM$338=$CV2)*($AI$2:$AI$338>=60)/FI4*100)))","v":100},"qrel",{"$f":"FJ14&\",\"&FJ15&\",\"&FJ16&\",\"&FJ17","v":"8,5,1,6"},"qfix",{"$f":"FL14&\",\"&FL15&\",\"&FL16&\",\"&FL17","v":"3,11,3,0"},{"$f":"(SUMPRODUCT(MAX(($CM$2:$CM$338=$CV2)*($AI$2:$AI$338>3)*($AI$2:$AI$338))))","v":90},8,8,"500.10011",{"$f":"IF(FR4<5,\"\",SUMPRODUCT((($CM$2:$CM$338=$CV2)*($AM$2:$AM$338>=60)/FR4*100)))","v":""},"qrel",{"$f":"FS14&\",\"&FS15&\",\"&FS16&\",\"&FS17","v":"0,0,0,0"},"qfix",{"$f":"FU14&\",\"&FU15&\",\"&FU16&\",\"&FU17","v":"0,0,0,0"},{"$f":"(SUMPRODUCT(MAX(($CM$2:$CM$338=$CV2)*($AM$2:$AM$338>3)*($AM$2:$AM$338))))","v":0},null,null,"500.10011",{"$f":"IF(GA4<5,\"\",SUMPRODUCT((($CM$2:$CM$338=$CV2)*($AQ$2:$AQ$338>=60)/GA4*100)))","v":84},"qrel",{"$f":"GB14&\",\"&GB15&\",\"&GB16&\",\"&GB17","v":"4,12,5,4"},"qfix",{"$f":"GD14&\",\"&GD15&\",\"&GD16&\",\"&GD17","v":"0,10,5,4"},{"$f":"(SUMPRODUCT(MAX(($CM$2:$CM$338=$CV2)*($AQ$2:$AQ$338>3)*($AQ$2:$AQ$338))))","v":85},3,6,"500.10011",{"$f":"IF(GJ4<5,\"\",SUMPRODUCT((($CM$2:$CM$338=$CV2)*($AU$2:$AU$338>=60)/GJ4*100)))","v":92},"qrel",{"$f":"GK14&\",\"&GK15&\",\"&GK16&\",\"&GK17","v":"8,8,5,4"},"qfix",{"$f":"GM14&\",\"&GM15&\",\"&GM16&\",\"&GM17","v":"4,12,5,2"},{"$f":"(SUMPRODUCT(MAX(($CM$2:$CM$338=$CV2)*($AU$2:$AU$338>3)*($AU$2:$AU$338))))","v":95},3,6,"500.10011",{"$f":"IF(GS4<5,\"\",SUMPRODUCT((($CM$2:$CM$338=$CV2)*($AY$2:$AY$338>=60)/GS4*100)))","v":96.153846153846104},"qrel",{"$f":"GT14&\",\"&GT15&\",\"&GT16&\",\"&GT17","v":"7,5,10,4"},"qfix",{"$f":"GV14&\",\"&GV15&\",\"&GV16&\",\"&GV17","v":"3,9,5,1"},{"$f":"(SUMPRODUCT(MAX(($CM$2:$CM$338=$CV2)*($AY$2:$AY$338>3)*($AY$2:$AY$338))))","v":95},4,6,"500.10011",{"$f":"IF(HB4<5,\"\",SUMPRODUCT((($CM$2:$CM$338=$CV2)*($BC$2:$BC$338>=60)/HB4*100)))","v":""},"qrel",{"$f":"HC14&\",\"&HC15&\",\"&HC16&\",\"&HC17","v":"0,0,0,0"},"qfix",{"$f":"HE14&\",\"&HE15&\",\"&HE16&\",\"&HE17","v":"0,0,0,0"},{"$f":"(SUMPRODUCT(MAX(($CM$2:$CM$338=$CV2)*($BC$2:$BC$338>3)*($BC$2:$BC$338))))","v":0},null,null,"500.10011",{"$f":"IF(HK4<5,\"\",SUMPRODUCT((($CM$2:$CM$338=$CV2)*($BG$2:$BG$338>=60)/HK4*100)))","v":92.307692307692264},"qrel",{"$f":"HL14&\",\"&HL15&\",\"&HL16&\",\"&HL17","v":"8,11,6,1"},"qfix",{"$f":"HN14&\",\"&HN15&\",\"&HN16&\",\"&HN17","v":"6,7,5,2"},{"$f":"(SUMPRODUCT(MAX(($CM$2:$CM$338=$CV2)*($BG$2:$BG$338>3)*($BG$2:$BG$338))))","v":92},2,2,"500.10011",{"$f":"IF(HT4<5,\"\",SUMPRODUCT((($CM$2:$CM$338=$CV2)*($AL$2:$AL$338>=60)/HT4*100)))","v":100.00000000000001},"qrel",{"$f":"HU14&\",\"&HU15&\",\"&HU16&\",\"&HU17","v":"4,4,8,6"},"qfix",{"$f":"HW14&\",\"&HW15&\",\"&HW16&\",\"&HW17","v":"4,14,0,0"},{"$f":"(SUMPRODUCT(MAX(($CM$2:$CM$338=$CV2)*($AL$2:$AL$338>3)*($AL$2:$AL$338))))","v":95},8,8,"500.10011",{"$f":"IF(IC4<5,\"\",SUMPRODUCT((($CM$2:$CM$338=$CV2)*($AP$2:$AP$338>=60)/IC4*100)))","v":""},"qrel",{"$f":"ID14&\",\"&ID15&\",\"&ID16&\",\"&ID17","v":"0,0,0,0"},"qfix",{"$f":"IF14&\",\"&IF15&\",\"&IF16&\",\"&IF17","v":"0,0,0,0"},{"$f":"(SUMPRODUCT(MAX(($CM$2:$CM$338=$CV2)*($AP$2:$AP$338>3)*($AP$2:$AP$338))))","v":0},null,null,"500.10011",{"$f":"IF(IL4<5,\"\",SUMPRODUCT((($CM$2:$CM$338=$CV2)*($AT$2:$AT$338>=60)/IL4*100)))","v":88},"qrel",{"$f":"IM14&\",\"&IM15&\",\"&IM16&\",\"&IM17","v":"10,8,4,3"},"qfix",{"$f":"IO14&\",\"&IO15&\",\"&IO16&\",\"&IO17","v":"6,10,4,3"},{"$f":"(SUMPRODUCT(MAX(($CM$2:$CM$338=$CV2)*($AT$2:$AT$338>3)*($AT$2:$AT$338))))","v":95},2,2,"500.10011",{"$f":"IF(IU4<5,\"\",SUMPRODUCT((($CM$2:$CM$338=$CV2)*($AX$2:$AX$338>=60)/IU4*100)))","v":88},"qrel",{"$f":"IV14&\",\"&IV15&\",\"&IV16&\",\"&IV17","v":"9,11,4,1"},"qfix",{"$f":"IX14&\",\"&IX15&\",\"&IX16&\",\"&IX17","v":"4,15,2,3"},{"$f":"(SUMPRODUCT(MAX(($CM$2:$CM$338=$CV2)*($AX$2:$AX$338>3)*($AX$2:$AX$338))))","v":95},2,2,"500.10011",{"$f":"IF(JD4<5,\"\",SUMPRODUCT((($CM$2:$CM$338=$CV2)*($BB$2:$BB$338>=60)/JD4*100)))","v":88.461538461538424},"qrel",{"$f":"JE14&\",\"&JE15&\",\"&JE16&\",\"&JE17","v":"7,11,6,2"},"qfix",{"$f":"JG14&\",\"&JG15&\",\"&JG16&\",\"&JG17","v":"2,10,6,3"},{"$f":"(SUMPRODUCT(MAX(($CM$2:$CM$338=$CV2)*($BB$2:$BB$338>3)*($BB$2:$BB$338))))","v":90},2,2,"500.10011",{"$f":"IF(JM4<5,\"\",SUMPRODUCT((($CM$2:$CM$338=$CV2)*($BF$2:$BF$338>=60)/JM4*100)))","v":""},"qrel",{"$f":"JN14&\",\"&JN15&\",\"&JN16&\",\"&JN17","v":"0,0,0,0"},"qfix",{"$f":"JP14&\",\"&JP15&\",\"&JP16&\",\"&JP17","v":"0,0,0,0"},{"$f":"(SUMPRODUCT(MAX(($CM$2:$CM$338=$CV2)*($BF$2:$BF$338>3)*($BF$2:$BF$338))))","v":0},null,null,"500.10011",{"$f":"IF(JV4<5,\"\",SUMPRODUCT((($CM$2:$CM$338=$CV2)*($BJ$2:$BJ$338>=60)/JV4*100)))","v":88.461538461538424},"qrel",{"$f":"JW14&\",\"&JW15&\",\"&JW16&\",\"&JW17","v":"5,15,5,1"},"qfix",{"$f":"JY14&\",\"&JY15&\",\"&JY16&\",\"&JY17","v":"3,12,3,3"},{"$f":"(SUMPRODUCT(MAX(($CM$2:$CM$338=$CV2)*($BJ$2:$BJ$338>3)*($BJ$2:$BJ$338))))","v":99},2,2,"500.10011",{"$f":"IF(KE4<5,\"\",SUMPRODUCT((($CM$2:$CM$338=$CV2)*($AK$2:$AK$338>=60)/KE4*100)))","v":95},"qrel",{"$f":"KF14&\",\"&KF15&\",\"&KF16&\",\"&KF17","v":"6,9,2,3"},"qfix",{"$f":"KH14&\",\"&KH15&\",\"&KH16&\",\"&KH17","v":"3,12,3,1"},{"$f":"(SUMPRODUCT(MAX(($CM$2:$CM$338=$CV2)*($AK$2:$AK$338>3)*($AK$2:$AK$338))))","v":90},8,8,"500.10011",{"$f":"IF(KN4<5,\"\",SUMPRODUCT((($CM$2:$CM$338=$CV2)*($AO$2:$AO$338>=60)/KN4*100)))","v":""},"qrel",{"$f":"KO14&\",\"&KO15&\",\"&KO16&\",\"&KO17","v":"0,0,0,0"},"qfix",{"$f":"KQ14&\",\"&KQ15&\",\"&KQ16&\",\"&KQ17","v":"0,0,0,0"},{"$f":"(SUMPRODUCT(MAX(($CM$2:$CM$338=$CV2)*($AO$2:$AO$338>3)*($AO$2:$AO$338))))","v":0},null,null,"500.10011",{"$f":"IF(KW4<5,\"\",SUMPRODUCT((($CM$2:$CM$338=$CV2)*($AS$2:$AS$338>=60)/KW4*100)))","v":""},"qrel",{"$f":"KX14&\",\"&KX15&\",\"&KX16&\",\"&KX17","v":"0,0,0,0"},"qfix",{"$f":"KZ14&\",\"&KZ15&\",\"&KZ16&\",\"&KZ17","v":"0,0,0,0"},{"$f":"(SUMPRODUCT(MAX(($CM$2:$CM$338=$CV2)*($AS$2:$AS$338>3)*($AS$2:$AS$338))))","v":0},null,null,"500.10011",{"$f":"IF(LF4<5,\"\",SUMPRODUCT((($CM$2:$CM$338=$CV2)*($AW$2:$AW$338>=60)/LF4*100)))","v":84},"qrel",{"$f":"LG14&\",\"&LG15&\",\"&LG16&\",\"&LG17","v":"8,9,6,2"},"qfix",{"$f":"LI14&\",\"&LI15&\",\"&LI16&\",\"&LI17","v":"4,10,4,4"},{"$f":"(SUMPRODUCT(MAX(($CM$2:$CM$338=$CV2)*($AW$2:$AW$338>3)*($AW$2:$AW$338))))","v":95},2,3,"500.10011",{"$f":"IF(LO4<5,\"\",SUMPRODUCT((($CM$2:$CM$338=$CV2)*($BA$2:$BA$338>=60)/LO4*100)))","v":76.923076923076906},"qrel",{"$f":"LP14&\",\"&LP15&\",\"&LP16&\",\"&LP17","v":"8,8,5,5"},"qfix",{"$f":"LR14&\",\"&LR15&\",\"&LR16&\",\"&LR17","v":"2,9,5,6"},{"$f":"(SUMPRODUCT(MAX(($CM$2:$CM$338=$CV2)*($BA$2:$BA$338>3)*($BA$2:$BA$338))))","v":90},2,3,"500.10011",{"$f":"IF(LX4<5,\"\",SUMPRODUCT((($CM$2:$CM$338=$CV2)*($BE$2:$BE$338>=60)/LX4*100)))","v":""},"qrel",{"$f":"LY14&\",\"&LY15&\",\"&LY16&\",\"&LY17","v":"0,0,0,0"},"qfix",{"$f":"MA14&\",\"&MA15&\",\"&MA16&\",\"&MA17","v":"0,0,0,0"},{"$f":"(SUMPRODUCT(MAX(($CM$2:$CM$338=$CV2)*($BE$2:$BE$338>3)*($BE$2:$BE$338))))","v":0},null,null,"500.10011",{"$f":"IF(MG4<5,\"\",SUMPRODUCT((($CM$2:$CM$338=$CV2)*($BI$2:$BI$338>=60)/MG4*100)))","v":""},"qrel",{"$f":"MH14&\",\"&MH15&\",\"&MH16&\",\"&MH17","v":"0,0,0,0"},"qfix",{"$f":"MJ14&\",\"&MJ15&\",\"&MJ16&\",\"&MJ17","v":"0,0,0,0"},{"$f":"(SUMPRODUCT(MAX(($CM$2:$CM$338=$CV2)*($BI$2:$BI$338>3)*($BI$2:$BI$338))))","v":100},null,null,"500.10011",{"$f":"IF(MP4<5,\"\",SUMPRODUCT((($CM$2:$CM$338=$CV2)*($BM$2:$BM$338>=60)/MP4*100)))","v":83.333333333333329},"qrel",{"$f":"MQ14&\",\"&MQ15&\",\"&MQ16&\",\"&MQ17","v":"9,11,2,2"},"qfix",{"$f":"MS14&\",\"&MS15&\",\"&MS16&\",\"&MS17","v":"6,9,4,4"},{"$f":"(SUMPRODUCT(MAX(($CM$2:$CM$338=$CV2)*($BM$2:$BM$338>3)*($BM$2:$BM$338))))","v":99},2,2,"500.10011",{"$f":"IF(MY4<5,\"\",SUMPRODUCT((($CM$2:$CM$338=$CV2)*($CC$2:$CC$338>=60)/MY4*100)))","v":100},"qrel",{"$f":"MZ14&\",\"&MZ15&\",\"&MZ16&\",\"&MZ17","v":"5,5,7,3"},"qfix",{"$f":"NB14&\",\"&NB15&\",\"&NB16&\",\"&NB17","v":"3,14,0,0"},{"$f":"(SUMPRODUCT(MAX(($CM$2:$CM$338=$CV2)*($CC$2:$CC$338>3)*($CC$2:$CC$338))))","v":90},8,8,"500.10011",{"$f":"IF(NH4<5,\"\",SUMPRODUCT((($CM$2:$CM$338=$CV2)*($CD$2:$CD$338>=60)/NH4*100)))","v":""},"qrel",{"$f":"NI14&\",\"&NI15&\",\"&NI16&\",\"&NI17","v":"0,0,0,0"},"qfix",{"$f":"NK14&\",\"&NK15&\",\"&NK16&\",\"&NK17","v":"0,0,0,0"},{"$f":"(SUMPRODUCT(MAX(($CM$2:$CM$338=$CV2)*($CD$2:$CD$338>3)*($CD$2:$CD$338))))","v":0},null,null,"500.10011",{"$f":"IF(NQ4<5,\"\",SUMPRODUCT((($CM$2:$CM$338=$CV2)*($CE$2:$CE$338>=60)/NQ4*100)))","v":96},"qrel",{"$f":"NR14&\",\"&NR15&\",\"&NR16&\",\"&NR17","v":"6,10,6,3"},"qfix",{"$f":"NT14&\",\"&NT15&\",\"&NT16&\",\"&NT17","v":"3,11,6,1"},{"$f":"(SUMPRODUCT(MAX(($CM$2:$CM$338=$CV2)*($CE$2:$CE$338>3)*($CE$2:$CE$338))))","v":90},2,3,"500.10011",{"$f":"IF(NZ4<5,\"\",SUMPRODUCT((($CM$2:$CM$338=$CV2)*($CF$2:$CF$338>=60)/NZ4*100)))","v":92},"qrel",{"$f":"OA14&\",\"&OA15&\",\"&OA16&\",\"&OA17","v":"8,8,7,2"},"qfix",{"$f":"OC14&\",\"&OC15&\",\"&OC16&\",\"&OC17","v":"6,8,3,2"},{"$f":"(SUMPRODUCT(MAX(($CM$2:$CM$338=$CV2)*($CF$2:$CF$338>3)*($CF$2:$CF$338))))","v":92.5},2,3,"500.10011",{"$f":"IF(OI4<5,\"\",SUMPRODUCT((($CM$2:$CM$338=$CV2)*($CG$2:$CG$338>=60)/OI4*100)))","v":92.307692307692264},"qrel",{"$f":"OJ14&\",\"&OJ15&\",\"&OJ16&\",\"&OJ17","v":"6,10,9,1"},"qfix",{"$f":"OL14&\",\"&OL15&\",\"&OL16&\",\"&OL17","v":"3,8,8,2"},{"$f":"(SUMPRODUCT(MAX(($CM$2:$CM$338=$CV2)*($CG$2:$CG$338>3)*($CG$2:$CG$338))))","v":92.5},2,3,"500.10011",{"$f":"IF(OR4<5,\"\",SUMPRODUCT((($CM$2:$CM$338=$CV2)*($CH$2:$CH$338>=60)/OR4*100)))","v":""},"qrel",{"$f":"OS14&\",\"&OS15&\",\"&OS16&\",\"&OS17","v":"0,0,0,0"},"qfix",{"$f":"OU14&\",\"&OU15&\",\"&OU16&\",\"&OU17","v":"0,0,0,0"},{"$f":"(SUMPRODUCT(MAX(($CM$2:$CM$338=$CV2)*($CH$2:$CH$338>3)*($CH$2:$CH$338))))","v":0},null,null,"500.10011",{"$f":"IF(PA4<5,\"\",SUMPRODUCT((($CM$2:$CM$338=$CV2)*($CI$2:$CI$338>=60)/PA4*100)))","v":92.307692307692264},"qrel",{"$f":"PB14&\",\"&PB15&\",\"&PB16&\",\"&PB17","v":"9,13,3,1"},"qfix",{"$f":"PD14&\",\"&PD15&\",\"&PD16&\",\"&PD17","v":"4,11,4,2"},{"$f":"(SUMPRODUCT(MAX(($CM$2:$CM$338=$CV2)*($CI$2:$CI$338>3)*($CI$2:$CI$338))))","v":94.25},2,2]
["2010","001","501",null,null,0,"1999-10-26",null,null,"F",85,85,0,90,85,95,90,90,90,0,0,80,0,0,0,0,90,85,0,90,95,90,90,90,90,90,85,90,0,0,0,0,85,90,0,95,95,95,90,90,95,95,90,90,0,0,0,0,92,87,0,99,92,95,99,98,95,95,90,95,92,93,99,95,null,58.333333333333336,90,0,88.333333333333329,91.25,88.75,0,90,92.5,92.5,0,94.25,null,null,null,"001501","0.100","50",{"$f":"Tableau_SSRSMSA03_BI_Integration_STEPH_2010[[#This Row],[DAT_NAISSANCE_ELEVE]]","v":"1999-10-26"},"2009-09-30",3627,9.9301848049281318,{"$f":"IF(AND(LEFT(CO14,1)=\"1\",CS14>5.5),\"V\",IF(AND(LEFT(CO14,1)=\"2\",CS14>6.5),\"V\",IF(AND(LEFT(CO14,1)=\"3\",CS14>7.5),\"V\",IF(AND(LEFT(CO14,1)=\"4\",CS14>8.5),\"V\",IF(AND(LEFT(CO14,1)=\"5\",CS14>9.5),\"V\",IF(AND(LEFT(CO14,1)=\"6\",CS14>10.5),\"V\",\"J\"))))))","v":"V"},{"$f":"IF(AJ14=0,0,IF(BH14=0,0,1))","v":1},{"$f":"DC11&DC12&12","v":"500.10012"},"Taux reu cs niv",{"$f":"IF(CX4<5,\"\",INDEX(compilations,MATCH(DC11&\"taux\",$J$339:$J$424,0),27))","v":96.913580246913583},{"$f":"COUNTIF(OFFSET(DD2,,,MAX(CX3),1),\"=1\")","v":8},{"$f":"SUMPRODUCT(($CM$2:$CM$338=$CV2)*(DD$2:DD$338=1)*($AJ$2:$AJ$338))/CY14","v":87.5},{"$f":"COUNTIF(OFFSET(DE2,,,MAX(CX3),1),\"=1\")","v":4},{"$f":"SUMPRODUCT(($CM$2:$CM$338=$CV2)*(DE$2:DE$338=1)*($AJ$2:$AJ$338))/DA14","v":90},{"$f":"MIN(IF((($CM$2:$CM$338=$CV2)*($AJ$2:$AJ$338>3)),$AJ$2:$AJ$338))","v":65},1,1,"500.10012",{"$f":"IF(DG4<5,\"\",INDEX(compilations,MATCH(DL11&\"taux\",$J$339:$J$424,0),31))","v":""},{"$f":"COUNTIF(OFFSET(DM2,,,MAX(DG3),1),\"=1\")","v":0},{"$f":"SUMPRODUCT(($CM$2:$CM$338=$CV2)*(DM$2:DM$338=1)*($AN$2:$AN$338))/DH14","v":{"$error":"#DIV/0!"}},{"$f":"COUNTIF(OFFSET(DN2,,,MAX(DG3),1),\"=1\")","v":0},{"$f":"SUMPRODUCT(($CM$2:$CM$338=$CV2)*(DN$2:DN$338=1)*($AN$2:$AN$338))/DJ14","v":{"$error":"#DIV/0!"}},{"$f":"MIN(IF((($CM$2:$CM$338=$CV2)*($AN$2:$AN$338>3)),$AN$2:$AN$338))","v":0},null,null,"500.10012",{"$f":"IF(DP4<5,\"\",INDEX(compilations,MATCH(DU11&\"taux\",$J$339:$J$424,0),35))","v":94.915254237288138},{"$f":"COUNTIF(OFFSET(DV2,,,MAX(DP3),1),\"=1\")","v":7},{"$f":"SUMPRODUCT(($CM$2:$CM$338=$CV2)*(DV$2:DV$338=1)*($AR$2:$AR$338))/DQ14","v":90.714285714285708},{"$f":"COUNTIF(OFFSET(DW2,,,MAX(DP3),1),\"=1\")","v":6},{"$f":"SUMPRODUCT(($CM$2:$CM$338=$CV2)*(DW$2:DW$338=1)*($AR$2:$AR$338))/DS14","v":91.666666666666671},{"$f":"MIN(IF((($CM$2:$CM$338=$CV2)*($AR$2:$AR$338>3)),$AR$2:$AR$338))","v":55},1,1,"500.10012",{"$f":"IF(DY4<5,\"\",INDEX(compilations,MATCH(ED11&\"taux\",$J$339:$J$424,0),39))","v":96.629213483146074},{"$f":"COUNTIF(OFFSET(EE2,,,MAX(DY3),1),\"=1\")","v":4},{"$f":"SUMPRODUCT(($CM$2:$CM$338=$CV2)*(EE$2:EE$338=1)*($AV$2:$AV$338))/DZ14","v":91.25},{"$f":"COUNTIF(OFFSET(EF2,,,MAX(DY3),1),\"=1\")","v":4},{"$f":"SUMPRODUCT(($CM$2:$CM$338=$CV2)*(EF$2:EF$338=1)*($AV$2:$AV$338))/EB14","v":91.25},{"$f":"MIN(IF((($CM$2:$CM$338=$CV2)*($AV$2:$AV$338>3)),$AV$2:$AV$338))","v":60},1,1,"500.10012",{"$f":"IF(EH4<5,\"\",INDEX(compilations,MATCH(EM11&\"taux\",$J$339:$J$424,0),43))","v":95.555555555555557},{"$f":"COUNTIF(OFFSET(EN2,,,MAX(EH3),1),\"=1\")","v":8},{"$f":"SUMPRODUCT(($CM$2:$CM$338=$CV2)*(EN$2:EN$338=1)*($AZ$2:$AZ$338))/EI14","v":88.125},{"$f":"COUNTIF(OFFSET(EO2,,,MAX(EH3),1),\"=1\")","v":3},{"$f":"SUMPRODUCT(($CM$2:$CM$338=$CV2)*(EO$2:EO$338=1)*($AZ$2:$AZ$338))/EK14","v":93.333333333333329},{"$f":"MIN(IF((($CM$2:$CM$338=$CV2)*($AZ$2:$AZ$338>3)),$AZ$2:$AZ$338))","v":50},1,1,"500.10012",{"$f":"IF(EQ4<5,\"\",INDEX(compilations,MATCH(EV11&\"taux\",$J$339:$J$424,0),47))","v":""},{"$f":"COUNTIF(OFFSET(EW2,,,MAX(EQ3),1),\"=1\")","v":0},{"$f":"SUMPRODUCT(($CM$2:$CM$338=$CV2)*(EW$2:EW$338=1)*($BD$2:$BD$338))/ER14","v":{"$error":"#DIV/0!"}},{"$f":"COUNTIF(OFFSET(EX2,,,MAX(EQ3),1),\"=1\")","v":0},{"$f":"SUMPRODUCT(($CM$2:$CM$338=$CV2)*(EX$2:EX$338=1)*($BD$2:$BD$338))/ET14","v":{"$error":"#DIV/0!"}},{"$f":"MIN(IF((($CM$2:$CM$338=$CV2)*($BD$2:$BD$338>3)),$BD$2:$BD$338))","v":0},null,null,"500.10012",{"$f":"IF(EZ4<5,\"\",INDEX(compilations,MATCH(FE11&\"taux\",$J$339:$J$424,0),51))","v":93.063583815028906},{"$f":"COUNTIF(OFFSET(FF2,,,MAX(EZ3),1),\"=1\")","v":9},{"$f":"SUMPRODUCT(($CM$2:$CM$338=$CV2)*(FF$2:FF$338=1)*($BH$2:$BH$338))/FA14","v":84.666666666666671},{"$f":"COUNTIF(OFFSET(FG2,,,MAX(EZ3),1),\"=1\")","v":4},{"$f":"SUMPRODUCT(($CM$2:$CM$338=$CV2)*(FG$2:FG$338=1)*($BH$2:$BH$338))/FC14","v":87.5},{"$f":"MIN(IF((($CM$2:$CM$338=$CV2)*($BH$2:$BH$338>3)),$BH$2:$BH$338))","v":51},1,1,"500.10012",{"$f":"IF(FI4<5,\"\",INDEX(compilations,MATCH(FN11&\"taux\",$J$339:$J$424,0),26))","v":95.679012345679013},{"$f":"COUNTIF(OFFSET(FO2,,,MAX(FI3),1),\"=1\")","v":8},{"$f":"SUMPRODUCT(($CM$2:$CM$338=$CV2)*(FO$2:FO$338=1)*($AI$2:$AI$338))/FJ14","v":86.875},{"$f":"COUNTIF(OFFSET(FP2,,,MAX(FI3),1),\"=1\")","v":3},{"$f":"SUMPRODUCT(($CM$2:$CM$338=$CV2)*(FP$2:FP$338=1)*($AI$2:$AI$338))/FL14","v":90},{"$f":"MIN(IF((($CM$2:$CM$338=$CV2)*($AI$2:$AI$338>3)),$AI$2:$AI$338))","v":65},1,1,"500.10012",{"$f":"IF(FR4<5,\"\",INDEX(compilations,MATCH(FW11&\"taux\",$J$339:$J$424,0),30))","v":""},{"$f":"COUNTIF(OFFSET(FX2,,,MAX(FR3),1),\"=1\")","v":0},{"$f":"SUMPRODUCT(($CM$2:$CM$338=$CV2)*(FX$2:FX$338=1)*($AM$2:$AM$338))/FS14","v":{"$error":"#DIV/0!"}},{"$f":"COUNTIF(OFFSET(FY2,,,MAX(FR3),1),\"=1\")","v":0},{"$f":"SUMPRODUCT(($CM$2:$CM$338=$CV2)*(FY$2:FY$338=1)*($AM$2:$AM$338))/FU14","v":{"$error":"#DIV/0!"}},{"$f":"MIN(IF((($CM$2:$CM$338=$CV2)*($AM$2:$AM$338>3)),$AM$2:$AM$338))","v":0},null,null,"500.10012",{"$f":"IF(GA4<5,\"\",INDEX(compilations,MATCH(GF11&\"taux\",$J$339:$J$424,0),34))","v":90.395480225988706},{"$f":"COUNTIF(OFFSET(GG2,,,MAX(GA3),1),\"=1\")","v":4},{"$f":"SUMPRODUCT(($CM$2:$CM$338=$CV2)*(GG$2:GG$338=1)*($AQ$2:$AQ$338))/GB14","v":81.25},{"$f":"COUNTIF(OFFSET(GH2,,,MAX(GA3),1),\"=1\")","v":0},{"$f":"SUMPRODUCT(($CM$2:$CM$338=$CV2)*(GH$2:GH$338=1)*($AQ$2:$AQ$338))/GD14","v":{"$error":"#DIV/0!"}},{"$f":"MIN(IF((($CM$2:$CM$338=$CV2)*($AQ$2:$AQ$338>3)),$AQ$2:$AQ$338))","v":50},1,2,"500.10012",{"$f":"IF(GJ4<5,\"\",INDEX(compilations,MATCH(GO11&\"taux\",$J$339:$J$424,0),38))","v":94.382022471910105},{"$f":"COUNTIF(OFFSET(GP2,,,MAX(GJ3),1),\"=1\")","v":8},{"$f":"SUMPRODUCT(($CM$2:$CM$338=$CV2)*(GP$2:GP$338=1)*($AU$2:$AU$338))/GK14","v":88.125},{"$f":"COUNTIF(OFFSET(GQ2,,,MAX(GJ3),1),\"=1\")","v":4},{"$f":"SUMPRODUCT(($CM$2:$CM$338=$CV2)*(GQ$2:GQ$338=1)*($AU$2:$AU$338))/GM14","v":91.25},{"$f":"MIN(IF((($CM$2:$CM$338=$CV2)*($AU$2:$AU$338>3)),$AU$2:$AU$338))","v":50},1,1,"500.10012",{"$f":"IF(GS4<5,\"\",INDEX(compilations,MATCH(GX11&\"tayx\",$J$339:$J$424,0),42))","v":{"$error":"#N/A"}},{"$f":"COUNTIF(OFFSET(GY2,,,MAX(GS3),1),\"=1\")","v":7},{"$f":"SUMPRODUCT(($CM$2:$CM$338=$CV2)*(GY$2:GY$338=1)*($AY$2:$AY$338))/GT14","v":88.571428571428569},{"$f":"COUNTIF(OFFSET(GZ2,,,MAX(GS3),1),\"=1\")","v":3},{"$f":"SUMPRODUCT(($CM$2:$CM$338=$CV2)*(GZ$2:GZ$338=1)*($AY$2:$AY$338))/GV14","v":93.333333333333329},{"$f":"MIN(IF((($CM$2:$CM$338=$CV2)*($AY$2:$AY$338>3)),$AY$2:$AY$338))","v":50},1,1,"500.10012",{"$f":"IF(HB4<5,\"\",INDEX(compilations,MATCH(HG11&\"taux\",$J$339:$J$424,0),46))","v":""},{"$f":"COUNTIF(OFFSET(HH2,,,MAX(HB3),1),\"=1\")","v":0},{"$f":"SUMPRODUCT(($CM$2:$CM$338=$CV2)*(HH$2:HH$338=1)*($BC$2:$BC$338))/HC14","v":{"$error":"#DIV/0!"}},{"$f":"COUNTIF(OFFSET(HI2,,,MAX(HB3),1),\"=1\")","v":0},{"$f":"SUMPRODUCT(($CM$2:$CM$338=$CV2)*(HI$2:HI$338=1)*($BC$2:$BC$338))/HE14","v":{"$error":"#DIV/0!"}},{"$f":"MIN(IF((($CM$2:$CM$338=$CV2)*($BC$2:$BC$338>3)),$BC$2:$BC$338))","v":0},null,null,"500.10012",{"$f":"IF(HK4<5,\"\",INDEX(compilations,MATCH(HP11&\"taux\",$J$339:$J$424,0),50))","v":93.641618497109818},{"$f":"COUNTIF(OFFSET(HQ2,,,MAX(HK3),1),\"=1\")","v":8},{"$f":"SUMPRODUCT(($CM$2:$CM$338=$CV2)*(HQ$2:HQ$338=1)*($BG$2:$BG$338))/HL14","v":86.75},{"$f":"COUNTIF(OFFSET(HR2,,,MAX(HK3),1),\"=1\")","v":6},{"$f":"SUMPRODUCT(($CM$2:$CM$338=$CV2)*(HR$2:HR$338=1)*($BG$2:$BG$338))/HN14","v":88.333333333333329},{"$f":"MIN(IF((($CM$2:$CM$338=$CV2)*($BG$2:$BG$338>3)),$BG$2:$BG$338))","v":42},1,1,"500.10012",{"$f":"IF(HT4<5,\"\",INDEX(compilations,MATCH(HY11&\"taux\",$J$339:$J$424,0),29))","v":96.969696969696969},{"$f":"COUNTIF(OFFSET(HZ2,,,MAX(HT3),1),\"=1\")","v":4},{"$f":"SUMPRODUCT(($CM$2:$CM$338=$CV2)*(HZ$2:HZ$338=1)*($AL$2:$AL$338))/HU14","v":91.25},{"$f":"COUNTIF(OFFSET(IA2,,,MAX(HT3),1),\"=1\")","v":4},{"$f":"SUMPRODUCT(($CM$2:$CM$338=$CV2)*(IA$2:IA$338=1)*($AL$2:$AL$338))/HW14","v":91.25},{"$f":"MIN(IF((($CM$2:$CM$338=$CV2)*($AL$2:$AL$338>3)),$AL$2:$AL$338))","v":70},1,1,"500.10012",{"$f":"IF(IC4<5,\"\",INDEX(compilations,MATCH(IH11&\"taux\",$J$339:$J$424,0),33))","v":""},{"$f":"COUNTIF(OFFSET(II2,,,MAX(IC3),1),\"=1\")","v":0},{"$f":"SUMPRODUCT(($CM$2:$CM$338=$CV2)*(II$2:II$338=1)*($AP$2:$AP$338))/ID14","v":{"$error":"#DIV/0!"}},{"$f":"COUNTIF(OFFSET(IJ2,,,MAX(IC3),1),\"=1\")","v":0},{"$f":"SUMPRODUCT(($CM$2:$CM$338=$CV2)*(IJ$2:IJ$338=1)*($AP$2:$AP$338))/IF14","v":{"$error":"#DIV/0!"}},{"$f":"MIN(IF((($CM$2:$CM$338=$CV2)*($AP$2:$AP$338>3)),$AP$2:$AP$338))","v":0},null,null,"500.10012",{"$f":"IF(IL4<5,\"\",INDEX(compilations,MATCH(IQ11&\"taux\",$J$339:$J$424,0),37))","v":90.960451977401121},{"$f":"COUNTIF(OFFSET(IR2,,,MAX(IL3),1),\"=1\")","v":10},{"$f":"SUMPRODUCT(($CM$2:$CM$338=$CV2)*(IR$2:IR$338=1)*($AL$2:$AL$338))/IM14","v":83},{"$f":"COUNTIF(OFFSET(IS2,,,MAX(IL3),1),\"=1\")","v":6},{"$f":"SUMPRODUCT(($CM$2:$CM$338=$CV2)*(IS$2:IS$338=1)*($AL$2:$AL$338))/IO14","v":86.666666666666671},{"$f":"MIN(IF((($CM$2:$CM$338=$CV2)*($AT$2:$AT$338>3)),$AT$2:$AT$338))","v":45},1,1,"500.10012",{"$f":"IF(IU4<5,\"\",INDEX(compilations,MATCH(IZ11&\"taux\",$J$339:$J$424,0),41))","v":92.696629213483149},{"$f":"COUNTIF(OFFSET(JA2,,,MAX(IU3),1),\"=1\")","v":9},{"$f":"SUMPRODUCT(($CM$2:$CM$338=$CV2)*(JA$2:JA$338=1)*($AX$2:$AX$338))/IV14","v":87.777777777777771},{"$f":"COUNTIF(OFFSET(JB2,,,MAX(IU3),1),\"=1\")","v":4},{"$f":"SUMPRODUCT(($CM$2:$CM$338=$CV2)*(JB$2:JB$338=1)*($AX$2:$AX$338))/IX14","v":91.25},{"$f":"MIN(IF((($CM$2:$CM$338=$CV2)*($AX$2:$AX$338>3)),$AX$2:$AX$338))","v":40},1,1,"500.10012",{"$f":"IF(JD4<5,\"\",INDEX(compilations,MATCH(JI11&\"taux\",$J$339:$J$424,0),45))","v":92.777777777777786},{"$f":"COUNTIF(OFFSET(JJ2,,,MAX(JD3),1),\"=1\")","v":7},{"$f":"SUMPRODUCT(($CM$2:$CM$338=$CV2)*(JJ$2:JJ$338=1)*($BB$2:$BB$338))/JE14","v":84.285714285714292},{"$f":"COUNTIF(OFFSET(JK2,,,MAX(JD3),1),\"=1\")","v":2},{"$f":"SUMPRODUCT(($CM$2:$CM$338=$CV2)*(JK$2:JK$338=1)*($BB$2:$BB$338))/JG14","v":90},{"$f":"MIN(IF((($CM$2:$CM$338=$CV2)*($BB$2:$BB$338>3)),$BB$2:$BB$338))","v":40},1,1,"500.10012",{"$f":"IF(JM4<5,\"\",INDEX(compilations,MATCH(JR11&\"taux\",$J$339:$J$424,0),49))","v":""},{"$f":"COUNTIF(OFFSET(JS2,,,MAX(JM3),1),\"=1\")","v":0},{"$f":"SUMPRODUCT(($CM$2:$CM$338=$CV2)*(JS$2:JS$338=1)*($BF$2:$BF$338))/JN14","v":{"$error":"#DIV/0!"}},{"$f":"COUNTIF(OFFSET(JT2,,,MAX(JM3),1),\"=1\")","v":0},{"$f":"SUMPRODUCT(($CM$2:$CM$338=$CV2)*(JT$2:JT$338=1)*($BF$2:$BF$338))/JP14","v":{"$error":"#DIV/0!"}},{"$f":"MIN(IF((($CM$2:$CM$338=$CV2)*($BF$2:$BF$338>3)),$BF$2:$BF$338))","v":0},null,null,"500.10012",{"$f":"IF(JV4<5,\"\",INDEX(compilations,MATCH(KA11&\"taux\",$J$339:$J$424,0),53))","v":91.907514450867055},{"$f":"COUNTIF(OFFSET(KB2,,,MAX(JV3),1),\"=1\")","v":5},{"$f":"SUMPRODUCT(($CM$2:$CM$338=$CV2)*(KB$2:KB$338=1)*($BJ$2:$BJ$338))/JW14","v":89.6},{"$f":"COUNTIF(OFFSET(KC2,,,MAX(JV3),1),\"=1\")","v":3},{"$f":"SUMPRODUCT(($CM$2:$CM$338=$CV2)*(KC$2:KC$338=1)*($BJ$2:$BJ$338))/JY14","v":94},{"$f":"MIN(IF((($CM$2:$CM$338=$CV2)*($BJ$2:$BJ$338>3)),$BJ$2:$BJ$338))","v":30},1,1,"500.10012",{"$f":"IF(KE4<5,\"\",INDEX(compilations,MATCH(KJ11&\"taux\",$J$339:$J$424,0),28))","v":95.679012345679013},{"$f":"COUNTIF(OFFSET(KK2,,,MAX(KE3),1),\"=1\")","v":6},{"$f":"SUMPRODUCT(($CM$2:$CM$338=$CV2)*(KK$2:KK$338=1)*($AK$2:$AK$338))/KF14","v":87.5},{"$f":"COUNTIF(OFFSET(KL2,,,MAX(KE3),1),\"=1\")","v":3},{"$f":"SUMPRODUCT(($CM$2:$CM$338=$CV2)*(KL$2:KL$338=1)*($AK$2:$AK$338))/KH14","v":90},{"$f":"MIN(IF((($CM$2:$CM$338=$CV2)*($AK$2:$AK$338>3)),$AK$2:$AK$338))","v":55},1,2,"500.10012",{"$f":"IF(KN4<5,\"\",INDEX(compilations,MATCH(KS11&\"taux\",$J$339:$J$424,0),32))","v":""},{"$f":"COUNTIF(OFFSET(KT2,,,MAX(KN3),1),\"=1\")","v":0},{"$f":"SUMPRODUCT(($CM$2:$CM$338=$CV2)*(KT$2:KT$338=1)*($AO$2:$AO$338))/KO14","v":{"$error":"#DIV/0!"}},{"$f":"COUNTIF(OFFSET(KU2,,,MAX(KN3),1),\"=1\")","v":0},{"$f":"SUMPRODUCT(($CM$2:$CM$338=$CV2)*(KU$2:KU$338=1)*($AO$2:$AO$338))/KQ14","v":{"$error":"#DIV/0!"}},{"$f":"MIN(IF((($CM$2:$CM$338=$CV2)*($AO$2:$AO$338>3)),$AO$2:$AO$338))","v":0},null,null,"500.10012",{"$f":"IF(KW4<5,\"\",INDEX(compilations,MATCH(LB11&\"taux\",$J$339:$J$424,0),36))","v":""},{"$f":"COUNTIF(OFFSET(LC2,,,MAX(KW3),1),\"=1\")","v":0},{"$f":"SUMPRODUCT(($CM$2:$CM$338=$CV2)*(LC$2:LC$338=1)*($AS$2:$AS$338))/KX14","v":{"$error":"#DIV/0!"}},{"$f":"COUNTIF(OFFSET(LD2,,,MAX(KW3),1),\"=1\")","v":0},{"$f":"SUMPRODUCT(($CM$2:$CM$338=$CV2)*(LD$2:LD$338=1)*($AS$2:$AS$338))/KZ14","v":{"$error":"#DIV/0!"}},{"$f":"MIN(IF((($CM$2:$CM$338=$CV2)*($AS$2:$AS$338>3)),$AS$2:$AS$338))","v":0},null,null,"500.10012",{"$f":"IF(LF4<5,\"\",INDEX(compilations,MATCH(LK11&\"taux\",$J$339:$J$424,0),40))","v":88.202247191011239},{"$f":"COUNTIF(OFFSET(LL2,,,MAX(LF3),1),\"=1\")","v":8},{"$f":"SUMPRODUCT(($CM$2:$CM$338=$CV2)*(LL$2:LL$338=1)*($AW$2:$AW$338))/LG14","v":88.125},{"$f":"COUNTIF(OFFSET(LM2,,,MAX(LF3),1),\"=1\")","v":4},{"$f":"SUMPRODUCT(($CM$2:$CM$338=$CV2)*(LM$2:LM$338=1)*($AW$2:$AW$338))/LI14","v":91.25},{"$f":"MIN(IF((($CM$2:$CM$338=$CV2)*($AW$2:$AW$338>3)),$AW$2:$AW$338))","v":40},1,1,"500.10012",{"$f":"IF(LO4<5,\"\",INDEX(compilations,MATCH(LT11&\"taux\",$J$339:$J$424,0),44))","v":90.555555555555557},{"$f":"COUNTIF(OFFSET(LU2,,,MAX(LO3),1),\"=1\")","v":8},{"$f":"SUMPRODUCT(($CM$2:$CM$338=$CV2)*(LU$2:LU$338=1)*($BA$2:$BA$338))/LP14","v":83.75},{"$f":"COUNTIF(OFFSET(LV2,,,MAX(LO3),1),\"=1\")","v":2},{"$f":"SUMPRODUCT(($CM$2:$CM$338=$CV2)*(LV$2:LV$338=1)*($BA$2:$BA$338))/LR14","v":90},{"$f":"MIN(IF((($CM$2:$CM$338=$CV2)*($BA$2:$BA$338>3)),$BA$2:$BA$338))","v":40},1,1,"500.10012",{"$f":"IF(LX4<5,\"\",INDEX(compilations,MATCH(MC11&\"taux\",$J$339:$J$424,0),48))","v":""},{"$f":"COUNTIF(OFFSET(MD2,,,MAX(LX3),1),\"=1\")","v":0},{"$f":"SUMPRODUCT(($CM$2:$CM$338=$CV2)*(MD$2:MD$338=1)*($BE$2:$BE$338))/LY14","v":{"$error":"#DIV/0!"}},{"$f":"COUNTIF(OFFSET(ME2,,,MAX(LX3),1),\"=1\")","v":0},{"$f":"SUMPRODUCT(($CM$2:$CM$338=$CV2)*(ME$2:ME$338=1)*($BE$2:$BE$338))/MA14","v":{"$error":"#DIV/0!"}},{"$f":"MIN(IF((($CM$2:$CM$338=$CV2)*($BE$2:$BE$338>3)),$BE$2:$BE$338))","v":0},null,null,"500.10012",{"$f":"IF(MG4<5,\"\",INDEX(compilations,MATCH(ML11&\"taux\",$J$339:$J$424,0),52))","v":""},{"$f":"COUNTIF(OFFSET(MM2,,,MAX(MG3),1),\"=1\")","v":0},{"$f":"SUMPRODUCT(($CM$2:$CM$338=$CV2)*(MM$2:MM$338=1)*($BI$2:$BI$338))/MH14","v":{"$error":"#DIV/0!"}},{"$f":"COUNTIF(OFFSET(MN2,,,MAX(MG3),1),\"=1\")","v":0},{"$f":"SUMPRODUCT(($CM$2:$CM$338=$CV2)*(MN$2:MN$338=1)*($BI$2:$BI$338))/MJ14","v":{"$error":"#DIV/0!"}},{"$f":"MIN(IF((($CM$2:$CM$338=$CV2)*($BI$2:$BI$338>3)),$BI$2:$BI$338))","v":85},null,null,"500.10012",{"$f":"IF(MP4<5,\"\",INDEX(compilations,MATCH(MU11&\"taux\",$J$339:$J$424,0),56))","v":84.827586206896555},{"$f":"COUNTIF(OFFSET(MV2,,,MAX(MP3),1),\"=1\")","v":9},{"$f":"SUMPRODUCT(($CM$2:$CM$338=$CV2)*(MV$2:MV$338=1)*($BM$2:$BM$338))/MQ14","v":89},{"$f":"COUNTIF(OFFSET(MW2,,,MAX(MP3),1),\"=1\")","v":6},{"$f":"SUMPRODUCT(($CM$2:$CM$338=$CV2)*(MW$2:MW$338=1)*($BM$2:$BM$338))/MS14","v":92.166666666666671},{"$f":"MIN(IF((($CM$2:$CM$338=$CV2)*($BM$2:$BM$338>3)),$BM$2:$BM$338))","v":21},1,1,"500.10012",{"$f":"IF(MY4<5,\"\",INDEX(compilations,MATCH(ND11&\"taux\",$J$339:$J$424,0),72))","v":96.310325476992148},{"$f":"COUNTIF(OFFSET(NE2,,,MAX(MY3),1),\"=1\")","v":5},{"$f":"SUMPRODUCT(($CM$2:$CM$338=$CV2)*(NE$2:NE$338=1)*($CC$2:$CC$338))/MZ14","v":87.25},{"$f":"COUNTIF(OFFSET(NF2,,,MAX(MY3),1),\"=1\")","v":3},{"$f":"SUMPRODUCT(($CM$2:$CM$338=$CV2)*(NF$2:NF$338=1)*($CC$2:$CC$338))/NB14","v":88.75},{"$f":"MIN(IF((($CM$2:$CM$338=$CV2)*($CC$2:$CC$338>3)),$CC$2:$CC$338))","v":68.75},1,1,"500.10012",{"$f":"IF(NH4<5,\"\",INDEX(compilations,MATCH(NM11&\"taux\",$J$339:$J$424,0),73))","v":""},{"$f":"COUNTIF(OFFSET(NN2,,,MAX(NH3),1),\"=1\")","v":0},{"$f":"SUMPRODUCT(($CM$2:$CM$338=$CV2)*(NN$2:NN$338=1)*($CD$2:$CD$338))/NI14","v":{"$error":"#DIV/0!"}},{"$f":"COUNTIF(OFFSET(NO2,,,MAX(NH3),1),\"=1\")","v":0},{"$f":"SUMPRODUCT(($CM$2:$CM$338=$CV2)*(NO$2:NO$338=1)*($CD$2:$CD$338))/NK14","v":{"$error":"#DIV/0!"}},{"$f":"MIN(IF((($CM$2:$CM$338=$CV2)*($CD$2:$CD$338>3)),$CD$2:$CD$338))","v":0},null,null,"500.10012",{"$f":"IF(NQ4<5,\"\",INDEX(compilations,MATCH(NV11&\"taux\",$J$339:$J$424,0),74))","v":{"$error":"#DIV/0!"}},{"$f":"COUNTIF(OFFSET(NW2,,,MAX(NQ3),1),\"=1\")","v":6},{"$f":"SUMPRODUCT(($CM$2:$CM$338=$CV2)*(NW$2:NW$338=1)*($CE$2:$CE$338))/NR14","v":85.555555555555557},{"$f":"COUNTIF(OFFSET(NX2,,,MAX(NQ3),1),\"=1\")","v":3},{"$f":"SUMPRODUCT(($CM$2:$CM$338=$CV2)*(NX$2:NX$338=1)*($CE$2:$CE$338))/NT14","v":88.333333333333329},{"$f":"MIN(IF((($CM$2:$CM$338=$CV2)*($CE$2:$CE$338>3)),$CE$2:$CE$338))","v":53.333333333333336},1,1,"500.10012",{"$f":"IF(NZ4<5,\"\",INDEX(compilations,MATCH(OE11&\"tcfx\",$J$339:$J$424,0),75))","v":{"$error":"#N/A"}},{"$f":"COUNTIF(OFFSET(OF2,,,MAX(NZ3),1),\"=1\")","v":8},{"$f":"SUMPRODUCT(($CM$2:$CM$338=$CV2)*(OF$2:OF$338=1)*($CF$2:$CF$338))/OA14","v":87.1875},{"$f":"COUNTIF(OFFSET(OG2,,,MAX(NZ3),1),\"=1\")","v":6},{"$f":"SUMPRODUCT(($CM$2:$CM$338=$CV2)*(OG$2:OG$338=1)*($CF$2:$CF$338))/OC14","v":88.333333333333329},{"$f":"MIN(IF((($CM$2:$CM$338=$CV2)*($CF$2:$CF$338>3)),$CF$2:$CF$338))","v":48.75},1,1,"500.10012",{"$f":"IF(OI4<5,\"\",INDEX(compilations,MATCH(ON11&\"tcgx\",$J$339:$J$424,0),76))","v":{"$error":"#N/A"}},{"$f":"COUNTIF(OFFSET(OO2,,,MAX(OI3),1),\"=1\")","v":6},{"$f":"SUMPRODUCT(($CM$2:$CM$338=$CV2)*(OO$2:OO$338=1)*($CG$2:$CG$338))/OJ14","v":86.458333333333329},{"$f":"COUNTIF(OFFSET(OP2,,,MAX(OI3),1),\"=1\")","v":3},{"$f":"SUMPRODUCT(($CM$2:$CM$338=$CV2)*(OP$2:OP$338=1)*($CG$2:$CG$338))/OL14","v":90},{"$f":"MIN(IF((($CM$2:$CM$338=$CV2)*($CG$2:$CG$338>3)),$CG$2:$CG$338))","v":46.25},1,1,"500.10012",{"$f":"IF(OR4<5,\"\",INDEX(compilations,MATCH(OW11&\"taux\",$J$339:$J$424,0),77))","v":""},{"$f":"COUNTIF(OFFSET(OX2,,,MAX(OR3),1),\"=1\")","v":0},{"$f":"SUMPRODUCT(($CM$2:$CM$338=$CV2)*(OX$2:OX$338=1)*($CH$2:$CH$338))/OS14","v":{"$error":"#DIV/0!"}},{"$f":"COUNTIF(OFFSET(OY2,,,MAX(OR3),1),\"=1\")","v":0},{"$f":"SUMPRODUCT(($CM$2:$CM$338=$CV2)*(OY$2:OY$338=1)*($CH$2:$CH$338))/OU14","v":{"$error":"#DIV/0!"}},{"$f":"MIN(IF((($CM$2:$CM$338=$CV2)*($CH$2:$CH$338>3)),$CH$2:$CH$338))","v":0},null,null,"500.10012",{"$f":"IF(PA4<5,\"\",INDEX(compilations,MATCH(PF11&\"taux\",$J$339:$J$424,0),78))","v":94.653179190751445},{"$f":"COUNTIF(OFFSET(PG2,,,MAX(PA3),1),\"=1\")","v":9},{"$f":"SUMPRODUCT(($CM$2:$CM$338=$CV2)*(PG$2:PG$338=1)*($CI$2:$CI$338))/PB14","v":84.527777777777771},{"$f":"COUNTIF(OFFSET(PH2,,,MAX(PA3),1),\"=1\")","v":4},{"$f":"SUMPRODUCT(($CM$2:$CM$338=$CV2)*(PH$2:PH$338=1)*($CI$2:$CI$338))/PD14","v":89.4375},{"$f":"MIN(IF((($CM$2:$CM$338=$CV2)*($CI$2:$CI$338>3)),$CI$2:$CI$338))","v":36},1,1]
["2010","001","501",null,null,0,"1999-11-23",null,null,"M",80,80,0,80,70,80,70,90,75,75,85,80,0,0,0,0,75,80,0,80,75,75,75,85,80,75,75,80,0,0,0,0,70,90,0,85,80,85,95,90,80,85,80,80,0,0,0,0,72,83,0,80,78,81,87,81,69,86,92,87,80,100,100,90,null,53.333333333333336,77.5,78.75,78.333333333333329,77.5,77.5,0,81.666666666666671,87.5,81.25,0,80.5,null,null,null,"001501","0.100","50",{"$f":"Tableau_SSRSMSA03_BI_Integration_STEPH_2010[[#This Row],[DAT_NAISSANCE_ELEVE]]","v":"1999-11-23"},"2009-09-30",3599,9.8535249828884321,{"$f":"IF(AND(LEFT(CO15,1)=\"1\",CS15>5.5),\"V\",IF(AND(LEFT(CO15,1)=\"2\",CS15>6.5),\"V\",IF(AND(LEFT(CO15,1)=\"3\",CS15>7.5),\"V\",IF(AND(LEFT(CO15,1)=\"4\",CS15>8.5),\"V\",IF(AND(LEFT(CO15,1)=\"5\",CS15>9.5),\"V\",IF(AND(LEFT(CO15,1)=\"6\",CS15>10.5),\"V\",\"J\"))))))","v":"V"},{"$f":"IF(AJ15=0,0,IF(BH15=0,0,1))","v":1},{"$f":"DC11&DC12&13","v":"500.10013"},"taux reu defav",{"$f":"IF(CX4<5,\"\",SUMPRODUCT(($CN$2:$CN$338=DC12)*($CO$2:$CO$338=DC11)*($AJ$2:$AJ$338>=60))/CX11*100)","v":96.913580246913583},{"$f":"COUNTIF(OFFSET(DD2,,,MAX(CX3),1),\"=2\")","v":4},{"$f":"SUMPRODUCT(($CM$2:$CM$338=$CV2)*(DD$2:DD$338=2)*($AJ$2:$AJ$338))/CY15","v":80},{"$f":"COUNTIF(OFFSET(DE2,,,MAX(CX3),1),\"=2\")","v":13},{"$f":"SUMPRODUCT(($CM$2:$CM$338=$CV2)*(DE$2:DE$338=2)*($AJ$2:$AJ$338))/DA15","v":79.615384615384613},{"$f":"((DC13-DC14)/4)","v":6.25},3,2,"500.10013",{"$f":"IF(DG4<5,\"\",SUMPRODUCT(($CN$2:$CN$338=DL12)*($CO$2:$CO$338=DL11)*($AN$2:$AN$338>=60))/DG11*100)","v":""},{"$f":"COUNTIF(OFFSET(DM2,,,MAX(DG3),1),\"=2\")","v":0},{"$f":"SUMPRODUCT(($CM$2:$CM$338=$CV2)*(DM$2:DM$338=2)*($AN$2:$AN$338))/DH15","v":{"$error":"#DIV/0!"}},{"$f":"COUNTIF(OFFSET(DN2,,,MAX(DG3),1),\"=2\")","v":0},{"$f":"SUMPRODUCT(($CM$2:$CM$338=$CV2)*(DN$2:DN$338=2)*($AN$2:$AN$338))/DJ15","v":{"$error":"#DIV/0!"}},{"$f":"((DL13-DL14)/4)","v":0},null,null,{"$f":"DF15","v":"500.10013"},{"$f":"IF(DP4<5,\"\",SUMPRODUCT(($CN$2:$CN$338=DU12)*($CO$2:$CO$338=DU11)*($AR$2:$AR$338>=60))/DP11*100)","v":94.915254237288138},{"$f":"COUNTIF(OFFSET(DV2,,,MAX(DP3),1),\"=2\")","v":10},{"$f":"SUMPRODUCT(($CM$2:$CM$338=$CV2)*(DV$2:DV$338=2)*($AR$2:$AR$338))/DQ15","v":76},{"$f":"COUNTIF(OFFSET(DW2,,,MAX(DP3),1),\"=2\")","v":11},{"$f":"SUMPRODUCT(($CM$2:$CM$338=$CV2)*(DW$2:DW$338=2)*($AR$2:$AR$338))/DS15","v":76.818181818181813},{"$f":"((DU13-DU14)/4)","v":10},1,1,{"$f":"DO15","v":"500.10013"},{"$f":"IF(DY4<5,\"\",SUMPRODUCT(($CN$2:$CN$338=ED12)*($CO$2:$CO$338=ED11)*($AV$2:$AV$338>=60))/DY11*100)","v":96.629213483146074},{"$f":"COUNTIF(OFFSET(EE2,,,MAX(DY3),1),\"=2\")","v":9},{"$f":"SUMPRODUCT(($CM$2:$CM$338=$CV2)*(EE$2:EE$338=2)*($AV$2:$AV$338))/DZ15","v":82.777777777777771},{"$f":"COUNTIF(OFFSET(EF2,,,MAX(DY3),1),\"=2\")","v":12},{"$f":"SUMPRODUCT(($CM$2:$CM$338=$CV2)*(EF$2:EF$338=2)*($AV$2:$AV$338))/EB15","v":80.833333333333329},{"$f":"((ED13-ED14)/4)","v":8.75},2,2,{"$f":"DX15","v":"500.10013"},{"$f":"IF(EH4<5,\"\",SUMPRODUCT(($CN$2:$CN$338=EM12)*($CO$2:$CO$338=EM11)*($AZ$2:$AZ$338>=60))/EH11*100)","v":95.555555555555557},{"$f":"COUNTIF(OFFSET(EN2,,,MAX(EH3),1),\"=2\")","v":7},{"$f":"SUMPRODUCT(($CM$2:$CM$338=$CV2)*(EN$2:EN$338=2)*($AZ$2:$AZ$338))/EI15","v":77.142857142857139},{"$f":"COUNTIF(OFFSET(EO2,,,MAX(EH3),1),\"=2\")","v":12},{"$f":"SUMPRODUCT(($CM$2:$CM$338=$CV2)*(EO$2:EO$338=2)*($AZ$2:$AZ$338))/EK15","v":80.416666666666671},{"$f":"((EM13-EM14)/4)","v":11.25},1,2,{"$f":"EG15","v":"500.10013"},{"$f":"IF(EQ4<5,\"\",SUMPRODUCT(($CN$2:$CN$338=EV12)*($CO$2:$CO$338=EV11)*($BD$2:$BD$338>=60))/EQ11*100)","v":""},{"$f":"COUNTIF(OFFSET(EW2,,,MAX(EQ3),1),\"=2\")","v":0},{"$f":"SUMPRODUCT(($CM$2:$CM$338=$CV2)*(EW$2:EW$338=2)*($BD$2:$BD$338))/ER15","v":{"$error":"#DIV/0!"}},{"$f":"COUNTIF(OFFSET(EX2,,,MAX(EQ3),1),\"=2\")","v":0},{"$f":"SUMPRODUCT(($CM$2:$CM$338=$CV2)*(EX$2:EX$338=2)*($BD$2:$BD$338))/ET15","v":{"$error":"#DIV/0!"}},{"$f":"((EV13-EV14)/4)","v":0},null,null,{"$f":"EP15","v":"500.10013"},{"$f":"IF(EZ4<5,\"\",SUMPRODUCT(($CN$2:$CN$338=FE12)*($CO$2:$CO$338=FE11)*($BH$2:$BH$338>=60))/EZ11*100)","v":93.063583815028906},{"$f":"COUNTIF(OFFSET(FF2,,,MAX(EZ3),1),\"=2\")","v":10},{"$f":"SUMPRODUCT(($CM$2:$CM$338=$CV2)*(FF$2:FF$338=2)*($BH$2:$BH$338))/FA15","v":73.900000000000006},{"$f":"COUNTIF(OFFSET(FG2,,,MAX(EZ3),1),\"=2\")","v":10},{"$f":"SUMPRODUCT(($CM$2:$CM$338=$CV2)*(FG$2:FG$338=2)*($BH$2:$BH$338))/FC15","v":79.5},{"$f":"((FE13-FE14)/4)","v":9.75},1,2,{"$f":"EY15","v":"500.10013"},{"$f":"IF(FI4<5,\"\",SUMPRODUCT(($CN$2:$CN$338=FN12)*($CO$2:$CO$338=FN11)*($AI$2:$AI$338>=60))/FI11*100)","v":95.679012345679013},{"$f":"COUNTIF(OFFSET(FO2,,,MAX(FI3),1),\"=2\")","v":5},{"$f":"SUMPRODUCT(($CM$2:$CM$338=$CV2)*(FO$2:FO$338=2)*($AI$2:$AI$338))/FJ15","v":80},{"$f":"COUNTIF(OFFSET(FP2,,,MAX(FI3),1),\"=2\")","v":11},{"$f":"SUMPRODUCT(($CM$2:$CM$338=$CV2)*(FP$2:FP$338=2)*($AI$2:$AI$338))/FL15","v":81.818181818181813},{"$f":"((FN13-FN14)/4)","v":6.25},2,2,{"$f":"FH15","v":"500.10013"},{"$f":"IF(FR4<5,\"\",SUMPRODUCT(($CN$2:$CN$338=FW12)*($CO$2:$CO$338=FW11)*($AM$2:$AM$338>=60))/FR11*100)","v":""},{"$f":"COUNTIF(OFFSET(FX2,,,MAX(FR3),1),\"=2\")","v":0},{"$f":"SUMPRODUCT(($CM$2:$CM$338=$CV2)*(FX$2:FX$338=2)*($AM$2:$AM$338))/FS15","v":{"$error":"#DIV/0!"}},{"$f":"COUNTIF(OFFSET(FY2,,,MAX(FR3),1),\"=2\")","v":0},{"$f":"SUMPRODUCT(($CM$2:$CM$338=$CV2)*(FY$2:FY$338=2)*($AM$2:$AM$338))/FU15","v":{"$error":"#DIV/0!"}},{"$f":"((FW13-FW14)/4)","v":0},null,null,{"$f":"FQ15","v":"500.10013"},{"$f":"IF(GA4<5,\"\",SUMPRODUCT(($CN$2:$CN$338=GF12)*($CO$2:$CO$338=GF11)*($AQ$2:$AQ$338>=60))/GA11*100)","v":90.395480225988706},{"$f":"COUNTIF(OFFSET(GG2,,,MAX(GA3),1),\"=2\")","v":12},{"$f":"SUMPRODUCT(($CM$2:$CM$338=$CV2)*(GG$2:GG$338=2)*($AQ$2:$AQ$338))/GB15","v":72.5},{"$f":"COUNTIF(OFFSET(GH2,,,MAX(GA3),1),\"=2\")","v":10},{"$f":"SUMPRODUCT(($CM$2:$CM$338=$CV2)*(GH$2:GH$338=2)*($AQ$2:$AQ$338))/GD15","v":77.5},{"$f":"((GF13-GF14)/4)","v":8.75},2,3,{"$f":"FZ15","v":"500.10013"},{"$f":"IF(GJ4<5,\"\",SUMPRODUCT(($CN$2:$CN$338=GO12)*($CO$2:$CO$338=GO11)*($AU$2:$AU$338>=60))/GJ11*100)","v":94.382022471910105},{"$f":"COUNTIF(OFFSET(GP2,,,MAX(GJ3),1),\"=2\")","v":8},{"$f":"SUMPRODUCT(($CM$2:$CM$338=$CV2)*(GP$2:GP$338=2)*($AU$2:$AU$338))/GK15","v":77.5},{"$f":"COUNTIF(OFFSET(GQ2,,,MAX(GJ3),1),\"=2\")","v":12},{"$f":"SUMPRODUCT(($CM$2:$CM$338=$CV2)*(GQ$2:GQ$338=2)*($AU$2:$AU$338))/GM15","v":80},{"$f":"((GO13-GO14)/4)","v":11.25},2,2,{"$f":"GI15","v":"500.10013"},{"$f":"IF(GS4<5,\"\",SUMPRODUCT(($CN$2:$CN$338=GX12)*($CO$2:$CO$338=GX11)*($AY$2:$AY$338>=60))/GS11*100)","v":96.666666666666671},{"$f":"COUNTIF(OFFSET(GY2,,,MAX(GS3),1),\"=2\")","v":5},{"$f":"SUMPRODUCT(($CM$2:$CM$338=$CV2)*(GY$2:GY$338=2)*($AY$2:$AY$338))/GT15","v":79},{"$f":"COUNTIF(OFFSET(GZ2,,,MAX(GS3),1),\"=2\")","v":9},{"$f":"SUMPRODUCT(($CM$2:$CM$338=$CV2)*(GZ$2:GZ$338=2)*($AY$2:$AY$338))/GV15","v":81.666666666666671},{"$f":"((GX13-GX14)/4)","v":11.25},2,2,{"$f":"GR15","v":"500.10013"},{"$f":"IF(HB4<5,\"\",SUMPRODUCT(($CN$2:$CN$338=HG12)*($CO$2:$CO$338=HG11)*($BC$2:$BC$338>=60))/HB11*100)","v":""},{"$f":"COUNTIF(OFFSET(HH2,,,MAX(HB3),1),\"=2\")","v":0},{"$f":"SUMPRODUCT(($CM$2:$CM$338=$CV2)*(HH$2:HH$338=2)*($BC$2:$BC$338))/HC15","v":{"$error":"#DIV/0!"}},{"$f":"COUNTIF(OFFSET(HI2,,,MAX(HB3),1),\"=2\")","v":0},{"$f":"SUMPRODUCT(($CM$2:$CM$338=$CV2)*(HI$2:HI$338=2)*($BC$2:$BC$338))/HE15","v":{"$error":"#DIV/0!"}},{"$f":"((HG13-HG14)/4)","v":0},null,null,{"$f":"HA15","v":"500.10013"},{"$f":"IF(HK4<5,\"\",SUMPRODUCT(($CN$2:$CN$338=HP12)*($CO$2:$CO$338=HP11)*($BG$2:$BG$338>=60))/HK11*100)","v":93.641618497109818},{"$f":"COUNTIF(OFFSET(HQ2,,,MAX(HK3),1),\"=2\")","v":11},{"$f":"SUMPRODUCT(($CM$2:$CM$338=$CV2)*(HQ$2:HQ$338=2)*($BG$2:$BG$338))/HL15","v":72.818181818181813},{"$f":"COUNTIF(OFFSET(HR2,,,MAX(HK3),1),\"=2\")","v":7},{"$f":"SUMPRODUCT(($CM$2:$CM$338=$CV2)*(HR$2:HR$338=2)*($BG$2:$BG$338))/HN15","v":77.571428571428569},{"$f":"((HP13-HP14)/4)","v":12.5},2,3,{"$f":"HJ15","v":"500.10013"},{"$f":"IF(HT4<5,\"\",SUMPRODUCT(($CN$2:$CN$338=HY12)*($CO$2:$CO$338=HY11)*($AL$2:$AL$338>=60))/HT11*100)","v":96.969696969696969},{"$f":"COUNTIF(OFFSET(HZ2,,,MAX(HT3),1),\"=2\")","v":4},{"$f":"SUMPRODUCT(($CM$2:$CM$338=$CV2)*(HZ$2:HZ$338=2)*($AL$2:$AL$338))/HU15","v":85},{"$f":"COUNTIF(OFFSET(IA2,,,MAX(HT3),1),\"=2\")","v":14},{"$f":"SUMPRODUCT(($CM$2:$CM$338=$CV2)*(IA$2:IA$338=2)*($AL$2:$AL$338))/HW15","v":80.714285714285708},{"$f":"((HY13-HY14)/4)","v":6.25},3,2,{"$f":"HS15","v":"500.10013"},{"$f":"IF(IC4<5,\"\",SUMPRODUCT(($CN$2:$CN$338=IH12)*($CO$2:$CO$338=IH11)*($AP$2:$AP$338>=60))/IC11*100)","v":""},{"$f":"COUNTIF(OFFSET(II2,,,MAX(IC3),1),\"=2\")","v":0},{"$f":"SUMPRODUCT(($CM$2:$CM$338=$CV2)*(II$2:II$338=2)*($AP$2:$AP$338))/ID15","v":{"$error":"#DIV/0!"}},{"$f":"COUNTIF(OFFSET(IJ2,,,MAX(IC3),1),\"=2\")","v":0},{"$f":"SUMPRODUCT(($CM$2:$CM$338=$CV2)*(IJ$2:IJ$338=2)*($AP$2:$AP$338))/IF15","v":{"$error":"#DIV/0!"}},{"$f":"((IH13-IH14)/4)","v":0},null,null,{"$f":"IB15","v":"500.10013"},{"$f":"IF(IL4<5,\"\",SUMPRODUCT(($CN$2:$CN$338=IQ12)*($CO$2:$CO$338=IQ11)*($AT$2:$AT$338>=60))/IL11*100)","v":90.960451977401121},{"$f":"COUNTIF(OFFSET(IR2,,,MAX(IL3),1),\"=2\")","v":8},{"$f":"SUMPRODUCT(($CM$2:$CM$338=$CV2)*(IR$2:IR$338=2)*($AL$2:$AL$338))/IM15","v":60},{"$f":"COUNTIF(OFFSET(IS2,,,MAX(IL3),1),\"=2\")","v":10},{"$f":"SUMPRODUCT(($CM$2:$CM$338=$CV2)*(IS$2:IS$338=2)*($AL$2:$AL$338))/IO15","v":63.5},{"$f":"((IQ13-IQ14)/4)","v":12.5},1,2,{"$f":"IK15","v":"500.10013"},{"$f":"IF(IU4<5,\"\",SUMPRODUCT(($CN$2:$CN$338=IZ12)*($CO$2:$CO$338=IZ11)*($AX$2:$AX$338>=60))/IU11*100)","v":92.696629213483149},{"$f":"COUNTIF(OFFSET(JA2,,,MAX(IU3),1),\"=2\")","v":11},{"$f":"SUMPRODUCT(($CM$2:$CM$338=$CV2)*(JA$2:JA$338=2)*($AX$2:$AX$338))/IV15","v":76.818181818181813},{"$f":"COUNTIF(OFFSET(JB2,,,MAX(IU3),1),\"=2\")","v":15},{"$f":"SUMPRODUCT(($CM$2:$CM$338=$CV2)*(JB$2:JB$338=2)*($AX$2:$AX$338))/IX15","v":80},{"$f":"((IZ13-IZ14)/4)","v":13.75},1,1,{"$f":"IT15","v":"500.10013"},{"$f":"IF(JD4<5,\"\",SUMPRODUCT(($CN$2:$CN$338=JI12)*($CO$2:$CO$338=JI11)*($BB$2:$BB$338>=60))/JD11*100)","v":92.777777777777786},{"$f":"COUNTIF(OFFSET(JJ2,,,MAX(JD3),1),\"=2\")","v":11},{"$f":"SUMPRODUCT(($CM$2:$CM$338=$CV2)*(JJ$2:JJ$338=2)*($BB$2:$BB$338))/JE15","v":71.818181818181813},{"$f":"COUNTIF(OFFSET(JK2,,,MAX(JD3),1),\"=2\")","v":10},{"$f":"SUMPRODUCT(($CM$2:$CM$338=$CV2)*(JK$2:JK$338=2)*($BB$2:$BB$338))/JG15","v":78.5},{"$f":"((JI13-JI14)/4)","v":12.5},1,2,{"$f":"JC15","v":"500.10013"},{"$f":"IF(JM4<5,\"\",SUMPRODUCT(($CN$2:$CN$338=JR12)*($CO$2:$CO$338=JR11)*($BF$2:$BF$338>=60))/JM11*100)","v":""},{"$f":"COUNTIF(OFFSET(JS2,,,MAX(JM3),1),\"=2\")","v":0},{"$f":"SUMPRODUCT(($CM$2:$CM$338=$CV2)*(JS$2:JS$338=2)*($BF$2:$BF$338))/JN15","v":{"$error":"#DIV/0!"}},{"$f":"COUNTIF(OFFSET(JT2,,,MAX(JM3),1),\"=2\")","v":0},{"$f":"SUMPRODUCT(($CM$2:$CM$338=$CV2)*(JT$2:JT$338=2)*($BF$2:$BF$338))/JP15","v":{"$error":"#DIV/0!"}},{"$f":"((JR13-JR14)/4)","v":0},null,null,{"$f":"JL15","v":"500.10013"},{"$f":"IF(JV4<5,\"\",SUMPRODUCT(($CN$2:$CN$338=KA12)*($CO$2:$CO$338=KA11)*($BJ$2:$BJ$338>=60))/JV11*100)","v":91.907514450867055},{"$f":"COUNTIF(OFFSET(KB2,,,MAX(JV3),1),\"=2\")","v":15},{"$f":"SUMPRODUCT(($CM$2:$CM$338=$CV2)*(KB$2:KB$338=2)*($BJ$2:$BJ$338))/JW15","v":74.666666666666671},{"$f":"COUNTIF(OFFSET(KC2,,,MAX(JV3),1),\"=2\")","v":12},{"$f":"SUMPRODUCT(($CM$2:$CM$338=$CV2)*(KC$2:KC$338=2)*($BJ$2:$BJ$338))/JY15","v":78},{"$f":"((KA13-KA14)/4)","v":17.25},2,2,{"$f":"JU15","v":"500.10013"},{"$f":"IF(KE4<5,\"\",SUMPRODUCT(($CN$2:$CN$338=KJ12)*($CO$2:$CO$338=KJ11)*($AK$2:$AK$338>=60))/KE11*100)","v":95.679012345679013},{"$f":"COUNTIF(OFFSET(KK2,,,MAX(KE3),1),\"=2\")","v":9},{"$f":"SUMPRODUCT(($CM$2:$CM$338=$CV2)*(KK$2:KK$338=2)*($AK$2:$AK$338))/KF15","v":78.333333333333329},{"$f":"COUNTIF(OFFSET(KL2,,,MAX(KE3),1),\"=2\")","v":12},{"$f":"SUMPRODUCT(($CM$2:$CM$338=$CV2)*(KL$2:KL$338=2)*($AK$2:$AK$338))/KH15","v":80},{"$f":"((KJ13-KJ14)/4)","v":8.75},2,2,{"$f":"KD15","v":"500.10013"},{"$f":"IF(KN4<5,\"\",SUMPRODUCT(($CN$2:$CN$338=KS12)*($CO$2:$CO$338=KS11)*($AO$2:$AO$338>=60))/KN11*100)","v":""},{"$f":"COUNTIF(OFFSET(KT2,,,MAX(KN3),1),\"=2\")","v":0},{"$f":"SUMPRODUCT(($CM$2:$CM$338=$CV2)*(KT$2:KT$338=2)*($AO$2:$AO$338))/KO15","v":{"$error":"#DIV/0!"}},{"$f":"COUNTIF(OFFSET(KU2,,,MAX(KN3),1),\"=2\")","v":0},{"$f":"SUMPRODUCT(($CM$2:$CM$338=$CV2)*(KU$2:KU$338=2)*($AO$2:$AO$338))/KQ15","v":{"$error":"#DIV/0!"}},{"$f":"((KS13-KS14)/4)","v":0},null,null,{"$f":"KM15","v":"500.10013"},{"$f":"IF(KW4<5,\"\",SUMPRODUCT(($CN$2:$CN$338=LB12)*($CO$2:$CO$338=LB11)*($AS$2:$AS$338>=60))/KW11*100)","v":""},{"$f":"COUNTIF(OFFSET(LC2,,,MAX(KW3),1),\"=2\")","v":0},{"$f":"SUMPRODUCT(($CM$2:$CM$338=$CV2)*(LC$2:LC$338=2)*($AS$2:$AS$338))/KX15","v":{"$error":"#DIV/0!"}},{"$f":"COUNTIF(OFFSET(LD2,,,MAX(KW3),1),\"=2\")","v":0},{"$f":"SUMPRODUCT(($CM$2:$CM$338=$CV2)*(LD$2:LD$338=2)*($AS$2:$AS$338))/KZ15","v":{"$error":"#DIV/0!"}},{"$f":"((LB13-LB14)/4)","v":0},null,null,{"$f":"KV15","v":"500.10013"},{"$f":"IF(LF4<5,\"\",SUMPRODUCT(($CN$2:$CN$338=LK12)*($CO$2:$CO$338=LK11)*($AW$2:$AW$338>=60))/LF11*100)","v":88.202247191011239},{"$f":"COUNTIF(OFFSET(LL2,,,MAX(LF3),1),\"=2\")","v":9},{"$f":"SUMPRODUCT(($CM$2:$CM$338=$CV2)*(LL$2:LL$338=2)*($AW$2:$AW$338))/LG15","v":74.444444444444443},{"$f":"COUNTIF(OFFSET(LM2,,,MAX(LF3),1),\"=2\")","v":10},{"$f":"SUMPRODUCT(($CM$2:$CM$338=$CV2)*(LM$2:LM$338=2)*($AW$2:$AW$338))/LI15","v":80},{"$f":"((LK13-LK14)/4)","v":13.75},1,1,{"$f":"LE15","v":"500.10013"},{"$f":"IF(LO4<5,\"\",SUMPRODUCT(($CN$2:$CN$338=LT12)*($CO$2:$CO$338=LT11)*($BA$2:$BA$338>=60))/LO11*100)","v":90.555555555555557},{"$f":"COUNTIF(OFFSET(LU2,,,MAX(LO3),1),\"=2\")","v":8},{"$f":"SUMPRODUCT(($CM$2:$CM$338=$CV2)*(LU$2:LU$338=2)*($BA$2:$BA$338))/LP15","v":71.25},{"$f":"COUNTIF(OFFSET(LV2,,,MAX(LO3),1),\"=2\")","v":9},{"$f":"SUMPRODUCT(($CM$2:$CM$338=$CV2)*(LV$2:LV$338=2)*($BA$2:$BA$338))/LR15","v":79.444444444444443},{"$f":"((LT13-LT14)/4)","v":12.5},1,2,{"$f":"LN15","v":"500.10013"},{"$f":"IF(LX4<5,\"\",SUMPRODUCT(($CN$2:$CN$338=MC12)*($CO$2:$CO$338=MC11)*($BE$2:$BE$338>=60))/LX11*100)","v":""},{"$f":"COUNTIF(OFFSET(MD2,,,MAX(LX3),1),\"=2\")","v":0},{"$f":"SUMPRODUCT(($CM$2:$CM$338=$CV2)*(MD$2:MD$338=2)*($BE$2:$BE$338))/LY15","v":{"$error":"#DIV/0!"}},{"$f":"COUNTIF(OFFSET(ME2,,,MAX(LX3),1),\"=2\")","v":0},{"$f":"SUMPRODUCT(($CM$2:$CM$338=$CV2)*(ME$2:ME$338=2)*($BE$2:$BE$338))/MA15","v":{"$error":"#DIV/0!"}},{"$f":"((MC13-MC14)/4)","v":0},null,null,{"$f":"LW15","v":"500.10013"},{"$f":"IF(MG4<5,\"\",SUMPRODUCT(($CN$2:$CN$338=ML12)*($CO$2:$CO$338=ML11)*($BI$2:$BI$338>=60))/MG11*100)","v":""},{"$f":"COUNTIF(OFFSET(MM2,,,MAX(MG3),1),\"=2\")","v":0},{"$f":"SUMPRODUCT(($CM$2:$CM$338=$CV2)*(MM$2:MM$338=2)*($BI$2:$BI$338))/MH15","v":{"$error":"#DIV/0!"}},{"$f":"COUNTIF(OFFSET(MN2,,,MAX(MG3),1),\"=2\")","v":0},{"$f":"SUMPRODUCT(($CM$2:$CM$338=$CV2)*(MN$2:MN$338=2)*($BI$2:$BI$338))/MJ15","v":{"$error":"#DIV/0!"}},{"$f":"((ML13-ML14)/4)","v":3.75},null,null,{"$f":"MF15","v":"500.10013"},{"$f":"IF(MP4<5,\"\",SUMPRODUCT(($CN$2:$CN$338=MU12)*($CO$2:$CO$338=MU11)*($BM$2:$BM$338>=60))/MP11*100)","v":84.827586206896555},{"$f":"COUNTIF(OFFSET(MV2,,,MAX(MP3),1),\"=2\")","v":11},{"$f":"SUMPRODUCT(($CM$2:$CM$338=$CV2)*(MV$2:MV$338=2)*($BM$2:$BM$338))/MQ15","v":69.909090909090907},{"$f":"COUNTIF(OFFSET(MW2,,,MAX(MP3),1),\"=2\")","v":9},{"$f":"SUMPRODUCT(($CM$2:$CM$338=$CV2)*(MW$2:MW$338=2)*($BM$2:$BM$338))/MS15","v":77.777777777777771},{"$f":"((MU13-MU14)/4)","v":19.5},1,1,{"$f":"MO15","v":"500.10013"},{"$f":"IF(MY4<5,\"\",SUMPRODUCT(($CN$2:$CN$338=ND12)*($CO$2:$CO$338=ND11)*($CC$2:$CC$338>=60))/MY11*100)","v":97.53086419753086},{"$f":"COUNTIF(OFFSET(NE2,,,MAX(MY3),1),\"=2\")","v":5},{"$f":"SUMPRODUCT(($CM$2:$CM$338=$CV2)*(NE$2:NE$338=2)*($CC$2:$CC$338))/MZ15","v":81.75},{"$f":"COUNTIF(OFFSET(NF2,,,MAX(MY3),1),\"=2\")","v":14},{"$f":"SUMPRODUCT(($CM$2:$CM$338=$CV2)*(NF$2:NF$338=2)*($CC$2:$CC$338))/NB15","v":78.928571428571431},{"$f":"((ND13-ND14)/4)","v":5.3125},3,2,{"$f":"MX15","v":"500.10013"},{"$f":"IF(NH4<5,\"\",SUMPRODUCT(($CN$2:$CN$338=NM12)*($CO$2:$CO$338=NM11)*($CD$2:$CD$338>=60))/NH11*100)","v":""},{"$f":"COUNTIF(OFFSET(NN2,,,MAX(NH3),1),\"=2\")","v":0},{"$f":"SUMPRODUCT(($CM$2:$CM$338=$CV2)*(NN$2:NN$338=2)*($CD$2:$CD$338))/NI15","v":{"$error":"#DIV/0!"}},{"$f":"COUNTIF(OFFSET(NO2,,,MAX(NH3),1),\"=2\")","v":0},{"$f":"SUMPRODUCT(($CM$2:$CM$338=$CV2)*(NO$2:NO$338=2)*($CD$2:$CD$338))/NK15","v":{"$error":"#DIV/0!"}},{"$f":"((NM13-NM14)/4)","v":0},null,null,{"$f":"NG15","v":"500.10013"},{"$f":"IF(NQ4<5,\"\",SUMPRODUCT(($CN$2:$CN$338=NV12)*($CO$2:$CO$338=NV11)*($CE$2:$CE$338>=60))/NQ11*100)","v":92.655367231638422},{"$f":"COUNTIF(OFFSET(NW2,,,MAX(NQ3),1),\"=2\")","v":10},{"$f":"SUMPRODUCT(($CM$2:$CM$338=$CV2)*(NW$2:NW$338=2)*($CE$2:$CE$338))/NR15","v":76},{"$f":"COUNTIF(OFFSET(NX2,,,MAX(NQ3),1),\"=2\")","v":11},{"$f":"SUMPRODUCT(($CM$2:$CM$338=$CV2)*(NX$2:NX$338=2)*($CE$2:$CE$338))/NT15","v":78.63636363636364},{"$f":"((NV13-NV14)/4)","v":9.1666666666666661},1,2,{"$f":"NP15","v":"500.10013"},{"$f":"IF(NZ4<5,\"\",SUMPRODUCT(($CN$2:$CN$338=OE12)*($CO$2:$CO$338=OE11)*($CF$2:$CF$338>=60))/NZ11*100)","v":93.82022471910112},{"$f":"COUNTIF(OFFSET(OF2,,,MAX(NZ3),1),\"=2\")","v":8},{"$f":"SUMPRODUCT(($CM$2:$CM$338=$CV2)*(OF$2:OF$338=2)*($CF$2:$CF$338))/OA15","v":75.9375},{"$f":"COUNTIF(OFFSET(OG2,,,MAX(NZ3),1),\"=2\")","v":8},{"$f":"SUMPRODUCT(($CM$2:$CM$338=$CV2)*(OG$2:OG$338=2)*($CF$2:$CF$338))/OC15","v":79.0625},{"$f":"((OE13-OE14)/4)","v":10.9375},1,1,{"$f":"NY15","v":"500.10013"},{"$f":"IF(OI4<5,\"\",SUMPRODUCT(($CN$2:$CN$338=ON12)*($CO$2:$CO$338=ON11)*($CG$2:$CG$338>=60))/OI11*100)","v":92.777777777777786},{"$f":"COUNTIF(OFFSET(OO2,,,MAX(OI3),1),\"=2\")","v":10},{"$f":"SUMPRODUCT(($CM$2:$CM$338=$CV2)*(OO$2:OO$338=2)*($CG$2:$CG$338))/OJ15","v":73.875},{"$f":"COUNTIF(OFFSET(OP2,,,MAX(OI3),1),\"=2\")","v":8},{"$f":"SUMPRODUCT(($CM$2:$CM$338=$CV2)*(OP$2:OP$338=2)*($CG$2:$CG$338))/OL15","v":79.6875},{"$f":"((ON13-ON14)/4)","v":11.5625},1,2,{"$f":"OH15","v":"500.10013"},{"$f":"IF(OR4<5,\"\",SUMPRODUCT(($CN$2:$CN$338=OW12)*($CO$2:$CO$338=OW11)*($CH$2:$CH$338>=60))/OR11*100)","v":""},{"$f":"COUNTIF(OFFSET(OX2,,,MAX(OR3),1),\"=2\")","v":0},{"$f":"SUMPRODUCT(($CM$2:$CM$338=$CV2)*(OX$2:OX$338=2)*($CH$2:$CH$338))/OS15","v":{"$error":"#DIV/0!"}},{"$f":"COUNTIF(OFFSET(OY2,,,MAX(OR3),1),\"=2\")","v":0},{"$f":"SUMPRODUCT(($CM$2:$CM$338=$CV2)*(OY$2:OY$338=2)*($CH$2:$CH$338))/OU15","v":{"$error":"#DIV/0!"}},{"$f":"((OW13-OW14)/4)","v":0},null,null,{"$f":"OQ15","v":"500.10013"},{"$f":"IF(PA4<5,\"\",SUMPRODUCT(($CN$2:$CN$338=PF12)*($CO$2:$CO$338=PF11)*($CI$2:$CI$338>=60))/PA11*100)","v":91.907514450867055},{"$f":"COUNTIF(OFFSET(PG2,,,MAX(PA3),1),\"=2\")","v":13},{"$f":"SUMPRODUCT(($CM$2:$CM$338=$CV2)*(PG$2:PG$338=2)*($CI$2:$CI$338))/PB15","v":71.961538461538467},{"$f":"COUNTIF(OFFSET(PH2,,,MAX(PA3),1),\"=2\")","v":11},{"$f":"SUMPRODUCT(($CM$2:$CM$338=$CV2)*(PH$2:PH$338=2)*($CI$2:$CI$338))/PD15","v":78.022727272727266},{"$f":"((PF13-PF14)/4)","v":14.5625},1,2]
["2010","001","501",null,null,0,"2000-05-21",null,null,"M",80,90,0,80,75,85,80,85,80,0,0,85,0,0,0,0,80,80,0,80,80,85,85,80,75,75,80,70,0,0,0,0,75,70,0,85,85,80,85,85,70,80,75,70,0,0,0,0,80,72,0,69,72,72,63,65,71,85,72,83,80,79,60,79,null,53.333333333333336,81.25,0,80,82.5,75,0,76.666666666666671,83.75,73.75,0,71,null,null,null,"001501","0.100","50",{"$f":"Tableau_SSRSMSA03_BI_Integration_STEPH_2010[[#This Row],[DAT_NAISSANCE_ELEVE]]","v":"2000-05-21"},"2009-09-30",3419,9.3607118412046546,{"$f":"IF(AND(LEFT(CO16,1)=\"1\",CS16>5.5),\"V\",IF(AND(LEFT(CO16,1)=\"2\",CS16>6.5),\"V\",IF(AND(LEFT(CO16,1)=\"3\",CS16>7.5),\"V\",IF(AND(LEFT(CO16,1)=\"4\",CS16>8.5),\"V\",IF(AND(LEFT(CO16,1)=\"5\",CS16>9.5),\"V\",IF(AND(LEFT(CO16,1)=\"6\",CS16>10.5),\"V\",\"J\"))))))","v":"J"},{"$f":"IF(AJ16=0,0,IF(BH16=0,0,1))","v":1},{"$f":"DC11&DC12&14","v":"500.10014"},"nb echec",{"$f":"SUMPRODUCT((($CM$2:$CM$338=$CV2)*($AJ$2:$AJ$338>3)*($AJ$2:$AJ$338<60)))","v":0},{"$f":"COUNTIF(OFFSET(DD2,,,MAX(CX3),1),\"=3\")","v":5},{"$f":"SUMPRODUCT(($CM$2:$CM$338=$CV2)*(DD$2:DD$338=3)*($AJ$2:$AJ$338))/CY16","v":75},{"$f":"COUNTIF(OFFSET(DE2,,,MAX(CX3),1),\"5\")+COUNTIF(OFFSET(DE2,,,MAX(CX3),1),\"6\")","v":1},{"$f":"((SUMPRODUCT(($CM$2:$CM$338=$CV2)*(DE$2:DE$338=5)*($AJ$2:$AJ$338)))+(SUMPRODUCT(($CM$2:$CM$338=$CV2)*(DE$2:DE$338=6)*($AJ$2:$AJ$338))))/DA16","v":65},{"$f":"DC13-DC15","v":83.75},3,2,"500.10014",{"$f":"SUMPRODUCT((($CM$2:$CM$338=$CV2)*($AN$2:$AN$338>3)*($AN$2:$AN$338<60)))","v":0},{"$f":"COUNTIF(OFFSET(DM2,,,MAX(DG3),1),\"=3\")","v":0},{"$f":"SUMPRODUCT(($CM$2:$CM$338=$CV2)*(DM$2:DM$338=3)*($AN$2:$AN$338))/DH16","v":{"$error":"#DIV/0!"}},{"$f":"COUNTIF(OFFSET(DN2,,,MAX(DG3),1),\"5\")+COUNTIF(OFFSET(DN2,,,MAX(DG3),1),\"6\")","v":0},{"$f":"((SUMPRODUCT(($CM$2:$CM$338=$CV2)*(DN$2:DN$338=5)*($AN$2:$AN$338)))+(SUMPRODUCT(($CM$2:$CM$338=$CV2)*(DN$2:DN$338=6)*($AN$2:$AN$338))))/DJ16","v":{"$error":"#DIV/0!"}},{"$f":"DL13-DL15","v":0},null,null,"500.10014",{"$f":"SUMPRODUCT((($CM$2:$CM$338=$CV2)*($AR$2:$AR$338>3)*($AR$2:$AR$338<60)))","v":1},{"$f":"COUNTIF(OFFSET(DV2,,,MAX(DP3),1),\"=3\")","v":7},{"$f":"SUMPRODUCT(($CM$2:$CM$338=$CV2)*(DV$2:DV$338=3)*($AR$2:$AR$338))/DQ16","v":67.857142857142861},{"$f":"COUNTIF(OFFSET(DW2,,,MAX(DP3),1),\"5\")+COUNTIF(OFFSET(DW2,,,MAX(DP3),1),\"6\")","v":3},{"$f":"((SUMPRODUCT(($CM$2:$CM$338=$CV2)*(DW$2:DW$338=5)*($AR$2:$AR$338)))+(SUMPRODUCT(($CM$2:$CM$338=$CV2)*(DW$2:DW$338=6)*($AR$2:$AR$338))))/DS16","v":65},{"$f":"DU13-DU15","v":85},3,3,"500.10014",{"$f":"SUMPRODUCT((($CM$2:$CM$338=$CV2)*($AV$2:$AV$338>3)*($AV$2:$AV$338<60)))","v":0},{"$f":"COUNTIF(OFFSET(EE2,,,MAX(DY3),1),\"=3\")","v":7},{"$f":"SUMPRODUCT(($CM$2:$CM$338=$CV2)*(EE$2:EE$338=3)*($AV$2:$AV$338))/DZ16","v":72.142857142857139},{"$f":"COUNTIF(OFFSET(EF2,,,MAX(DY3),1),\"5\")+COUNTIF(OFFSET(EF2,,,MAX(DY3),1),\"6\")","v":5},{"$f":"((SUMPRODUCT(($CM$2:$CM$338=$CV2)*(EF$2:EF$338=5)*($AV$2:$AV$338)))+(SUMPRODUCT(($CM$2:$CM$338=$CV2)*(EF$2:EF$338=6)*($AV$2:$AV$338))))/EB16","v":61},{"$f":"ED13-ED15","v":86.25},2,2,"500.10014",{"$f":"SUMPRODUCT((($CM$2:$CM$338=$CV2)*($AZ$2:$AZ$338>3)*($AZ$2:$AZ$338<60)))","v":1},{"$f":"COUNTIF(OFFSET(EN2,,,MAX(EH3),1),\"=3\")","v":7},{"$f":"SUMPRODUCT(($CM$2:$CM$338=$CV2)*(EN$2:EN$338=3)*($AZ$2:$AZ$338))/EI16","v":69.285714285714292},{"$f":"COUNTIF(OFFSET(EO2,,,MAX(EH3),1),\"5\")+COUNTIF(OFFSET(EO2,,,MAX(EH3),1),\"6\")","v":4},{"$f":"((SUMPRODUCT(($CM$2:$CM$338=$CV2)*(EO$2:EO$338=5)*($AZ$2:$AZ$338)))+(SUMPRODUCT(($CM$2:$CM$338=$CV2)*(EO$2:EO$338=6)*($AZ$2:$AZ$338))))/EK16","v":61.25},{"$f":"EM13-EM15","v":83.75},2,2,"500.10014",{"$f":"SUMPRODUCT((($CM$2:$CM$338=$CV2)*($BD$2:$BD$338>3)*($BD$2:$BD$338<60)))","v":0},{"$f":"COUNTIF(OFFSET(EW2,,,MAX(EQ3),1),\"=3\")","v":0},{"$f":"SUMPRODUCT(($CM$2:$CM$338=$CV2)*(EW$2:EW$338=3)*($BD$2:$BD$338))/ER16","v":{"$error":"#DIV/0!"}},{"$f":"COUNTIF(OFFSET(EX2,,,MAX(EQ3),1),\"5\")+COUNTIF(OFFSET(EX2,,,MAX(EQ3),1),\"6\")","v":0},{"$f":"((SUMPRODUCT(($CM$2:$CM$338=$CV2)*(EX$2:EX$338=5)*($BD$2:$BD$338)))+(SUMPRODUCT(($CM$2:$CM$338=$CV2)*(EX$2:EX$338=6)*($BD$2:$BD$338))))/ET16","v":{"$error":"#DIV/0!"}},{"$f":"EV13-EV15","v":0},null,null,"500.10014",{"$f":"SUMPRODUCT((($CM$2:$CM$338=$CV2)*($BH$2:$BH$338>3)*($BH$2:$BH$338<60)))","v":2},{"$f":"COUNTIF(OFFSET(FF2,,,MAX(EZ3),1),\"=3\")","v":4},{"$f":"SUMPRODUCT(($CM$2:$CM$338=$CV2)*(FF$2:FF$338=3)*($BH$2:$BH$338))/FA16","v":67},{"$f":"COUNTIF(OFFSET(FG2,,,MAX(EZ3),1),\"5\")+COUNTIF(OFFSET(FG2,,,MAX(EZ3),1),\"6\")","v":3},{"$f":"((SUMPRODUCT(($CM$2:$CM$338=$CV2)*(FG$2:FG$338=5)*($BH$2:$BH$338)))+(SUMPRODUCT(($CM$2:$CM$338=$CV2)*(FG$2:FG$338=6)*($BH$2:$BH$338))))/FC16","v":63.333333333333336},{"$f":"FE13-FE15","v":80.25},2,3,"500.10014",{"$f":"SUMPRODUCT((($CM$2:$CM$338=$CV2)*($AI$2:$AI$338>3)*($AI$2:$AI$338<60)))","v":0},{"$f":"COUNTIF(OFFSET(FO2,,,MAX(FI3),1),\"=3\")","v":1},{"$f":"SUMPRODUCT(($CM$2:$CM$338=$CV2)*(FO$2:FO$338=3)*($AI$2:$AI$338))/FJ16","v":75},{"$f":"COUNTIF(OFFSET(FP2,,,MAX(FI3),1),\"5\")+COUNTIF(OFFSET(FP2,,,MAX(FI3),1),\"6\")","v":3},{"$f":"((SUMPRODUCT(($CM$2:$CM$338=$CV2)*(FP$2:FP$338=5)*($AI$2:$AI$338)))+(SUMPRODUCT(($CM$2:$CM$338=$CV2)*(FP$2:FP$338=6)*($AI$2:$AI$338))))/FL16","v":65},{"$f":"FN13-FN15","v":83.75},3,2,"500.10014",{"$f":"SUMPRODUCT((($CM$2:$CM$338=$CV2)*($AM$2:$AM$338>3)*($AM$2:$AM$338<60)))","v":0},{"$f":"COUNTIF(OFFSET(FX2,,,MAX(FR3),1),\"=3\")","v":0},{"$f":"SUMPRODUCT(($CM$2:$CM$338=$CV2)*(FX$2:FX$338=3)*($AM$2:$AM$338))/FS16","v":{"$error":"#DIV/0!"}},{"$f":"COUNTIF(OFFSET(FY2,,,MAX(FR3),1),\"5\")+COUNTIF(OFFSET(FY2,,,MAX(FR3),1),\"6\")","v":0},{"$f":"((SUMPRODUCT(($CM$2:$CM$338=$CV2)*(FY$2:FY$338=5)*($AM$2:$AM$338)))+(SUMPRODUCT(($CM$2:$CM$338=$CV2)*(FY$2:FY$338=6)*($AM$2:$AM$338))))/FU16","v":{"$error":"#DIV/0!"}},{"$f":"FW13-FW15","v":0},null,null,"500.10014",{"$f":"SUMPRODUCT((($CM$2:$CM$338=$CV2)*($AQ$2:$AQ$338>3)*($AQ$2:$AQ$338<60)))","v":4},{"$f":"COUNTIF(OFFSET(GG2,,,MAX(GA3),1),\"=3\")","v":5},{"$f":"SUMPRODUCT(($CM$2:$CM$338=$CV2)*(GG$2:GG$338=3)*($AQ$2:$AQ$338))/GB16","v":62},{"$f":"COUNTIF(OFFSET(GH2,,,MAX(GA3),1),\"5\")+COUNTIF(OFFSET(GH2,,,MAX(GA3),1),\"6\")","v":5},{"$f":"((SUMPRODUCT(($CM$2:$CM$338=$CV2)*(GH$2:GH$338=5)*($AQ$2:$AQ$338)))+(SUMPRODUCT(($CM$2:$CM$338=$CV2)*(GH$2:GH$338=6)*($AQ$2:$AQ$338))))/GD16","v":62},{"$f":"GF13-GF15","v":76.25},2,2,"500.10014",{"$f":"SUMPRODUCT((($CM$2:$CM$338=$CV2)*($AU$2:$AU$338>3)*($AU$2:$AU$338<60)))","v":2},{"$f":"COUNTIF(OFFSET(GP2,,,MAX(GJ3),1),\"=3\")","v":5},{"$f":"SUMPRODUCT(($CM$2:$CM$338=$CV2)*(GP$2:GP$338=3)*($AU$2:$AU$338))/GK16","v":67},{"$f":"COUNTIF(OFFSET(GQ2,,,MAX(GJ3),1),\"5\")+COUNTIF(OFFSET(GQ2,,,MAX(GJ3),1),\"6\")","v":5},{"$f":"((SUMPRODUCT(($CM$2:$CM$338=$CV2)*(GQ$2:GQ$338=5)*($AU$2:$AU$338)))+(SUMPRODUCT(($CM$2:$CM$338=$CV2)*(GQ$2:GQ$338=6)*($AU$2:$AU$338))))/GM16","v":63},{"$f":"GO13-GO15","v":83.75},1,2,"500.10014",{"$f":"SUMPRODUCT((($CM$2:$CM$338=$CV2)*($AY$2:$AY$338>3)*($AY$2:$AY$338<60)))","v":1},{"$f":"COUNTIF(OFFSET(GY2,,,MAX(GS3),1),\"=3\")","v":10},{"$f":"SUMPRODUCT(($CM$2:$CM$338=$CV2)*(GY$2:GY$338=3)*($AY$2:$AY$338))/GT16","v":69},{"$f":"COUNTIF(OFFSET(GZ2,,,MAX(GS3),1),\"5\")+COUNTIF(OFFSET(GZ2,,,MAX(GS3),1),\"6\")","v":5},{"$f":"((SUMPRODUCT(($CM$2:$CM$338=$CV2)*(GZ$2:GZ$338=5)*($AY$2:$AY$338)))+(SUMPRODUCT(($CM$2:$CM$338=$CV2)*(GZ$2:GZ$338=6)*($AY$2:$AY$338))))/GV16","v":62},{"$f":"GX13-GX15","v":83.75},3,3,"500.10014",{"$f":"SUMPRODUCT((($CM$2:$CM$338=$CV2)*($BC$2:$BC$338>3)*($BC$2:$BC$338<60)))","v":0},{"$f":"COUNTIF(OFFSET(HH2,,,MAX(HB3),1),\"=3\")","v":0},{"$f":"SUMPRODUCT(($CM$2:$CM$338=$CV2)*(HH$2:HH$338=3)*($BC$2:$BC$338))/HC16","v":{"$error":"#DIV/0!"}},{"$f":"COUNTIF(OFFSET(HI2,,,MAX(HB3),1),\"5\")+COUNTIF(OFFSET(HI2,,,MAX(HB3),1),\"6\")","v":0},{"$f":"((SUMPRODUCT(($CM$2:$CM$338=$CV2)*(HI$2:HI$338=5)*($BC$2:$BC$338)))+(SUMPRODUCT(($CM$2:$CM$338=$CV2)*(HI$2:HI$338=6)*($BC$2:$BC$338))))/HE16","v":{"$error":"#DIV/0!"}},{"$f":"HG13-HG15","v":0},null,null,"500.10014",{"$f":"SUMPRODUCT((($CM$2:$CM$338=$CV2)*($BG$2:$BG$338>3)*($BG$2:$BG$338<60)))","v":2},{"$f":"COUNTIF(OFFSET(HQ2,,,MAX(HK3),1),\"=3\")","v":6},{"$f":"SUMPRODUCT(($CM$2:$CM$338=$CV2)*(HQ$2:HQ$338=3)*($BG$2:$BG$338))/HL16","v":63.166666666666664},{"$f":"COUNTIF(OFFSET(HR2,,,MAX(HK3),1),\"5\")+COUNTIF(OFFSET(HR2,,,MAX(HK3),1),\"6\")","v":5},{"$f":"((SUMPRODUCT(($CM$2:$CM$338=$CV2)*(HR$2:HR$338=5)*($BG$2:$BG$338)))+(SUMPRODUCT(($CM$2:$CM$338=$CV2)*(HR$2:HR$338=6)*($BG$2:$BG$338))))/HN16","v":64.599999999999994},{"$f":"HP13-HP15","v":79.5},1,2,"500.10014",{"$f":"SUMPRODUCT((($CM$2:$CM$338=$CV2)*($AL$2:$AL$338>3)*($AL$2:$AL$338<60)))","v":0},{"$f":"COUNTIF(OFFSET(HZ2,,,MAX(HT3),1),\"=3\")","v":8},{"$f":"SUMPRODUCT(($CM$2:$CM$338=$CV2)*(HZ$2:HZ$338=3)*($AL$2:$AL$338))/HU16","v":80},{"$f":"COUNTIF(OFFSET(IA2,,,MAX(HT3),1),\"5\")+COUNTIF(OFFSET(IA2,,,MAX(HT3),1),\"6\")","v":0},{"$f":"((SUMPRODUCT(($CM$2:$CM$338=$CV2)*(IA$2:IA$338=5)*($AL$2:$AL$338)))+(SUMPRODUCT(($CM$2:$CM$338=$CV2)*(IA$2:IA$338=6)*($AL$2:$AL$338))))/HW16","v":{"$error":"#DIV/0!"}},{"$f":"HY13-HY15","v":88.75},4,3,"500.10014",{"$f":"SUMPRODUCT((($CM$2:$CM$338=$CV2)*($AP$2:$AP$338>3)*($AP$2:$AP$338<60)))","v":0},{"$f":"COUNTIF(OFFSET(II2,,,MAX(IC3),1),\"=3\")","v":0},{"$f":"SUMPRODUCT(($CM$2:$CM$338=$CV2)*(II$2:II$338=3)*($AP$2:$AP$338))/ID16","v":{"$error":"#DIV/0!"}},{"$f":"COUNTIF(OFFSET(IJ2,,,MAX(IC3),1),\"5\")+COUNTIF(OFFSET(IJ2,,,MAX(IC3),1),\"6\")","v":0},{"$f":"((SUMPRODUCT(($CM$2:$CM$338=$CV2)*(IJ$2:IJ$338=5)*($AP$2:$AP$338)))+(SUMPRODUCT(($CM$2:$CM$338=$CV2)*(IJ$2:IJ$338=6)*($AP$2:$AP$338))))/IF16","v":{"$error":"#DIV/0!"}},{"$f":"IH13-IH15","v":0},null,null,"500.10014",{"$f":"SUMPRODUCT((($CM$2:$CM$338=$CV2)*($AT$2:$AT$338>3)*($AT$2:$AT$338<60)))","v":3},{"$f":"COUNTIF(OFFSET(IR2,,,MAX(IL3),1),\"=3\")","v":4},{"$f":"SUMPRODUCT(($CM$2:$CM$338=$CV2)*(IR$2:IR$338=3)*($AL$2:$AL$338))/IM16","v":78.75},{"$f":"COUNTIF(OFFSET(IS2,,,MAX(IL3),1),\"5\")+COUNTIF(OFFSET(IS2,,,MAX(IL3),1),\"6\")","v":4},{"$f":"((SUMPRODUCT(($CM$2:$CM$338=$CV2)*(IS$2:IS$338=5)*($AL$2:$AL$338)))+(SUMPRODUCT(($CM$2:$CM$338=$CV2)*(IS$2:IS$338=6)*($AL$2:$AL$338))))/IO16","v":78.75},{"$f":"IQ13-IQ15","v":82.5},1,2,"500.10014",{"$f":"SUMPRODUCT((($CM$2:$CM$338=$CV2)*($AX$2:$AX$338>3)*($AX$2:$AX$338<60)))","v":3},{"$f":"COUNTIF(OFFSET(JA2,,,MAX(IU3),1),\"=3\")","v":4},{"$f":"SUMPRODUCT(($CM$2:$CM$338=$CV2)*(JA$2:JA$338=3)*($AX$2:$AX$338))/IV16","v":57.5},{"$f":"COUNTIF(OFFSET(JB2,,,MAX(IU3),1),\"5\")+COUNTIF(OFFSET(JB2,,,MAX(IU3),1),\"6\")","v":2},{"$f":"((SUMPRODUCT(($CM$2:$CM$338=$CV2)*(JB$2:JB$338=5)*($AX$2:$AX$338)))+(SUMPRODUCT(($CM$2:$CM$338=$CV2)*(JB$2:JB$338=6)*($AX$2:$AX$338))))/IX16","v":60},{"$f":"IZ13-IZ15","v":81.25},1,2,"500.10014",{"$f":"SUMPRODUCT((($CM$2:$CM$338=$CV2)*($BB$2:$BB$338>3)*($BB$2:$BB$338<60)))","v":3},{"$f":"COUNTIF(OFFSET(JJ2,,,MAX(JD3),1),\"=3\")","v":6},{"$f":"SUMPRODUCT(($CM$2:$CM$338=$CV2)*(JJ$2:JJ$338=3)*($BB$2:$BB$338))/JE16","v":59.166666666666664},{"$f":"COUNTIF(OFFSET(JK2,,,MAX(JD3),1),\"5\")+COUNTIF(OFFSET(JK2,,,MAX(JD3),1),\"6\")","v":6},{"$f":"((SUMPRODUCT(($CM$2:$CM$338=$CV2)*(JK$2:JK$338=5)*($BB$2:$BB$338)))+(SUMPRODUCT(($CM$2:$CM$338=$CV2)*(JK$2:JK$338=6)*($BB$2:$BB$338))))/JG16","v":60.833333333333336},{"$f":"JI13-JI15","v":77.5},2,3,"500.10014",{"$f":"SUMPRODUCT((($CM$2:$CM$338=$CV2)*($BF$2:$BF$338>3)*($BF$2:$BF$338<60)))","v":0},{"$f":"COUNTIF(OFFSET(JS2,,,MAX(JM3),1),\"=3\")","v":0},{"$f":"SUMPRODUCT(($CM$2:$CM$338=$CV2)*(JS$2:JS$338=3)*($BF$2:$BF$338))/JN16","v":{"$error":"#DIV/0!"}},{"$f":"COUNTIF(OFFSET(JT2,,,MAX(JM3),1),\"5\")+COUNTIF(OFFSET(JT2,,,MAX(JM3),1),\"6\")","v":0},{"$f":"((SUMPRODUCT(($CM$2:$CM$338=$CV2)*(JT$2:JT$338=5)*($BF$2:$BF$338)))+(SUMPRODUCT(($CM$2:$CM$338=$CV2)*(JT$2:JT$338=6)*($BF$2:$BF$338))))/JP16","v":{"$error":"#DIV/0!"}},{"$f":"JR13-JR15","v":0},null,null,"500.10014",{"$f":"SUMPRODUCT((($CM$2:$CM$338=$CV2)*($BJ$2:$BJ$338>3)*($BJ$2:$BJ$338<60)))","v":3},{"$f":"COUNTIF(OFFSET(KB2,,,MAX(JV3),1),\"=3\")","v":5},{"$f":"SUMPRODUCT(($CM$2:$CM$338=$CV2)*(KB$2:KB$338=3)*($BJ$2:$BJ$338))/JW16","v":58.2},{"$f":"COUNTIF(OFFSET(KC2,,,MAX(JV3),1),\"5\")+COUNTIF(OFFSET(KC2,,,MAX(JV3),1),\"6\")","v":3},{"$f":"((SUMPRODUCT(($CM$2:$CM$338=$CV2)*(KC$2:KC$338=5)*($BJ$2:$BJ$338)))+(SUMPRODUCT(($CM$2:$CM$338=$CV2)*(KC$2:KC$338=6)*($BJ$2:$BJ$338))))/JY16","v":62},{"$f":"KA13-KA15","v":81.75},2,3,"500.10014",{"$f":"SUMPRODUCT((($CM$2:$CM$338=$CV2)*($AK$2:$AK$338>3)*($AK$2:$AK$338<60)))","v":1},{"$f":"COUNTIF(OFFSET(KK2,,,MAX(KE3),1),\"=3\")","v":2},{"$f":"SUMPRODUCT(($CM$2:$CM$338=$CV2)*(KK$2:KK$338=3)*($AK$2:$AK$338))/KF16","v":67.5},{"$f":"COUNTIF(OFFSET(KL2,,,MAX(KE3),1),\"5\")+COUNTIF(OFFSET(KL2,,,MAX(KE3),1),\"6\")","v":3},{"$f":"((SUMPRODUCT(($CM$2:$CM$338=$CV2)*(KL$2:KL$338=5)*($AK$2:$AK$338)))+(SUMPRODUCT(($CM$2:$CM$338=$CV2)*(KL$2:KL$338=6)*($AK$2:$AK$338))))/KH16","v":61.666666666666664},{"$f":"KJ13-KJ15","v":81.25},2,2,"500.10014",{"$f":"SUMPRODUCT((($CM$2:$CM$338=$CV2)*($AO$2:$AO$338>3)*($AO$2:$AO$338<60)))","v":0},{"$f":"COUNTIF(OFFSET(KT2,,,MAX(KN3),1),\"=3\")","v":0},{"$f":"SUMPRODUCT(($CM$2:$CM$338=$CV2)*(KT$2:KT$338=3)*($AO$2:$AO$338))/KO16","v":{"$error":"#DIV/0!"}},{"$f":"COUNTIF(OFFSET(KU2,,,MAX(KN3),1),\"5\")+COUNTIF(OFFSET(KU2,,,MAX(KN3),1),\"6\")","v":0},{"$f":"((SUMPRODUCT(($CM$2:$CM$338=$CV2)*(KU$2:KU$338=5)*($AO$2:$AO$338)))+(SUMPRODUCT(($CM$2:$CM$338=$CV2)*(KU$2:KU$338=6)*($AO$2:$AO$338))))/KQ16","v":{"$error":"#DIV/0!"}},{"$f":"KS13-KS15","v":0},null,null,"500.10014",{"$f":"SUMPRODUCT((($CM$2:$CM$338=$CV2)*($AS$2:$AS$338>3)*($AS$2:$AS$338<60)))","v":0},{"$f":"COUNTIF(OFFSET(LC2,,,MAX(KW3),1),\"=3\")","v":0},{"$f":"SUMPRODUCT(($CM$2:$CM$338=$CV2)*(LC$2:LC$338=3)*($AS$2:$AS$338))/KX16","v":{"$error":"#DIV/0!"}},{"$f":"COUNTIF(OFFSET(LD2,,,MAX(KW3),1),\"5\")+COUNTIF(OFFSET(LD2,,,MAX(KW3),1),\"6\")","v":0},{"$f":"((SUMPRODUCT(($CM$2:$CM$338=$CV2)*(LD$2:LD$338=5)*($AS$2:$AS$338)))+(SUMPRODUCT(($CM$2:$CM$338=$CV2)*(LD$2:LD$338=6)*($AS$2:$AS$338))))/KZ16","v":{"$error":"#DIV/0!"}},{"$f":"LB13-LB15","v":0},null,null,"500.10014",{"$f":"SUMPRODUCT((($CM$2:$CM$338=$CV2)*($AW$2:$AW$338>3)*($AW$2:$AW$338<60)))","v":4},{"$f":"COUNTIF(OFFSET(LL2,,,MAX(LF3),1),\"=3\")","v":6},{"$f":"SUMPRODUCT(($CM$2:$CM$338=$CV2)*(LL$2:LL$338=3)*($AW$2:$AW$338))/LG16","v":59.166666666666664},{"$f":"COUNTIF(OFFSET(LM2,,,MAX(LF3),1),\"5\")+COUNTIF(OFFSET(LM2,,,MAX(LF3),1),\"6\")","v":4},{"$f":"((SUMPRODUCT(($CM$2:$CM$338=$CV2)*(LM$2:LM$338=5)*($AW$2:$AW$338)))+(SUMPRODUCT(($CM$2:$CM$338=$CV2)*(LM$2:LM$338=6)*($AW$2:$AW$338))))/LI16","v":61.25},{"$f":"LK13-LK15","v":81.25},1,2,"500.10014",{"$f":"SUMPRODUCT((($CM$2:$CM$338=$CV2)*($BA$2:$BA$338>3)*($BA$2:$BA$338<60)))","v":6},{"$f":"COUNTIF(OFFSET(LU2,,,MAX(LO3),1),\"=3\")","v":5},{"$f":"SUMPRODUCT(($CM$2:$CM$338=$CV2)*(LU$2:LU$338=3)*($BA$2:$BA$338))/LP16","v":59},{"$f":"COUNTIF(OFFSET(LV2,,,MAX(LO3),1),\"5\")+COUNTIF(OFFSET(LV2,,,MAX(LO3),1),\"6\")","v":5},{"$f":"((SUMPRODUCT(($CM$2:$CM$338=$CV2)*(LV$2:LV$338=5)*($BA$2:$BA$338)))+(SUMPRODUCT(($CM$2:$CM$338=$CV2)*(LV$2:LV$338=6)*($BA$2:$BA$338))))/LR16","v":61},{"$f":"LT13-LT15","v":77.5},2,2,"500.10014",{"$f":"SUMPRODUCT((($CM$2:$CM$338=$CV2)*($BE$2:$BE$338>3)*($BE$2:$BE$338<60)))","v":0},{"$f":"COUNTIF(OFFSET(MD2,,,MAX(LX3),1),\"=3\")","v":0},{"$f":"SUMPRODUCT(($CM$2:$CM$338=$CV2)*(MD$2:MD$338=3)*($BE$2:$BE$338))/LY16","v":{"$error":"#DIV/0!"}},{"$f":"COUNTIF(OFFSET(ME2,,,MAX(LX3),1),\"5\")+COUNTIF(OFFSET(ME2,,,MAX(LX3),1),\"6\")","v":0},{"$f":"((SUMPRODUCT(($CM$2:$CM$338=$CV2)*(ME$2:ME$338=5)*($BE$2:$BE$338)))+(SUMPRODUCT(($CM$2:$CM$338=$CV2)*(ME$2:ME$338=6)*($BE$2:$BE$338))))/MA16","v":{"$error":"#DIV/0!"}},{"$f":"MC13-MC15","v":0},null,null,"500.10014",{"$f":"SUMPRODUCT((($CM$2:$CM$338=$CV2)*($BI$2:$BI$338>3)*($BI$2:$BI$338<60)))","v":0},{"$f":"COUNTIF(OFFSET(MM2,,,MAX(MG3),1),\"=3\")","v":0},{"$f":"SUMPRODUCT(($CM$2:$CM$338=$CV2)*(MM$2:MM$338=3)*($BI$2:$BI$338))/MH16","v":{"$error":"#DIV/0!"}},{"$f":"COUNTIF(OFFSET(MN2,,,MAX(MG3),1),\"5\")+COUNTIF(OFFSET(MN2,,,MAX(MG3),1),\"6\")","v":0},{"$f":"((SUMPRODUCT(($CM$2:$CM$338=$CV2)*(MN$2:MN$338=5)*($BI$2:$BI$338)))+(SUMPRODUCT(($CM$2:$CM$338=$CV2)*(MN$2:MN$338=6)*($BI$2:$BI$338))))/MJ16","v":{"$error":"#DIV/0!"}},{"$f":"ML13-ML15","v":96.25},null,null,"500.10014",{"$f":"SUMPRODUCT((($CM$2:$CM$338=$CV2)*($BM$2:$BM$338>3)*($BM$2:$BM$338<60)))","v":4},{"$f":"COUNTIF(OFFSET(MV2,,,MAX(MP3),1),\"=3\")","v":2},{"$f":"SUMPRODUCT(($CM$2:$CM$338=$CV2)*(MV$2:MV$338=3)*($BM$2:$BM$338))/MQ16","v":49.5},{"$f":"COUNTIF(OFFSET(MW2,,,MAX(MP3),1),\"5\")+COUNTIF(OFFSET(MW2,,,MAX(MP3),1),\"6\")","v":4},{"$f":"((SUMPRODUCT(($CM$2:$CM$338=$CV2)*(MW$2:MW$338=5)*($BM$2:$BM$338)))+(SUMPRODUCT(($CM$2:$CM$338=$CV2)*(MW$2:MW$338=6)*($BM$2:$BM$338))))/MS16","v":61.75},{"$f":"MU13-MU15","v":79.5},2,6,"500.10014",{"$f":"SUMPRODUCT((($CM$2:$CM$338=$CV2)*($CC$2:$CC$338>3)*($CC$2:$CC$338<60)))","v":0},{"$f":"COUNTIF(OFFSET(NE2,,,MAX(MY3),1),\"=3\")","v":7},{"$f":"SUMPRODUCT(($CM$2:$CM$338=$CV2)*(NE$2:NE$338=3)*($CC$2:$CC$338))/MZ16","v":75.178571428571431},{"$f":"COUNTIF(OFFSET(NF2,,,MAX(MY3),1),\"5\")+COUNTIF(OFFSET(NF2,,,MAX(MY3),1),\"6\")","v":0},{"$f":"((SUMPRODUCT(($CM$2:$CM$338=$CV2)*(NF$2:NF$338=5)*($CC$2:$CC$338)))+(SUMPRODUCT(($CM$2:$CM$338=$CV2)*(NF$2:NF$338=6)*($CC$2:$CC$338))))/NB16","v":{"$error":"#DIV/0!"}},{"$f":"ND13-ND15","v":84.6875},3,2,"500.10014",{"$f":"SUMPRODUCT((($CM$2:$CM$338=$CV2)*($CD$2:$CD$338>3)*($CD$2:$CD$338<60)))","v":0},{"$f":"COUNTIF(OFFSET(NN2,,,MAX(NH3),1),\"=3\")","v":0},{"$f":"SUMPRODUCT(($CM$2:$CM$338=$CV2)*(NN$2:NN$338=3)*($CD$2:$CD$338))/NI16","v":{"$error":"#DIV/0!"}},{"$f":"COUNTIF(OFFSET(NO2,,,MAX(NH3),1),\"5\")+COUNTIF(OFFSET(NO2,,,MAX(NH3),1),\"6\")","v":0},{"$f":"((SUMPRODUCT(($CM$2:$CM$338=$CV2)*(NO$2:NO$338=5)*($CD$2:$CD$338)))+(SUMPRODUCT(($CM$2:$CM$338=$CV2)*(NO$2:NO$338=6)*($CD$2:$CD$338))))/NK16","v":{"$error":"#DIV/0!"}},{"$f":"NM13-NM15","v":0},null,null,"500.10014",{"$f":"SUMPRODUCT((($CM$2:$CM$338=$CV2)*($CE$2:$CE$338>3)*($CE$2:$CE$338<60)))","v":1},{"$f":"COUNTIF(OFFSET(NW2,,,MAX(NQ3),1),\"=3\")","v":6},{"$f":"SUMPRODUCT(($CM$2:$CM$338=$CV2)*(NW$2:NW$338=3)*($CE$2:$CE$338))/NR16","v":65.833333333333329},{"$f":"COUNTIF(OFFSET(NX2,,,MAX(NQ3),1),\"5\")+COUNTIF(OFFSET(NX2,,,MAX(NQ3),1),\"6\")","v":6},{"$f":"((SUMPRODUCT(($CM$2:$CM$338=$CV2)*(NX$2:NX$338=5)*($CE$2:$CE$338)))+(SUMPRODUCT(($CM$2:$CM$338=$CV2)*(NX$2:NX$338=6)*($CE$2:$CE$338))))/NT16","v":63.05555555555555},{"$f":"NV13-NV15","v":80.833333333333329},2,2,"500.10014",{"$f":"SUMPRODUCT((($CM$2:$CM$338=$CV2)*($CF$2:$CF$338>3)*($CF$2:$CF$338<60)))","v":2},{"$f":"COUNTIF(OFFSET(OF2,,,MAX(NZ3),1),\"=3\")","v":7},{"$f":"SUMPRODUCT(($CM$2:$CM$338=$CV2)*(OF$2:OF$338=3)*($CF$2:$CF$338))/OA16","v":66.964285714285708},{"$f":"COUNTIF(OFFSET(OG2,,,MAX(NZ3),1),\"5\")+COUNTIF(OFFSET(OG2,,,MAX(NZ3),1),\"6\")","v":3},{"$f":"((SUMPRODUCT(($CM$2:$CM$338=$CV2)*(OG$2:OG$338=5)*($CF$2:$CF$338)))+(SUMPRODUCT(($CM$2:$CM$338=$CV2)*(OG$2:OG$338=6)*($CF$2:$CF$338))))/OC16","v":64.166666666666671},{"$f":"OE13-OE15","v":81.5625},1,2,"500.10014",{"$f":"SUMPRODUCT((($CM$2:$CM$338=$CV2)*($CG$2:$CG$338>3)*($CG$2:$CG$338<60)))","v":2},{"$f":"COUNTIF(OFFSET(OO2,,,MAX(OI3),1),\"=3\")","v":9},{"$f":"SUMPRODUCT(($CM$2:$CM$338=$CV2)*(OO$2:OO$338=3)*($CG$2:$CG$338))/OJ16","v":63.055555555555557},{"$f":"COUNTIF(OFFSET(OP2,,,MAX(OI3),1),\"5\")+COUNTIF(OFFSET(OP2,,,MAX(OI3),1),\"6\")","v":8},{"$f":"((SUMPRODUCT(($CM$2:$CM$338=$CV2)*(OP$2:OP$338=5)*($CG$2:$CG$338)))+(SUMPRODUCT(($CM$2:$CM$338=$CV2)*(OP$2:OP$338=6)*($CG$2:$CG$338))))/OL16","v":63.59375},{"$f":"ON13-ON15","v":80.9375},2,2,"500.10014",{"$f":"SUMPRODUCT((($CM$2:$CM$338=$CV2)*($CH$2:$CH$338>3)*($CH$2:$CH$338<60)))","v":0},{"$f":"COUNTIF(OFFSET(OX2,,,MAX(OR3),1),\"=3\")","v":0},{"$f":"SUMPRODUCT(($CM$2:$CM$338=$CV2)*(OX$2:OX$338=3)*($CH$2:$CH$338))/OS16","v":{"$error":"#DIV/0!"}},{"$f":"COUNTIF(OFFSET(OY2,,,MAX(OR3),1),\"5\")+COUNTIF(OFFSET(OY2,,,MAX(OR3),1),\"6\")","v":0},{"$f":"((SUMPRODUCT(($CM$2:$CM$338=$CV2)*(OY$2:OY$338=5)*($CH$2:$CH$338)))+(SUMPRODUCT(($CM$2:$CM$338=$CV2)*(OY$2:OY$338=6)*($CH$2:$CH$338))))/OU16","v":{"$error":"#DIV/0!"}},{"$f":"OW13-OW15","v":0},null,null,"500.10014",{"$f":"SUMPRODUCT((($CM$2:$CM$338=$CV2)*($CI$2:$CI$338>3)*($CI$2:$CI$338<60)))","v":2},{"$f":"COUNTIF(OFFSET(PG2,,,MAX(PA3),1),\"=3\")","v":3},{"$f":"SUMPRODUCT(($CM$2:$CM$338=$CV2)*(PG$2:PG$338=3)*($CI$2:$CI$338))/PB16","v":59.416666666666664},{"$f":"COUNTIF(OFFSET(PH2,,,MAX(PA3),1),\"5\")+COUNTIF(OFFSET(PH2,,,MAX(PA3),1),\"6\")","v":4},{"$f":"((SUMPRODUCT(($CM$2:$CM$338=$CV2)*(PH$2:PH$338=5)*($CI$2:$CI$338)))+(SUMPRODUCT(($CM$2:$CM$338=$CV2)*(PH$2:PH$338=6)*($CI$2:$CI$338))))/PD16","v":63.375},{"$f":"PF13-PF15","v":79.6875},2,3]
["2010","001","501",null,null,0,"1999-10-21",null,null,"F",80,65,0,65,80,75,75,60,85,0,0,65,0,0,0,0,80,70,0,65,85,70,70,65,80,85,60,70,0,0,0,0,75,70,0,60,85,85,55,55,70,75,60,60,0,0,0,0,76,72,0,63,80,73,64,60,75,74,55,69,84,71,64,60,null,48.333333333333336,72.5,0,71.666666666666671,72.5,73.75,0,68.333333333333329,70,66.25,0,68.75,null,null,null,"001501","0.100","50",{"$f":"Tableau_SSRSMSA03_BI_Integration_STEPH_2010[[#This Row],[DAT_NAISSANCE_ELEVE]]","v":"1999-10-21"},"2009-09-30",3632,9.9438740588637913,{"$f":"IF(AND(LEFT(CO17,1)=\"1\",CS17>5.5),\"V\",IF(AND(LEFT(CO17,1)=\"2\",CS17>6.5),\"V\",IF(AND(LEFT(CO17,1)=\"3\",CS17>7.5),\"V\",IF(AND(LEFT(CO17,1)=\"4\",CS17>8.5),\"V\",IF(AND(LEFT(CO17,1)=\"5\",CS17>9.5),\"V\",IF(AND(LEFT(CO17,1)=\"6\",CS17>10.5),\"V\",\"J\"))))))","v":"V"},{"$f":"IF(AJ17=0,0,IF(BH17=0,0,1))","v":1},{"$f":"DC11&DC12&15","v":"500.10015"},"nb danger",{"$f":"SUMPRODUCT((($CM$2:$CM$338=$CV2)*($AJ$2:$AJ$338>=60)*($AJ$2:$AJ$338<67.15)))","v":1},{"$f":"COUNTIF(OFFSET(DD2,,,MAX(CX3),1),\"=4\")","v":3},{"$f":"SUMPRODUCT(($CM$2:$CM$338=$CV2)*(DD$2:DD$338=4)*($AJ$2:$AJ$338))/CY17","v":68.333333333333329},{"$f":"COUNTIF(OFFSET(DE2,,,MAX(CX3),1),\"=4\")","v":0},{"$f":"IF(DA17=0,\"\",SUMPRODUCT(($CM$2:$CM$338=$CV2)*(DE$2:DE$338=4)*($AJ$2:$AJ$338))/DA17)","v":""},{"$f":"DC13-(2*DC15)","v":77.5},1,2,"500.10015",{"$f":"SUMPRODUCT((($CM$2:$CM$338=$CV2)*($AN$2:$AN$338>=60)*($AN$2:$AN$338<67.15)))","v":0},{"$f":"COUNTIF(OFFSET(DM2,,,MAX(DG3),1),\"=4\")","v":0},{"$f":"SUMPRODUCT(($CM$2:$CM$338=$CV2)*(DM$2:DM$338=4)*($AN$2:$AN$338))/DH17","v":{"$error":"#DIV/0!"}},{"$f":"COUNTIF(OFFSET(DN2,,,MAX(DG3),1),\"=4\")","v":0},{"$f":"IF(DJ17=0,\"\",SUMPRODUCT(($CM$2:$CM$338=$CV2)*(DN$2:DN$338=4)*($AN$2:$AN$338))/DJ17)","v":""},{"$f":"DL13-(2*DL15)","v":0},null,null,"500.10015",{"$f":"SUMPRODUCT((($CM$2:$CM$338=$CV2)*($AR$2:$AR$338>=60)*($AR$2:$AR$338<67.15)))","v":3},{"$f":"COUNTIF(OFFSET(DV2,,,MAX(DP3),1),\"=4\")","v":1},{"$f":"SUMPRODUCT(($CM$2:$CM$338=$CV2)*(DV$2:DV$338=4)*($AR$2:$AR$338))/DQ17","v":55},{"$f":"COUNTIF(OFFSET(DW2,,,MAX(DP3),1),\"=4\")","v":1},{"$f":"IF(DS17=0,\"\",SUMPRODUCT(($CM$2:$CM$338=$CV2)*(DW$2:DW$338=4)*($AR$2:$AR$338))/DS17)","v":55},{"$f":"DU13-(2*DU15)","v":75},3,3,"500.10015",{"$f":"SUMPRODUCT((($CM$2:$CM$338=$CV2)*($AV$2:$AV$338>=60)*($AV$2:$AV$338<67.15)))","v":5},{"$f":"COUNTIF(OFFSET(EE2,,,MAX(DY3),1),\"=4\")","v":5},{"$f":"SUMPRODUCT(($CM$2:$CM$338=$CV2)*(EE$2:EE$338=4)*($AV$2:$AV$338))/DZ17","v":61},{"$f":"COUNTIF(OFFSET(EF2,,,MAX(DY3),1),\"=4\")","v":0},{"$f":"IF(EB17=0,\"\",SUMPRODUCT(($CM$2:$CM$338=$CV2)*(EF$2:EF$338=4)*($AV$2:$AV$338))/EB17)","v":""},{"$f":"ED13-(2*ED15)","v":77.5},2,2,"500.10015",{"$f":"SUMPRODUCT((($CM$2:$CM$338=$CV2)*($AZ$2:$AZ$338>=60)*($AZ$2:$AZ$338<67.15)))","v":4},{"$f":"COUNTIF(OFFSET(EN2,,,MAX(EH3),1),\"=4\")","v":4},{"$f":"SUMPRODUCT(($CM$2:$CM$338=$CV2)*(EN$2:EN$338=4)*($AZ$2:$AZ$338))/EI17","v":57.5},{"$f":"COUNTIF(OFFSET(EO2,,,MAX(EH3),1),\"=4\")","v":1},{"$f":"IF(EK17=0,\"\",SUMPRODUCT(($CM$2:$CM$338=$CV2)*(EO$2:EO$338=4)*($AZ$2:$AZ$338))/EK17)","v":50},{"$f":"EM13-(2*EM15)","v":72.5},2,2,"500.10015",{"$f":"SUMPRODUCT((($CM$2:$CM$338=$CV2)*($BD$2:$BD$338>=60)*($BD$2:$BD$338<67.15)))","v":0},{"$f":"COUNTIF(OFFSET(EW2,,,MAX(EQ3),1),\"=4\")","v":0},{"$f":"SUMPRODUCT(($CM$2:$CM$338=$CV2)*(EW$2:EW$338=4)*($BD$2:$BD$338))/ER17","v":{"$error":"#DIV/0!"}},{"$f":"COUNTIF(OFFSET(EX2,,,MAX(EQ3),1),\"=4\")","v":0},{"$f":"IF(ET17=0,\"\",SUMPRODUCT(($CM$2:$CM$338=$CV2)*(EX$2:EX$338=4)*($BD$2:$BD$338))/ET17)","v":""},{"$f":"EV13-(2*EV15)","v":0},null,null,"500.10015",{"$f":"SUMPRODUCT((($CM$2:$CM$338=$CV2)*($BH$2:$BH$338>=60)*($BH$2:$BH$338<67.15)))","v":3},{"$f":"COUNTIF(OFFSET(FF2,,,MAX(EZ3),1),\"=4\")","v":3},{"$f":"SUMPRODUCT(($CM$2:$CM$338=$CV2)*(FF$2:FF$338=4)*($BH$2:$BH$338))/FA17","v":54.333333333333336},{"$f":"COUNTIF(OFFSET(FG2,,,MAX(EZ3),1),\"=4\")","v":2},{"$f":"IF(FC17=0,\"\",SUMPRODUCT(($CM$2:$CM$338=$CV2)*(FG$2:FG$338=4)*($BH$2:$BH$338))/FC17)","v":51.5},{"$f":"FE13-(2*FE15)","v":70.5},2,3,"500.10015",{"$f":"SUMPRODUCT((($CM$2:$CM$338=$CV2)*($AI$2:$AI$338>=60)*($AI$2:$AI$338<67.15)))","v":3},{"$f":"COUNTIF(OFFSET(FO2,,,MAX(FI3),1),\"=4\")","v":6},{"$f":"SUMPRODUCT(($CM$2:$CM$338=$CV2)*(FO$2:FO$338=4)*($AI$2:$AI$338))/FJ17","v":67.5},{"$f":"COUNTIF(OFFSET(FP2,,,MAX(FI3),1),\"=4\")","v":0},{"$f":"IF(FL17=0,\"\",SUMPRODUCT(($CM$2:$CM$338=$CV2)*(FP$2:FP$338=4)*($AI$2:$AI$338))/FL17)","v":""},{"$f":"FN13-(2*FN15)","v":77.5},2,2,"500.10015",{"$f":"SUMPRODUCT((($CM$2:$CM$338=$CV2)*($AM$2:$AM$338>=60)*($AM$2:$AM$338<67.15)))","v":0},{"$f":"COUNTIF(OFFSET(FX2,,,MAX(FR3),1),\"=4\")","v":0},{"$f":"SUMPRODUCT(($CM$2:$CM$338=$CV2)*(FX$2:FX$338=4)*($AM$2:$AM$338))/FS17","v":{"$error":"#DIV/0!"}},{"$f":"COUNTIF(OFFSET(FY2,,,MAX(FR3),1),\"=4\")","v":0},{"$f":"IF(FU17=0,\"\",SUMPRODUCT(($CM$2:$CM$338=$CV2)*(FY$2:FY$338=4)*($AM$2:$AM$338))/FU17)","v":""},{"$f":"FW13-(2*FW15)","v":0},null,null,"500.10015",{"$f":"SUMPRODUCT((($CM$2:$CM$338=$CV2)*($AQ$2:$AQ$338>=60)*($AQ$2:$AQ$338<67.15)))","v":5},{"$f":"COUNTIF(OFFSET(GG2,,,MAX(GA3),1),\"=4\")","v":4},{"$f":"SUMPRODUCT(($CM$2:$CM$338=$CV2)*(GG$2:GG$338=4)*($AQ$2:$AQ$338))/GB17","v":52.5},{"$f":"COUNTIF(OFFSET(GH2,,,MAX(GA3),1),\"=4\")","v":4},{"$f":"IF(GD17=0,\"\",SUMPRODUCT(($CM$2:$CM$338=$CV2)*(GH$2:GH$338=4)*($AQ$2:$AQ$338))/GD17)","v":52.5},{"$f":"GF13-(2*GF15)","v":67.5},2,2,"500.10015",{"$f":"SUMPRODUCT((($CM$2:$CM$338=$CV2)*($AU$2:$AU$338>=60)*($AU$2:$AU$338<67.15)))","v":5},{"$f":"COUNTIF(OFFSET(GP2,,,MAX(GJ3),1),\"=4\")","v":4},{"$f":"SUMPRODUCT(($CM$2:$CM$338=$CV2)*(GP$2:GP$338=4)*($AU$2:$AU$338))/GK17","v":56.25},{"$f":"COUNTIF(OFFSET(GQ2,,,MAX(GJ3),1),\"=4\")","v":2},{"$f":"IF(GM17=0,\"\",SUMPRODUCT(($CM$2:$CM$338=$CV2)*(GQ$2:GQ$338=4)*($AU$2:$AU$338))/GM17)","v":52.5},{"$f":"GO13-(2*GO15)","v":72.5},1,2,"500.10015",{"$f":"SUMPRODUCT((($CM$2:$CM$338=$CV2)*($AY$2:$AY$338>=60)*($AY$2:$AY$338<67.15)))","v":5},{"$f":"COUNTIF(OFFSET(GY2,,,MAX(GS3),1),\"=4\")","v":4},{"$f":"SUMPRODUCT(($CM$2:$CM$338=$CV2)*(GY$2:GY$338=4)*($AY$2:$AY$338))/GT17","v":57.5},{"$f":"COUNTIF(OFFSET(GZ2,,,MAX(GS3),1),\"=4\")","v":1},{"$f":"IF(GV17=0,\"\",SUMPRODUCT(($CM$2:$CM$338=$CV2)*(GZ$2:GZ$338=4)*($AY$2:$AY$338))/GV17)","v":50},{"$f":"GX13-(2*GX15)","v":72.5},3,3,"500.10015",{"$f":"SUMPRODUCT((($CM$2:$CM$338=$CV2)*($BC$2:$BC$338>=60)*($BC$2:$BC$338<67.15)))","v":0},{"$f":"COUNTIF(OFFSET(HH2,,,MAX(HB3),1),\"=4\")","v":0},{"$f":"SUMPRODUCT(($CM$2:$CM$338=$CV2)*(HH$2:HH$338=4)*($BC$2:$BC$338))/HC17","v":{"$error":"#DIV/0!"}},{"$f":"COUNTIF(OFFSET(HI2,,,MAX(HB3),1),\"=4\")","v":0},{"$f":"IF(HE17=0,\"\",SUMPRODUCT(($CM$2:$CM$338=$CV2)*(HI$2:HI$338=4)*($BC$2:$BC$338))/HE17)","v":""},{"$f":"HG13-(2*HG15)","v":0},null,null,"500.10015",{"$f":"SUMPRODUCT((($CM$2:$CM$338=$CV2)*($BG$2:$BG$338>=60)*($BG$2:$BG$338<67.15)))","v":5},{"$f":"COUNTIF(OFFSET(HQ2,,,MAX(HK3),1),\"=4\")","v":1},{"$f":"SUMPRODUCT(($CM$2:$CM$338=$CV2)*(HQ$2:HQ$338=4)*($BG$2:$BG$338))/HL17","v":42},{"$f":"COUNTIF(OFFSET(HR2,,,MAX(HK3),1),\"=4\")","v":2},{"$f":"IF(HN17=0,\"\",SUMPRODUCT(($CM$2:$CM$338=$CV2)*(HR$2:HR$338=4)*($BG$2:$BG$338))/HN17)","v":49},{"$f":"HP13-(2*HP15)","v":67},2,2,"500.10015",{"$f":"SUMPRODUCT((($CM$2:$CM$338=$CV2)*($AL$2:$AL$338>=60)*($AL$2:$AL$338<67.15)))","v":0},{"$f":"COUNTIF(OFFSET(HZ2,,,MAX(HT3),1),\"=4\")","v":6},{"$f":"SUMPRODUCT(($CM$2:$CM$338=$CV2)*(HZ$2:HZ$338=4)*($AL$2:$AL$338))/HU17","v":71.666666666666671},{"$f":"COUNTIF(OFFSET(IA2,,,MAX(HT3),1),\"=4\")","v":0},{"$f":"IF(HW17=0,\"\",SUMPRODUCT(($CM$2:$CM$338=$CV2)*(IA$2:IA$338=4)*($AL$2:$AL$338))/HW17)","v":""},{"$f":"HY13-(2*HY15)","v":82.5},4,3,"500.10015",{"$f":"SUMPRODUCT((($CM$2:$CM$338=$CV2)*($AP$2:$AP$338>=60)*($AP$2:$AP$338<67.15)))","v":0},{"$f":"COUNTIF(OFFSET(II2,,,MAX(IC3),1),\"=4\")","v":0},{"$f":"SUMPRODUCT(($CM$2:$CM$338=$CV2)*(II$2:II$338=4)*($AP$2:$AP$338))/ID17","v":{"$error":"#DIV/0!"}},{"$f":"COUNTIF(OFFSET(IJ2,,,MAX(IC3),1),\"=4\")","v":0},{"$f":"IF(IF17=0,\"\",SUMPRODUCT(($CM$2:$CM$338=$CV2)*(IJ$2:IJ$338=4)*($AP$2:$AP$338))/IF17)","v":""},{"$f":"IH13-(2*IH15)","v":0},null,null,"500.10015",{"$f":"SUMPRODUCT((($CM$2:$CM$338=$CV2)*($AT$2:$AT$338>=60)*($AT$2:$AT$338<67.15)))","v":4},{"$f":"COUNTIF(OFFSET(IR2,,,MAX(IL3),1),\"=4\")","v":3},{"$f":"SUMPRODUCT(($CM$2:$CM$338=$CV2)*(IR$2:IR$338=4)*($AL$2:$AL$338))/IM17","v":50},{"$f":"COUNTIF(OFFSET(IS2,,,MAX(IL3),1),\"=4\")","v":3},{"$f":"IF(IO17=0,\"\",SUMPRODUCT(($CM$2:$CM$338=$CV2)*(IS$2:IS$338=4)*($AL$2:$AL$338))/IO17)","v":50},{"$f":"IQ13-(2*IQ15)","v":70},3,6,"500.10015",{"$f":"SUMPRODUCT((($CM$2:$CM$338=$CV2)*($AX$2:$AX$338>=60)*($AX$2:$AX$338<67.15)))","v":2},{"$f":"COUNTIF(OFFSET(JA2,,,MAX(IU3),1),\"=4\")","v":1},{"$f":"SUMPRODUCT(($CM$2:$CM$338=$CV2)*(JA$2:JA$338=4)*($AX$2:$AX$338))/IV17","v":40},{"$f":"COUNTIF(OFFSET(JB2,,,MAX(IU3),1),\"=4\")","v":3},{"$f":"IF(IX17=0,\"\",SUMPRODUCT(($CM$2:$CM$338=$CV2)*(JB$2:JB$338=4)*($AX$2:$AX$338))/IX17)","v":50},{"$f":"IZ13-(2*IZ15)","v":67.5},3,4,"500.10015",{"$f":"SUMPRODUCT((($CM$2:$CM$338=$CV2)*($BB$2:$BB$338>=60)*($BB$2:$BB$338<67.15)))","v":6},{"$f":"COUNTIF(OFFSET(JJ2,,,MAX(JD3),1),\"=4\")","v":2},{"$f":"SUMPRODUCT(($CM$2:$CM$338=$CV2)*(JJ$2:JJ$338=4)*($BB$2:$BB$338))/JE17","v":42.5},{"$f":"COUNTIF(OFFSET(JK2,,,MAX(JD3),1),\"=4\")","v":3},{"$f":"IF(JG17=0,\"\",SUMPRODUCT(($CM$2:$CM$338=$CV2)*(JK$2:JK$338=4)*($BB$2:$BB$338))/JG17)","v":46.666666666666664},{"$f":"JI13-(2*JI15)","v":65},3,6,"500.10015",{"$f":"SUMPRODUCT((($CM$2:$CM$338=$CV2)*($BF$2:$BF$338>=60)*($BF$2:$BF$338<67.15)))","v":0},{"$f":"COUNTIF(OFFSET(JS2,,,MAX(JM3),1),\"=4\")","v":0},{"$f":"SUMPRODUCT(($CM$2:$CM$338=$CV2)*(JS$2:JS$338=4)*($BF$2:$BF$338))/JN17","v":{"$error":"#DIV/0!"}},{"$f":"COUNTIF(OFFSET(JT2,,,MAX(JM3),1),\"=4\")","v":0},{"$f":"IF(JP17=0,\"\",SUMPRODUCT(($CM$2:$CM$338=$CV2)*(JT$2:JT$338=4)*($BF$2:$BF$338))/JP17)","v":""},{"$f":"JR13-(2*JR15)","v":0},null,null,"500.10015",{"$f":"SUMPRODUCT((($CM$2:$CM$338=$CV2)*($BJ$2:$BJ$338>=60)*($BJ$2:$BJ$338<67.15)))","v":3},{"$f":"COUNTIF(OFFSET(KB2,,,MAX(JV3),1),\"=4\")","v":1},{"$f":"SUMPRODUCT(($CM$2:$CM$338=$CV2)*(KB$2:KB$338=4)*($BJ$2:$BJ$338))/JW17","v":30},{"$f":"COUNTIF(OFFSET(KC2,,,MAX(JV3),1),\"=4\")","v":3},{"$f":"IF(JY17=0,\"\",SUMPRODUCT(($CM$2:$CM$338=$CV2)*(KC$2:KC$338=4)*($BJ$2:$BJ$338))/JY17)","v":45},{"$f":"KA13-(2*KA15)","v":64.5},3,6,"500.10015",{"$f":"SUMPRODUCT((($CM$2:$CM$338=$CV2)*($AK$2:$AK$338>=60)*($AK$2:$AK$338<67.15)))","v":3},{"$f":"COUNTIF(OFFSET(KK2,,,MAX(KE3),1),\"=4\")","v":3},{"$f":"SUMPRODUCT(($CM$2:$CM$338=$CV2)*(KK$2:KK$338=4)*($AK$2:$AK$338))/KF17","v":58.333333333333336},{"$f":"COUNTIF(OFFSET(KL2,,,MAX(KE3),1),\"=4\")","v":1},{"$f":"IF(KH17=0,\"\",SUMPRODUCT(($CM$2:$CM$338=$CV2)*(KL$2:KL$338=4)*($AK$2:$AK$338))/KH17)","v":55},{"$f":"KJ13-(2*KJ15)","v":72.5},4,6,"500.10015",{"$f":"SUMPRODUCT((($CM$2:$CM$338=$CV2)*($AO$2:$AO$338>=60)*($AO$2:$AO$338<67.15)))","v":0},{"$f":"COUNTIF(OFFSET(KT2,,,MAX(KN3),1),\"=4\")","v":0},{"$f":"SUMPRODUCT(($CM$2:$CM$338=$CV2)*(KT$2:KT$338=4)*($AO$2:$AO$338))/KO17","v":{"$error":"#DIV/0!"}},{"$f":"COUNTIF(OFFSET(KU2,,,MAX(KN3),1),\"=4\")","v":0},{"$f":"IF(KQ17=0,\"\",SUMPRODUCT(($CM$2:$CM$338=$CV2)*(KU$2:KU$338=4)*($AO$2:$AO$338))/KQ17)","v":""},{"$f":"KS13-(2*KS15)","v":0},null,null,"500.10015",{"$f":"SUMPRODUCT((($CM$2:$CM$338=$CV2)*($AS$2:$AS$338>=60)*($AS$2:$AS$338<67.15)))","v":0},{"$f":"COUNTIF(OFFSET(LC2,,,MAX(KW3),1),\"=4\")","v":0},{"$f":"SUMPRODUCT(($CM$2:$CM$338=$CV2)*(LC$2:LC$338=4)*($AS$2:$AS$338))/KX17","v":{"$error":"#DIV/0!"}},{"$f":"COUNTIF(OFFSET(LD2,,,MAX(KW3),1),\"=4\")","v":0},{"$f":"IF(KZ17=0,\"\",SUMPRODUCT(($CM$2:$CM$338=$CV2)*(LD$2:LD$338=4)*($AS$2:$AS$338))/KZ17)","v":""},{"$f":"LB13-(2*LB15)","v":0},null,null,"500.10015",{"$f":"SUMPRODUCT((($CM$2:$CM$338=$CV2)*($AW$2:$AW$338>=60)*($AW$2:$AW$338<67.15)))","v":4},{"$f":"COUNTIF(OFFSET(LL2,,,MAX(LF3),1),\"=4\")","v":2},{"$f":"SUMPRODUCT(($CM$2:$CM$338=$CV2)*(LL$2:LL$338=4)*($AW$2:$AW$338))/LG17","v":40},{"$f":"COUNTIF(OFFSET(LM2,,,MAX(LF3),1),\"=4\")","v":4},{"$f":"IF(LI17=0,\"\",SUMPRODUCT(($CM$2:$CM$338=$CV2)*(LM$2:LM$338=4)*($AW$2:$AW$338))/LI17)","v":47.5},{"$f":"LK13-(2*LK15)","v":67.5},3,4,"500.10015",{"$f":"SUMPRODUCT((($CM$2:$CM$338=$CV2)*($BA$2:$BA$338>=60)*($BA$2:$BA$338<67.15)))","v":5},{"$f":"COUNTIF(OFFSET(LU2,,,MAX(LO3),1),\"=4\")","v":5},{"$f":"SUMPRODUCT(($CM$2:$CM$338=$CV2)*(LU$2:LU$338=4)*($BA$2:$BA$338))/LP17","v":47},{"$f":"COUNTIF(OFFSET(LV2,,,MAX(LO3),1),\"=4\")","v":6},{"$f":"IF(LR17=0,\"\",SUMPRODUCT(($CM$2:$CM$338=$CV2)*(LV$2:LV$338=4)*($BA$2:$BA$338))/LR17)","v":48.333333333333336},{"$f":"LT13-(2*LT15)","v":65},3,6,"500.10015",{"$f":"SUMPRODUCT((($CM$2:$CM$338=$CV2)*($BE$2:$BE$338>=60)*($BE$2:$BE$338<67.15)))","v":0},{"$f":"COUNTIF(OFFSET(MD2,,,MAX(LX3),1),\"=4\")","v":0},{"$f":"SUMPRODUCT(($CM$2:$CM$338=$CV2)*(MD$2:MD$338=4)*($BE$2:$BE$338))/LY17","v":{"$error":"#DIV/0!"}},{"$f":"COUNTIF(OFFSET(ME2,,,MAX(LX3),1),\"=4\")","v":0},{"$f":"IF(MA17=0,\"\",SUMPRODUCT(($CM$2:$CM$338=$CV2)*(ME$2:ME$338=4)*($BE$2:$BE$338))/MA17)","v":""},{"$f":"MC13-(2*MC15)","v":0},null,null,"500.10015",{"$f":"SUMPRODUCT((($CM$2:$CM$338=$CV2)*($BI$2:$BI$338>=60)*($BI$2:$BI$338<67.15)))","v":0},{"$f":"COUNTIF(OFFSET(MM2,,,MAX(MG3),1),\"=4\")","v":0},{"$f":"SUMPRODUCT(($CM$2:$CM$338=$CV2)*(MM$2:MM$338=4)*($BI$2:$BI$338))/MH17","v":{"$error":"#DIV/0!"}},{"$f":"COUNTIF(OFFSET(MN2,,,MAX(MG3),1),\"=4\")","v":0},{"$f":"IF(MJ17=0,\"\",SUMPRODUCT(($CM$2:$CM$338=$CV2)*(MN$2:MN$338=4)*($BI$2:$BI$338))/MJ17)","v":""},{"$f":"ML13-(2*ML15)","v":92.5},null,null,"500.10015",{"$f":"SUMPRODUCT((($CM$2:$CM$338=$CV2)*($BM$2:$BM$338>=60)*($BM$2:$BM$338<67.15)))","v":4},{"$f":"COUNTIF(OFFSET(MV2,,,MAX(MP3),1),\"=4\")","v":2},{"$f":"SUMPRODUCT(($CM$2:$CM$338=$CV2)*(MV$2:MV$338=4)*($BM$2:$BM$338))/MQ17","v":25.5},{"$f":"COUNTIF(OFFSET(MW2,,,MAX(MP3),1),\"=4\")","v":4},{"$f":"IF(MS17=0,\"\",SUMPRODUCT(($CM$2:$CM$338=$CV2)*(MW$2:MW$338=4)*($BM$2:$BM$338))/MS17)","v":37.5},{"$f":"MU13-(2*MU15)","v":60},2,6,"500.10015",{"$f":"SUMPRODUCT((($CM$2:$CM$338=$CV2)*($CC$2:$CC$338>=60)*($CC$2:$CC$338<67.15)))","v":0},{"$f":"COUNTIF(OFFSET(NE2,,,MAX(MY3),1),\"=4\")","v":3},{"$f":"SUMPRODUCT(($CM$2:$CM$338=$CV2)*(NE$2:NE$338=4)*($CC$2:$CC$338))/MZ17","v":70.416666666666671},{"$f":"COUNTIF(OFFSET(NF2,,,MAX(MY3),1),\"=4\")","v":0},{"$f":"IF(NB17=0,\"\",SUMPRODUCT(($CM$2:$CM$338=$CV2)*(NF$2:NF$338=4)*($CC$2:$CC$338))/NB17)","v":""},{"$f":"ND13-(2*ND15)","v":79.375},3,2,"500.10015",{"$f":"SUMPRODUCT((($CM$2:$CM$338=$CV2)*($CD$2:$CD$338>=60)*($CD$2:$CD$338<67.15)))","v":0},{"$f":"COUNTIF(OFFSET(NN2,,,MAX(NH3),1),\"=4\")","v":0},{"$f":"SUMPRODUCT(($CM$2:$CM$338=$CV2)*(NN$2:NN$338=4)*($CD$2:$CD$338))/NI17","v":{"$error":"#DIV/0!"}},{"$f":"COUNTIF(OFFSET(NO2,,,MAX(NH3),1),\"=4\")","v":0},{"$f":"IF(NK17=0,\"\",SUMPRODUCT(($CM$2:$CM$338=$CV2)*(NO$2:NO$338=4)*($CD$2:$CD$338))/NK17)","v":""},{"$f":"NM13-(2*NM15)","v":0},null,null,"500.10015",{"$f":"SUMPRODUCT((($CM$2:$CM$338=$CV2)*($CE$2:$CE$338>=60)*($CE$2:$CE$338<67.15)))","v":6},{"$f":"COUNTIF(OFFSET(NW2,,,MAX(NQ3),1),\"=4\")","v":3},{"$f":"SUMPRODUCT(($CM$2:$CM$338=$CV2)*(NW$2:NW$338=4)*($CE$2:$CE$338))/NR17","v":57.777777777777779},{"$f":"COUNTIF(OFFSET(NX2,,,MAX(NQ3),1),\"=4\")","v":1},{"$f":"IF(NT17=0,\"\",SUMPRODUCT(($CM$2:$CM$338=$CV2)*(NX$2:NX$338=4)*($CE$2:$CE$338))/NT17)","v":53.333333333333336},{"$f":"NV13-(2*NV15)","v":71.666666666666671},3,3,"500.10015",{"$f":"SUMPRODUCT((($CM$2:$CM$338=$CV2)*($CF$2:$CF$338>=60)*($CF$2:$CF$338<67.15)))","v":3},{"$f":"COUNTIF(OFFSET(OF2,,,MAX(NZ3),1),\"=4\")","v":2},{"$f":"SUMPRODUCT(($CM$2:$CM$338=$CV2)*(OF$2:OF$338=4)*($CF$2:$CF$338))/OA17","v":53.125},{"$f":"COUNTIF(OFFSET(OG2,,,MAX(NZ3),1),\"=4\")","v":2},{"$f":"IF(OC17=0,\"\",SUMPRODUCT(($CM$2:$CM$338=$CV2)*(OG$2:OG$338=4)*($CF$2:$CF$338))/OC17)","v":53.125},{"$f":"OE13-(2*OE15)","v":70.625},3,3,"500.10015",{"$f":"SUMPRODUCT((($CM$2:$CM$338=$CV2)*($CG$2:$CG$338>=60)*($CG$2:$CG$338<67.15)))","v":8},{"$f":"COUNTIF(OFFSET(OO2,,,MAX(OI3),1),\"=4\")","v":1},{"$f":"SUMPRODUCT(($CM$2:$CM$338=$CV2)*(OO$2:OO$338=4)*($CG$2:$CG$338))/OJ17","v":46.25},{"$f":"COUNTIF(OFFSET(OP2,,,MAX(OI3),1),\"=4\")","v":2},{"$f":"IF(OL17=0,\"\",SUMPRODUCT(($CM$2:$CM$338=$CV2)*(OP$2:OP$338=4)*($CG$2:$CG$338))/OL17)","v":52.5},{"$f":"ON13-(2*ON15)","v":69.375},3,6,"500.10015",{"$f":"SUMPRODUCT((($CM$2:$CM$338=$CV2)*($CH$2:$CH$338>=60)*($CH$2:$CH$338<67.15)))","v":0},{"$f":"COUNTIF(OFFSET(OX2,,,MAX(OR3),1),\"=4\")","v":0},{"$f":"SUMPRODUCT(($CM$2:$CM$338=$CV2)*(OX$2:OX$338=4)*($CH$2:$CH$338))/OS17","v":{"$error":"#DIV/0!"}},{"$f":"COUNTIF(OFFSET(OY2,,,MAX(OR3),1),\"=4\")","v":0},{"$f":"IF(OU17=0,\"\",SUMPRODUCT(($CM$2:$CM$338=$CV2)*(OY$2:OY$338=4)*($CH$2:$CH$338))/OU17)","v":""},{"$f":"OW13-(2*OW15)","v":0},null,null,"500.10015",{"$f":"SUMPRODUCT((($CM$2:$CM$338=$CV2)*($CI$2:$CI$338>=60)*($CI$2:$CI$338<67.15)))","v":4},{"$f":"COUNTIF(OFFSET(PG2,,,MAX(PA3),1),\"=4\")","v":1},{"$f":"SUMPRODUCT(($CM$2:$CM$338=$CV2)*(PG$2:PG$338=4)*($CI$2:$CI$338))/PB17","v":36},{"$f":"COUNTIF(OFFSET(PH2,,,MAX(PA3),1),\"=4\")","v":2},{"$f":"IF(PD17=0,\"\",SUMPRODUCT(($CM$2:$CM$338=$CV2)*(PH$2:PH$338=4)*($CI$2:$CI$338))/PD17)","v":45.875},{"$f":"PF13-(2*PF15)","v":65.125},2,3]
["2010","001","501",null,null,0,"2000-01-13",null,null,"M",85,90,0,95,85,70,90,85,85,85,65,90,0,0,0,0,70,70,0,80,80,80,90,80,80,90,75,90,0,0,0,0,70,80,0,80,75,70,70,85,65,70,60,70,0,0,0,0,74,78,0,79,72,70,70,71,66,72,70,70,60,71,72,80,null,60,82.5,81.25,73.333333333333329,82.5,83.75,0,76.666666666666671,75,66.25,0,75.25,null,null,null,"001501","0.100","50",{"$f":"Tableau_SSRSMSA03_BI_Integration_STEPH_2010[[#This Row],[DAT_NAISSANCE_ELEVE]]","v":"2000-01-13"},"2009-09-30",3548,9.7138945927446958,{"$f":"IF(AND(LEFT(CO18,1)=\"1\",CS18>5.5),\"V\",IF(AND(LEFT(CO18,1)=\"2\",CS18>6.5),\"V\",IF(AND(LEFT(CO18,1)=\"3\",CS18>7.5),\"V\",IF(AND(LEFT(CO18,1)=\"4\",CS18>8.5),\"V\",IF(AND(LEFT(CO18,1)=\"5\",CS18>9.5),\"V\",IF(AND(LEFT(CO18,1)=\"6\",CS18>10.5),\"V\",\"J\"))))))","v":"V"},{"$f":"IF(AJ18=0,0,IF(BH18=0,0,1))","v":1},{"$f":"DC11&DC12&16","v":"500.10016"},"% danger",{"$f":"IF(CX4<5,\"\",CX17/CX4*100)","v":5},null,null,"nb en danger (60 à 67,15):",{"$f":"COUNTIF(OFFSET(DE2,,,MAX(CX3),1),\"=6\")","v":1},{"$f":"DC13-(3*DC15)","v":71.25},1,1,"500.10016",{"$f":"IF(DG4<5,\"\",DG17/DG4*100)","v":""},null,null,"nb en danger (60 à 67,15):",{"$f":"COUNTIF(OFFSET(DN2,,,MAX(DG3),1),\"=6\")","v":0},{"$f":"DL13-(3*DL15)","v":0},null,null,"500.10016",{"$f":"IF(DP4<5,\"\",DP17/DP4*100)","v":12},null,null,"nb en danger (60 à 67,15):",{"$f":"COUNTIF(OFFSET(DW2,,,MAX(DP3),1),\"=6\")","v":3},{"$f":"DU13-(3*DU15)","v":65},2,2,"500.10016",{"$f":"IF(DY4<5,\"\",DY17/DY4*100)","v":20},null,null,"nb en danger (60 à 67,15):",{"$f":"COUNTIF(OFFSET(EF2,,,MAX(DY3),1),\"=6\")","v":5},{"$f":"ED13-(3*ED15)","v":68.75},3,3,"500.10016",{"$f":"IF(EH4<5,\"\",EH17/EH4*100)","v":15.384615384615385},null,null,"nb en danger (60 à 67,15):",{"$f":"COUNTIF(OFFSET(EO2,,,MAX(EH3),1),\"=6\")","v":4},{"$f":"EM13-(3*EM15)","v":61.25},3,3,"500.10016",{"$f":"IF(EQ4<5,\"\",EQ17/EQ4*100)","v":""},null,null,"nb en danger (60 à 67,15):",{"$f":"COUNTIF(OFFSET(EX2,,,MAX(EQ3),1),\"=6\")","v":0},{"$f":"EV13-(3*EV15)","v":0},null,null,"500.10016",{"$f":"IF(EZ4<5,\"\",EZ17/EZ4*100)","v":11.538461538461538},null,null,"nb en danger (60 à 67,15):",{"$f":"COUNTIF(OFFSET(FG2,,,MAX(EZ3),1),\"=6\")","v":3},{"$f":"FE13-(3*FE15)","v":60.75},2,2,"500.10016",{"$f":"IF(FI4<5,\"\",FI17/FI4*100)","v":15},null,null,"nb en danger (60 à 67,15):",{"$f":"COUNTIF(OFFSET(FP2,,,MAX(FI3),1),\"=6\")","v":3},{"$f":"FN13-(3*FN15)","v":71.25},2,2,"500.10016",{"$f":"IF(FR4<5,\"\",FR17/FR4*100)","v":""},null,null,"nb en danger (60 à 67,15):",{"$f":"COUNTIF(OFFSET(FY2,,,MAX(FR3),1),\"=6\")","v":0},{"$f":"FW13-(3*FW15)","v":0},null,null,"500.10016",{"$f":"IF(GA4<5,\"\",GA17/GA4*100)","v":20},null,null,"nb en danger (60 à 67,15):",{"$f":"COUNTIF(OFFSET(GH2,,,MAX(GA3),1),\"=6\")","v":5},{"$f":"GF13-(3*GF15)","v":58.75},2,3,"500.10016",{"$f":"IF(GJ4<5,\"\",GJ17/GJ4*100)","v":20},null,null,"nb en danger (60 à 67,15):",{"$f":"COUNTIF(OFFSET(GQ2,,,MAX(GJ3),1),\"=6\")","v":5},{"$f":"GO13-(3*GO15)","v":61.25},2,2,"500.10016",{"$f":"IF(GS4<5,\"\",GS17/GS4*100)","v":19.230769230769234},null,null,"nb en danger (60 à 67,15):",{"$f":"COUNTIF(OFFSET(GZ2,,,MAX(GS3),1),\"=6\")","v":5},{"$f":"GX13-(3*GX15)","v":61.25},3,6,"500.10016",{"$f":"IF(HB4<5,\"\",HB17/HB4*100)","v":""},null,null,"nb en danger (60 à 67,15):",{"$f":"COUNTIF(OFFSET(HI2,,,MAX(HB3),1),\"=6\")","v":0},{"$f":"HG13-(3*HG15)","v":0},null,null,"500.10016",{"$f":"IF(HK4<5,\"\",HK17/HK4*100)","v":19.230769230769234},null,null,"nb en danger (60 à 67,15):",{"$f":"COUNTIF(OFFSET(HR2,,,MAX(HK3),1),\"=6\")","v":5},{"$f":"HP13-(3*HP15)","v":54.5},2,2,"500.10016",{"$f":"IF(HT4<5,\"\",HT17/HT4*100)","v":0},null,null,"nb en danger (60 à 67,15):",{"$f":"COUNTIF(OFFSET(IA2,,,MAX(HT3),1),\"=6\")","v":0},{"$f":"HY13-(3*HY15)","v":76.25},1,1,"500.10016",{"$f":"IF(IC4<5,\"\",IC17/IC4*100)","v":""},null,null,"nb en danger (60 à 67,15):",{"$f":"COUNTIF(OFFSET(IJ2,,,MAX(IC3),1),\"=6\")","v":0},{"$f":"IH13-(3*IH15)","v":0},null,null,"500.10016",{"$f":"IF(IL4<5,\"\",IL17/IL4*100)","v":16},null,null,"nb en danger (60 à 67,15):",{"$f":"COUNTIF(OFFSET(IS2,,,MAX(IL3),1),\"=6\")","v":4},{"$f":"IQ13-(3*IQ15)","v":57.5},2,2,"500.10016",{"$f":"IF(IU4<5,\"\",IU17/IU4*100)","v":8},null,null,"nb en danger (60 à 67,15):",{"$f":"COUNTIF(OFFSET(JB2,,,MAX(IU3),1),\"=6\")","v":2},{"$f":"IZ13-(3*IZ15)","v":53.75},1,2,"500.10016",{"$f":"IF(JD4<5,\"\",JD17/JD4*100)","v":23.076923076923077},null,null,"nb en danger (60 à 67,15):",{"$f":"COUNTIF(OFFSET(JK2,,,MAX(JD3),1),\"=6\")","v":6},{"$f":"JI13-(3*JI15)","v":52.5},2,3,"500.10016",{"$f":"IF(JM4<5,\"\",JM17/JM4*100)","v":""},null,null,"nb en danger (60 à 67,15):",{"$f":"COUNTIF(OFFSET(JT2,,,MAX(JM3),1),\"=6\")","v":0},{"$f":"JR13-(3*JR15)","v":0},null,null,"500.10016",{"$f":"IF(JV4<5,\"\",JV17/JV4*100)","v":11.538461538461538},null,null,"nb en danger (60 à 67,15):",{"$f":"COUNTIF(OFFSET(KC2,,,MAX(JV3),1),\"=6\")","v":3},{"$f":"KA13-(3*KA15)","v":47.25},2,2,"500.10016",{"$f":"IF(KE4<5,\"\",KE17/KE4*100)","v":15},null,null,"nb en danger (60 à 67,15):",{"$f":"COUNTIF(OFFSET(KL2,,,MAX(KE3),1),\"=6\")","v":3},{"$f":"KJ13-(3*KJ15)","v":63.75},2,2,"500.10016",{"$f":"IF(KN4<5,\"\",KN17/KN4*100)","v":""},null,null,"nb en danger (60 à 67,15):",{"$f":"COUNTIF(OFFSET(KU2,,,MAX(KN3),1),\"=6\")","v":0},{"$f":"KS13-(3*KS15)","v":0},null,null,"500.10016",{"$f":"IF(KW4<5,\"\",KW17/KW4*100)","v":""},null,null,"nb en danger (60 à 67,15):",{"$f":"COUNTIF(OFFSET(LD2,,,MAX(KW3),1),\"=6\")","v":0},{"$f":"LB13-(3*LB15)","v":0},null,null,"500.10016",{"$f":"IF(LF4<5,\"\",LF17/LF4*100)","v":16},null,null,"nb en danger (60 à 67,15):",{"$f":"COUNTIF(OFFSET(LM2,,,MAX(LF3),1),\"=6\")","v":4},{"$f":"LK13-(3*LK15)","v":53.75},2,3,"500.10016",{"$f":"IF(LO4<5,\"\",LO17/LO4*100)","v":19.230769230769234},null,null,"nb en danger (60 à 67,15):",{"$f":"COUNTIF(OFFSET(LV2,,,MAX(LO3),1),\"=6\")","v":5},{"$f":"LT13-(3*LT15)","v":52.5},3,6,"500.10016",{"$f":"IF(LX4<5,\"\",LX17/LX4*100)","v":""},null,null,"nb en danger (60 à 67,15):",{"$f":"COUNTIF(OFFSET(ME2,,,MAX(LX3),1),\"=6\")","v":0},{"$f":"MC13-(3*MC15)","v":0},null,null,"500.10016",{"$f":"IF(MG4<5,\"\",MG17/MG4*100)","v":""},null,null,"nb en danger (60 à 67,15):",{"$f":"COUNTIF(OFFSET(MN2,,,MAX(MG3),1),\"=6\")","v":0},{"$f":"ML13-(3*ML15)","v":88.75},null,null,"500.10016",{"$f":"IF(MP4<5,\"\",MP17/MP4*100)","v":16.666666666666664},null,null,"nb en danger (60 à 67,15):",{"$f":"COUNTIF(OFFSET(MW2,,,MAX(MP3),1),\"=6\")","v":4},{"$f":"MU13-(3*MU15)","v":40.5},2,3,"500.10016",{"$f":"IF(MY4<5,\"\",MY17/MY4*100)","v":0},null,null,"nb en danger (60 à 67,15):",{"$f":"COUNTIF(OFFSET(NF2,,,MAX(MY3),1),\"=6\")","v":0},{"$f":"ND13-(3*ND15)","v":74.0625},2,2,"500.10016",{"$f":"IF(NH4<5,\"\",NH17/NH4*100)","v":""},null,null,"nb en danger (60 à 67,15):",{"$f":"COUNTIF(OFFSET(NO2,,,MAX(NH3),1),\"=6\")","v":0},{"$f":"NM13-(3*NM15)","v":0},null,null,"500.10016",{"$f":"IF(NQ4<5,\"\",NQ17/NQ4*100)","v":24},null,null,"nb en danger (60 à 67,15):",{"$f":"COUNTIF(OFFSET(NX2,,,MAX(NQ3),1),\"=6\")","v":6},{"$f":"NV13-(3*NV15)","v":62.5},2,2,"500.10016",{"$f":"IF(NZ4<5,\"\",NZ17/NZ4*100)","v":12},null,null,"nb en danger (60 à 67,15):",{"$f":"COUNTIF(OFFSET(OG2,,,MAX(NZ3),1),\"=6\")","v":3},{"$f":"OE13-(3*OE15)","v":59.6875},2,2,"500.10016",{"$f":"IF(OI4<5,\"\",OI17/OI4*100)","v":30.76923076923077},null,null,"nb en danger (60 à 67,15):",{"$f":"COUNTIF(OFFSET(OP2,,,MAX(OI3),1),\"=6\")","v":8},{"$f":"ON13-(3*ON15)","v":57.8125},3,6,"500.10016",{"$f":"IF(OR4<5,\"\",OR17/OR4*100)","v":""},null,null,"nb en danger (60 à 67,15):",{"$f":"COUNTIF(OFFSET(OY2,,,MAX(OR3),1),\"=6\")","v":0},{"$f":"OW13-(3*OW15)","v":0},null,null,"500.10016",{"$f":"IF(PA4<5,\"\",PA17/PA4*100)","v":15.384615384615385},null,null,"nb en danger (60 à 67,15):",{"$f":"COUNTIF(OFFSET(PH2,,,MAX(PA3),1),\"=6\")","v":4},{"$f":"PF13-(3*PF15)","v":50.5625},2,2]
["2010","001","501",null,null,0,"2000-02-16",null,null,"F",0,0,0,0,0,0,0,0,0,0,0,0,0,0,0,0,0,0,0,90,0,0,0,90,0,0,0,80,0,0,0,0,50,65,0,45,60,60,55,55,70,60,60,60,0,0,0,0,65,60,0,71,71,64,54,60,61,55,60,63,64,86,60,70,null,0,0,0,0,0,0,0,53.333333333333336,57.5,62.5,0,62.5,null,null,null,"001501","0.100","50",{"$f":"Tableau_SSRSMSA03_BI_Integration_STEPH_2010[[#This Row],[DAT_NAISSANCE_ELEVE]]","v":"2000-02-16"},"2009-09-30",3514,9.6208076659822037,{"$f":"IF(AND(LEFT(CO19,1)=\"1\",CS19>5.5),\"V\",IF(AND(LEFT(CO19,1)=\"2\",CS19>6.5),\"V\",IF(AND(LEFT(CO19,1)=\"3\",CS19>7.5),\"V\",IF(AND(LEFT(CO19,1)=\"4\",CS19>8.5),\"V\",IF(AND(LEFT(CO19,1)=\"5\",CS19>9.5),\"V\",IF(AND(LEFT(CO19,1)=\"6\",CS19>10.5),\"V\",\"J\"))))))","v":"V"},{"$f":"IF(AJ19=0,0,IF(BH19=0,0,1))","v":0},null,null,null,null,null,null,null,null,8,8,null,null,null,null,null,null,null,null,null,null,null,null,null,null,null,null,3,6,null,null,null,null,null,null,null,4,6,null,null,null,null,null,null,null,4,6,null,null,null,null,null,null,null,null,null,null,null,null,null,null,null,null,4,6,null,null,null,null,null,null,null,8,8,null,null,null,null,null,null,null,null,null,null,null,null,null,null,null,null,4,4,null,null,null,null,null,null,null,4,6,null,null,null,null,null,null,null,3,3,null,null,null,null,null,null,null,null,null,null,null,null,null,null,null,null,3,6,null,null,null,null,null,null,null,3,2,null,null,null,null,null,null,null,null,null,null,null,null,null,null,null,null,4,4,null,null,null,null,null,null,null,3,4,null,null,null,null,null,null,null,3,6,null,null,null,null,null,null,null,null,null,null,null,null,null,null,null,null,2,3,null,null,null,null,null,null,null,8,8,null,null,null,null,null,null,null,null,null,null,null,null,null,null,null,null,null,null,null,null,null,null,null,null,null,3,4,null,null,null,null,null,null,null,3,6,null,null,null,null,null,null,null,null,null,null,null,null,null,null,null,null,null,null,null,null,null,null,null,null,null,3,4,null,null,null,null,null,null,null,8,8,null,null,null,null,null,null,null,null,null,null,null,null,null,null,null,null,4,4,null,null,null,null,null,null,null,4,4,null,null,null,null,null,null,null,3,6,null,null,null,null,null,null,null,null,null,null,null,null,null,null,null,null,3,6]
["2010","001","501",null,null,0,"2000-07-12",null,null,"F",75,80,0,90,75,85,85,90,75,0,0,60,0,0,0,0,75,80,0,75,70,80,75,75,65,75,80,75,0,0,0,0,70,80,0,85,70,80,75,85,75,70,70,70,0,0,0,0,66,69,0,76,71,70,93,80,70,68,62,82,80,68,80,83,null,55,83.75,0,76.666666666666671,75,73.75,0,78.333333333333329,77.5,71.25,0,76,null,null,null,"001501","0.100","50",{"$f":"Tableau_SSRSMSA03_BI_Integration_STEPH_2010[[#This Row],[DAT_NAISSANCE_ELEVE]]","v":"2000-07-12"},"2009-09-30",3367,9.2183436002737853,{"$f":"IF(AND(LEFT(CO20,1)=\"1\",CS20>5.5),\"V\",IF(AND(LEFT(CO20,1)=\"2\",CS20>6.5),\"V\",IF(AND(LEFT(CO20,1)=\"3\",CS20>7.5),\"V\",IF(AND(LEFT(CO20,1)=\"4\",CS20>8.5),\"V\",IF(AND(LEFT(CO20,1)=\"5\",CS20>9.5),\"V\",IF(AND(LEFT(CO20,1)=\"6\",CS20>10.5),\"V\",\"J\"))))))","v":"J"},{"$f":"IF(AJ20=0,0,IF(BH20=0,0,1))","v":1},null,null,null,null,null,null,null,null,3,2,null,null,null,null,null,null,null,null,null,null,null,null,null,null,null,null,2,2,null,null,null,null,null,null,null,2,2,null,null,null,null,null,null,null,3,3,null,null,null,null,null,null,null,null,null,null,null,null,null,null,null,null,3,3,null,null,null,null,null,null,null,4,6,null,null,null,null,null,null,null,null,null,null,null,null,null,null,null,null,2,3,null,null,null,null,null,null,null,3,3,null,null,null,null,null,null,null,2,2,null,null,null,null,null,null,null,null,null,null,null,null,null,null,null,null,3,6,null,null,null,null,null,null,null,4,2,null,null,null,null,null,null,null,null,null,null,null,null,null,null,null,null,1,2,null,null,null,null,null,null,null,1,2,null,null,null,null,null,null,null,2,3,null,null,null,null,null,null,null,null,null,null,null,null,null,null,null,null,2,2,null,null,null,null,null,null,null,2,2,null,null,null,null,null,null,null,null,null,null,null,null,null,null,null,null,null,null,null,null,null,null,null,null,null,2,2,null,null,null,null,null,null,null,2,3,null,null,null,null,null,null,null,null,null,null,null,null,null,null,null,null,null,null,null,null,null,null,null,null,null,1,1,null,null,null,null,null,null,null,3,2,null,null,null,null,null,null,null,null,null,null,null,null,null,null,null,null,2,2,null,null,null,null,null,null,null,2,2,null,null,null,null,null,null,null,2,3,null,null,null,null,null,null,null,null,null,null,null,null,null,null,null,null,2,2]
["2010","001","501",null,null,0,"2000-05-20",null,null,"M",90,80,0,95,95,85,95,95,95,0,0,95,0,0,0,0,85,85,0,85,85,90,90,95,90,90,90,90,0,0,0,0,80,85,0,90,85,80,90,90,85,95,80,90,0,0,0,0,88,87,0,82,91,77,92,84,86,78,95,90,96,82,92,80,null,61.666666666666664,92.5,0,85,90,90,0,85,86.25,87.5,0,87.25,null,null,null,"001501","0.100","50",{"$f":"Tableau_SSRSMSA03_BI_Integration_STEPH_2010[[#This Row],[DAT_NAISSANCE_ELEVE]]","v":"2000-05-20"},"2009-09-30",3420,9.3634496919917858,{"$f":"IF(AND(LEFT(CO21,1)=\"1\",CS21>5.5),\"V\",IF(AND(LEFT(CO21,1)=\"2\",CS21>6.5),\"V\",IF(AND(LEFT(CO21,1)=\"3\",CS21>7.5),\"V\",IF(AND(LEFT(CO21,1)=\"4\",CS21>8.5),\"V\",IF(AND(LEFT(CO21,1)=\"5\",CS21>9.5),\"V\",IF(AND(LEFT(CO21,1)=\"6\",CS21>10.5),\"V\",\"J\"))))))","v":"J"},{"$f":"IF(AJ21=0,0,IF(BH21=0,0,1))","v":1},null,null,null,null,null,null,null,null,1,1,null,null,null,null,null,null,null,null,null,null,null,null,null,null,null,null,1,2,null,null,null,null,null,null,null,2,2,null,null,null,null,null,null,null,1,1,null,null,null,null,null,null,null,null,null,null,null,null,null,null,null,null,1,1,null,null,null,null,null,null,null,1,1,null,null,null,null,null,null,null,null,null,null,null,null,null,null,null,null,1,2,null,null,null,null,null,null,null,1,2,null,null,null,null,null,null,null,1,2,null,null,null,null,null,null,null,null,null,null,null,null,null,null,null,null,1,1,null,null,null,null,null,null,null,1,1,null,null,null,null,null,null,null,null,null,null,null,null,null,null,null,null,1,1,null,null,null,null,null,null,null,1,1,null,null,null,null,null,null,null,1,1,null,null,null,null,null,null,null,null,null,null,null,null,null,null,null,null,1,2,null,null,null,null,null,null,null,1,1,null,null,null,null,null,null,null,null,null,null,null,null,null,null,null,null,null,null,null,null,null,null,null,null,null,1,1,null,null,null,null,null,null,null,1,2,null,null,null,null,null,null,null,null,null,null,null,null,null,null,null,null,null,null,null,null,null,null,null,null,null,1,1,null,null,null,null,null,null,null,1,1,null,null,null,null,null,null,null,null,null,null,null,null,null,null,null,null,1,2,null,null,null,null,null,null,null,1,1,null,null,null,null,null,null,null,1,1,null,null,null,null,null,null,null,null,null,null,null,null,null,null,null,null,1,1]
["2010","001","501",null,null,0,"2000-03-10",null,null,"M",85,85,0,85,80,75,90,90,80,0,0,90,0,0,0,0,90,90,0,95,85,80,90,95,80,85,90,85,0,0,0,0,65,75,0,85,70,85,80,85,80,85,75,75,0,0,0,0,72,82,0,84,73,84,85,86,68,78,87,86,72,75,92,94,null,56.666666666666664,83.75,0,91.666666666666671,87.5,85,0,75,80,78.75,0,80.75,null,null,null,"001501","0.100","50",{"$f":"Tableau_SSRSMSA03_BI_Integration_STEPH_2010[[#This Row],[DAT_NAISSANCE_ELEVE]]","v":"2000-03-10"},"2009-09-30",3491,9.5578370978781653,{"$f":"IF(AND(LEFT(CO22,1)=\"1\",CS22>5.5),\"V\",IF(AND(LEFT(CO22,1)=\"2\",CS22>6.5),\"V\",IF(AND(LEFT(CO22,1)=\"3\",CS22>7.5),\"V\",IF(AND(LEFT(CO22,1)=\"4\",CS22>8.5),\"V\",IF(AND(LEFT(CO22,1)=\"5\",CS22>9.5),\"V\",IF(AND(LEFT(CO22,1)=\"6\",CS22>10.5),\"V\",\"J\"))))))","v":"V"},{"$f":"IF(AJ22=0,0,IF(BH22=0,0,1))","v":1},null,null,null,null,null,null,null,null,1,2,null,null,null,null,null,null,null,null,null,null,null,null,null,null,null,null,2,2,null,null,null,null,null,null,null,2,2,null,null,null,null,null,null,null,1,2,null,null,null,null,null,null,null,null,null,null,null,null,null,null,null,null,1,2,null,null,null,null,null,null,null,2,2,null,null,null,null,null,null,null,null,null,null,null,null,null,null,null,null,3,6,null,null,null,null,null,null,null,3,3,null,null,null,null,null,null,null,2,2,null,null,null,null,null,null,null,null,null,null,null,null,null,null,null,null,2,3,null,null,null,null,null,null,null,2,2,null,null,null,null,null,null,null,null,null,null,null,null,null,null,null,null,1,2,null,null,null,null,null,null,null,1,2,null,null,null,null,null,null,null,2,2,null,null,null,null,null,null,null,null,null,null,null,null,null,null,null,null,1,2,null,null,null,null,null,null,null,1,1,null,null,null,null,null,null,null,null,null,null,null,null,null,null,null,null,null,null,null,null,null,null,null,null,null,2,2,null,null,null,null,null,null,null,2,2,null,null,null,null,null,null,null,null,null,null,null,null,null,null,null,null,null,null,null,null,null,null,null,null,null,1,2,null,null,null,null,null,null,null,1,2,null,null,null,null,null,null,null,null,null,null,null,null,null,null,null,null,2,2,null,null,null,null,null,null,null,2,2,null,null,null,null,null,null,null,2,2,null,null,null,null,null,null,null,null,null,null,null,null,null,null,null,null,1,2]
["2010","001","501",null,null,0,"2000-02-14",null,null,"M",90,95,0,95,85,90,90,90,90,75,60,85,0,0,0,0,80,80,0,75,85,85,85,85,85,75,60,85,0,0,0,0,80,90,0,60,90,90,85,80,90,85,85,75,0,0,0,0,87,83,0,74,92,84,75,72,86,88,77,80,92,96,88,73,null,61.666666666666664,88.75,77.5,78.333333333333329,85,76.25,0,76.666666666666671,86.25,83.75,0,79.75,null,null,null,"001501","0.100","50",{"$f":"Tableau_SSRSMSA03_BI_Integration_STEPH_2010[[#This Row],[DAT_NAISSANCE_ELEVE]]","v":"2000-02-14"},"2009-09-30",3516,9.6262833675564679,{"$f":"IF(AND(LEFT(CO23,1)=\"1\",CS23>5.5),\"V\",IF(AND(LEFT(CO23,1)=\"2\",CS23>6.5),\"V\",IF(AND(LEFT(CO23,1)=\"3\",CS23>7.5),\"V\",IF(AND(LEFT(CO23,1)=\"4\",CS23>8.5),\"V\",IF(AND(LEFT(CO23,1)=\"5\",CS23>9.5),\"V\",IF(AND(LEFT(CO23,1)=\"6\",CS23>10.5),\"V\",\"J\"))))))","v":"V"},{"$f":"IF(AJ23=0,0,IF(BH23=0,0,1))","v":1},null,null,null,null,null,null,null,null,3,2,null,null,null,null,null,null,null,null,null,null,null,null,null,null,null,null,1,1,null,null,null,null,null,null,null,1,1,null,null,null,null,null,null,null,1,2,null,null,null,null,null,null,null,null,null,null,null,null,null,null,null,null,1,2,null,null,null,null,null,null,null,1,2,null,null,null,null,null,null,null,null,null,null,null,null,null,null,null,null,1,2,null,null,null,null,null,null,null,1,1,null,null,null,null,null,null,null,1,1,null,null,null,null,null,null,null,null,null,null,null,null,null,null,null,null,1,1,null,null,null,null,null,null,null,2,2,null,null,null,null,null,null,null,null,null,null,null,null,null,null,null,null,3,6,null,null,null,null,null,null,null,2,2,null,null,null,null,null,null,null,2,2,null,null,null,null,null,null,null,null,null,null,null,null,null,null,null,null,2,2,null,null,null,null,null,null,null,4,6,null,null,null,null,null,null,null,null,null,null,null,null,null,null,null,null,null,null,null,null,null,null,null,null,null,1,2,null,null,null,null,null,null,null,1,2,null,null,null,null,null,null,null,null,null,null,null,null,null,null,null,null,null,null,null,null,null,null,null,null,null,2,2,null,null,null,null,null,null,null,3,2,null,null,null,null,null,null,null,null,null,null,null,null,null,null,null,null,2,2,null,null,null,null,null,null,null,1,1,null,null,null,null,null,null,null,1,2,null,null,null,null,null,null,null,null,null,null,null,null,null,null,null,null,1,2]
["2010","001","501",null,null,0,"2000-12-01",null,null,"M",0,0,0,0,0,0,0,0,0,0,0,0,0,0,0,0,0,0,0,0,0,0,0,0,0,0,0,0,0,0,0,0,55,65,0,75,55,60,70,75,60,70,50,80,0,0,0,0,64,69,0,79,65,65,73,75,60,60,75,75,60,61,68,80,null,0,0,0,0,0,0,0,65,65,65,0,71.25,null,null,null,"001501","0.100","50",{"$f":"Tableau_SSRSMSA03_BI_Integration_STEPH_2010[[#This Row],[DAT_NAISSANCE_ELEVE]]","v":"2000-12-01"},"2009-09-30",3225,8.8295687885010263,{"$f":"IF(AND(LEFT(CO24,1)=\"1\",CS24>5.5),\"V\",IF(AND(LEFT(CO24,1)=\"2\",CS24>6.5),\"V\",IF(AND(LEFT(CO24,1)=\"3\",CS24>7.5),\"V\",IF(AND(LEFT(CO24,1)=\"4\",CS24>8.5),\"V\",IF(AND(LEFT(CO24,1)=\"5\",CS24>9.5),\"V\",IF(AND(LEFT(CO24,1)=\"6\",CS24>10.5),\"V\",\"J\"))))))","v":"J"},{"$f":"IF(AJ24=0,0,IF(BH24=0,0,1))","v":0},null,null,null,null,null,null,null,null,8,8,null,null,null,null,null,null,null,null,null,null,null,null,null,null,null,null,3,6,null,null,null,null,null,null,null,4,6,null,null,null,null,null,null,null,3,3,null,null,null,null,null,null,null,null,null,null,null,null,null,null,null,null,3,3,null,null,null,null,null,null,null,8,8,null,null,null,null,null,null,null,null,null,null,null,null,null,null,null,null,4,4,null,null,null,null,null,null,null,4,4,null,null,null,null,null,null,null,4,6,null,null,null,null,null,null,null,null,null,null,null,null,null,null,null,null,3,6,null,null,null,null,null,null,null,8,8,null,null,null,null,null,null,null,null,null,null,null,null,null,null,null,null,2,2,null,null,null,null,null,null,null,2,2,null,null,null,null,null,null,null,1,2,null,null,null,null,null,null,null,null,null,null,null,null,null,null,null,null,2,2,null,null,null,null,null,null,null,8,8,null,null,null,null,null,null,null,null,null,null,null,null,null,null,null,null,null,null,null,null,null,null,null,null,null,2,3,null,null,null,null,null,null,null,4,4,null,null,null,null,null,null,null,null,null,null,null,null,null,null,null,null,null,null,null,null,null,null,null,null,null,2,2,null,null,null,null,null,null,null,8,8,null,null,null,null,null,null,null,null,null,null,null,null,null,null,null,null,3,6,null,null,null,null,null,null,null,3,6,null,null,null,null,null,null,null,3,6,null,null,null,null,null,null,null,null,null,null,null,null,null,null,null,null,2,3]
["2010","001","501",null,null,0,"2000-02-04",null,null,"M",70,75,0,85,70,70,80,90,70,70,65,80,0,0,0,0,70,60,0,80,70,40,90,55,70,70,55,80,0,0,0,0,60,55,0,65,65,60,60,80,60,60,50,70,0,0,0,0,56,52,0,70,55,55,45,66,55,68,55,65,64,75,60,60,null,51.666666666666664,77.5,71.25,70,63.75,68.75,0,60,66.25,60,0,55.75,null,null,null,"001501","0.100","50",{"$f":"Tableau_SSRSMSA03_BI_Integration_STEPH_2010[[#This Row],[DAT_NAISSANCE_ELEVE]]","v":"2000-02-04"},"2009-09-30",3526,9.6536618754277885,{"$f":"IF(AND(LEFT(CO25,1)=\"1\",CS25>5.5),\"V\",IF(AND(LEFT(CO25,1)=\"2\",CS25>6.5),\"V\",IF(AND(LEFT(CO25,1)=\"3\",CS25>7.5),\"V\",IF(AND(LEFT(CO25,1)=\"4\",CS25>8.5),\"V\",IF(AND(LEFT(CO25,1)=\"5\",CS25>9.5),\"V\",IF(AND(LEFT(CO25,1)=\"6\",CS25>10.5),\"V\",\"J\"))))))","v":"V"},{"$f":"IF(AJ25=0,0,IF(BH25=0,0,1))","v":1},null,null,null,null,null,null,null,null,4,3,null,null,null,null,null,null,null,null,null,null,null,null,null,null,null,null,4,4,null,null,null,null,null,null,null,4,6,null,null,null,null,null,null,null,4,6,null,null,null,null,null,null,null,null,null,null,null,null,null,null,null,null,4,4,null,null,null,null,null,null,null,4,3,null,null,null,null,null,null,null,null,null,null,null,null,null,null,null,null,3,6,null,null,null,null,null,null,null,3,6,null,null,null,null,null,null,null,4,6,null,null,null,null,null,null,null,null,null,null,null,null,null,null,null,null,3,4,null,null,null,null,null,null,null,3,2,null,null,null,null,null,null,null,null,null,null,null,null,null,null,null,null,3,6,null,null,null,null,null,null,null,2,2,null,null,null,null,null,null,null,2,3,null,null,null,null,null,null,null,null,null,null,null,null,null,null,null,null,2,3,null,null,null,null,null,null,null,4,4,null,null,null,null,null,null,null,null,null,null,null,null,null,null,null,null,null,null,null,null,null,null,null,null,null,3,6,null,null,null,null,null,null,null,4,4,null,null,null,null,null,null,null,null,null,null,null,null,null,null,null,null,null,null,null,null,null,null,null,null,null,3,4,null,null,null,null,null,null,null,4,3,null,null,null,null,null,null,null,null,null,null,null,null,null,null,null,null,4,6,null,null,null,null,null,null,null,3,6,null,null,null,null,null,null,null,3,6,null,null,null,null,null,null,null,null,null,null,null,null,null,null,null,null,3,4]
["2010","001","501",null,null,0,"1999-11-09",null,null,"M",85,90,0,95,80,80,80,90,80,85,80,75,0,0,0,0,80,85,0,90,85,65,85,90,85,70,90,85,0,0,0,0,75,75,0,95,80,85,65,85,85,80,80,75,0,0,0,0,88,70,0,88,83,79,76,89,64,74,74,86,80,75,80,84,null,60,82.5,80,85,81.25,82.5,0,81.666666666666671,78.75,80,0,80.5,null,null,null,"001501","0.100","50",{"$f":"Tableau_SSRSMSA03_BI_Integration_STEPH_2010[[#This Row],[DAT_NAISSANCE_ELEVE]]","v":"1999-11-09"},"2009-09-30",3613,9.8918548939082829,{"$f":"IF(AND(LEFT(CO26,1)=\"1\",CS26>5.5),\"V\",IF(AND(LEFT(CO26,1)=\"2\",CS26>6.5),\"V\",IF(AND(LEFT(CO26,1)=\"3\",CS26>7.5),\"V\",IF(AND(LEFT(CO26,1)=\"4\",CS26>8.5),\"V\",IF(AND(LEFT(CO26,1)=\"5\",CS26>9.5),\"V\",IF(AND(LEFT(CO26,1)=\"6\",CS26>10.5),\"V\",\"J\"))))))","v":"V"},{"$f":"IF(AJ26=0,0,IF(BH26=0,0,1))","v":1},null,null,null,null,null,null,null,null,4,3,null,null,null,null,null,null,null,null,null,null,null,null,null,null,null,null,2,2,null,null,null,null,null,null,null,2,2,null,null,null,null,null,null,null,2,2,null,null,null,null,null,null,null,null,null,null,null,null,null,null,null,null,2,3,null,null,null,null,null,null,null,1,2,null,null,null,null,null,null,null,null,null,null,null,null,null,null,null,null,2,2,null,null,null,null,null,null,null,2,2,null,null,null,null,null,null,null,1,2,null,null,null,null,null,null,null,null,null,null,null,null,null,null,null,null,1,1,null,null,null,null,null,null,null,2,2,null,null,null,null,null,null,null,null,null,null,null,null,null,null,null,null,1,1,null,null,null,null,null,null,null,1,2,null,null,null,null,null,null,null,2,2,null,null,null,null,null,null,null,null,null,null,null,null,null,null,null,null,1,1,null,null,null,null,null,null,null,1,1,null,null,null,null,null,null,null,null,null,null,null,null,null,null,null,null,null,null,null,null,null,null,null,null,null,3,6,null,null,null,null,null,null,null,1,2,null,null,null,null,null,null,null,null,null,null,null,null,null,null,null,null,null,null,null,null,null,null,null,null,null,2,2,null,null,null,null,null,null,null,2,2,null,null,null,null,null,null,null,null,null,null,null,null,null,null,null,null,1,2,null,null,null,null,null,null,null,2,2,null,null,null,null,null,null,null,2,2,null,null,null,null,null,null,null,null,null,null,null,null,null,null,null,null,1,2]
["2010","001","501",null,null,0,"2000-03-13",null,null,"F",65,80,0,75,70,85,80,80,75,0,0,85,0,0,0,0,65,75,0,70,65,75,75,75,65,75,70,70,0,0,0,0,60,75,0,55,65,70,75,75,70,70,75,60,0,0,0,0,66,66,0,55,68,73,77,62,68,82,82,65,60,57,92,89,null,46.666666666666664,78.75,0,70,72.5,70,0,63.333333333333336,71.25,68.75,0,66,null,null,null,"001501","0.100","50",{"$f":"Tableau_SSRSMSA03_BI_Integration_STEPH_2010[[#This Row],[DAT_NAISSANCE_ELEVE]]","v":"2000-03-13"},"2009-09-30",3488,9.54962354551677,{"$f":"IF(AND(LEFT(CO27,1)=\"1\",CS27>5.5),\"V\",IF(AND(LEFT(CO27,1)=\"2\",CS27>6.5),\"V\",IF(AND(LEFT(CO27,1)=\"3\",CS27>7.5),\"V\",IF(AND(LEFT(CO27,1)=\"4\",CS27>8.5),\"V\",IF(AND(LEFT(CO27,1)=\"5\",CS27>9.5),\"V\",IF(AND(LEFT(CO27,1)=\"6\",CS27>10.5),\"V\",\"J\"))))))","v":"V"},{"$f":"IF(AJ27=0,0,IF(BH27=0,0,1))","v":1},null,null,null,null,null,null,null,null,3,2,null,null,null,null,null,null,null,null,null,null,null,null,null,null,null,null,2,2,null,null,null,null,null,null,null,3,3,null,null,null,null,null,null,null,3,3,null,null,null,null,null,null,null,null,null,null,null,null,null,null,null,null,3,6,null,null,null,null,null,null,null,4,6,null,null,null,null,null,null,null,null,null,null,null,null,null,null,null,null,3,6,null,null,null,null,null,null,null,3,6,null,null,null,null,null,null,null,3,3,null,null,null,null,null,null,null,null,null,null,null,null,null,null,null,null,3,6,null,null,null,null,null,null,null,4,3,null,null,null,null,null,null,null,null,null,null,null,null,null,null,null,null,4,4,null,null,null,null,null,null,null,2,2,null,null,null,null,null,null,null,3,6,null,null,null,null,null,null,null,null,null,null,null,null,null,null,null,null,3,4,null,null,null,null,null,null,null,3,3,null,null,null,null,null,null,null,null,null,null,null,null,null,null,null,null,null,null,null,null,null,null,null,null,null,2,2,null,null,null,null,null,null,null,2,2,null,null,null,null,null,null,null,null,null,null,null,null,null,null,null,null,null,null,null,null,null,null,null,null,null,2,2,null,null,null,null,null,null,null,4,3,null,null,null,null,null,null,null,null,null,null,null,null,null,null,null,null,3,6,null,null,null,null,null,null,null,2,3,null,null,null,null,null,null,null,2,3,null,null,null,null,null,null,null,null,null,null,null,null,null,null,null,null,2,6]
["2010","001","502",null,null,0,"2000-05-27",null,null,"M",70,60,0,70,70,70,70,75,70,0,0,65,0,0,0,0,65,60,0,75,75,75,90,65,70,80,70,80,0,0,0,0,60,70,0,70,65,70,65,75,65,80,70,75,0,0,0,0,60,70,0,58,65,76,75,65,60,65,57,65,68,71,76,76,null,46.666666666666664,71.25,0,66.666666666666671,76.25,75,0,66.666666666666671,68.75,72.5,0,65.75,null,null,null,"001502","0.100","50",{"$f":"Tableau_SSRSMSA03_BI_Integration_STEPH_2010[[#This Row],[DAT_NAISSANCE_ELEVE]]","v":"2000-05-27"},"2009-09-30",3413,9.3442847364818622,{"$f":"IF(AND(LEFT(CO28,1)=\"1\",CS28>5.5),\"V\",IF(AND(LEFT(CO28,1)=\"2\",CS28>6.5),\"V\",IF(AND(LEFT(CO28,1)=\"3\",CS28>7.5),\"V\",IF(AND(LEFT(CO28,1)=\"4\",CS28>8.5),\"V\",IF(AND(LEFT(CO28,1)=\"5\",CS28>9.5),\"V\",IF(AND(LEFT(CO28,1)=\"6\",CS28>10.5),\"V\",\"J\"))))))","v":"J"},{"$f":"IF(AJ28=0,0,IF(BH28=0,0,1))","v":1}]
["2010","001","502",null,null,0,"2000-10-09",null,null,"F",75,80,0,80,75,75,70,80,70,80,70,75,0,0,0,0,75,75,0,65,70,80,60,75,80,85,80,75,0,0,0,0,65,80,0,65,70,70,60,60,70,85,60,65,0,0,0,0,66,75,0,65,72,86,55,69,60,86,55,60,72,64,52,57,null,51.666666666666664,75,73.75,71.666666666666671,71.25,80,0,70,65,70,0,65.25,null,null,null,"001502","0.100","50",{"$f":"Tableau_SSRSMSA03_BI_Integration_STEPH_2010[[#This Row],[DAT_NAISSANCE_ELEVE]]","v":"2000-10-09"},"2009-09-30",3278,8.9746748802190286,{"$f":"IF(AND(LEFT(CO29,1)=\"1\",CS29>5.5),\"V\",IF(AND(LEFT(CO29,1)=\"2\",CS29>6.5),\"V\",IF(AND(LEFT(CO29,1)=\"3\",CS29>7.5),\"V\",IF(AND(LEFT(CO29,1)=\"4\",CS29>8.5),\"V\",IF(AND(LEFT(CO29,1)=\"5\",CS29>9.5),\"V\",IF(AND(LEFT(CO29,1)=\"6\",CS29>10.5),\"V\",\"J\"))))))","v":"J"},{"$f":"IF(AJ29=0,0,IF(BH29=0,0,1))","v":1}]
["2010","001","502",null,null,0,"2000-07-18",null,null,"M",80,75,0,75,85,85,85,80,80,0,0,70,0,0,0,0,80,80,0,80,80,90,70,70,85,90,65,85,0,0,0,0,75,80,0,70,80,80,80,80,80,80,70,75,0,0,0,0,79,70,0,72,83,70,63,67,69,80,73,75,84,93,84,73,null,51.666666666666664,83.75,0,80,77.5,81.25,0,75,80,76.25,0,71,null,null,null,"001502","0.100","50",{"$f":"Tableau_SSRSMSA03_BI_Integration_STEPH_2010[[#This Row],[DAT_NAISSANCE_ELEVE]]","v":"2000-07-18"},"2009-09-30",3361,9.2019164955509929,{"$f":"IF(AND(LEFT(CO30,1)=\"1\",CS30>5.5),\"V\",IF(AND(LEFT(CO30,1)=\"2\",CS30>6.5),\"V\",IF(AND(LEFT(CO30,1)=\"3\",CS30>7.5),\"V\",IF(AND(LEFT(CO30,1)=\"4\",CS30>8.5),\"V\",IF(AND(LEFT(CO30,1)=\"5\",CS30>9.5),\"V\",IF(AND(LEFT(CO30,1)=\"6\",CS30>10.5),\"V\",\"J\"))))))","v":"J"},{"$f":"IF(AJ30=0,0,IF(BH30=0,0,1))","v":1}]
["2010","001","502",null,null,0,"2000-01-11",null,null,"F",75,75,0,80,80,80,65,75,80,70,70,70,0,0,0,0,70,65,0,60,75,70,65,70,75,75,70,70,0,0,0,0,75,70,0,60,75,75,90,70,75,70,90,80,0,0,0,0,64,55,0,76,73,65,50,65,73,60,74,61,68,64,72,66,null,51.666666666666664,75,72.5,65,70,72.5,0,68.333333333333329,77.5,78.75,0,61.25,null,null,null,"001502","0.100","50",{"$f":"Tableau_SSRSMSA03_BI_Integration_STEPH_2010[[#This Row],[DAT_NAISSANCE_ELEVE]]","v":"2000-01-11"},"2009-09-30",3550,9.7193702943189599,{"$f":"IF(AND(LEFT(CO31,1)=\"1\",CS31>5.5),\"V\",IF(AND(LEFT(CO31,1)=\"2\",CS31>6.5),\"V\",IF(AND(LEFT(CO31,1)=\"3\",CS31>7.5),\"V\",IF(AND(LEFT(CO31,1)=\"4\",CS31>8.5),\"V\",IF(AND(LEFT(CO31,1)=\"5\",CS31>9.5),\"V\",IF(AND(LEFT(CO31,1)=\"6\",CS31>10.5),\"V\",\"J\"))))))","v":"V"},{"$f":"IF(AJ31=0,0,IF(BH31=0,0,1))","v":1}]
["2010","001","502",null,null,0,"2000-11-30",null,null,"M",0,0,0,0,0,0,0,0,0,0,0,0,0,0,0,0,0,0,0,0,0,0,0,0,0,0,0,0,0,0,0,0,0,0,0,0,70,75,75,90,80,75,95,90,0,0,0,0,71,70,0,82,67,69,79,94,73,68,80,91,80,75,92,95,null,0,0,0,0,0,0,0,0,77.5,85,0,75.5,null,null,null,"001502","0.100","50",{"$f":"Tableau_SSRSMSA03_BI_Integration_STEPH_2010[[#This Row],[DAT_NAISSANCE_ELEVE]]","v":"2000-11-30"},"2009-09-30",3226,8.8323066392881593,{"$f":"IF(AND(LEFT(CO32,1)=\"1\",CS32>5.5),\"V\",IF(AND(LEFT(CO32,1)=\"2\",CS32>6.5),\"V\",IF(AND(LEFT(CO32,1)=\"3\",CS32>7.5),\"V\",IF(AND(LEFT(CO32,1)=\"4\",CS32>8.5),\"V\",IF(AND(LEFT(CO32,1)=\"5\",CS32>9.5),\"V\",IF(AND(LEFT(CO32,1)=\"6\",CS32>10.5),\"V\",\"J\"))))))","v":"J"},{"$f":"IF(AJ32=0,0,IF(BH32=0,0,1))","v":0}]
["2010","001","502",null,null,0,"2000-09-28",null,null,"M",70,55,0,50,70,70,50,55,65,0,0,65,0,0,0,0,55,65,0,55,55,55,40,55,50,40,50,55,0,0,0,0,50,55,0,30,50,65,40,35,60,55,40,45,0,0,0,0,0,0,0,0,0,0,0,0,0,0,0,0,0,0,0,0,null,40,61.25,0,58.333333333333336,51.25,48.75,0,45,47.5,50,0,0,null,null,null,"001502","0.100","50",{"$f":"Tableau_SSRSMSA03_BI_Integration_STEPH_2010[[#This Row],[DAT_NAISSANCE_ELEVE]]","v":"2000-09-28"},"2009-09-30",3289,9.0047912388774805,{"$f":"IF(AND(LEFT(CO33,1)=\"1\",CS33>5.5),\"V\",IF(AND(LEFT(CO33,1)=\"2\",CS33>6.5),\"V\",IF(AND(LEFT(CO33,1)=\"3\",CS33>7.5),\"V\",IF(AND(LEFT(CO33,1)=\"4\",CS33>8.5),\"V\",IF(AND(LEFT(CO33,1)=\"5\",CS33>9.5),\"V\",IF(AND(LEFT(CO33,1)=\"6\",CS33>10.5),\"V\",\"J\"))))))","v":"J"},{"$f":"IF(AJ33=0,0,IF(BH33=0,0,1))","v":0}]
["2010","001","502",null,null,0,"1999-10-04",null,null,"M",90,90,0,90,90,95,95,90,90,95,85,95,0,0,0,0,85,90,0,90,80,85,95,95,85,90,90,95,0,0,0,0,85,90,0,90,85,85,90,95,85,95,90,95,0,0,0,0,76,94,0,91,80,94,91,87,82,87,94,89,76,96,92,85,null,60,92.5,91.25,88.333333333333329,88.75,90,0,88.333333333333329,88.75,91.25,0,88,null,null,null,"001502","0.100","50",{"$f":"Tableau_SSRSMSA03_BI_Integration_STEPH_2010[[#This Row],[DAT_NAISSANCE_ELEVE]]","v":"1999-10-04"},"2009-09-30",3649,9.9904175222450373,{"$f":"IF(AND(LEFT(CO34,1)=\"1\",CS34>5.5),\"V\",IF(AND(LEFT(CO34,1)=\"2\",CS34>6.5),\"V\",IF(AND(LEFT(CO34,1)=\"3\",CS34>7.5),\"V\",IF(AND(LEFT(CO34,1)=\"4\",CS34>8.5),\"V\",IF(AND(LEFT(CO34,1)=\"5\",CS34>9.5),\"V\",IF(AND(LEFT(CO34,1)=\"6\",CS34>10.5),\"V\",\"J\"))))))","v":"V"},{"$f":"IF(AJ34=0,0,IF(BH34=0,0,1))","v":1}]
["2010","001","502",null,null,0,"2000-08-27",null,null,"F",0,0,0,0,0,0,0,0,0,0,0,0,0,0,0,0,0,0,0,0,0,0,0,0,0,0,0,0,0,0,0,0,70,65,0,55,75,60,55,55,80,70,65,80,0,0,0,0,0,0,0,0,0,0,0,0,0,0,0,0,0,0,0,0,null,0,0,0,0,0,0,0,63.333333333333336,61.25,73.75,0,0,null,null,null,"001502","0.100","50",{"$f":"Tableau_SSRSMSA03_BI_Integration_STEPH_2010[[#This Row],[DAT_NAISSANCE_ELEVE]]","v":"2000-08-27"},"2009-09-30",3321,9.0924024640657084,{"$f":"IF(AND(LEFT(CO35,1)=\"1\",CS35>5.5),\"V\",IF(AND(LEFT(CO35,1)=\"2\",CS35>6.5),\"V\",IF(AND(LEFT(CO35,1)=\"3\",CS35>7.5),\"V\",IF(AND(LEFT(CO35,1)=\"4\",CS35>8.5),\"V\",IF(AND(LEFT(CO35,1)=\"5\",CS35>9.5),\"V\",IF(AND(LEFT(CO35,1)=\"6\",CS35>10.5),\"V\",\"J\"))))))","v":"J"},{"$f":"IF(AJ35=0,0,IF(BH35=0,0,1))","v":0}]
["2010","001","502",null,null,0,"2000-05-18",null,null,"M",75,90,0,95,85,85,95,85,85,90,95,95,0,0,0,0,85,85,0,90,90,95,95,95,85,90,95,95,0,0,0,0,85,85,0,90,90,85,85,90,90,95,90,90,0,0,0,0,83,92,95,96,0,0,0,0,80,92,99,98,84,92,92,94,null,56.666666666666664,87.5,91.25,86.666666666666671,93.75,91.25,0,86.666666666666671,87.5,91.25,0,91.5,null,null,null,"001502","0.100","50",{"$f":"Tableau_SSRSMSA03_BI_Integration_STEPH_2010[[#This Row],[DAT_NAISSANCE_ELEVE]]","v":"2000-05-18"},"2009-09-30",3422,9.3689253935660499,{"$f":"IF(AND(LEFT(CO36,1)=\"1\",CS36>5.5),\"V\",IF(AND(LEFT(CO36,1)=\"2\",CS36>6.5),\"V\",IF(AND(LEFT(CO36,1)=\"3\",CS36>7.5),\"V\",IF(AND(LEFT(CO36,1)=\"4\",CS36>8.5),\"V\",IF(AND(LEFT(CO36,1)=\"5\",CS36>9.5),\"V\",IF(AND(LEFT(CO36,1)=\"6\",CS36>10.5),\"V\",\"J\"))))))","v":"J"},{"$f":"IF(AJ36=0,0,IF(BH36=0,0,1))","v":1}]
["2010","001","502",null,null,0,"2000-01-26",null,null,"M",70,60,0,70,75,85,80,75,70,0,0,50,0,0,0,0,70,65,0,70,70,60,50,45,70,65,55,55,0,0,0,0,55,50,0,40,60,55,50,50,60,55,50,65,0,0,0,0,62,55,0,55,70,57,0,52,60,55,0,45,56,61,32,52,null,46.666666666666664,78.75,0,68.333333333333329,56.25,61.25,0,48.333333333333336,53.75,57.5,0,43,null,null,null,"001502","0.100","50",{"$f":"Tableau_SSRSMSA03_BI_Integration_STEPH_2010[[#This Row],[DAT_NAISSANCE_ELEVE]]","v":"2000-01-26"},"2009-09-30",3535,9.678302532511978,{"$f":"IF(AND(LEFT(CO37,1)=\"1\",CS37>5.5),\"V\",IF(AND(LEFT(CO37,1)=\"2\",CS37>6.5),\"V\",IF(AND(LEFT(CO37,1)=\"3\",CS37>7.5),\"V\",IF(AND(LEFT(CO37,1)=\"4\",CS37>8.5),\"V\",IF(AND(LEFT(CO37,1)=\"5\",CS37>9.5),\"V\",IF(AND(LEFT(CO37,1)=\"6\",CS37>10.5),\"V\",\"J\"))))))","v":"V"},{"$f":"IF(AJ37=0,0,IF(BH37=0,0,1))","v":1}]
["2010","001","502",null,null,0,"1999-11-11",null,null,"F",0,0,0,0,0,0,0,0,0,0,0,0,0,0,0,0,0,0,0,0,0,0,0,0,0,0,0,0,0,0,0,0,80,85,0,90,85,85,90,90,85,85,95,75,0,0,0,0,81,82,79,92,0,0,0,0,83,89,91,92,80,82,92,99,null,0,0,0,0,0,0,0,85,87.5,85,0,83.5,null,null,null,"001502","0.100","50",{"$f":"Tableau_SSRSMSA03_BI_Integration_STEPH_2010[[#This Row],[DAT_NAISSANCE_ELEVE]]","v":"1999-11-11"},"2009-09-30",3611,9.886379192334017,{"$f":"IF(AND(LEFT(CO38,1)=\"1\",CS38>5.5),\"V\",IF(AND(LEFT(CO38,1)=\"2\",CS38>6.5),\"V\",IF(AND(LEFT(CO38,1)=\"3\",CS38>7.5),\"V\",IF(AND(LEFT(CO38,1)=\"4\",CS38>8.5),\"V\",IF(AND(LEFT(CO38,1)=\"5\",CS38>9.5),\"V\",IF(AND(LEFT(CO38,1)=\"6\",CS38>10.5),\"V\",\"J\"))))))","v":"V"},{"$f":"IF(AJ38=0,0,IF(BH38=0,0,1))","v":0}]
["2010","001","502",null,null,0,"2000-08-01",null,null,"F",75,70,0,60,80,60,75,65,75,0,0,60,0,0,0,0,70,60,0,70,80,65,75,70,70,90,75,75,0,0,0,0,65,80,0,75,70,75,65,65,70,70,90,70,0,0,0,0,0,0,0,0,0,0,0,0,0,0,0,0,0,0,0,0,null,45,70,0,66.666666666666671,72.5,77.5,0,73.333333333333329,68.75,75,0,0,null,null,null,"001502","0.100","50",{"$f":"Tableau_SSRSMSA03_BI_Integration_STEPH_2010[[#This Row],[DAT_NAISSANCE_ELEVE]]","v":"2000-08-01"},"2009-09-30",3347,9.1635865845311422,{"$f":"IF(AND(LEFT(CO39,1)=\"1\",CS39>5.5),\"V\",IF(AND(LEFT(CO39,1)=\"2\",CS39>6.5),\"V\",IF(AND(LEFT(CO39,1)=\"3\",CS39>7.5),\"V\",IF(AND(LEFT(CO39,1)=\"4\",CS39>8.5),\"V\",IF(AND(LEFT(CO39,1)=\"5\",CS39>9.5),\"V\",IF(AND(LEFT(CO39,1)=\"6\",CS39>10.5),\"V\",\"J\"))))))","v":"J"},{"$f":"IF(AJ39=0,0,IF(BH39=0,0,1))","v":0}]
["2010","001","502",null,null,0,"2000-06-21",null,null,"F",70,75,0,90,75,80,85,90,75,0,0,75,0,0,0,0,85,80,0,75,80,75,75,70,65,80,60,65,0,0,0,0,75,80,0,70,75,85,70,80,75,85,70,75,0,0,0,0,75,72,0,70,80,81,66,68,80,77,81,78,84,96,72,75,null,53.333333333333336,82.5,0,80,75,67.5,0,75,77.5,76.25,0,70.75,null,null,null,"001502","0.100","50",{"$f":"Tableau_SSRSMSA03_BI_Integration_STEPH_2010[[#This Row],[DAT_NAISSANCE_ELEVE]]","v":"2000-06-21"},"2009-09-30",3388,9.2758384668035596,{"$f":"IF(AND(LEFT(CO40,1)=\"1\",CS40>5.5),\"V\",IF(AND(LEFT(CO40,1)=\"2\",CS40>6.5),\"V\",IF(AND(LEFT(CO40,1)=\"3\",CS40>7.5),\"V\",IF(AND(LEFT(CO40,1)=\"4\",CS40>8.5),\"V\",IF(AND(LEFT(CO40,1)=\"5\",CS40>9.5),\"V\",IF(AND(LEFT(CO40,1)=\"6\",CS40>10.5),\"V\",\"J\"))))))","v":"J"},{"$f":"IF(AJ40=0,0,IF(BH40=0,0,1))","v":1}]
["2010","001","502",null,null,0,"2000-04-01",null,null,"M",75,75,0,65,80,70,65,85,80,0,0,65,0,0,0,0,75,80,0,75,80,80,75,75,85,80,70,75,0,0,0,0,75,75,0,70,70,75,80,80,80,85,85,75,0,0,0,0,81,68,0,79,81,84,90,78,72,80,70,81,80,64,72,75,null,46.666666666666664,75,0,76.666666666666671,77.5,77.5,0,73.333333333333329,76.25,81.25,0,79.5,null,null,null,"001502","0.100","50",{"$f":"Tableau_SSRSMSA03_BI_Integration_STEPH_2010[[#This Row],[DAT_NAISSANCE_ELEVE]]","v":"2000-04-01"},"2009-09-30",3469,9.4976043805612598,{"$f":"IF(AND(LEFT(CO41,1)=\"1\",CS41>5.5),\"V\",IF(AND(LEFT(CO41,1)=\"2\",CS41>6.5),\"V\",IF(AND(LEFT(CO41,1)=\"3\",CS41>7.5),\"V\",IF(AND(LEFT(CO41,1)=\"4\",CS41>8.5),\"V\",IF(AND(LEFT(CO41,1)=\"5\",CS41>9.5),\"V\",IF(AND(LEFT(CO41,1)=\"6\",CS41>10.5),\"V\",\"J\"))))))","v":"J"},{"$f":"IF(AJ41=0,0,IF(BH41=0,0,1))","v":1}]
["2010","001","502",null,null,0,"1999-11-25",null,null,"M",85,90,0,95,85,90,75,85,90,85,95,90,0,0,0,0,90,90,0,90,90,95,95,95,90,90,90,90,0,0,0,0,80,85,0,85,85,85,85,90,85,95,90,85,0,0,0,0,82,82,85,81,0,0,0,0,82,84,82,75,76,88,92,97,null,60,83.75,90,90,93.75,90,0,83.333333333333329,86.25,88.75,0,82.5,null,null,null,"001502","0.100","50",{"$f":"Tableau_SSRSMSA03_BI_Integration_STEPH_2010[[#This Row],[DAT_NAISSANCE_ELEVE]]","v":"1999-11-25"},"2009-09-30",3597,9.848049281314168,{"$f":"IF(AND(LEFT(CO42,1)=\"1\",CS42>5.5),\"V\",IF(AND(LEFT(CO42,1)=\"2\",CS42>6.5),\"V\",IF(AND(LEFT(CO42,1)=\"3\",CS42>7.5),\"V\",IF(AND(LEFT(CO42,1)=\"4\",CS42>8.5),\"V\",IF(AND(LEFT(CO42,1)=\"5\",CS42>9.5),\"V\",IF(AND(LEFT(CO42,1)=\"6\",CS42>10.5),\"V\",\"J\"))))))","v":"V"},{"$f":"IF(AJ42=0,0,IF(BH42=0,0,1))","v":1}]
["2010","001","502",null,null,0,"2000-07-06",null,null,"M",75,75,0,70,80,85,85,75,80,0,0,75,0,0,0,0,80,80,0,80,75,80,80,80,75,80,75,80,0,0,0,0,80,80,0,90,85,80,85,90,90,80,90,85,0,0,0,0,83,79,0,89,85,86,80,86,84,84,82,93,88,93,92,89,null,48.333333333333336,81.25,0,80,78.75,77.5,0,83.333333333333329,85,86.25,0,82.75,null,null,null,"001502","0.100","50",{"$f":"Tableau_SSRSMSA03_BI_Integration_STEPH_2010[[#This Row],[DAT_NAISSANCE_ELEVE]]","v":"2000-07-06"},"2009-09-30",3373,9.2347707049965777,{"$f":"IF(AND(LEFT(CO43,1)=\"1\",CS43>5.5),\"V\",IF(AND(LEFT(CO43,1)=\"2\",CS43>6.5),\"V\",IF(AND(LEFT(CO43,1)=\"3\",CS43>7.5),\"V\",IF(AND(LEFT(CO43,1)=\"4\",CS43>8.5),\"V\",IF(AND(LEFT(CO43,1)=\"5\",CS43>9.5),\"V\",IF(AND(LEFT(CO43,1)=\"6\",CS43>10.5),\"V\",\"J\"))))))","v":"J"},{"$f":"IF(AJ43=0,0,IF(BH43=0,0,1))","v":1}]
["2010","001","502",null,null,0,"2000-04-02",null,null,"M",80,90,0,90,80,80,80,85,90,90,80,95,0,0,0,0,80,90,0,85,80,80,90,90,85,90,90,90,0,0,0,0,90,90,0,90,90,85,75,90,85,80,90,80,0,0,0,0,84,81,0,63,75,70,73,68,85,85,80,85,76,96,92,83,null,56.666666666666664,81.25,88.75,85,85,88.75,0,90,85,83.75,0,75.25,null,null,null,"001502","0.100","50",{"$f":"Tableau_SSRSMSA03_BI_Integration_STEPH_2010[[#This Row],[DAT_NAISSANCE_ELEVE]]","v":"2000-04-02"},"2009-09-30",3468,9.4948665297741268,{"$f":"IF(AND(LEFT(CO44,1)=\"1\",CS44>5.5),\"V\",IF(AND(LEFT(CO44,1)=\"2\",CS44>6.5),\"V\",IF(AND(LEFT(CO44,1)=\"3\",CS44>7.5),\"V\",IF(AND(LEFT(CO44,1)=\"4\",CS44>8.5),\"V\",IF(AND(LEFT(CO44,1)=\"5\",CS44>9.5),\"V\",IF(AND(LEFT(CO44,1)=\"6\",CS44>10.5),\"V\",\"J\"))))))","v":"J"},{"$f":"IF(AJ44=0,0,IF(BH44=0,0,1))","v":1}]
["2010","001","502",null,null,0,"2000-03-20",null,null,"F",85,85,0,95,80,80,90,95,85,0,0,90,0,0,0,0,80,85,0,90,85,90,85,90,85,80,90,90,0,0,0,0,90,90,0,95,85,85,90,95,95,85,95,95,0,0,0,0,93,89,0,95,87,91,98,94,91,93,98,100,100,96,100,98,null,60,86.25,0,85,87.5,86.25,0,91.666666666666671,88.75,92.5,0,93.75,null,null,null,"001502","0.100","50",{"$f":"Tableau_SSRSMSA03_BI_Integration_STEPH_2010[[#This Row],[DAT_NAISSANCE_ELEVE]]","v":"2000-03-20"},"2009-09-30",3481,9.5304585900068446,{"$f":"IF(AND(LEFT(CO45,1)=\"1\",CS45>5.5),\"V\",IF(AND(LEFT(CO45,1)=\"2\",CS45>6.5),\"V\",IF(AND(LEFT(CO45,1)=\"3\",CS45>7.5),\"V\",IF(AND(LEFT(CO45,1)=\"4\",CS45>8.5),\"V\",IF(AND(LEFT(CO45,1)=\"5\",CS45>9.5),\"V\",IF(AND(LEFT(CO45,1)=\"6\",CS45>10.5),\"V\",\"J\"))))))","v":"V"},{"$f":"IF(AJ45=0,0,IF(BH45=0,0,1))","v":1}]
["2010","001","502",null,null,0,"2000-08-04",null,null,"F",80,70,0,85,80,70,85,65,75,0,0,75,0,0,0,0,75,70,0,80,80,80,90,75,70,65,60,60,0,0,0,0,75,85,0,70,75,70,60,70,75,75,90,80,0,0,0,0,83,75,0,87,75,74,78,84,77,79,83,83,68,71,80,83,null,55,75,0,75,81.25,63.75,0,76.666666666666671,68.75,80,0,80.75,null,null,null,"001502","0.100","50",{"$f":"Tableau_SSRSMSA03_BI_Integration_STEPH_2010[[#This Row],[DAT_NAISSANCE_ELEVE]]","v":"2000-08-04"},"2009-09-30",3344,9.1553730321697468,{"$f":"IF(AND(LEFT(CO46,1)=\"1\",CS46>5.5),\"V\",IF(AND(LEFT(CO46,1)=\"2\",CS46>6.5),\"V\",IF(AND(LEFT(CO46,1)=\"3\",CS46>7.5),\"V\",IF(AND(LEFT(CO46,1)=\"4\",CS46>8.5),\"V\",IF(AND(LEFT(CO46,1)=\"5\",CS46>9.5),\"V\",IF(AND(LEFT(CO46,1)=\"6\",CS46>10.5),\"V\",\"J\"))))))","v":"J"},{"$f":"IF(AJ46=0,0,IF(BH46=0,0,1))","v":1}]
["2010","001","502",null,null,0,"2000-04-04",null,null,"M",85,85,0,95,75,80,90,80,90,85,85,95,0,0,0,0,85,85,0,90,90,85,85,95,90,90,85,90,0,0,0,0,85,90,0,90,90,85,85,90,90,90,95,85,0,0,0,0,80,85,0,85,92,94,80,88,82,83,85,84,92,100,92,92,null,60,81.25,88.75,86.666666666666671,88.75,88.75,0,88.333333333333329,87.5,90,0,82.5,null,null,null,"001502","0.100","50",{"$f":"Tableau_SSRSMSA03_BI_Integration_STEPH_2010[[#This Row],[DAT_NAISSANCE_ELEVE]]","v":"2000-04-04"},"2009-09-30",3466,9.4893908281998627,{"$f":"IF(AND(LEFT(CO47,1)=\"1\",CS47>5.5),\"V\",IF(AND(LEFT(CO47,1)=\"2\",CS47>6.5),\"V\",IF(AND(LEFT(CO47,1)=\"3\",CS47>7.5),\"V\",IF(AND(LEFT(CO47,1)=\"4\",CS47>8.5),\"V\",IF(AND(LEFT(CO47,1)=\"5\",CS47>9.5),\"V\",IF(AND(LEFT(CO47,1)=\"6\",CS47>10.5),\"V\",\"J\"))))))","v":"J"},{"$f":"IF(AJ47=0,0,IF(BH47=0,0,1))","v":1}]
["2010","001","502",null,null,0,"1999-12-29",null,null,"F",75,85,0,85,70,75,80,70,85,85,80,75,0,0,0,0,80,75,0,80,85,85,80,85,80,80,70,85,0,0,0,0,80,80,0,80,80,75,80,75,75,75,70,75,0,0,0,0,73,75,0,85,81,60,79,75,75,77,87,78,81,79,88,84,null,53.333333333333336,73.75,81.25,78.333333333333329,83.75,78.75,0,80,77.5,73.75,0,78,null,null,null,"001502","0.100","50",{"$f":"Tableau_SSRSMSA03_BI_Integration_STEPH_2010[[#This Row],[DAT_NAISSANCE_ELEVE]]","v":"1999-12-29"},"2009-09-30",3563,9.7549623545516777,{"$f":"IF(AND(LEFT(CO48,1)=\"1\",CS48>5.5),\"V\",IF(AND(LEFT(CO48,1)=\"2\",CS48>6.5),\"V\",IF(AND(LEFT(CO48,1)=\"3\",CS48>7.5),\"V\",IF(AND(LEFT(CO48,1)=\"4\",CS48>8.5),\"V\",IF(AND(LEFT(CO48,1)=\"5\",CS48>9.5),\"V\",IF(AND(LEFT(CO48,1)=\"6\",CS48>10.5),\"V\",\"J\"))))))","v":"V"},{"$f":"IF(AJ48=0,0,IF(BH48=0,0,1))","v":1}]
["2010","001","502",null,null,0,"2000-04-20",null,null,"M",70,60,0,70,80,70,65,80,65,0,0,60,0,0,0,0,65,60,0,65,75,80,75,80,80,80,65,80,0,0,0,0,65,65,0,65,70,65,65,70,65,70,75,85,0,0,0,0,70,71,0,65,71,58,65,68,60,77,65,72,72,64,80,86,null,46.666666666666664,73.75,0,63.333333333333336,77.5,76.25,0,65,67.5,73.75,0,67.75,null,null,null,"001502","0.100","50",{"$f":"Tableau_SSRSMSA03_BI_Integration_STEPH_2010[[#This Row],[DAT_NAISSANCE_ELEVE]]","v":"2000-04-20"},"2009-09-30",3450,9.4455852156057496,{"$f":"IF(AND(LEFT(CO49,1)=\"1\",CS49>5.5),\"V\",IF(AND(LEFT(CO49,1)=\"2\",CS49>6.5),\"V\",IF(AND(LEFT(CO49,1)=\"3\",CS49>7.5),\"V\",IF(AND(LEFT(CO49,1)=\"4\",CS49>8.5),\"V\",IF(AND(LEFT(CO49,1)=\"5\",CS49>9.5),\"V\",IF(AND(LEFT(CO49,1)=\"6\",CS49>10.5),\"V\",\"J\"))))))","v":"J"},{"$f":"IF(AJ49=0,0,IF(BH49=0,0,1))","v":1}]
["2010","001","502",null,null,0,"1999-12-09",null,null,"F",90,95,0,90,95,95,90,90,95,0,0,95,0,0,0,0,85,90,0,80,90,90,85,85,85,90,90,90,0,0,0,0,85,90,0,90,90,85,90,90,95,95,95,95,0,0,0,0,86,89,0,91,91,76,85,90,92,90,95,93,96,96,84,97,null,60,92.5,0,85,87.5,88.75,0,88.333333333333329,88.75,95,0,87.75,null,null,null,"001502","0.100","50",{"$f":"Tableau_SSRSMSA03_BI_Integration_STEPH_2010[[#This Row],[DAT_NAISSANCE_ELEVE]]","v":"1999-12-09"},"2009-09-30",3583,9.8097193702943191,{"$f":"IF(AND(LEFT(CO50,1)=\"1\",CS50>5.5),\"V\",IF(AND(LEFT(CO50,1)=\"2\",CS50>6.5),\"V\",IF(AND(LEFT(CO50,1)=\"3\",CS50>7.5),\"V\",IF(AND(LEFT(CO50,1)=\"4\",CS50>8.5),\"V\",IF(AND(LEFT(CO50,1)=\"5\",CS50>9.5),\"V\",IF(AND(LEFT(CO50,1)=\"6\",CS50>10.5),\"V\",\"J\"))))))","v":"V"},{"$f":"IF(AJ50=0,0,IF(BH50=0,0,1))","v":1}]
["2010","001","502",null,null,0,"2000-05-25",null,null,"M",0,0,0,85,0,0,0,90,0,0,0,85,0,0,0,0,0,0,0,95,0,0,0,95,0,0,0,90,0,0,0,0,65,70,0,85,70,80,90,90,90,85,95,95,0,0,0,0,84,82,75,92,0,0,0,0,89,79,91,79,80,88,92,94,null,0,0,0,0,0,0,0,73.333333333333329,82.5,91.25,0,83.25,null,null,null,"001502","0.100","50",{"$f":"Tableau_SSRSMSA03_BI_Integration_STEPH_2010[[#This Row],[DAT_NAISSANCE_ELEVE]]","v":"2000-05-25"},"2009-09-30",3415,9.3497604380561263,{"$f":"IF(AND(LEFT(CO51,1)=\"1\",CS51>5.5),\"V\",IF(AND(LEFT(CO51,1)=\"2\",CS51>6.5),\"V\",IF(AND(LEFT(CO51,1)=\"3\",CS51>7.5),\"V\",IF(AND(LEFT(CO51,1)=\"4\",CS51>8.5),\"V\",IF(AND(LEFT(CO51,1)=\"5\",CS51>9.5),\"V\",IF(AND(LEFT(CO51,1)=\"6\",CS51>10.5),\"V\",\"J\"))))))","v":"J"},{"$f":"IF(AJ51=0,0,IF(BH51=0,0,1))","v":0}]
["2010","001","502",null,null,0,"2000-01-11",null,null,"M",0,0,0,0,0,0,0,0,0,0,0,0,0,0,0,0,80,80,0,75,85,80,80,70,70,90,75,70,0,0,0,0,75,75,0,70,75,80,70,75,75,90,75,75,0,0,0,0,66,77,0,73,77,76,65,72,67,74,65,77,88,93,88,66,null,0,0,0,78.333333333333329,78.75,76.25,0,73.333333333333329,75,78.75,0,70.25,null,null,null,"001502","0.100","50",{"$f":"Tableau_SSRSMSA03_BI_Integration_STEPH_2010[[#This Row],[DAT_NAISSANCE_ELEVE]]","v":"2000-01-11"},"2009-09-30",3550,9.7193702943189599,{"$f":"IF(AND(LEFT(CO52,1)=\"1\",CS52>5.5),\"V\",IF(AND(LEFT(CO52,1)=\"2\",CS52>6.5),\"V\",IF(AND(LEFT(CO52,1)=\"3\",CS52>7.5),\"V\",IF(AND(LEFT(CO52,1)=\"4\",CS52>8.5),\"V\",IF(AND(LEFT(CO52,1)=\"5\",CS52>9.5),\"V\",IF(AND(LEFT(CO52,1)=\"6\",CS52>10.5),\"V\",\"J\"))))))","v":"V"},{"$f":"IF(AJ52=0,0,IF(BH52=0,0,1))","v":1}]
["2010","001","502",null,null,0,"2000-06-15",null,null,"F",85,85,0,80,85,80,90,90,85,0,0,95,0,0,0,0,90,85,0,85,90,85,85,90,85,85,90,90,0,0,0,0,90,85,0,95,85,80,80,95,95,85,85,90,0,0,0,0,88,90,85,93,0,0,0,0,90,85,94,95,92,88,92,91,null,55,86.25,0,86.666666666666671,87.5,87.5,0,90,85,88.75,0,89,null,null,null,"001502","0.100","50",{"$f":"Tableau_SSRSMSA03_BI_Integration_STEPH_2010[[#This Row],[DAT_NAISSANCE_ELEVE]]","v":"2000-06-15"},"2009-09-30",3394,9.292265571526352,{"$f":"IF(AND(LEFT(CO53,1)=\"1\",CS53>5.5),\"V\",IF(AND(LEFT(CO53,1)=\"2\",CS53>6.5),\"V\",IF(AND(LEFT(CO53,1)=\"3\",CS53>7.5),\"V\",IF(AND(LEFT(CO53,1)=\"4\",CS53>8.5),\"V\",IF(AND(LEFT(CO53,1)=\"5\",CS53>9.5),\"V\",IF(AND(LEFT(CO53,1)=\"6\",CS53>10.5),\"V\",\"J\"))))))","v":"J"},{"$f":"IF(AJ53=0,0,IF(BH53=0,0,1))","v":1}]
["2010","001","503",null,null,0,"2000-04-16",null,null,"M",70,75,0,75,70,75,70,55,70,70,60,60,0,0,0,0,75,70,0,75,70,73,70,75,75,75,65,85,0,0,0,0,70,75,0,70,70,70,60,60,80,75,70,80,0,0,0,0,70,70,0,81,78,72,65,64,63,72,40,70,60,75,20,74,null,48.333333333333336,67.5,65,73.333333333333329,72,75,0,71.666666666666671,65,76.25,0,71.5,null,null,null,"001503","0.100","50",{"$f":"Tableau_SSRSMSA03_BI_Integration_STEPH_2010[[#This Row],[DAT_NAISSANCE_ELEVE]]","v":"2000-04-16"},"2009-09-30",3454,9.4565366187542779,{"$f":"IF(AND(LEFT(CO54,1)=\"1\",CS54>5.5),\"V\",IF(AND(LEFT(CO54,1)=\"2\",CS54>6.5),\"V\",IF(AND(LEFT(CO54,1)=\"3\",CS54>7.5),\"V\",IF(AND(LEFT(CO54,1)=\"4\",CS54>8.5),\"V\",IF(AND(LEFT(CO54,1)=\"5\",CS54>9.5),\"V\",IF(AND(LEFT(CO54,1)=\"6\",CS54>10.5),\"V\",\"J\"))))))","v":"J"},{"$f":"IF(AJ54=0,0,IF(BH54=0,0,1))","v":1}]
["2010","001","503",null,null,0,"2000-08-03",null,null,"M",80,80,0,85,85,90,80,85,85,0,0,70,0,0,0,0,80,80,0,80,75,80,75,80,80,80,75,85,0,0,0,0,80,90,0,80,85,90,80,85,85,95,90,90,0,0,0,0,90,79,0,93,90,85,85,89,84,89,86,90,88,89,60,92,null,55,85,0,80,77.5,80,0,83.333333333333329,85,90,0,86.75,null,null,null,"001503","0.100","50",{"$f":"Tableau_SSRSMSA03_BI_Integration_STEPH_2010[[#This Row],[DAT_NAISSANCE_ELEVE]]","v":"2000-08-03"},"2009-09-30",3345,9.158110882956878,{"$f":"IF(AND(LEFT(CO55,1)=\"1\",CS55>5.5),\"V\",IF(AND(LEFT(CO55,1)=\"2\",CS55>6.5),\"V\",IF(AND(LEFT(CO55,1)=\"3\",CS55>7.5),\"V\",IF(AND(LEFT(CO55,1)=\"4\",CS55>8.5),\"V\",IF(AND(LEFT(CO55,1)=\"5\",CS55>9.5),\"V\",IF(AND(LEFT(CO55,1)=\"6\",CS55>10.5),\"V\",\"J\"))))))","v":"J"},{"$f":"IF(AJ55=0,0,IF(BH55=0,0,1))","v":1}]
["2010","001","503",null,null,0,"2000-03-14",null,null,"F",85,85,0,85,80,90,75,90,85,95,75,80,0,0,0,0,85,80,0,85,85,80,80,85,85,85,80,85,0,0,0,0,75,85,0,85,85,85,90,85,90,90,95,85,0,0,0,0,84,82,80,75,0,0,0,0,81,87,91,75,80,86,100,97,null,56.666666666666664,83.75,83.75,83.333333333333329,82.5,83.75,0,81.666666666666671,86.25,90,0,80.25,null,null,null,"001503","0.100","50",{"$f":"Tableau_SSRSMSA03_BI_Integration_STEPH_2010[[#This Row],[DAT_NAISSANCE_ELEVE]]","v":"2000-03-14"},"2009-09-30",3487,9.546885694729637,{"$f":"IF(AND(LEFT(CO56,1)=\"1\",CS56>5.5),\"V\",IF(AND(LEFT(CO56,1)=\"2\",CS56>6.5),\"V\",IF(AND(LEFT(CO56,1)=\"3\",CS56>7.5),\"V\",IF(AND(LEFT(CO56,1)=\"4\",CS56>8.5),\"V\",IF(AND(LEFT(CO56,1)=\"5\",CS56>9.5),\"V\",IF(AND(LEFT(CO56,1)=\"6\",CS56>10.5),\"V\",\"J\"))))))","v":"V"},{"$f":"IF(AJ56=0,0,IF(BH56=0,0,1))","v":1}]
["2010","001","503",null,null,0,"1999-10-01",null,null,"M",95,95,0,95,95,90,95,95,95,95,95,95,0,0,0,0,90,90,0,95,90,80,95,95,95,95,95,90,0,0,0,0,95,95,0,95,95,95,95,95,95,95,95,95,0,0,0,0,99,91,0,97,98,89,99,99,100,96,98,98,100,96,100,86,null,63.333333333333336,93.75,95,91.666666666666671,90,93.75,0,95,95,95,0,96.5,null,null,null,"001503","0.100","50",{"$f":"Tableau_SSRSMSA03_BI_Integration_STEPH_2010[[#This Row],[DAT_NAISSANCE_ELEVE]]","v":"1999-10-01"},"2009-09-30",3652,9.9986310746064344,{"$f":"IF(AND(LEFT(CO57,1)=\"1\",CS57>5.5),\"V\",IF(AND(LEFT(CO57,1)=\"2\",CS57>6.5),\"V\",IF(AND(LEFT(CO57,1)=\"3\",CS57>7.5),\"V\",IF(AND(LEFT(CO57,1)=\"4\",CS57>8.5),\"V\",IF(AND(LEFT(CO57,1)=\"5\",CS57>9.5),\"V\",IF(AND(LEFT(CO57,1)=\"6\",CS57>10.5),\"V\",\"J\"))))))","v":"V"},{"$f":"IF(AJ57=0,0,IF(BH57=0,0,1))","v":1}]
["2010","001","503",null,null,0,"1999-10-29",null,null,"F",0,0,0,0,0,0,0,0,0,0,0,0,0,0,0,0,70,70,0,85,75,85,85,85,70,80,80,85,0,0,0,0,80,85,0,90,80,80,80,75,80,80,80,85,0,0,0,0,78,75,0,81,84,87,80,76,80,70,72,75,84,89,92,82,null,0,0,0,75,82.5,78.75,0,85,78.75,81.25,0,78.5,null,null,null,"001503","0.100","50",{"$f":"Tableau_SSRSMSA03_BI_Integration_STEPH_2010[[#This Row],[DAT_NAISSANCE_ELEVE]]","v":"1999-10-29"},"2009-09-30",3624,9.9219712525667347,{"$f":"IF(AND(LEFT(CO58,1)=\"1\",CS58>5.5),\"V\",IF(AND(LEFT(CO58,1)=\"2\",CS58>6.5),\"V\",IF(AND(LEFT(CO58,1)=\"3\",CS58>7.5),\"V\",IF(AND(LEFT(CO58,1)=\"4\",CS58>8.5),\"V\",IF(AND(LEFT(CO58,1)=\"5\",CS58>9.5),\"V\",IF(AND(LEFT(CO58,1)=\"6\",CS58>10.5),\"V\",\"J\"))))))","v":"V"},{"$f":"IF(AJ58=0,0,IF(BH58=0,0,1))","v":1}]
["2010","001","503",null,null,0,"2000-07-03",null,null,"M",75,95,0,95,80,85,75,95,80,95,70,90,0,0,0,0,85,90,0,85,90,95,85,85,85,90,80,85,0,0,0,0,90,90,0,95,90,90,95,85,90,90,80,85,0,0,0,0,91,77,0,78,94,81,89,73,95,78,88,87,88,75,88,91,null,56.666666666666664,83.75,83.75,86.666666666666671,88.75,85,0,91.666666666666671,90,86.25,0,83.75,null,null,null,"001503","0.100","50",{"$f":"Tableau_SSRSMSA03_BI_Integration_STEPH_2010[[#This Row],[DAT_NAISSANCE_ELEVE]]","v":"2000-07-03"},"2009-09-30",3376,9.2429842573579748,{"$f":"IF(AND(LEFT(CO59,1)=\"1\",CS59>5.5),\"V\",IF(AND(LEFT(CO59,1)=\"2\",CS59>6.5),\"V\",IF(AND(LEFT(CO59,1)=\"3\",CS59>7.5),\"V\",IF(AND(LEFT(CO59,1)=\"4\",CS59>8.5),\"V\",IF(AND(LEFT(CO59,1)=\"5\",CS59>9.5),\"V\",IF(AND(LEFT(CO59,1)=\"6\",CS59>10.5),\"V\",\"J\"))))))","v":"J"},{"$f":"IF(AJ59=0,0,IF(BH59=0,0,1))","v":1}]
["2010","001","503",null,null,0,"2000-06-06",null,null,"F",85,85,0,90,85,85,85,90,90,0,0,80,0,0,0,0,85,80,0,80,80,80,85,80,80,80,80,85,0,0,0,0,80,85,0,95,85,90,85,90,85,90,95,90,0,0,0,0,83,82,85,79,0,0,0,0,91,87,82,89,80,90,92,82,null,58.333333333333336,86.25,0,81.666666666666671,81.25,81.25,0,86.666666666666671,87.5,90,0,82.25,null,null,null,"001503","0.100","50",{"$f":"Tableau_SSRSMSA03_BI_Integration_STEPH_2010[[#This Row],[DAT_NAISSANCE_ELEVE]]","v":"2000-06-06"},"2009-09-30",3403,9.3169062286105415,{"$f":"IF(AND(LEFT(CO60,1)=\"1\",CS60>5.5),\"V\",IF(AND(LEFT(CO60,1)=\"2\",CS60>6.5),\"V\",IF(AND(LEFT(CO60,1)=\"3\",CS60>7.5),\"V\",IF(AND(LEFT(CO60,1)=\"4\",CS60>8.5),\"V\",IF(AND(LEFT(CO60,1)=\"5\",CS60>9.5),\"V\",IF(AND(LEFT(CO60,1)=\"6\",CS60>10.5),\"V\",\"J\"))))))","v":"J"},{"$f":"IF(AJ60=0,0,IF(BH60=0,0,1))","v":1}]
["2010","001","503",null,null,0,"2000-09-26",null,null,"F",90,90,0,90,90,85,90,85,85,90,80,80,0,0,0,0,85,80,0,90,90,80,85,85,90,90,90,90,0,0,0,0,95,90,0,95,90,90,85,85,95,85,85,90,0,0,0,0,86,76,0,84,96,78,75,77,87,78,79,77,92,71,80,94,null,60,87.5,83.75,85,85,90,0,93.333333333333329,87.5,88.75,0,80.25,null,null,null,"001503","0.100","50",{"$f":"Tableau_SSRSMSA03_BI_Integration_STEPH_2010[[#This Row],[DAT_NAISSANCE_ELEVE]]","v":"2000-09-26"},"2009-09-30",3291,9.0102669404517446,{"$f":"IF(AND(LEFT(CO61,1)=\"1\",CS61>5.5),\"V\",IF(AND(LEFT(CO61,1)=\"2\",CS61>6.5),\"V\",IF(AND(LEFT(CO61,1)=\"3\",CS61>7.5),\"V\",IF(AND(LEFT(CO61,1)=\"4\",CS61>8.5),\"V\",IF(AND(LEFT(CO61,1)=\"5\",CS61>9.5),\"V\",IF(AND(LEFT(CO61,1)=\"6\",CS61>10.5),\"V\",\"J\"))))))","v":"J"},{"$f":"IF(AJ61=0,0,IF(BH61=0,0,1))","v":1}]
["2010","001","503",null,null,0,"1999-10-06",null,null,"F",0,0,0,0,0,0,0,0,0,0,0,0,0,0,0,0,0,0,0,0,0,0,0,0,0,0,0,0,0,0,0,0,0,0,0,0,0,0,0,0,50,70,60,50,0,0,0,0,44,55,0,36,55,67,45,41,54,66,46,54,56,75,24,48,null,0,0,0,0,0,0,0,0,0,57.5,0,45,null,null,null,"001503","0.100","50",{"$f":"Tableau_SSRSMSA03_BI_Integration_STEPH_2010[[#This Row],[DAT_NAISSANCE_ELEVE]]","v":"1999-10-06"},"2009-09-30",3647,9.9849418206707732,{"$f":"IF(AND(LEFT(CO62,1)=\"1\",CS62>5.5),\"V\",IF(AND(LEFT(CO62,1)=\"2\",CS62>6.5),\"V\",IF(AND(LEFT(CO62,1)=\"3\",CS62>7.5),\"V\",IF(AND(LEFT(CO62,1)=\"4\",CS62>8.5),\"V\",IF(AND(LEFT(CO62,1)=\"5\",CS62>9.5),\"V\",IF(AND(LEFT(CO62,1)=\"6\",CS62>10.5),\"V\",\"J\"))))))","v":"V"},{"$f":"IF(AJ62=0,0,IF(BH62=0,0,1))","v":0}]
["2010","001","503",null,null,0,"2000-01-01",null,null,"M",40,75,0,70,50,85,70,75,50,0,0,70,0,0,0,0,50,65,0,60,50,65,70,75,55,65,55,70,0,0,0,0,50,60,0,50,60,70,50,60,60,70,50,60,0,0,0,0,47,60,0,68,44,44,60,68,52,69,62,75,64,79,24,80,null,36.666666666666664,70,0,58.333333333333336,65,61.25,0,53.333333333333336,60,60,0,58.75,null,null,null,"001503","0.100","50",{"$f":"Tableau_SSRSMSA03_BI_Integration_STEPH_2010[[#This Row],[DAT_NAISSANCE_ELEVE]]","v":"2000-01-01"},"2009-09-30",3560,9.7467488021902806,{"$f":"IF(AND(LEFT(CO63,1)=\"1\",CS63>5.5),\"V\",IF(AND(LEFT(CO63,1)=\"2\",CS63>6.5),\"V\",IF(AND(LEFT(CO63,1)=\"3\",CS63>7.5),\"V\",IF(AND(LEFT(CO63,1)=\"4\",CS63>8.5),\"V\",IF(AND(LEFT(CO63,1)=\"5\",CS63>9.5),\"V\",IF(AND(LEFT(CO63,1)=\"6\",CS63>10.5),\"V\",\"J\"))))))","v":"V"},{"$f":"IF(AJ63=0,0,IF(BH63=0,0,1))","v":1}]
["2010","001","503",null,null,0,"2000-10-20",null,null,"F",60,60,0,65,85,80,55,55,80,80,60,60,0,0,0,0,70,85,0,70,80,65,75,65,80,65,55,75,0,0,0,0,85,80,0,40,85,80,40,50,80,80,50,55,0,0,0,0,77,74,0,50,71,70,34,44,70,77,30,70,76,64,60,58,null,41.666666666666664,68.75,70,75,71.25,68.75,0,68.333333333333329,63.75,66.25,0,58.75,null,null,null,"001503","0.100","50",{"$f":"Tableau_SSRSMSA03_BI_Integration_STEPH_2010[[#This Row],[DAT_NAISSANCE_ELEVE]]","v":"2000-10-20"},"2009-09-30",3267,8.944558521560575,{"$f":"IF(AND(LEFT(CO64,1)=\"1\",CS64>5.5),\"V\",IF(AND(LEFT(CO64,1)=\"2\",CS64>6.5),\"V\",IF(AND(LEFT(CO64,1)=\"3\",CS64>7.5),\"V\",IF(AND(LEFT(CO64,1)=\"4\",CS64>8.5),\"V\",IF(AND(LEFT(CO64,1)=\"5\",CS64>9.5),\"V\",IF(AND(LEFT(CO64,1)=\"6\",CS64>10.5),\"V\",\"J\"))))))","v":"J"},{"$f":"IF(AJ64=0,0,IF(BH64=0,0,1))","v":1}]
["2010","001","503",null,null,0,"2000-09-01",null,null,"M",70,60,0,75,75,80,85,80,75,0,0,60,0,0,0,0,70,60,0,85,65,70,85,90,60,65,80,80,0,0,0,0,70,50,0,65,55,65,50,70,50,60,40,75,0,0,0,0,56,32,0,67,62,55,45,55,55,50,50,75,60,29,64,78,null,48.333333333333336,80,0,71.666666666666671,77.5,71.25,0,61.666666666666664,60,56.25,0,50,null,null,null,"001503","0.100","50",{"$f":"Tableau_SSRSMSA03_BI_Integration_STEPH_2010[[#This Row],[DAT_NAISSANCE_ELEVE]]","v":"2000-09-01"},"2009-09-30",3316,9.0787132101300472,{"$f":"IF(AND(LEFT(CO65,1)=\"1\",CS65>5.5),\"V\",IF(AND(LEFT(CO65,1)=\"2\",CS65>6.5),\"V\",IF(AND(LEFT(CO65,1)=\"3\",CS65>7.5),\"V\",IF(AND(LEFT(CO65,1)=\"4\",CS65>8.5),\"V\",IF(AND(LEFT(CO65,1)=\"5\",CS65>9.5),\"V\",IF(AND(LEFT(CO65,1)=\"6\",CS65>10.5),\"V\",\"J\"))))))","v":"J"},{"$f":"IF(AJ65=0,0,IF(BH65=0,0,1))","v":1}]
["2010","001","503",null,null,0,"2000-05-03",null,null,"M",85,85,0,95,85,95,95,95,85,85,95,95,0,0,0,0,85,95,0,95,90,80,95,95,90,90,95,95,0,0,0,0,85,85,0,85,85,90,85,95,90,90,95,95,0,0,0,0,89,81,0,89,92,87,89,90,90,82,97,94,100,93,96,98,null,60,92.5,90,91.666666666666671,90,92.5,0,85,88.75,92.5,0,87,null,null,null,{"$f":"IF(LEFT(C66,1)=\"8\",\"\",IF(LEFT(C66,1)=\"9\",\"\",B66&C66))","v":"001503"},{"$f":"VLOOKUP(B66,ecoleTaux,3,FALSE)","v":"0.100"},"50",{"$f":"Tableau_SSRSMSA03_BI_Integration_STEPH_2010[[#This Row],[DAT_NAISSANCE_ELEVE]]","v":"2000-05-03"},"2009-09-30",3437,9.4099931553730318,{"$f":"IF(AND(LEFT(CO66,1)=\"1\",CS66>5.5),\"V\",IF(AND(LEFT(CO66,1)=\"2\",CS66>6.5),\"V\",IF(AND(LEFT(CO66,1)=\"3\",CS66>7.5),\"V\",IF(AND(LEFT(CO66,1)=\"4\",CS66>8.5),\"V\",IF(AND(LEFT(CO66,1)=\"5\",CS66>9.5),\"V\",IF(AND(LEFT(CO66,1)=\"6\",CS66>10.5),\"V\",\"J\"))))))","v":"J"},{"$f":"IF(AJ66=0,0,IF(BH66=0,0,1))","v":1}]
["2010","001","503",null,null,0,"2000-05-18",null,null,"M",80,80,0,90,85,85,70,85,80,0,0,90,0,0,0,0,80,85,0,90,85,90,80,90,85,90,80,95,0,0,0,0,95,85,0,95,85,90,95,95,95,90,95,95,0,0,0,0,85,88,83,93,0,0,0,0,85,90,95,87,84,86,88,93,null,{"$f":"IF(L67=0,0,IF(M67=0,AVERAGE(M67,K67,N67),AVERAGE(K67:N67)))","v":56.666666666666664},{"$f":"IF(P67=0,0,IF(Q67=0,AVERAGE(Q67,O67,R67),AVERAGE(O67:R67)))","v":81.25},{"$f":"IF(T67=0,0,IF(U67=0,AVERAGE(T67,S67,V67),AVERAGE(S67:V67)))","v":0},{"$f":"IF(AB67=0,0,IF(AC67=0,AVERAGE(AB67,AA67,AD67),AVERAGE(AA67:AD67)))","v":85},{"$f":"IF(AF67=0,0,IF(AG67=0,AVERAGE(AF67,AE67,AH67),AVERAGE(AE67:AH67)))","v":86.25},{"$f":"IF(AJ67=0,0,IF(AK67=0,AVERAGE(AJ67,AI67,AL67),AVERAGE(AI67:AL67)))","v":87.5},{"$f":"IF(AN67=0,0,IF(AO67=0,AVERAGE(AN67,AM67,AP67),AVERAGE(AM67:AP67)))","v":0},{"$f":"IF(AR67=0,0,IF(AS67=0,AVERAGE(AR67,AQ67,AT67),AVERAGE(AQ67:AT67)))","v":91.666666666666671},{"$f":"IF(AV67=0,0,IF(AW67=0,AVERAGE(AV67,AU67,AX67),AVERAGE(AU67:AX67)))","v":91.25},{"$f":"IF(AZ67=0,0,IF(BA67=0,AVERAGE(AZ67,AY67,BB67),AVERAGE(AY67:BB67)))","v":93.75},{"$f":"IF(BD67=0,0,IF(BE67=0,AVERAGE(BD67,BC67,BF67),AVERAGE(BC67:BF67)))","v":0},{"$f":"IF(BH67=0,0,IF(BI67=0,AVERAGE(BH67,BG67,BJ67,BM67),AVERAGE(BG67:BJ67)))","v":87.25},null,null,null,"001503","0.100","50",{"$f":"Tableau_SSRSMSA03_BI_Integration_STEPH_2010[[#This Row],[DAT_NAISSANCE_ELEVE]]","v":"2000-05-18"},"2009-09-30",3422,9.3689253935660499,{"$f":"IF(AND(LEFT(CO67,1)=\"1\",CS67>5.5),\"V\",IF(AND(LEFT(CO67,1)=\"2\",CS67>6.5),\"V\",IF(AND(LEFT(CO67,1)=\"3\",CS67>7.5),\"V\",IF(AND(LEFT(CO67,1)=\"4\",CS67>8.5),\"V\",IF(AND(LEFT(CO67,1)=\"5\",CS67>9.5),\"V\",IF(AND(LEFT(CO67,1)=\"6\",CS67>10.5),\"V\",\"J\"))))))","v":"J"},{"$f":"IF(AJ67=0,0,IF(BH67=0,0,1))","v":1}]
["2010","001","503",null,null,0,"2000-03-28",null,null,"M",50,70,0,70,50,75,70,75,55,0,0,80,0,0,0,0,70,65,0,80,65,75,75,55,70,80,80,80,0,0,0,0,50,70,0,50,70,70,40,75,70,70,85,80,0,0,0,0,47,53,0,64,39,77,51,51,52,70,70,70,48,75,88,77,null,40,67.5,0,71.666666666666671,67.5,77.5,0,56.666666666666664,63.75,76.25,0,53.75,null,null,null,"001503","0.100","50",{"$f":"Tableau_SSRSMSA03_BI_Integration_STEPH_2010[[#This Row],[DAT_NAISSANCE_ELEVE]]","v":"2000-03-28"},"2009-09-30",3473,9.508555783709788,{"$f":"IF(AND(LEFT(CO68,1)=\"1\",CS68>5.5),\"V\",IF(AND(LEFT(CO68,1)=\"2\",CS68>6.5),\"V\",IF(AND(LEFT(CO68,1)=\"3\",CS68>7.5),\"V\",IF(AND(LEFT(CO68,1)=\"4\",CS68>8.5),\"V\",IF(AND(LEFT(CO68,1)=\"5\",CS68>9.5),\"V\",IF(AND(LEFT(CO68,1)=\"6\",CS68>10.5),\"V\",\"J\"))))))","v":"V"},{"$f":"IF(AJ68=0,0,IF(BH68=0,0,1))","v":1}]
["2010","001","503",null,null,0,"2000-06-12",null,null,"M",80,90,0,85,85,90,90,85,80,0,0,80,0,0,0,0,80,80,0,75,80,85,90,90,75,80,90,90,0,0,0,0,85,80,0,80,80,85,65,80,80,85,75,85,0,0,0,0,78,84,75,82,0,0,0,0,75,82,83,78,76,69,92,76,null,55,87.5,0,78.333333333333329,86.25,83.75,0,81.666666666666671,77.5,81.25,0,79.75,null,null,null,"001503","0.100","50",{"$f":"Tableau_SSRSMSA03_BI_Integration_STEPH_2010[[#This Row],[DAT_NAISSANCE_ELEVE]]","v":"2000-06-12"},"2009-09-30",3397,9.3004791238877473,{"$f":"IF(AND(LEFT(CO69,1)=\"1\",CS69>5.5),\"V\",IF(AND(LEFT(CO69,1)=\"2\",CS69>6.5),\"V\",IF(AND(LEFT(CO69,1)=\"3\",CS69>7.5),\"V\",IF(AND(LEFT(CO69,1)=\"4\",CS69>8.5),\"V\",IF(AND(LEFT(CO69,1)=\"5\",CS69>9.5),\"V\",IF(AND(LEFT(CO69,1)=\"6\",CS69>10.5),\"V\",\"J\"))))))","v":"J"},{"$f":"IF(AJ69=0,0,IF(BH69=0,0,1))","v":1}]
["2010","001","503",null,null,0,"1999-12-14",null,null,"F",80,90,0,75,80,85,80,80,75,0,0,85,0,0,0,0,80,80,0,75,70,85,85,75,75,80,80,85,0,0,0,0,70,75,0,60,70,70,80,70,70,75,75,70,0,0,0,0,70,63,0,72,63,65,57,66,73,80,80,75,64,86,88,84,null,51.666666666666664,81.25,0,78.333333333333329,78.75,80,0,68.333333333333329,72.5,72.5,0,65.5,null,null,null,"001503","0.100",{"$f":"LEFT(C70,2)","v":"50"},{"$f":"Tableau_SSRSMSA03_BI_Integration_STEPH_2010[[#This Row],[DAT_NAISSANCE_ELEVE]]","v":"1999-12-14"},"2009-09-30",{"$f":"DATEDIF(CP70,CQ70,\"d\")","v":3578},{"$f":"CR70/365.25","v":9.7960301163586578},{"$f":"IF(AND(LEFT(CO70,1)=\"1\",CS70>5.5),\"V\",IF(AND(LEFT(CO70,1)=\"2\",CS70>6.5),\"V\",IF(AND(LEFT(CO70,1)=\"3\",CS70>7.5),\"V\",IF(AND(LEFT(CO70,1)=\"4\",CS70>8.5),\"V\",IF(AND(LEFT(CO70,1)=\"5\",CS70>9.5),\"V\",IF(AND(LEFT(CO70,1)=\"6\",CS70>10.5),\"V\",\"J\"))))))","v":"V"},{"$f":"IF(AJ70=0,0,IF(BH70=0,0,1))","v":1}]
["2010","001","503",null,null,0,"2000-04-05",null,null,"F",75,85,0,75,80,85,85,90,85,0,0,90,0,0,0,0,85,90,0,90,85,95,95,90,80,85,85,85,0,0,0,0,75,80,0,85,80,80,70,85,80,80,75,85,0,0,0,0,88,72,0,83,80,90,80,80,80,80,80,85,80,82,96,86,null,50,85,0,88.333333333333329,91.25,83.75,0,80,78.75,80,0,80.75,null,null,null,"001503","0.100","50",{"$f":"Tableau_SSRSMSA03_BI_Integration_STEPH_2010[[#This Row],[DAT_NAISSANCE_ELEVE]]","v":"2000-04-05"},"2009-09-30",3465,9.4866529774127315,{"$f":"IF(AND(LEFT(CO71,1)=\"1\",CS71>5.5),\"V\",IF(AND(LEFT(CO71,1)=\"2\",CS71>6.5),\"V\",IF(AND(LEFT(CO71,1)=\"3\",CS71>7.5),\"V\",IF(AND(LEFT(CO71,1)=\"4\",CS71>8.5),\"V\",IF(AND(LEFT(CO71,1)=\"5\",CS71>9.5),\"V\",IF(AND(LEFT(CO71,1)=\"6\",CS71>10.5),\"V\",\"J\"))))))","v":"J"},{"$f":"IF(AJ71=0,0,IF(BH71=0,0,1))","v":1}]
["2010","001","503",null,null,0,"2000-04-27",null,null,"M",85,85,0,90,85,90,90,90,85,0,0,90,0,0,0,0,85,85,0,85,80,85,85,80,80,85,90,85,0,0,0,0,80,90,0,95,85,90,80,90,85,90,95,80,0,0,0,0,83,81,0,80,92,86,90,83,91,87,85,88,96,93,80,92,null,58.333333333333336,88.75,0,85,82.5,85,0,88.333333333333329,86.25,87.5,0,83.5,null,null,null,"001503","0.100","50",{"$f":"Tableau_SSRSMSA03_BI_Integration_STEPH_2010[[#This Row],[DAT_NAISSANCE_ELEVE]]","v":"2000-04-27"},"2009-09-30",3443,9.4264202600958242,{"$f":"IF(AND(LEFT(CO72,1)=\"1\",CS72>5.5),\"V\",IF(AND(LEFT(CO72,1)=\"2\",CS72>6.5),\"V\",IF(AND(LEFT(CO72,1)=\"3\",CS72>7.5),\"V\",IF(AND(LEFT(CO72,1)=\"4\",CS72>8.5),\"V\",IF(AND(LEFT(CO72,1)=\"5\",CS72>9.5),\"V\",IF(AND(LEFT(CO72,1)=\"6\",CS72>10.5),\"V\",\"J\"))))))","v":"J"},{"$f":"IF(AJ72=0,0,IF(BH72=0,0,1))","v":1}]
["2010","001","503",null,null,0,"2000-01-02",null,null,"F",80,85,0,95,75,80,75,75,85,85,80,75,0,0,0,0,85,85,0,80,85,80,85,85,85,90,75,85,0,0,0,0,75,75,0,80,80,80,90,80,80,80,75,85,0,0,0,0,69,74,0,72,66,71,54,71,68,60,56,83,72,61,76,76,null,58.333333333333336,76.25,81.25,83.333333333333329,83.75,83.75,0,76.666666666666671,82.5,80,0,67.25,null,null,null,"001503","0.100","50",{"$f":"Tableau_SSRSMSA03_BI_Integration_STEPH_2010[[#This Row],[DAT_NAISSANCE_ELEVE]]","v":"2000-01-02"},"2009-09-30",3559,9.7440109514031477,{"$f":"IF(AND(LEFT(CO73,1)=\"1\",CS73>5.5),\"V\",IF(AND(LEFT(CO73,1)=\"2\",CS73>6.5),\"V\",IF(AND(LEFT(CO73,1)=\"3\",CS73>7.5),\"V\",IF(AND(LEFT(CO73,1)=\"4\",CS73>8.5),\"V\",IF(AND(LEFT(CO73,1)=\"5\",CS73>9.5),\"V\",IF(AND(LEFT(CO73,1)=\"6\",CS73>10.5),\"V\",\"J\"))))))","v":"V"},{"$f":"IF(AJ73=0,0,IF(BH73=0,0,1))","v":1}]
["2010","001","503",null,null,0,"1999-11-24",null,null,"M",95,95,0,95,95,95,95,95,95,0,0,95,0,0,0,0,90,90,0,95,95,90,90,95,95,90,90,85,0,0,0,0,95,90,0,95,80,95,95,90,95,95,95,95,0,0,0,0,94,85,0,92,98,85,90,91,90,86,98,93,92,89,100,99,null,63.333333333333336,95,0,91.666666666666671,92.5,90,0,93.333333333333329,90,95,0,90.25,null,null,null,"001503","0.100","50",{"$f":"Tableau_SSRSMSA03_BI_Integration_STEPH_2010[[#This Row],[DAT_NAISSANCE_ELEVE]]","v":"1999-11-24"},"2009-09-30",3598,9.850787132101301,{"$f":"IF(AND(LEFT(CO74,1)=\"1\",CS74>5.5),\"V\",IF(AND(LEFT(CO74,1)=\"2\",CS74>6.5),\"V\",IF(AND(LEFT(CO74,1)=\"3\",CS74>7.5),\"V\",IF(AND(LEFT(CO74,1)=\"4\",CS74>8.5),\"V\",IF(AND(LEFT(CO74,1)=\"5\",CS74>9.5),\"V\",IF(AND(LEFT(CO74,1)=\"6\",CS74>10.5),\"V\",\"J\"))))))","v":"V"},{"$f":"IF(AJ74=0,0,IF(BH74=0,0,1))","v":1}]
["2010","001","503",null,null,0,"2000-07-02",null,null,"M",75,80,0,95,80,85,90,95,90,0,0,90,0,0,0,0,80,70,0,85,85,70,80,70,75,90,75,75,0,0,0,0,75,80,0,70,80,75,75,85,85,80,85,80,0,0,0,0,78,76,0,92,81,78,61,80,78,74,69,82,60,64,60,0,null,56.666666666666664,87.5,0,78.333333333333329,76.25,78.75,0,75,78.75,82.5,0,76.75,null,null,null,"001503","0.100","50",{"$f":"Tableau_SSRSMSA03_BI_Integration_STEPH_2010[[#This Row],[DAT_NAISSANCE_ELEVE]]","v":"2000-07-02"},"2009-09-30",3377,9.245722108145106,{"$f":"IF(AND(LEFT(CO75,1)=\"1\",CS75>5.5),\"V\",IF(AND(LEFT(CO75,1)=\"2\",CS75>6.5),\"V\",IF(AND(LEFT(CO75,1)=\"3\",CS75>7.5),\"V\",IF(AND(LEFT(CO75,1)=\"4\",CS75>8.5),\"V\",IF(AND(LEFT(CO75,1)=\"5\",CS75>9.5),\"V\",IF(AND(LEFT(CO75,1)=\"6\",CS75>10.5),\"V\",\"J\"))))))","v":"J"},{"$f":"IF(AJ75=0,0,IF(BH75=0,0,1))","v":1}]
["2010","001","503",null,null,0,"2000-04-19",null,null,"F",85,65,0,90,85,85,85,85,85,0,0,80,0,0,0,0,80,75,0,75,85,75,85,75,75,80,70,70,0,0,0,0,85,75,0,85,80,80,70,85,80,85,85,80,0,0,0,0,88,72,0,92,85,80,90,89,85,85,90,90,84,89,99,95,null,58.333333333333336,85,0,76.666666666666671,80,73.75,0,81.666666666666671,78.75,82.5,0,85.5,null,null,null,"001503","0.100","50",{"$f":"Tableau_SSRSMSA03_BI_Integration_STEPH_2010[[#This Row],[DAT_NAISSANCE_ELEVE]]","v":"2000-04-19"},"2009-09-30",3451,9.4483230663928808,{"$f":"IF(AND(LEFT(CO76,1)=\"1\",CS76>5.5),\"V\",IF(AND(LEFT(CO76,1)=\"2\",CS76>6.5),\"V\",IF(AND(LEFT(CO76,1)=\"3\",CS76>7.5),\"V\",IF(AND(LEFT(CO76,1)=\"4\",CS76>8.5),\"V\",IF(AND(LEFT(CO76,1)=\"5\",CS76>9.5),\"V\",IF(AND(LEFT(CO76,1)=\"6\",CS76>10.5),\"V\",\"J\"))))))","v":"J"},{"$f":"IF(AJ76=0,0,IF(BH76=0,0,1))","v":1}]
["2010","001","503",null,null,0,"2000-05-29",null,null,"F",75,75,0,90,75,75,90,85,75,80,80,95,0,0,0,0,75,70,0,80,80,70,85,85,75,80,75,90,0,0,0,0,85,80,0,85,85,85,75,85,85,80,80,80,0,0,0,0,85,73,0,75,80,75,60,83,74,74,74,89,80,96,84,84,null,55,81.25,82.5,75,80,80,0,83.333333333333329,82.5,81.25,0,73.25,null,null,null,"001503","0.100","50",{"$f":"Tableau_SSRSMSA03_BI_Integration_STEPH_2010[[#This Row],[DAT_NAISSANCE_ELEVE]]","v":"2000-05-29"},"2009-09-30",3411,9.3388090349075981,{"$f":"IF(AND(LEFT(CO77,1)=\"1\",CS77>5.5),\"V\",IF(AND(LEFT(CO77,1)=\"2\",CS77>6.5),\"V\",IF(AND(LEFT(CO77,1)=\"3\",CS77>7.5),\"V\",IF(AND(LEFT(CO77,1)=\"4\",CS77>8.5),\"V\",IF(AND(LEFT(CO77,1)=\"5\",CS77>9.5),\"V\",IF(AND(LEFT(CO77,1)=\"6\",CS77>10.5),\"V\",\"J\"))))))","v":"J"},{"$f":"IF(AJ77=0,0,IF(BH77=0,0,1))","v":1}]
["2010","001","503",null,null,0,"2000-09-28",null,null,"M",0,0,0,0,0,0,0,0,0,0,0,0,0,0,0,0,0,0,0,0,0,0,0,0,0,0,0,0,0,0,0,0,90,85,0,90,85,90,70,90,90,85,80,90,0,0,0,0,84,90,0,89,81,80,65,84,77,82,76,85,84,75,88,80,null,0,0,0,0,0,0,0,88.333333333333329,83.75,86.25,0,82,null,null,null,"001503","0.100","50",{"$f":"Tableau_SSRSMSA03_BI_Integration_STEPH_2010[[#This Row],[DAT_NAISSANCE_ELEVE]]","v":"2000-09-28"},"2009-09-30",3289,9.0047912388774805,{"$f":"IF(AND(LEFT(CO78,1)=\"1\",CS78>5.5),\"V\",IF(AND(LEFT(CO78,1)=\"2\",CS78>6.5),\"V\",IF(AND(LEFT(CO78,1)=\"3\",CS78>7.5),\"V\",IF(AND(LEFT(CO78,1)=\"4\",CS78>8.5),\"V\",IF(AND(LEFT(CO78,1)=\"5\",CS78>9.5),\"V\",IF(AND(LEFT(CO78,1)=\"6\",CS78>10.5),\"V\",\"J\"))))))","v":"J"},{"$f":"IF(AJ78=0,0,IF(BH78=0,0,1))","v":0}]
["2010","001","503",null,null,0,"2000-03-03",null,null,"F",85,80,0,85,90,85,75,90,90,0,0,90,0,0,0,0,90,95,0,85,85,90,90,90,85,90,80,95,0,0,0,0,75,85,0,90,85,85,90,95,85,85,95,85,0,0,0,0,86,80,0,89,92,84,80,83,87,82,84,93,84,93,72,91,null,56.666666666666664,85,0,90,88.75,87.5,0,83.333333333333329,88.75,87.5,0,83.75,null,null,null,"001503","0.100","50",{"$f":"Tableau_SSRSMSA03_BI_Integration_STEPH_2010[[#This Row],[DAT_NAISSANCE_ELEVE]]","v":"2000-03-03"},"2009-09-30",3498,9.5770020533880906,{"$f":"IF(AND(LEFT(CO79,1)=\"1\",CS79>5.5),\"V\",IF(AND(LEFT(CO79,1)=\"2\",CS79>6.5),\"V\",IF(AND(LEFT(CO79,1)=\"3\",CS79>7.5),\"V\",IF(AND(LEFT(CO79,1)=\"4\",CS79>8.5),\"V\",IF(AND(LEFT(CO79,1)=\"5\",CS79>9.5),\"V\",IF(AND(LEFT(CO79,1)=\"6\",CS79>10.5),\"V\",\"J\"))))))","v":"V"},{"$f":"IF(AJ79=0,0,IF(BH79=0,0,1))","v":1}]
["2010","001","504",null,null,0,"2000-09-15",null,null,"M",80,75,0,80,80,75,90,75,75,0,0,65,0,0,0,0,80,80,0,75,75,85,80,75,75,75,85,80,0,0,0,0,70,75,0,75,72,75,80,60,70,75,70,75,0,0,0,0,0,0,0,0,74,69,57,68,72,66,50,68,72,61,80,76,null,53.333333333333336,80,0,78.333333333333329,78.75,78.75,0,73.333333333333329,71.75,72.5,0,0,null,null,null,"001504","0.100","50",{"$f":"Tableau_SSRSMSA03_BI_Integration_STEPH_2010[[#This Row],[DAT_NAISSANCE_ELEVE]]","v":"2000-09-15"},"2009-09-30",3302,9.0403832991101982,{"$f":"IF(AND(LEFT(CO80,1)=\"1\",CS80>5.5),\"V\",IF(AND(LEFT(CO80,1)=\"2\",CS80>6.5),\"V\",IF(AND(LEFT(CO80,1)=\"3\",CS80>7.5),\"V\",IF(AND(LEFT(CO80,1)=\"4\",CS80>8.5),\"V\",IF(AND(LEFT(CO80,1)=\"5\",CS80>9.5),\"V\",IF(AND(LEFT(CO80,1)=\"6\",CS80>10.5),\"V\",\"J\"))))))","v":"J"},{"$f":"IF(AJ80=0,0,IF(BH80=0,0,1))","v":0}]
["2010","001","504",null,null,0,"2000-04-25",null,null,"M",80,80,0,70,80,70,70,60,75,0,0,70,0,0,0,0,75,75,0,75,80,80,75,75,75,85,80,85,0,0,0,0,70,65,0,65,70,80,75,65,80,65,75,75,0,0,0,0,76,65,0,67,77,70,83,65,70,75,75,70,72,79,72,63,null,50,70,0,75,77.5,81.25,0,66.666666666666671,72.5,73.75,0,72.75,null,null,null,"001504","0.100","50",{"$f":"Tableau_SSRSMSA03_BI_Integration_STEPH_2010[[#This Row],[DAT_NAISSANCE_ELEVE]]","v":"2000-04-25"},"2009-09-30",3445,9.4318959616700884,{"$f":"IF(AND(LEFT(CO81,1)=\"1\",CS81>5.5),\"V\",IF(AND(LEFT(CO81,1)=\"2\",CS81>6.5),\"V\",IF(AND(LEFT(CO81,1)=\"3\",CS81>7.5),\"V\",IF(AND(LEFT(CO81,1)=\"4\",CS81>8.5),\"V\",IF(AND(LEFT(CO81,1)=\"5\",CS81>9.5),\"V\",IF(AND(LEFT(CO81,1)=\"6\",CS81>10.5),\"V\",\"J\"))))))","v":"J"},{"$f":"IF(AJ81=0,0,IF(BH81=0,0,1))","v":1}]
["2010","001","504",null,null,0,"2000-04-27",null,null,"M",85,80,0,85,85,85,85,80,80,0,0,80,0,0,0,0,75,80,0,85,80,80,80,85,80,80,85,85,0,0,0,0,85,90,0,80,80,85,95,75,80,85,85,85,0,0,0,0,89,91,0,89,90,88,78,85,88,83,90,90,96,96,100,97,null,56.666666666666664,83.75,0,80,81.25,82.5,0,85,83.75,83.75,0,86.75,null,null,null,"001504","0.100","50",{"$f":"Tableau_SSRSMSA03_BI_Integration_STEPH_2010[[#This Row],[DAT_NAISSANCE_ELEVE]]","v":"2000-04-27"},"2009-09-30",3443,9.4264202600958242,{"$f":"IF(AND(LEFT(CO82,1)=\"1\",CS82>5.5),\"V\",IF(AND(LEFT(CO82,1)=\"2\",CS82>6.5),\"V\",IF(AND(LEFT(CO82,1)=\"3\",CS82>7.5),\"V\",IF(AND(LEFT(CO82,1)=\"4\",CS82>8.5),\"V\",IF(AND(LEFT(CO82,1)=\"5\",CS82>9.5),\"V\",IF(AND(LEFT(CO82,1)=\"6\",CS82>10.5),\"V\",\"J\"))))))","v":"J"},{"$f":"IF(AJ82=0,0,IF(BH82=0,0,1))","v":1}]
["2010","001","504",null,null,0,"2000-05-24",null,null,"M",95,95,0,95,95,90,90,85,95,90,95,95,0,0,0,0,85,80,0,95,90,85,95,95,90,95,95,95,0,0,0,0,95,95,0,95,90,95,95,90,95,85,85,90,0,0,0,0,88,87,0,96,94,86,90,90,92,93,92,93,100,100,100,100,null,63.333333333333336,90,93.75,86.666666666666671,91.25,93.75,0,95,92.5,88.75,0,90.25,null,null,null,"001504","0.100","50",{"$f":"Tableau_SSRSMSA03_BI_Integration_STEPH_2010[[#This Row],[DAT_NAISSANCE_ELEVE]]","v":"2000-05-24"},"2009-09-30",3416,9.3524982888432575,{"$f":"IF(AND(LEFT(CO83,1)=\"1\",CS83>5.5),\"V\",IF(AND(LEFT(CO83,1)=\"2\",CS83>6.5),\"V\",IF(AND(LEFT(CO83,1)=\"3\",CS83>7.5),\"V\",IF(AND(LEFT(CO83,1)=\"4\",CS83>8.5),\"V\",IF(AND(LEFT(CO83,1)=\"5\",CS83>9.5),\"V\",IF(AND(LEFT(CO83,1)=\"6\",CS83>10.5),\"V\",\"J\"))))))","v":"J"},{"$f":"IF(AJ83=0,0,IF(BH83=0,0,1))","v":1}]
["2010","001","504",null,null,0,"2000-09-08",null,null,"F",85,75,0,80,85,85,80,90,85,85,60,85,0,0,0,0,85,85,0,80,85,80,90,70,90,95,65,80,0,0,0,0,90,90,0,75,90,90,75,75,95,90,85,85,0,0,0,0,92,82,0,88,94,81,75,90,90,87,66,91,92,96,92,89,null,55,85,78.75,83.333333333333329,81.25,82.5,0,85,82.5,88.75,0,84.25,null,null,null,"001504","0.100","50",{"$f":"Tableau_SSRSMSA03_BI_Integration_STEPH_2010[[#This Row],[DAT_NAISSANCE_ELEVE]]","v":"2000-09-08"},"2009-09-30",3309,9.0595482546201236,{"$f":"IF(AND(LEFT(CO84,1)=\"1\",CS84>5.5),\"V\",IF(AND(LEFT(CO84,1)=\"2\",CS84>6.5),\"V\",IF(AND(LEFT(CO84,1)=\"3\",CS84>7.5),\"V\",IF(AND(LEFT(CO84,1)=\"4\",CS84>8.5),\"V\",IF(AND(LEFT(CO84,1)=\"5\",CS84>9.5),\"V\",IF(AND(LEFT(CO84,1)=\"6\",CS84>10.5),\"V\",\"J\"))))))","v":"J"},{"$f":"IF(AJ84=0,0,IF(BH84=0,0,1))","v":1}]
["2010","001","504",null,null,0,"1999-11-04",null,null,"F",85,85,0,80,90,95,85,90,85,0,0,95,0,0,0,0,85,85,0,80,85,85,80,85,85,85,85,90,0,0,0,0,85,90,0,95,75,95,95,90,90,90,85,80,0,0,0,0,91,79,0,90,88,86,91,91,91,87,94,84,96,86,100,87,null,55,90,0,83.333333333333329,83.75,86.25,0,90,88.75,86.25,0,87.75,null,null,null,"001504","0.100","50",{"$f":"Tableau_SSRSMSA03_BI_Integration_STEPH_2010[[#This Row],[DAT_NAISSANCE_ELEVE]]","v":"1999-11-04"},"2009-09-30",3618,9.9055441478439423,{"$f":"IF(AND(LEFT(CO85,1)=\"1\",CS85>5.5),\"V\",IF(AND(LEFT(CO85,1)=\"2\",CS85>6.5),\"V\",IF(AND(LEFT(CO85,1)=\"3\",CS85>7.5),\"V\",IF(AND(LEFT(CO85,1)=\"4\",CS85>8.5),\"V\",IF(AND(LEFT(CO85,1)=\"5\",CS85>9.5),\"V\",IF(AND(LEFT(CO85,1)=\"6\",CS85>10.5),\"V\",\"J\"))))))","v":"V"},{"$f":"IF(AJ85=0,0,IF(BH85=0,0,1))","v":1}]
["2010","001","504",null,null,0,"2000-04-12",null,null,"F",85,85,0,90,85,85,90,90,80,0,0,90,0,0,0,0,80,85,0,80,85,85,95,85,80,90,80,75,0,0,0,0,85,80,0,90,80,85,84,90,90,90,80,80,0,0,0,0,84,87,0,96,76,88,86,80,83,85,87,90,68,96,92,83,null,58.333333333333336,87.5,0,81.666666666666671,87.5,81.25,0,85,84.75,85,0,88.25,null,null,null,"001504","0.100","50",{"$f":"Tableau_SSRSMSA03_BI_Integration_STEPH_2010[[#This Row],[DAT_NAISSANCE_ELEVE]]","v":"2000-04-12"},"2009-09-30",3458,9.4674880219028061,{"$f":"IF(AND(LEFT(CO86,1)=\"1\",CS86>5.5),\"V\",IF(AND(LEFT(CO86,1)=\"2\",CS86>6.5),\"V\",IF(AND(LEFT(CO86,1)=\"3\",CS86>7.5),\"V\",IF(AND(LEFT(CO86,1)=\"4\",CS86>8.5),\"V\",IF(AND(LEFT(CO86,1)=\"5\",CS86>9.5),\"V\",IF(AND(LEFT(CO86,1)=\"6\",CS86>10.5),\"V\",\"J\"))))))","v":"J"},{"$f":"IF(AJ86=0,0,IF(BH86=0,0,1))","v":1}]
["2010","001","504",null,null,0,"2000-07-08",null,null,"M",75,65,0,75,75,85,80,80,75,0,0,75,0,0,0,0,80,90,0,90,80,95,90,80,75,85,80,90,0,0,0,0,75,90,0,80,75,90,70,70,75,75,80,70,0,0,0,0,71,81,0,79,79,80,64,83,75,74,79,87,84,86,64,75,null,50,80,0,86.666666666666671,86.25,82.5,0,81.666666666666671,76.25,75,0,73.75,null,null,null,"001504","0.100","50",{"$f":"Tableau_SSRSMSA03_BI_Integration_STEPH_2010[[#This Row],[DAT_NAISSANCE_ELEVE]]","v":"2000-07-08"},"2009-09-30",3371,9.2292950034223136,{"$f":"IF(AND(LEFT(CO87,1)=\"1\",CS87>5.5),\"V\",IF(AND(LEFT(CO87,1)=\"2\",CS87>6.5),\"V\",IF(AND(LEFT(CO87,1)=\"3\",CS87>7.5),\"V\",IF(AND(LEFT(CO87,1)=\"4\",CS87>8.5),\"V\",IF(AND(LEFT(CO87,1)=\"5\",CS87>9.5),\"V\",IF(AND(LEFT(CO87,1)=\"6\",CS87>10.5),\"V\",\"J\"))))))","v":"J"},{"$f":"IF(AJ87=0,0,IF(BH87=0,0,1))","v":1}]
["2010","001","504",null,null,0,"1999-11-22",null,null,"F",80,90,0,85,80,80,85,80,85,80,80,85,0,0,0,0,80,75,0,90,85,80,90,95,90,90,90,85,0,0,0,0,75,85,0,80,85,80,75,85,80,85,90,90,0,0,0,0,88,83,0,87,90,83,87,84,78,90,73,91,84,89,92,91,null,55,81.25,82.5,81.666666666666671,87.5,88.75,0,80,81.25,86.25,0,86.25,null,null,null,"001504","0.100","50",{"$f":"Tableau_SSRSMSA03_BI_Integration_STEPH_2010[[#This Row],[DAT_NAISSANCE_ELEVE]]","v":"1999-11-22"},"2009-09-30",3600,9.8562628336755651,{"$f":"IF(AND(LEFT(CO88,1)=\"1\",CS88>5.5),\"V\",IF(AND(LEFT(CO88,1)=\"2\",CS88>6.5),\"V\",IF(AND(LEFT(CO88,1)=\"3\",CS88>7.5),\"V\",IF(AND(LEFT(CO88,1)=\"4\",CS88>8.5),\"V\",IF(AND(LEFT(CO88,1)=\"5\",CS88>9.5),\"V\",IF(AND(LEFT(CO88,1)=\"6\",CS88>10.5),\"V\",\"J\"))))))","v":"V"},{"$f":"IF(AJ88=0,0,IF(BH88=0,0,1))","v":1}]
["2010","001","504",null,null,0,"2000-06-07",null,null,"M",85,90,0,95,85,95,95,95,85,90,85,95,0,0,0,0,90,90,0,85,90,85,90,85,90,95,95,90,0,0,0,0,90,90,0,95,85,90,95,95,80,85,95,95,0,0,0,0,96,89,0,99,91,85,94,90,87,85,95,96,84,79,92,97,null,60,92.5,88.75,88.333333333333329,87.5,92.5,0,91.666666666666671,91.25,88.75,0,94.5,null,null,null,"001504","0.100","50",{"$f":"Tableau_SSRSMSA03_BI_Integration_STEPH_2010[[#This Row],[DAT_NAISSANCE_ELEVE]]","v":"2000-06-07"},"2009-09-30",3402,9.3141683778234086,{"$f":"IF(AND(LEFT(CO89,1)=\"1\",CS89>5.5),\"V\",IF(AND(LEFT(CO89,1)=\"2\",CS89>6.5),\"V\",IF(AND(LEFT(CO89,1)=\"3\",CS89>7.5),\"V\",IF(AND(LEFT(CO89,1)=\"4\",CS89>8.5),\"V\",IF(AND(LEFT(CO89,1)=\"5\",CS89>9.5),\"V\",IF(AND(LEFT(CO89,1)=\"6\",CS89>10.5),\"V\",\"J\"))))))","v":"J"},{"$f":"IF(AJ89=0,0,IF(BH89=0,0,1))","v":1}]
["2010","001","504",null,null,0,"2000-05-24",null,null,"M",0,0,0,0,0,0,0,0,0,0,0,0,0,0,0,0,0,0,0,0,0,0,0,0,0,0,0,0,0,0,0,0,55,65,0,50,55,50,30,55,65,65,55,50,0,0,0,0,56,47,0,57,70,61,55,63,50,40,65,65,60,39,46,59,null,0,0,0,0,0,0,0,56.666666666666664,47.5,58.75,0,53.75,null,null,null,"001504","0.100","50",{"$f":"Tableau_SSRSMSA03_BI_Integration_STEPH_2010[[#This Row],[DAT_NAISSANCE_ELEVE]]","v":"2000-05-24"},"2009-09-30",3416,9.3524982888432575,{"$f":"IF(AND(LEFT(CO90,1)=\"1\",CS90>5.5),\"V\",IF(AND(LEFT(CO90,1)=\"2\",CS90>6.5),\"V\",IF(AND(LEFT(CO90,1)=\"3\",CS90>7.5),\"V\",IF(AND(LEFT(CO90,1)=\"4\",CS90>8.5),\"V\",IF(AND(LEFT(CO90,1)=\"5\",CS90>9.5),\"V\",IF(AND(LEFT(CO90,1)=\"6\",CS90>10.5),\"V\",\"J\"))))))","v":"J"},{"$f":"IF(AJ90=0,0,IF(BH90=0,0,1))","v":0}]
["2010","001","504",null,null,0,"2000-03-29",null,null,"M",60,60,0,80,60,80,85,85,70,0,0,75,0,0,0,0,55,55,0,70,60,60,75,85,60,60,80,75,0,0,0,0,55,55,0,75,55,50,50,70,55,35,50,70,0,0,0,0,46,48,0,70,51,53,81,85,53,74,71,87,48,61,72,97,null,46.666666666666664,77.5,0,60,70,68.75,0,61.666666666666664,56.25,52.5,0,61.25,null,null,null,"001504","0.100","50",{"$f":"Tableau_SSRSMSA03_BI_Integration_STEPH_2010[[#This Row],[DAT_NAISSANCE_ELEVE]]","v":"2000-03-29"},"2009-09-30",3472,9.5058179329226551,{"$f":"IF(AND(LEFT(CO91,1)=\"1\",CS91>5.5),\"V\",IF(AND(LEFT(CO91,1)=\"2\",CS91>6.5),\"V\",IF(AND(LEFT(CO91,1)=\"3\",CS91>7.5),\"V\",IF(AND(LEFT(CO91,1)=\"4\",CS91>8.5),\"V\",IF(AND(LEFT(CO91,1)=\"5\",CS91>9.5),\"V\",IF(AND(LEFT(CO91,1)=\"6\",CS91>10.5),\"V\",\"J\"))))))","v":"V"},{"$f":"IF(AJ91=0,0,IF(BH91=0,0,1))","v":1}]
["2010","001","504",null,null,0,"1999-09-06",null,null,"M",60,50,0,50,55,65,60,60,55,0,0,50,0,0,0,0,55,55,0,35,55,65,30,45,55,50,30,50,0,0,0,0,30,30,0,30,45,50,50,50,50,50,30,40,0,0,0,0,0,0,0,0,0,0,0,0,0,0,0,0,0,0,0,0,null,36.666666666666664,60,0,48.333333333333336,48.75,46.25,0,30,48.75,42.5,0,0,null,null,null,"001504","0.100","50",{"$f":"Tableau_SSRSMSA03_BI_Integration_STEPH_2010[[#This Row],[DAT_NAISSANCE_ELEVE]]","v":"1999-09-06"},"2009-09-30",3677,10.067077344284737,{"$f":"IF(AND(LEFT(CO92,1)=\"1\",CS92>5.5),\"V\",IF(AND(LEFT(CO92,1)=\"2\",CS92>6.5),\"V\",IF(AND(LEFT(CO92,1)=\"3\",CS92>7.5),\"V\",IF(AND(LEFT(CO92,1)=\"4\",CS92>8.5),\"V\",IF(AND(LEFT(CO92,1)=\"5\",CS92>9.5),\"V\",IF(AND(LEFT(CO92,1)=\"6\",CS92>10.5),\"V\",\"J\"))))))","v":"V"},{"$f":"IF(AJ92=0,0,IF(BH92=0,0,1))","v":0}]
["2010","001","504",null,null,0,"2000-07-07",null,null,"M",80,80,0,80,75,85,80,80,75,0,0,80,0,0,0,0,65,85,0,85,75,90,70,80,80,90,70,65,0,0,0,0,60,85,0,80,70,85,70,60,70,65,70,80,0,0,0,0,57,72,0,76,65,76,60,74,65,72,66,76,76,86,88,80,null,53.333333333333336,80,0,78.333333333333329,78.75,76.25,0,75,71.25,71.25,0,66.25,null,null,null,"001504","0.100","50",{"$f":"Tableau_SSRSMSA03_BI_Integration_STEPH_2010[[#This Row],[DAT_NAISSANCE_ELEVE]]","v":"2000-07-07"},"2009-09-30",3372,9.2320328542094447,{"$f":"IF(AND(LEFT(CO93,1)=\"1\",CS93>5.5),\"V\",IF(AND(LEFT(CO93,1)=\"2\",CS93>6.5),\"V\",IF(AND(LEFT(CO93,1)=\"3\",CS93>7.5),\"V\",IF(AND(LEFT(CO93,1)=\"4\",CS93>8.5),\"V\",IF(AND(LEFT(CO93,1)=\"5\",CS93>9.5),\"V\",IF(AND(LEFT(CO93,1)=\"6\",CS93>10.5),\"V\",\"J\"))))))","v":"J"},{"$f":"IF(AJ93=0,0,IF(BH93=0,0,1))","v":1}]
["2010","001","504",null,null,0,"2000-05-25",null,null,"F",0,0,0,0,0,0,0,0,0,0,0,0,0,0,0,0,0,0,0,0,0,0,0,0,0,0,0,0,0,0,0,0,80,85,0,90,80,80,70,90,85,80,75,80,0,0,0,0,87,80,0,89,91,84,72,78,91,88,81,92,92,93,88,78,null,0,0,0,0,0,0,0,85,80,80,0,82,null,null,null,"001504","0.100","50",{"$f":"Tableau_SSRSMSA03_BI_Integration_STEPH_2010[[#This Row],[DAT_NAISSANCE_ELEVE]]","v":"2000-05-25"},"2009-09-30",3415,9.3497604380561263,{"$f":"IF(AND(LEFT(CO94,1)=\"1\",CS94>5.5),\"V\",IF(AND(LEFT(CO94,1)=\"2\",CS94>6.5),\"V\",IF(AND(LEFT(CO94,1)=\"3\",CS94>7.5),\"V\",IF(AND(LEFT(CO94,1)=\"4\",CS94>8.5),\"V\",IF(AND(LEFT(CO94,1)=\"5\",CS94>9.5),\"V\",IF(AND(LEFT(CO94,1)=\"6\",CS94>10.5),\"V\",\"J\"))))))","v":"J"},{"$f":"IF(AJ94=0,0,IF(BH94=0,0,1))","v":0}]
["2010","001","504",null,null,0,"2000-04-03",null,null,"F",80,70,0,75,80,85,75,80,80,0,0,70,0,0,0,0,75,75,0,85,75,70,80,80,80,80,80,80,0,0,0,0,80,75,0,90,75,70,75,85,80,70,80,75,0,0,0,0,79,78,0,83,78,78,78,67,79,89,82,84,96,68,40,81,null,51.666666666666664,80,0,78.333333333333329,76.25,80,0,81.666666666666671,76.25,76.25,0,79.5,null,null,null,"001504","0.100","50",{"$f":"Tableau_SSRSMSA03_BI_Integration_STEPH_2010[[#This Row],[DAT_NAISSANCE_ELEVE]]","v":"2000-04-03"},"2009-09-30",3467,9.4921286789869956,{"$f":"IF(AND(LEFT(CO95,1)=\"1\",CS95>5.5),\"V\",IF(AND(LEFT(CO95,1)=\"2\",CS95>6.5),\"V\",IF(AND(LEFT(CO95,1)=\"3\",CS95>7.5),\"V\",IF(AND(LEFT(CO95,1)=\"4\",CS95>8.5),\"V\",IF(AND(LEFT(CO95,1)=\"5\",CS95>9.5),\"V\",IF(AND(LEFT(CO95,1)=\"6\",CS95>10.5),\"V\",\"J\"))))))","v":"J"},{"$f":"IF(AJ95=0,0,IF(BH95=0,0,1))","v":1}]
["2010","001","504",null,null,0,"2000-02-25",null,null,"F",80,80,0,95,85,85,90,85,85,85,95,90,0,0,0,0,75,85,0,90,85,80,90,90,80,90,90,95,0,0,0,0,90,90,0,90,80,95,95,90,90,80,95,95,0,0,0,0,86,81,0,89,91,82,80,86,93,80,88,90,88,93,72,95,null,58.333333333333336,86.25,88.75,83.333333333333329,86.25,88.75,0,90,90,90,0,84,null,null,null,"001504","0.100","50",{"$f":"Tableau_SSRSMSA03_BI_Integration_STEPH_2010[[#This Row],[DAT_NAISSANCE_ELEVE]]","v":"2000-02-25"},"2009-09-30",3505,9.5961670088980142,{"$f":"IF(AND(LEFT(CO96,1)=\"1\",CS96>5.5),\"V\",IF(AND(LEFT(CO96,1)=\"2\",CS96>6.5),\"V\",IF(AND(LEFT(CO96,1)=\"3\",CS96>7.5),\"V\",IF(AND(LEFT(CO96,1)=\"4\",CS96>8.5),\"V\",IF(AND(LEFT(CO96,1)=\"5\",CS96>9.5),\"V\",IF(AND(LEFT(CO96,1)=\"6\",CS96>10.5),\"V\",\"J\"))))))","v":"V"},{"$f":"IF(AJ96=0,0,IF(BH96=0,0,1))","v":1}]
["2010","001","504",null,null,0,"2000-01-18",null,null,"M",75,80,0,85,75,85,90,95,75,75,85,95,0,0,0,0,70,75,0,85,85,85,95,90,85,80,80,90,0,0,0,0,75,85,0,90,75,90,85,95,75,85,90,85,0,0,0,0,76,80,0,84,85,82,80,84,79,80,70,80,76,75,80,92,null,53.333333333333336,86.25,82.5,76.666666666666671,88.75,83.75,0,83.333333333333329,86.25,83.75,0,80,null,null,null,"001504","0.100","50",{"$f":"Tableau_SSRSMSA03_BI_Integration_STEPH_2010[[#This Row],[DAT_NAISSANCE_ELEVE]]","v":"2000-01-18"},"2009-09-30",3543,9.7002053388090346,{"$f":"IF(AND(LEFT(CO97,1)=\"1\",CS97>5.5),\"V\",IF(AND(LEFT(CO97,1)=\"2\",CS97>6.5),\"V\",IF(AND(LEFT(CO97,1)=\"3\",CS97>7.5),\"V\",IF(AND(LEFT(CO97,1)=\"4\",CS97>8.5),\"V\",IF(AND(LEFT(CO97,1)=\"5\",CS97>9.5),\"V\",IF(AND(LEFT(CO97,1)=\"6\",CS97>10.5),\"V\",\"J\"))))))","v":"V"},{"$f":"IF(AJ97=0,0,IF(BH97=0,0,1))","v":1}]
["2010","001","504",null,null,0,"2000-06-18",null,null,"M",85,90,0,90,85,90,90,90,90,0,0,95,0,0,0,0,80,85,0,85,80,85,85,85,80,85,85,80,0,0,0,0,80,85,0,90,75,80,65,85,85,90,90,95,0,0,0,0,85,86,90,91,0,0,0,0,82,87,91,80,80,90,100,87,null,58.333333333333336,88.75,0,83.333333333333329,83.75,82.5,0,85,76.25,90,0,88,null,null,null,"001504","0.100","50",{"$f":"Tableau_SSRSMSA03_BI_Integration_STEPH_2010[[#This Row],[DAT_NAISSANCE_ELEVE]]","v":"2000-06-18"},"2009-09-30",3391,9.2840520191649549,{"$f":"IF(AND(LEFT(CO98,1)=\"1\",CS98>5.5),\"V\",IF(AND(LEFT(CO98,1)=\"2\",CS98>6.5),\"V\",IF(AND(LEFT(CO98,1)=\"3\",CS98>7.5),\"V\",IF(AND(LEFT(CO98,1)=\"4\",CS98>8.5),\"V\",IF(AND(LEFT(CO98,1)=\"5\",CS98>9.5),\"V\",IF(AND(LEFT(CO98,1)=\"6\",CS98>10.5),\"V\",\"J\"))))))","v":"J"},{"$f":"IF(AJ98=0,0,IF(BH98=0,0,1))","v":1}]
["2010","001","504",null,null,0,"2000-08-14",null,null,"F",70,75,0,80,75,75,75,80,75,0,0,80,0,0,0,0,80,75,0,80,75,75,70,80,70,75,75,80,0,0,0,0,70,75,0,75,70,70,70,80,75,80,60,70,0,0,0,0,84,76,0,75,80,75,80,83,80,90,80,85,80,96,88,90,null,50,76.25,0,78.333333333333329,75,75,0,73.333333333333329,72.5,71.25,0,78.75,null,null,null,"001504","0.100","50",{"$f":"Tableau_SSRSMSA03_BI_Integration_STEPH_2010[[#This Row],[DAT_NAISSANCE_ELEVE]]","v":"2000-08-14"},"2009-09-30",3334,9.1279945242984262,{"$f":"IF(AND(LEFT(CO99,1)=\"1\",CS99>5.5),\"V\",IF(AND(LEFT(CO99,1)=\"2\",CS99>6.5),\"V\",IF(AND(LEFT(CO99,1)=\"3\",CS99>7.5),\"V\",IF(AND(LEFT(CO99,1)=\"4\",CS99>8.5),\"V\",IF(AND(LEFT(CO99,1)=\"5\",CS99>9.5),\"V\",IF(AND(LEFT(CO99,1)=\"6\",CS99>10.5),\"V\",\"J\"))))))","v":"J"},{"$f":"IF(AJ99=0,0,IF(BH99=0,0,1))","v":1}]
["2010","001","504",null,null,0,"1999-09-26",null,null,"M",0,0,0,0,0,0,0,0,70,80,90,75,0,0,0,0,75,85,0,85,80,85,75,90,85,80,75,90,0,0,0,0,75,85,0,90,75,90,80,75,75,80,85,80,0,0,0,0,83,77,0,94,72,74,50,80,78,79,70,81,80,61,84,92,null,0,0,78.75,81.666666666666671,82.5,82.5,0,83.333333333333329,80,80,0,76,null,null,null,"001504","0.100","50",{"$f":"Tableau_SSRSMSA03_BI_Integration_STEPH_2010[[#This Row],[DAT_NAISSANCE_ELEVE]]","v":"1999-09-26"},"2009-09-30",3657,10.012320328542094,{"$f":"IF(AND(LEFT(CO100,1)=\"1\",CS100>5.5),\"V\",IF(AND(LEFT(CO100,1)=\"2\",CS100>6.5),\"V\",IF(AND(LEFT(CO100,1)=\"3\",CS100>7.5),\"V\",IF(AND(LEFT(CO100,1)=\"4\",CS100>8.5),\"V\",IF(AND(LEFT(CO100,1)=\"5\",CS100>9.5),\"V\",IF(AND(LEFT(CO100,1)=\"6\",CS100>10.5),\"V\",\"J\"))))))","v":"V"},{"$f":"IF(AJ100=0,0,IF(BH100=0,0,1))","v":1}]
["2010","001","504",null,null,0,"1999-11-19",null,null,"F",85,95,0,95,90,90,85,85,95,95,95,95,0,0,0,0,90,85,0,85,95,85,90,85,90,85,85,95,0,0,0,0,95,95,0,95,90,95,90,90,95,90,95,90,0,0,0,0,90,90,85,87,0,0,0,0,96,89,94,86,96,98,92,95,null,60,87.5,95,86.666666666666671,88.75,88.75,0,95,91.25,92.5,0,88,null,null,null,"001504","0.100","50",{"$f":"Tableau_SSRSMSA03_BI_Integration_STEPH_2010[[#This Row],[DAT_NAISSANCE_ELEVE]]","v":"1999-11-19"},"2009-09-30",3603,9.8644763860369604,{"$f":"IF(AND(LEFT(CO101,1)=\"1\",CS101>5.5),\"V\",IF(AND(LEFT(CO101,1)=\"2\",CS101>6.5),\"V\",IF(AND(LEFT(CO101,1)=\"3\",CS101>7.5),\"V\",IF(AND(LEFT(CO101,1)=\"4\",CS101>8.5),\"V\",IF(AND(LEFT(CO101,1)=\"5\",CS101>9.5),\"V\",IF(AND(LEFT(CO101,1)=\"6\",CS101>10.5),\"V\",\"J\"))))))","v":"V"},{"$f":"IF(AJ101=0,0,IF(BH101=0,0,1))","v":1}]
["2010","001","504",null,null,0,"2000-05-09",null,null,"F",95,95,0,95,95,95,95,85,95,95,95,95,0,0,0,0,95,90,0,90,95,85,85,85,90,90,90,90,0,0,0,0,95,90,0,95,90,95,95,95,95,90,95,95,0,0,0,0,97,92,0,98,97,90,83,92,95,92,92,97,100,89,88,97,null,63.333333333333336,92.5,95,91.666666666666671,87.5,90,0,93.333333333333329,93.75,93.75,0,92.5,null,null,null,"001504","0.100","50",{"$f":"Tableau_SSRSMSA03_BI_Integration_STEPH_2010[[#This Row],[DAT_NAISSANCE_ELEVE]]","v":"2000-05-09"},"2009-09-30",3431,9.3935660506502394,{"$f":"IF(AND(LEFT(CO102,1)=\"1\",CS102>5.5),\"V\",IF(AND(LEFT(CO102,1)=\"2\",CS102>6.5),\"V\",IF(AND(LEFT(CO102,1)=\"3\",CS102>7.5),\"V\",IF(AND(LEFT(CO102,1)=\"4\",CS102>8.5),\"V\",IF(AND(LEFT(CO102,1)=\"5\",CS102>9.5),\"V\",IF(AND(LEFT(CO102,1)=\"6\",CS102>10.5),\"V\",\"J\"))))))","v":"J"},{"$f":"IF(AJ102=0,0,IF(BH102=0,0,1))","v":1}]
["2010","001","504",null,null,0,"1999-10-25",null,null,"F",70,70,0,90,85,75,85,90,80,90,80,85,0,0,0,0,80,80,0,90,90,90,80,80,85,85,95,90,0,0,0,0,90,85,0,95,75,90,85,90,80,85,90,90,0,0,0,0,76,88,0,99,85,88,72,91,92,89,72,97,88,100,92,96,null,53.333333333333336,83.75,83.75,83.333333333333329,85,88.75,0,90,85,86.25,0,83.75,null,null,null,"001504","0.100","50",{"$f":"Tableau_SSRSMSA03_BI_Integration_STEPH_2010[[#This Row],[DAT_NAISSANCE_ELEVE]]","v":"1999-10-25"},"2009-09-30",3628,9.932922655715263,{"$f":"IF(AND(LEFT(CO103,1)=\"1\",CS103>5.5),\"V\",IF(AND(LEFT(CO103,1)=\"2\",CS103>6.5),\"V\",IF(AND(LEFT(CO103,1)=\"3\",CS103>7.5),\"V\",IF(AND(LEFT(CO103,1)=\"4\",CS103>8.5),\"V\",IF(AND(LEFT(CO103,1)=\"5\",CS103>9.5),\"V\",IF(AND(LEFT(CO103,1)=\"6\",CS103>10.5),\"V\",\"J\"))))))","v":"V"},{"$f":"IF(AJ103=0,0,IF(BH103=0,0,1))","v":1}]
["2010","001","504",null,null,0,"2000-02-13",null,null,"F",50,70,0,65,50,75,70,70,60,0,0,75,0,0,0,0,65,55,0,60,65,75,80,75,55,65,70,75,0,0,0,0,65,65,0,45,65,70,70,65,65,40,45,60,0,0,0,0,60,46,0,69,58,66,47,60,57,45,54,71,36,54,68,62,null,38.333333333333336,66.25,0,60,73.75,66.25,0,58.333333333333336,67.5,52.5,0,55.5,null,null,null,"001504","0.100","50",{"$f":"Tableau_SSRSMSA03_BI_Integration_STEPH_2010[[#This Row],[DAT_NAISSANCE_ELEVE]]","v":"2000-02-13"},"2009-09-30",3517,9.6290212183436008,{"$f":"IF(AND(LEFT(CO104,1)=\"1\",CS104>5.5),\"V\",IF(AND(LEFT(CO104,1)=\"2\",CS104>6.5),\"V\",IF(AND(LEFT(CO104,1)=\"3\",CS104>7.5),\"V\",IF(AND(LEFT(CO104,1)=\"4\",CS104>8.5),\"V\",IF(AND(LEFT(CO104,1)=\"5\",CS104>9.5),\"V\",IF(AND(LEFT(CO104,1)=\"6\",CS104>10.5),\"V\",\"J\"))))))","v":"V"},{"$f":"IF(AJ104=0,0,IF(BH104=0,0,1))","v":1}]
["2010","001","504",null,null,0,"2000-06-20",null,null,"M",80,90,0,85,75,90,85,90,85,0,0,90,0,0,0,0,85,95,0,95,80,95,95,90,80,90,95,85,0,0,0,0,65,85,0,85,75,85,90,85,80,75,80,90,0,0,0,0,82,76,65,86,0,0,0,0,90,83,82,90,76,69,92,81,null,55,85,0,91.666666666666671,90,87.5,0,78.333333333333329,83.75,81.25,0,77.25,null,null,null,"001504","0.100","50",{"$f":"Tableau_SSRSMSA03_BI_Integration_STEPH_2010[[#This Row],[DAT_NAISSANCE_ELEVE]]","v":"2000-06-20"},"2009-09-30",3389,9.2785763175906908,{"$f":"IF(AND(LEFT(CO105,1)=\"1\",CS105>5.5),\"V\",IF(AND(LEFT(CO105,1)=\"2\",CS105>6.5),\"V\",IF(AND(LEFT(CO105,1)=\"3\",CS105>7.5),\"V\",IF(AND(LEFT(CO105,1)=\"4\",CS105>8.5),\"V\",IF(AND(LEFT(CO105,1)=\"5\",CS105>9.5),\"V\",IF(AND(LEFT(CO105,1)=\"6\",CS105>10.5),\"V\",\"J\"))))))","v":"J"},{"$f":"IF(AJ105=0,0,IF(BH105=0,0,1))","v":1}]
["2010","001","505",null,null,0,"2000-03-23",null,null,"M",80,85,0,90,85,95,90,95,85,0,0,95,0,0,0,0,80,80,0,90,85,85,80,95,90,80,90,80,0,0,0,0,75,85,0,95,75,75,95,95,85,85,85,95,0,0,0,0,85,84,0,90,84,87,78,92,88,92,93,97,96,100,92,93,null,56.666666666666664,91.25,0,83.333333333333329,86.25,85,0,85,85,87.5,0,84.25,null,null,null,"001505","0.100","50",{"$f":"Tableau_SSRSMSA03_BI_Integration_STEPH_2010[[#This Row],[DAT_NAISSANCE_ELEVE]]","v":"2000-03-23"},"2009-09-30",3478,9.5222450376454475,{"$f":"IF(AND(LEFT(CO106,1)=\"1\",CS106>5.5),\"V\",IF(AND(LEFT(CO106,1)=\"2\",CS106>6.5),\"V\",IF(AND(LEFT(CO106,1)=\"3\",CS106>7.5),\"V\",IF(AND(LEFT(CO106,1)=\"4\",CS106>8.5),\"V\",IF(AND(LEFT(CO106,1)=\"5\",CS106>9.5),\"V\",IF(AND(LEFT(CO106,1)=\"6\",CS106>10.5),\"V\",\"J\"))))))","v":"V"},{"$f":"IF(AJ106=0,0,IF(BH106=0,0,1))","v":1}]
["2010","001","505",null,null,0,"1999-11-15",null,null,"F",70,75,0,85,80,85,85,90,75,0,0,90,0,0,0,0,80,80,0,85,75,85,70,80,80,75,80,85,0,0,0,0,60,75,0,90,70,75,95,85,75,80,90,80,0,0,0,0,73,76,0,82,71,79,86,83,65,77,77,83,76,93,80,93,null,51.666666666666664,85,0,81.666666666666671,77.5,80,0,75,81.25,81.25,0,79.25,null,null,null,"001505","0.100","50",{"$f":"Tableau_SSRSMSA03_BI_Integration_STEPH_2010[[#This Row],[DAT_NAISSANCE_ELEVE]]","v":"1999-11-15"},"2009-09-30",3607,9.8754277891854887,{"$f":"IF(AND(LEFT(CO107,1)=\"1\",CS107>5.5),\"V\",IF(AND(LEFT(CO107,1)=\"2\",CS107>6.5),\"V\",IF(AND(LEFT(CO107,1)=\"3\",CS107>7.5),\"V\",IF(AND(LEFT(CO107,1)=\"4\",CS107>8.5),\"V\",IF(AND(LEFT(CO107,1)=\"5\",CS107>9.5),\"V\",IF(AND(LEFT(CO107,1)=\"6\",CS107>10.5),\"V\",\"J\"))))))","v":"V"},{"$f":"IF(AJ107=0,0,IF(BH107=0,0,1))","v":1}]
["2010","001","505",null,null,0,"2000-09-16",null,null,"M",70,85,0,90,65,75,90,90,75,70,70,90,0,0,0,0,75,75,0,75,75,70,70,75,75,70,60,80,0,0,0,0,65,70,0,75,65,70,60,75,70,70,60,65,0,0,0,0,68,73,0,80,68,67,61,75,70,65,80,80,72,68,20,82,null,53.333333333333336,80,76.25,75,72.5,71.25,0,70,67.5,66.25,0,70.5,null,null,null,"001505","0.100","50",{"$f":"Tableau_SSRSMSA03_BI_Integration_STEPH_2010[[#This Row],[DAT_NAISSANCE_ELEVE]]","v":"2000-09-16"},"2009-09-30",3301,9.037645448323067,{"$f":"IF(AND(LEFT(CO108,1)=\"1\",CS108>5.5),\"V\",IF(AND(LEFT(CO108,1)=\"2\",CS108>6.5),\"V\",IF(AND(LEFT(CO108,1)=\"3\",CS108>7.5),\"V\",IF(AND(LEFT(CO108,1)=\"4\",CS108>8.5),\"V\",IF(AND(LEFT(CO108,1)=\"5\",CS108>9.5),\"V\",IF(AND(LEFT(CO108,1)=\"6\",CS108>10.5),\"V\",\"J\"))))))","v":"J"},{"$f":"IF(AJ108=0,0,IF(BH108=0,0,1))","v":1}]
["2010","001","505",null,null,0,"2000-01-12",null,null,"F",75,75,0,90,85,85,95,95,85,0,0,90,0,0,0,0,85,90,0,75,90,80,85,75,90,90,80,90,0,0,0,0,80,90,0,95,75,75,95,95,90,90,95,90,0,0,0,0,84,79,85,86,0,0,0,0,81,83,87,82,80,80,92,93,null,55,90,0,83.333333333333329,82.5,87.5,0,88.333333333333329,85,91.25,0,83.5,null,null,null,"001505","0.100","50",{"$f":"Tableau_SSRSMSA03_BI_Integration_STEPH_2010[[#This Row],[DAT_NAISSANCE_ELEVE]]","v":"2000-01-12"},"2009-09-30",3549,9.716632443531827,{"$f":"IF(AND(LEFT(CO109,1)=\"1\",CS109>5.5),\"V\",IF(AND(LEFT(CO109,1)=\"2\",CS109>6.5),\"V\",IF(AND(LEFT(CO109,1)=\"3\",CS109>7.5),\"V\",IF(AND(LEFT(CO109,1)=\"4\",CS109>8.5),\"V\",IF(AND(LEFT(CO109,1)=\"5\",CS109>9.5),\"V\",IF(AND(LEFT(CO109,1)=\"6\",CS109>10.5),\"V\",\"J\"))))))","v":"V"},{"$f":"IF(AJ109=0,0,IF(BH109=0,0,1))","v":1}]
["2010","001","505",null,null,0,"2000-04-25",null,null,"M",65,60,0,75,65,65,60,85,65,65,75,85,0,0,0,0,70,60,0,85,65,50,80,80,65,55,75,75,0,0,0,0,60,60,0,80,55,60,55,80,70,65,60,80,0,0,0,0,75,65,0,92,77,65,69,86,79,84,82,88,82,50,92,82,null,46.666666666666664,68.75,72.5,71.666666666666671,68.75,67.5,0,66.666666666666671,62.5,68.75,0,75.25,null,null,null,"001505","0.100","50",{"$f":"Tableau_SSRSMSA03_BI_Integration_STEPH_2010[[#This Row],[DAT_NAISSANCE_ELEVE]]","v":"2000-04-25"},"2009-09-30",3445,9.4318959616700884,{"$f":"IF(AND(LEFT(CO110,1)=\"1\",CS110>5.5),\"V\",IF(AND(LEFT(CO110,1)=\"2\",CS110>6.5),\"V\",IF(AND(LEFT(CO110,1)=\"3\",CS110>7.5),\"V\",IF(AND(LEFT(CO110,1)=\"4\",CS110>8.5),\"V\",IF(AND(LEFT(CO110,1)=\"5\",CS110>9.5),\"V\",IF(AND(LEFT(CO110,1)=\"6\",CS110>10.5),\"V\",\"J\"))))))","v":"J"},{"$f":"IF(AJ110=0,0,IF(BH110=0,0,1))","v":1}]
["2010","001","505",null,null,0,"2000-01-19",null,null,"M",90,75,0,90,80,75,90,90,80,75,80,90,0,0,0,0,85,80,0,90,90,85,90,90,85,85,95,90,0,0,0,0,80,85,0,90,85,80,90,95,95,80,95,95,0,0,0,0,91,80,0,95,91,81,96,91,88,88,88,88,92,71,100,95,null,60,83.75,81.25,85,88.75,88.75,0,85,87.5,91.25,0,90.5,null,null,null,"001505","0.100","50",{"$f":"Tableau_SSRSMSA03_BI_Integration_STEPH_2010[[#This Row],[DAT_NAISSANCE_ELEVE]]","v":"2000-01-19"},"2009-09-30",3542,9.6974674880219034,{"$f":"IF(AND(LEFT(CO111,1)=\"1\",CS111>5.5),\"V\",IF(AND(LEFT(CO111,1)=\"2\",CS111>6.5),\"V\",IF(AND(LEFT(CO111,1)=\"3\",CS111>7.5),\"V\",IF(AND(LEFT(CO111,1)=\"4\",CS111>8.5),\"V\",IF(AND(LEFT(CO111,1)=\"5\",CS111>9.5),\"V\",IF(AND(LEFT(CO111,1)=\"6\",CS111>10.5),\"V\",\"J\"))))))","v":"V"},{"$f":"IF(AJ111=0,0,IF(BH111=0,0,1))","v":1}]
["2010","001","505",null,null,0,"2000-02-26",null,null,"F",85,95,0,90,85,95,90,95,90,0,0,85,0,0,0,0,90,85,0,90,90,95,85,95,90,90,85,95,0,0,0,0,80,90,0,95,90,85,95,95,90,80,95,95,0,0,0,0,89,86,80,99,0,0,0,0,87,89,91,89,84,94,100,85,null,58.333333333333336,91.25,0,88.333333333333329,91.25,90,0,88.333333333333329,91.25,90,0,88.5,null,null,null,"001505","0.100","50",{"$f":"Tableau_SSRSMSA03_BI_Integration_STEPH_2010[[#This Row],[DAT_NAISSANCE_ELEVE]]","v":"2000-02-26"},"2009-09-30",3504,9.593429158110883,{"$f":"IF(AND(LEFT(CO112,1)=\"1\",CS112>5.5),\"V\",IF(AND(LEFT(CO112,1)=\"2\",CS112>6.5),\"V\",IF(AND(LEFT(CO112,1)=\"3\",CS112>7.5),\"V\",IF(AND(LEFT(CO112,1)=\"4\",CS112>8.5),\"V\",IF(AND(LEFT(CO112,1)=\"5\",CS112>9.5),\"V\",IF(AND(LEFT(CO112,1)=\"6\",CS112>10.5),\"V\",\"J\"))))))","v":"V"},{"$f":"IF(AJ112=0,0,IF(BH112=0,0,1))","v":1}]
["2010","001","505",null,null,0,"2000-04-26",null,null,"F",85,95,0,90,90,90,95,90,95,95,80,95,0,0,0,0,90,85,0,90,90,95,90,85,90,95,90,90,0,0,0,0,95,90,0,90,95,90,95,85,95,90,95,85,0,0,0,0,94,90,0,90,96,90,90,83,91,97,98,88,96,96,80,97,null,58.333333333333336,91.25,91.25,88.333333333333329,90,91.25,0,91.666666666666671,91.25,91.25,0,91,null,null,null,"001505","0.100","50",{"$f":"Tableau_SSRSMSA03_BI_Integration_STEPH_2010[[#This Row],[DAT_NAISSANCE_ELEVE]]","v":"2000-04-26"},"2009-09-30",3444,9.4291581108829572,{"$f":"IF(AND(LEFT(CO113,1)=\"1\",CS113>5.5),\"V\",IF(AND(LEFT(CO113,1)=\"2\",CS113>6.5),\"V\",IF(AND(LEFT(CO113,1)=\"3\",CS113>7.5),\"V\",IF(AND(LEFT(CO113,1)=\"4\",CS113>8.5),\"V\",IF(AND(LEFT(CO113,1)=\"5\",CS113>9.5),\"V\",IF(AND(LEFT(CO113,1)=\"6\",CS113>10.5),\"V\",\"J\"))))))","v":"J"},{"$f":"IF(AJ113=0,0,IF(BH113=0,0,1))","v":1}]
["2010","001","505",null,null,0,"2000-01-01",null,null,"F",0,0,0,0,0,0,0,0,0,0,0,0,0,0,0,0,70,60,0,85,0,75,0,90,75,60,75,75,0,0,0,0,65,75,0,85,70,75,75,90,75,75,95,75,0,0,0,0,78,72,0,85,83,74,70,72,83,74,72,70,76,93,80,89,null,0,0,0,71.666666666666671,55,71.25,0,75,77.5,80,0,76.25,null,null,null,"001505","0.100","50",{"$f":"Tableau_SSRSMSA03_BI_Integration_STEPH_2010[[#This Row],[DAT_NAISSANCE_ELEVE]]","v":"2000-01-01"},"2009-09-30",3560,9.7467488021902806,{"$f":"IF(AND(LEFT(CO114,1)=\"1\",CS114>5.5),\"V\",IF(AND(LEFT(CO114,1)=\"2\",CS114>6.5),\"V\",IF(AND(LEFT(CO114,1)=\"3\",CS114>7.5),\"V\",IF(AND(LEFT(CO114,1)=\"4\",CS114>8.5),\"V\",IF(AND(LEFT(CO114,1)=\"5\",CS114>9.5),\"V\",IF(AND(LEFT(CO114,1)=\"6\",CS114>10.5),\"V\",\"J\"))))))","v":"V"},{"$f":"IF(AJ114=0,0,IF(BH114=0,0,1))","v":1}]
["2010","001","505",null,null,0,"1999-12-22",null,null,"M",70,85,0,85,75,90,85,75,75,85,80,85,0,0,0,0,80,80,0,80,80,75,90,75,80,85,85,90,0,0,0,0,70,80,0,90,70,75,85,90,80,70,90,90,0,0,0,0,72,68,0,88,76,65,85,78,70,70,90,90,68,71,99,81,null,51.666666666666664,81.25,81.25,80,80,85,0,80,80,82.5,0,78.25,null,null,null,"001505","0.100","50",{"$f":"Tableau_SSRSMSA03_BI_Integration_STEPH_2010[[#This Row],[DAT_NAISSANCE_ELEVE]]","v":"1999-12-22"},"2009-09-30",3570,9.7741273100616013,{"$f":"IF(AND(LEFT(CO115,1)=\"1\",CS115>5.5),\"V\",IF(AND(LEFT(CO115,1)=\"2\",CS115>6.5),\"V\",IF(AND(LEFT(CO115,1)=\"3\",CS115>7.5),\"V\",IF(AND(LEFT(CO115,1)=\"4\",CS115>8.5),\"V\",IF(AND(LEFT(CO115,1)=\"5\",CS115>9.5),\"V\",IF(AND(LEFT(CO115,1)=\"6\",CS115>10.5),\"V\",\"J\"))))))","v":"V"},{"$f":"IF(AJ115=0,0,IF(BH115=0,0,1))","v":1}]
["2010","001","505",null,null,0,"2000-02-12",null,null,"M",85,65,0,70,85,70,85,90,80,0,0,75,0,0,0,0,75,75,0,75,85,80,85,70,70,80,75,75,0,0,0,0,65,75,0,85,70,70,85,85,75,70,70,80,0,0,0,0,68,73,0,88,72,66,65,83,60,76,65,79,68,75,100,85,null,51.666666666666664,82.5,0,75,80,75,0,75,77.5,73.75,0,73.5,null,null,null,"001505","0.100","50",{"$f":"Tableau_SSRSMSA03_BI_Integration_STEPH_2010[[#This Row],[DAT_NAISSANCE_ELEVE]]","v":"2000-02-12"},"2009-09-30",3518,9.631759069130732,{"$f":"IF(AND(LEFT(CO116,1)=\"1\",CS116>5.5),\"V\",IF(AND(LEFT(CO116,1)=\"2\",CS116>6.5),\"V\",IF(AND(LEFT(CO116,1)=\"3\",CS116>7.5),\"V\",IF(AND(LEFT(CO116,1)=\"4\",CS116>8.5),\"V\",IF(AND(LEFT(CO116,1)=\"5\",CS116>9.5),\"V\",IF(AND(LEFT(CO116,1)=\"6\",CS116>10.5),\"V\",\"J\"))))))","v":"V"},{"$f":"IF(AJ116=0,0,IF(BH116=0,0,1))","v":1}]
["2010","001","505",null,null,0,"2000-06-05",null,null,"M",85,90,0,95,85,85,90,95,80,0,0,80,0,0,0,0,80,80,0,75,80,80,80,80,75,80,80,85,0,0,0,0,70,85,0,85,75,80,90,90,75,80,85,90,0,0,0,0,83,77,0,87,80,87,90,90,80,75,89,88,76,64,92,94,null,60,88.75,0,78.333333333333329,80,80,0,80,83.75,82.5,0,84.25,null,null,null,"001505","0.100","50",{"$f":"Tableau_SSRSMSA03_BI_Integration_STEPH_2010[[#This Row],[DAT_NAISSANCE_ELEVE]]","v":"2000-06-05"},"2009-09-30",3404,9.3196440793976727,{"$f":"IF(AND(LEFT(CO117,1)=\"1\",CS117>5.5),\"V\",IF(AND(LEFT(CO117,1)=\"2\",CS117>6.5),\"V\",IF(AND(LEFT(CO117,1)=\"3\",CS117>7.5),\"V\",IF(AND(LEFT(CO117,1)=\"4\",CS117>8.5),\"V\",IF(AND(LEFT(CO117,1)=\"5\",CS117>9.5),\"V\",IF(AND(LEFT(CO117,1)=\"6\",CS117>10.5),\"V\",\"J\"))))))","v":"J"},{"$f":"IF(AJ117=0,0,IF(BH117=0,0,1))","v":1}]
["2010","001","505",null,null,0,"1999-10-31",null,null,"M",68,0,0,72,69,65,76,73,70,74,72,77,0,0,0,0,77,0,0,79,0,69,80,0,75,65,82,76,0,0,0,0,55,75,0,80,60,70,85,80,70,75,80,80,0,0,0,0,66,72,0,80,68,70,66,73,72,79,77,71,76,75,88,82,null,0,70.75,73.25,0,37.25,74.5,0,70,73.75,76.25,0,71,null,null,null,"001505","0.100","50",{"$f":"Tableau_SSRSMSA03_BI_Integration_STEPH_2010[[#This Row],[DAT_NAISSANCE_ELEVE]]","v":"1999-10-31"},"2009-09-30",3622,9.9164955509924706,{"$f":"IF(AND(LEFT(CO118,1)=\"1\",CS118>5.5),\"V\",IF(AND(LEFT(CO118,1)=\"2\",CS118>6.5),\"V\",IF(AND(LEFT(CO118,1)=\"3\",CS118>7.5),\"V\",IF(AND(LEFT(CO118,1)=\"4\",CS118>8.5),\"V\",IF(AND(LEFT(CO118,1)=\"5\",CS118>9.5),\"V\",IF(AND(LEFT(CO118,1)=\"6\",CS118>10.5),\"V\",\"J\"))))))","v":"V"},{"$f":"IF(AJ118=0,0,IF(BH118=0,0,1))","v":1}]
["2010","001","505",null,null,0,"2000-04-26",null,null,"F",55,70,0,70,65,70,75,80,65,0,0,70,0,0,0,0,65,65,0,80,65,70,80,75,55,75,65,85,0,0,0,0,55,70,0,85,65,75,90,80,65,75,85,80,0,0,0,0,63,76,0,81,69,61,71,73,68,72,67,75,72,86,88,81,null,41.666666666666664,72.5,0,70,72.5,70,0,70,77.5,76.25,0,72.75,null,null,null,"001505","0.100","50",{"$f":"Tableau_SSRSMSA03_BI_Integration_STEPH_2010[[#This Row],[DAT_NAISSANCE_ELEVE]]","v":"2000-04-26"},"2009-09-30",3444,9.4291581108829572,{"$f":"IF(AND(LEFT(CO119,1)=\"1\",CS119>5.5),\"V\",IF(AND(LEFT(CO119,1)=\"2\",CS119>6.5),\"V\",IF(AND(LEFT(CO119,1)=\"3\",CS119>7.5),\"V\",IF(AND(LEFT(CO119,1)=\"4\",CS119>8.5),\"V\",IF(AND(LEFT(CO119,1)=\"5\",CS119>9.5),\"V\",IF(AND(LEFT(CO119,1)=\"6\",CS119>10.5),\"V\",\"J\"))))))","v":"J"},{"$f":"IF(AJ119=0,0,IF(BH119=0,0,1))","v":1}]
["2010","001","505",null,null,0,"2000-02-04",null,null,"F",85,80,0,95,85,85,85,95,80,0,0,80,0,0,0,0,80,85,0,85,85,80,80,80,85,80,85,85,0,0,0,0,80,90,0,90,85,85,90,85,80,80,90,80,0,0,0,0,84,73,87,87,0,0,0,0,86,74,89,75,84,78,80,86,null,60,87.5,0,83.333333333333329,81.25,83.75,0,86.666666666666671,86.25,82.5,0,82.75,null,null,null,"001505","0.100","50",{"$f":"Tableau_SSRSMSA03_BI_Integration_STEPH_2010[[#This Row],[DAT_NAISSANCE_ELEVE]]","v":"2000-02-04"},"2009-09-30",3526,9.6536618754277885,{"$f":"IF(AND(LEFT(CO120,1)=\"1\",CS120>5.5),\"V\",IF(AND(LEFT(CO120,1)=\"2\",CS120>6.5),\"V\",IF(AND(LEFT(CO120,1)=\"3\",CS120>7.5),\"V\",IF(AND(LEFT(CO120,1)=\"4\",CS120>8.5),\"V\",IF(AND(LEFT(CO120,1)=\"5\",CS120>9.5),\"V\",IF(AND(LEFT(CO120,1)=\"6\",CS120>10.5),\"V\",\"J\"))))))","v":"V"},{"$f":"IF(AJ120=0,0,IF(BH120=0,0,1))","v":1}]
["2010","001","505",null,null,0,"2000-03-07",null,null,"F",80,85,0,90,85,90,90,95,90,0,0,90,0,0,0,0,90,85,0,90,95,95,85,90,90,95,90,95,0,0,0,0,85,80,0,95,85,85,90,95,90,85,95,95,0,0,0,0,92,85,0,92,92,95,99,95,95,95,95,95,99,96,99,99,null,56.666666666666664,90,0,88.333333333333329,91.25,92.5,0,86.666666666666671,88.75,91.25,0,92,null,null,null,"001505","0.100","50",{"$f":"Tableau_SSRSMSA03_BI_Integration_STEPH_2010[[#This Row],[DAT_NAISSANCE_ELEVE]]","v":"2000-03-07"},"2009-09-30",3494,9.5660506502395624,{"$f":"IF(AND(LEFT(CO121,1)=\"1\",CS121>5.5),\"V\",IF(AND(LEFT(CO121,1)=\"2\",CS121>6.5),\"V\",IF(AND(LEFT(CO121,1)=\"3\",CS121>7.5),\"V\",IF(AND(LEFT(CO121,1)=\"4\",CS121>8.5),\"V\",IF(AND(LEFT(CO121,1)=\"5\",CS121>9.5),\"V\",IF(AND(LEFT(CO121,1)=\"6\",CS121>10.5),\"V\",\"J\"))))))","v":"V"},{"$f":"IF(AJ121=0,0,IF(BH121=0,0,1))","v":1}]
["2010","001","505",null,null,0,"1999-11-07",null,null,"M",75,85,0,85,75,80,80,70,85,85,70,85,0,0,0,0,80,90,0,80,85,75,85,80,85,90,80,80,0,0,0,0,70,80,0,80,75,75,95,85,80,85,80,75,0,0,0,0,82,81,0,75,86,81,92,79,81,72,82,83,76,54,80,82,null,53.333333333333336,76.25,81.25,83.333333333333329,81.25,83.75,0,76.666666666666671,82.5,80,0,82.5,null,null,null,"001505","0.100","50",{"$f":"Tableau_SSRSMSA03_BI_Integration_STEPH_2010[[#This Row],[DAT_NAISSANCE_ELEVE]]","v":"1999-11-07"},"2009-09-30",3615,9.897330595482547,{"$f":"IF(AND(LEFT(CO122,1)=\"1\",CS122>5.5),\"V\",IF(AND(LEFT(CO122,1)=\"2\",CS122>6.5),\"V\",IF(AND(LEFT(CO122,1)=\"3\",CS122>7.5),\"V\",IF(AND(LEFT(CO122,1)=\"4\",CS122>8.5),\"V\",IF(AND(LEFT(CO122,1)=\"5\",CS122>9.5),\"V\",IF(AND(LEFT(CO122,1)=\"6\",CS122>10.5),\"V\",\"J\"))))))","v":"V"},{"$f":"IF(AJ122=0,0,IF(BH122=0,0,1))","v":1}]
["2010","001","505",null,null,0,"2000-08-04",null,null,"F",80,80,0,80,80,85,90,80,80,0,0,80,0,0,0,0,80,85,0,80,80,85,80,80,85,85,80,90,0,0,0,0,75,85,0,80,85,85,95,85,90,80,80,90,0,0,0,0,92,83,0,87,94,92,80,89,86,82,85,87,92,96,72,92,null,53.333333333333336,83.75,0,81.666666666666671,81.25,85,0,80,87.5,85,0,85.5,null,null,null,"001505","0.100","50",{"$f":"Tableau_SSRSMSA03_BI_Integration_STEPH_2010[[#This Row],[DAT_NAISSANCE_ELEVE]]","v":"2000-08-04"},"2009-09-30",3344,9.1553730321697468,{"$f":"IF(AND(LEFT(CO123,1)=\"1\",CS123>5.5),\"V\",IF(AND(LEFT(CO123,1)=\"2\",CS123>6.5),\"V\",IF(AND(LEFT(CO123,1)=\"3\",CS123>7.5),\"V\",IF(AND(LEFT(CO123,1)=\"4\",CS123>8.5),\"V\",IF(AND(LEFT(CO123,1)=\"5\",CS123>9.5),\"V\",IF(AND(LEFT(CO123,1)=\"6\",CS123>10.5),\"V\",\"J\"))))))","v":"J"},{"$f":"IF(AJ123=0,0,IF(BH123=0,0,1))","v":1}]
["2010","001","505",null,null,0,"2000-06-16",null,null,"M",85,95,0,90,80,80,75,70,80,90,70,80,0,0,0,0,80,85,0,80,80,85,75,80,75,85,70,85,0,0,0,0,65,80,0,85,80,85,65,75,90,85,60,75,0,0,0,0,83,84,0,79,85,76,77,77,84,83,83,81,92,82,68,90,null,58.333333333333336,76.25,80,81.666666666666671,80,78.75,0,76.666666666666671,76.25,77.5,0,80.75,null,null,null,"001505","0.100","50",{"$f":"Tableau_SSRSMSA03_BI_Integration_STEPH_2010[[#This Row],[DAT_NAISSANCE_ELEVE]]","v":"2000-06-16"},"2009-09-30",3393,9.2895277207392191,{"$f":"IF(AND(LEFT(CO124,1)=\"1\",CS124>5.5),\"V\",IF(AND(LEFT(CO124,1)=\"2\",CS124>6.5),\"V\",IF(AND(LEFT(CO124,1)=\"3\",CS124>7.5),\"V\",IF(AND(LEFT(CO124,1)=\"4\",CS124>8.5),\"V\",IF(AND(LEFT(CO124,1)=\"5\",CS124>9.5),\"V\",IF(AND(LEFT(CO124,1)=\"6\",CS124>10.5),\"V\",\"J\"))))))","v":"J"},{"$f":"IF(AJ124=0,0,IF(BH124=0,0,1))","v":1}]
["2010","001","505",null,null,0,"1999-12-07",null,null,"F",80,90,0,90,80,80,85,75,85,85,60,80,0,0,0,0,80,75,0,85,85,80,85,65,80,85,65,75,0,0,0,0,80,85,0,90,85,85,95,95,90,85,95,85,0,0,0,0,86,79,0,88,92,90,74,94,90,87,78,97,96,88,80,87,null,56.666666666666664,80,77.5,80,78.75,76.25,0,85,90,88.75,0,81.75,null,null,null,"001505","0.100","50",{"$f":"Tableau_SSRSMSA03_BI_Integration_STEPH_2010[[#This Row],[DAT_NAISSANCE_ELEVE]]","v":"1999-12-07"},"2009-09-30",3585,9.8151950718685832,{"$f":"IF(AND(LEFT(CO125,1)=\"1\",CS125>5.5),\"V\",IF(AND(LEFT(CO125,1)=\"2\",CS125>6.5),\"V\",IF(AND(LEFT(CO125,1)=\"3\",CS125>7.5),\"V\",IF(AND(LEFT(CO125,1)=\"4\",CS125>8.5),\"V\",IF(AND(LEFT(CO125,1)=\"5\",CS125>9.5),\"V\",IF(AND(LEFT(CO125,1)=\"6\",CS125>10.5),\"V\",\"J\"))))))","v":"V"},{"$f":"IF(AJ125=0,0,IF(BH125=0,0,1))","v":1}]
["2010","001","505",null,null,0,"2000-07-10",null,null,"F",85,90,0,90,90,95,90,90,90,0,0,90,0,0,0,0,95,95,0,95,95,95,95,95,90,95,95,95,0,0,0,0,90,90,0,95,95,90,95,95,95,90,90,95,0,0,0,0,97,93,0,97,97,95,99,95,98,89,92,98,100,93,92,100,null,58.333333333333336,91.25,0,95,95,93.75,0,91.666666666666671,93.75,92.5,0,96.5,null,null,null,"001505","0.100","50",{"$f":"Tableau_SSRSMSA03_BI_Integration_STEPH_2010[[#This Row],[DAT_NAISSANCE_ELEVE]]","v":"2000-07-10"},"2009-09-30",3369,9.2238193018480494,{"$f":"IF(AND(LEFT(CO126,1)=\"1\",CS126>5.5),\"V\",IF(AND(LEFT(CO126,1)=\"2\",CS126>6.5),\"V\",IF(AND(LEFT(CO126,1)=\"3\",CS126>7.5),\"V\",IF(AND(LEFT(CO126,1)=\"4\",CS126>8.5),\"V\",IF(AND(LEFT(CO126,1)=\"5\",CS126>9.5),\"V\",IF(AND(LEFT(CO126,1)=\"6\",CS126>10.5),\"V\",\"J\"))))))","v":"J"},{"$f":"IF(AJ126=0,0,IF(BH126=0,0,1))","v":1}]
["2010","001","505",null,null,0,"2000-05-27",null,null,"F",75,75,0,65,85,85,85,85,80,0,0,85,0,0,0,0,80,80,0,80,80,85,80,80,85,85,75,80,0,0,0,0,80,80,0,90,70,75,70,80,75,80,80,80,0,0,0,0,85,80,0,71,88,80,77,75,82,85,77,72,84,82,72,81,null,46.666666666666664,85,0,80,81.25,81.25,0,83.333333333333329,73.75,78.75,0,78.25,null,null,null,"001505","0.100","50",{"$f":"Tableau_SSRSMSA03_BI_Integration_STEPH_2010[[#This Row],[DAT_NAISSANCE_ELEVE]]","v":"2000-05-27"},"2009-09-30",3413,9.3442847364818622,{"$f":"IF(AND(LEFT(CO127,1)=\"1\",CS127>5.5),\"V\",IF(AND(LEFT(CO127,1)=\"2\",CS127>6.5),\"V\",IF(AND(LEFT(CO127,1)=\"3\",CS127>7.5),\"V\",IF(AND(LEFT(CO127,1)=\"4\",CS127>8.5),\"V\",IF(AND(LEFT(CO127,1)=\"5\",CS127>9.5),\"V\",IF(AND(LEFT(CO127,1)=\"6\",CS127>10.5),\"V\",\"J\"))))))","v":"J"},{"$f":"IF(AJ127=0,0,IF(BH127=0,0,1))","v":1}]
["2010","001","505",null,null,0,"2000-07-04",null,null,"M",80,90,0,90,80,90,80,90,85,85,75,80,0,0,0,0,85,90,0,80,85,85,90,80,85,80,90,90,0,0,0,0,65,85,0,80,75,80,80,85,80,75,85,85,0,0,0,0,83,73,85,82,0,0,0,0,79,84,93,75,80,80,100,87,null,56.666666666666664,85,81.25,85,85,86.25,0,76.666666666666671,80,81.25,0,80.75,null,null,null,"001505","0.100","50",{"$f":"Tableau_SSRSMSA03_BI_Integration_STEPH_2010[[#This Row],[DAT_NAISSANCE_ELEVE]]","v":"2000-07-04"},"2009-09-30",3375,9.2402464065708418,{"$f":"IF(AND(LEFT(CO128,1)=\"1\",CS128>5.5),\"V\",IF(AND(LEFT(CO128,1)=\"2\",CS128>6.5),\"V\",IF(AND(LEFT(CO128,1)=\"3\",CS128>7.5),\"V\",IF(AND(LEFT(CO128,1)=\"4\",CS128>8.5),\"V\",IF(AND(LEFT(CO128,1)=\"5\",CS128>9.5),\"V\",IF(AND(LEFT(CO128,1)=\"6\",CS128>10.5),\"V\",\"J\"))))))","v":"J"},{"$f":"IF(AJ128=0,0,IF(BH128=0,0,1))","v":1}]
["2010","001","505",null,null,0,"2000-05-27",null,null,"F",80,90,0,95,85,85,90,85,85,90,80,90,0,0,0,0,85,80,0,85,90,80,90,90,90,85,75,95,0,0,0,0,80,90,0,90,90,85,95,95,90,80,95,95,0,0,0,0,92,82,0,90,92,90,90,94,95,90,90,95,96,86,99,93,null,58.333333333333336,86.25,86.25,83.333333333333329,87.5,86.25,0,86.666666666666671,91.25,90,0,88.5,null,null,null,"001505","0.100","50",{"$f":"Tableau_SSRSMSA03_BI_Integration_STEPH_2010[[#This Row],[DAT_NAISSANCE_ELEVE]]","v":"2000-05-27"},"2009-09-30",3413,9.3442847364818622,{"$f":"IF(AND(LEFT(CO129,1)=\"1\",CS129>5.5),\"V\",IF(AND(LEFT(CO129,1)=\"2\",CS129>6.5),\"V\",IF(AND(LEFT(CO129,1)=\"3\",CS129>7.5),\"V\",IF(AND(LEFT(CO129,1)=\"4\",CS129>8.5),\"V\",IF(AND(LEFT(CO129,1)=\"5\",CS129>9.5),\"V\",IF(AND(LEFT(CO129,1)=\"6\",CS129>10.5),\"V\",\"J\"))))))","v":"J"},{"$f":"IF(AJ129=0,0,IF(BH129=0,0,1))","v":1}]
["2010","001","505",null,null,0,"2000-05-04",null,null,"M",70,90,0,90,70,85,85,85,75,85,95,90,0,0,0,0,75,85,0,80,70,85,70,85,75,85,75,85,0,0,0,0,60,70,0,85,70,90,65,80,80,85,70,80,0,0,0,0,75,85,0,88,83,80,67,74,76,81,88,78,92,86,88,97,null,53.333333333333336,81.25,86.25,80,77.5,80,0,71.666666666666671,76.25,78.75,0,78.75,null,null,null,{"$f":"IF(LEFT(C130,1)=\"8\",\"\",IF(LEFT(C130,1)=\"9\",\"\",B130&C130))","v":"001505"},{"$f":"VLOOKUP(B130,ecoleTaux,3,FALSE)","v":"0.100"},"50",{"$f":"Tableau_SSRSMSA03_BI_Integration_STEPH_2010[[#This Row],[DAT_NAISSANCE_ELEVE]]","v":"2000-05-04"},"2009-09-30",3436,9.4072553045859006,{"$f":"IF(AND(LEFT(CO130,1)=\"1\",CS130>5.5),\"V\",IF(AND(LEFT(CO130,1)=\"2\",CS130>6.5),\"V\",IF(AND(LEFT(CO130,1)=\"3\",CS130>7.5),\"V\",IF(AND(LEFT(CO130,1)=\"4\",CS130>8.5),\"V\",IF(AND(LEFT(CO130,1)=\"5\",CS130>9.5),\"V\",IF(AND(LEFT(CO130,1)=\"6\",CS130>10.5),\"V\",\"J\"))))))","v":"J"},{"$f":"IF(AJ130=0,0,IF(BH130=0,0,1))","v":1}]
["2010","001","506",null,null,0,"1999-06-14",null,null,"M",65,75,0,70,75,70,80,80,75,70,75,75,0,0,0,0,55,55,0,50,65,65,60,60,70,70,60,65,0,0,0,0,50,70,0,40,55,55,50,40,55,50,40,40,0,0,0,0,38,38,0,35,41,38,31,35,38,35,40,34,40,32,40,34,null,{"$f":"IF(L131=0,0,IF(M131=0,AVERAGE(M131,K131,N131),AVERAGE(K131:N131)))","v":45},{"$f":"IF(P131=0,0,IF(Q131=0,AVERAGE(Q131,O131,R131),AVERAGE(O131:R131)))","v":76.25},{"$f":"IF(T131=0,0,IF(U131=0,AVERAGE(T131,S131,V131),AVERAGE(S131:V131)))","v":73.75},{"$f":"IF(AB131=0,0,IF(AC131=0,AVERAGE(AB131,AA131,AD131),AVERAGE(AA131:AD131)))","v":53.333333333333336},{"$f":"IF(AF131=0,0,IF(AG131=0,AVERAGE(AF131,AE131,AH131),AVERAGE(AE131:AH131)))","v":62.5},{"$f":"IF(AJ131=0,0,IF(AK131=0,AVERAGE(AJ131,AI131,AL131),AVERAGE(AI131:AL131)))","v":66.25},{"$f":"IF(AN131=0,0,IF(AO131=0,AVERAGE(AN131,AM131,AP131),AVERAGE(AM131:AP131)))","v":0},{"$f":"IF(AR131=0,0,IF(AS131=0,AVERAGE(AR131,AQ131,AT131),AVERAGE(AQ131:AT131)))","v":53.333333333333336},{"$f":"IF(AV131=0,0,IF(AW131=0,AVERAGE(AV131,AU131,AX131),AVERAGE(AU131:AX131)))","v":50},{"$f":"IF(AZ131=0,0,IF(BA131=0,AVERAGE(AZ131,AY131,BB131),AVERAGE(AY131:BB131)))","v":46.25},{"$f":"IF(BD131=0,0,IF(BE131=0,AVERAGE(BD131,BC131,BF131),AVERAGE(BC131:BF131)))","v":0},{"$f":"IF(BH131=0,0,IF(BI131=0,AVERAGE(BH131,BG131,BJ131,BM131),AVERAGE(BG131:BJ131)))","v":35.5},null,null,null,"001506","0.100","50",{"$f":"Tableau_SSRSMSA03_BI_Integration_STEPH_2010[[#This Row],[DAT_NAISSANCE_ELEVE]]","v":"1999-06-14"},"2009-09-30",3761,10.297056810403832,{"$f":"IF(AND(LEFT(CO131,1)=\"1\",CS131>5.5),\"V\",IF(AND(LEFT(CO131,1)=\"2\",CS131>6.5),\"V\",IF(AND(LEFT(CO131,1)=\"3\",CS131>7.5),\"V\",IF(AND(LEFT(CO131,1)=\"4\",CS131>8.5),\"V\",IF(AND(LEFT(CO131,1)=\"5\",CS131>9.5),\"V\",IF(AND(LEFT(CO131,1)=\"6\",CS131>10.5),\"V\",\"J\"))))))","v":"V"},{"$f":"IF(AJ131=0,0,IF(BH131=0,0,1))","v":1}]
["2010","001","506",null,null,0,"2000-09-03",null,null,"M",70,80,0,85,85,75,80,70,80,85,95,90,0,0,0,0,85,80,0,85,85,85,85,85,80,85,80,85,0,0,0,0,80,85,0,85,85,80,80,85,85,90,80,80,0,0,0,0,84,72,0,85,82,83,85,80,85,90,95,90,88,89,99,96,null,51.666666666666664,77.5,87.5,83.333333333333329,85,82.5,0,83.333333333333329,82.5,83.75,0,81.5,null,null,null,"001506","0.100","50",{"$f":"Tableau_SSRSMSA03_BI_Integration_STEPH_2010[[#This Row],[DAT_NAISSANCE_ELEVE]]","v":"2000-09-03"},"2009-09-30",3314,9.073237508555783,{"$f":"IF(AND(LEFT(CO132,1)=\"1\",CS132>5.5),\"V\",IF(AND(LEFT(CO132,1)=\"2\",CS132>6.5),\"V\",IF(AND(LEFT(CO132,1)=\"3\",CS132>7.5),\"V\",IF(AND(LEFT(CO132,1)=\"4\",CS132>8.5),\"V\",IF(AND(LEFT(CO132,1)=\"5\",CS132>9.5),\"V\",IF(AND(LEFT(CO132,1)=\"6\",CS132>10.5),\"V\",\"J\"))))))","v":"J"},{"$f":"IF(AJ132=0,0,IF(BH132=0,0,1))","v":1}]
["2010","001","506",null,null,0,"1999-12-02",null,null,"M",60,65,0,90,70,55,90,70,60,60,70,70,0,0,0,0,55,55,0,70,65,65,80,75,55,55,60,70,0,0,0,0,65,65,0,70,75,70,70,65,70,70,75,75,0,0,0,0,66,76,0,65,60,60,81,68,69,66,82,75,76,86,92,76,null,50,71.25,65,60,71.25,60,0,66.666666666666671,70,72.5,0,72,null,null,null,"001506","0.100","50",{"$f":"Tableau_SSRSMSA03_BI_Integration_STEPH_2010[[#This Row],[DAT_NAISSANCE_ELEVE]]","v":"1999-12-02"},"2009-09-30",3590,9.8288843258042444,{"$f":"IF(AND(LEFT(CO133,1)=\"1\",CS133>5.5),\"V\",IF(AND(LEFT(CO133,1)=\"2\",CS133>6.5),\"V\",IF(AND(LEFT(CO133,1)=\"3\",CS133>7.5),\"V\",IF(AND(LEFT(CO133,1)=\"4\",CS133>8.5),\"V\",IF(AND(LEFT(CO133,1)=\"5\",CS133>9.5),\"V\",IF(AND(LEFT(CO133,1)=\"6\",CS133>10.5),\"V\",\"J\"))))))","v":"V"},{"$f":"IF(AJ133=0,0,IF(BH133=0,0,1))","v":1}]
["2010","001","506",null,null,0,"2000-05-17",null,null,"F",70,80,0,90,75,85,90,90,80,0,0,80,0,0,0,0,75,80,0,85,75,85,85,90,80,85,80,90,0,0,0,0,80,85,0,85,80,80,80,80,85,80,95,80,0,0,0,0,79,80,95,81,0,0,0,0,82,83,94,78,80,84,100,88,null,53.333333333333336,85,0,80,83.75,83.75,0,83.333333333333329,80,85,0,83.75,null,null,null,"001506","0.100",{"$f":"LEFT(C134,2)","v":"50"},{"$f":"Tableau_SSRSMSA03_BI_Integration_STEPH_2010[[#This Row],[DAT_NAISSANCE_ELEVE]]","v":"2000-05-17"},"2009-09-30",{"$f":"DATEDIF(CP134,CQ134,\"d\")","v":3423},{"$f":"CR134/365.25","v":9.3716632443531829},{"$f":"IF(AND(LEFT(CO134,1)=\"1\",CS134>5.5),\"V\",IF(AND(LEFT(CO134,1)=\"2\",CS134>6.5),\"V\",IF(AND(LEFT(CO134,1)=\"3\",CS134>7.5),\"V\",IF(AND(LEFT(CO134,1)=\"4\",CS134>8.5),\"V\",IF(AND(LEFT(CO134,1)=\"5\",CS134>9.5),\"V\",IF(AND(LEFT(CO134,1)=\"6\",CS134>10.5),\"V\",\"J\"))))))","v":"J"},{"$f":"IF(AJ134=0,0,IF(BH134=0,0,1))","v":1}]
["2010","001","506",null,null,0,"2000-02-27",null,null,"F",75,85,0,75,80,90,85,85,80,0,0,80,0,0,0,0,75,80,0,75,75,75,75,80,70,75,70,75,0,0,0,0,60,75,0,80,70,75,85,90,90,85,95,85,0,0,0,0,81,74,0,74,85,68,57,84,70,71,84,83,76,75,80,87,null,50,85,0,76.666666666666671,76.25,72.5,0,71.666666666666671,80,88.75,0,71.5,null,null,null,"001506","0.100","50",{"$f":"Tableau_SSRSMSA03_BI_Integration_STEPH_2010[[#This Row],[DAT_NAISSANCE_ELEVE]]","v":"2000-02-27"},"2009-09-30",3503,9.5906913073237501,{"$f":"IF(AND(LEFT(CO135,1)=\"1\",CS135>5.5),\"V\",IF(AND(LEFT(CO135,1)=\"2\",CS135>6.5),\"V\",IF(AND(LEFT(CO135,1)=\"3\",CS135>7.5),\"V\",IF(AND(LEFT(CO135,1)=\"4\",CS135>8.5),\"V\",IF(AND(LEFT(CO135,1)=\"5\",CS135>9.5),\"V\",IF(AND(LEFT(CO135,1)=\"6\",CS135>10.5),\"V\",\"J\"))))))","v":"V"},{"$f":"IF(AJ135=0,0,IF(BH135=0,0,1))","v":1}]
["2010","001","506",null,null,0,"2000-07-19",null,null,"M",85,80,0,90,85,90,90,90,85,0,0,85,0,0,0,0,90,95,0,85,85,95,90,85,85,90,90,90,0,0,0,0,80,95,0,90,90,85,90,75,85,85,90,90,0,0,0,0,83,87,70,92,0,0,0,0,81,88,88,80,80,86,92,81,null,58.333333333333336,88.75,0,90,88.75,88.75,0,88.333333333333329,85,87.5,0,83,null,null,null,"001506","0.100","50",{"$f":"Tableau_SSRSMSA03_BI_Integration_STEPH_2010[[#This Row],[DAT_NAISSANCE_ELEVE]]","v":"2000-07-19"},"2009-09-30",3360,9.1991786447638599,{"$f":"IF(AND(LEFT(CO136,1)=\"1\",CS136>5.5),\"V\",IF(AND(LEFT(CO136,1)=\"2\",CS136>6.5),\"V\",IF(AND(LEFT(CO136,1)=\"3\",CS136>7.5),\"V\",IF(AND(LEFT(CO136,1)=\"4\",CS136>8.5),\"V\",IF(AND(LEFT(CO136,1)=\"5\",CS136>9.5),\"V\",IF(AND(LEFT(CO136,1)=\"6\",CS136>10.5),\"V\",\"J\"))))))","v":"J"},{"$f":"IF(AJ136=0,0,IF(BH136=0,0,1))","v":1}]
["2010","001","506",null,null,0,"1999-12-30",null,null,"M",80,75,0,60,80,80,65,70,75,0,0,75,0,0,0,0,75,75,0,70,80,70,80,75,80,75,65,75,0,0,0,0,80,90,0,90,80,70,80,70,85,75,95,65,0,0,0,0,87,80,0,65,82,73,84,67,80,78,71,73,72,71,80,79,null,46.666666666666664,73.75,0,73.333333333333329,76.25,73.75,0,86.666666666666671,75,80,0,79,null,null,null,"001506","0.100","50",{"$f":"Tableau_SSRSMSA03_BI_Integration_STEPH_2010[[#This Row],[DAT_NAISSANCE_ELEVE]]","v":"1999-12-30"},"2009-09-30",3562,9.7522245037645447,{"$f":"IF(AND(LEFT(CO137,1)=\"1\",CS137>5.5),\"V\",IF(AND(LEFT(CO137,1)=\"2\",CS137>6.5),\"V\",IF(AND(LEFT(CO137,1)=\"3\",CS137>7.5),\"V\",IF(AND(LEFT(CO137,1)=\"4\",CS137>8.5),\"V\",IF(AND(LEFT(CO137,1)=\"5\",CS137>9.5),\"V\",IF(AND(LEFT(CO137,1)=\"6\",CS137>10.5),\"V\",\"J\"))))))","v":"V"},{"$f":"IF(AJ137=0,0,IF(BH137=0,0,1))","v":1}]
["2010","001","506",null,null,0,"2000-09-06",null,null,"M",85,70,0,85,85,75,85,95,80,0,0,85,0,0,0,0,80,75,0,90,80,75,85,90,75,75,95,85,0,0,0,0,80,80,0,90,80,85,95,90,85,85,85,85,0,0,0,0,80,70,75,89,0,0,0,0,82,75,90,79,68,82,92,91,null,56.666666666666664,85,0,81.666666666666671,82.5,82.5,0,83.333333333333329,87.5,85,0,78.5,null,null,null,"001506","0.100","50",{"$f":"Tableau_SSRSMSA03_BI_Integration_STEPH_2010[[#This Row],[DAT_NAISSANCE_ELEVE]]","v":"2000-09-06"},"2009-09-30",3311,9.0650239561943877,{"$f":"IF(AND(LEFT(CO138,1)=\"1\",CS138>5.5),\"V\",IF(AND(LEFT(CO138,1)=\"2\",CS138>6.5),\"V\",IF(AND(LEFT(CO138,1)=\"3\",CS138>7.5),\"V\",IF(AND(LEFT(CO138,1)=\"4\",CS138>8.5),\"V\",IF(AND(LEFT(CO138,1)=\"5\",CS138>9.5),\"V\",IF(AND(LEFT(CO138,1)=\"6\",CS138>10.5),\"V\",\"J\"))))))","v":"J"},{"$f":"IF(AJ138=0,0,IF(BH138=0,0,1))","v":1}]
["2010","001","506",null,null,0,"2000-08-22",null,null,"F",75,80,0,95,60,90,80,70,75,80,90,85,0,0,0,0,70,60,0,85,80,70,85,80,85,70,75,90,0,0,0,0,80,70,0,90,80,65,80,80,75,70,80,90,0,0,0,0,80,74,0,87,85,75,87,73,73,82,88,86,76,89,92,75,null,56.666666666666664,75,82.5,71.666666666666671,78.75,80,0,80,76.25,78.75,0,82,null,null,null,"001506","0.100","50",{"$f":"Tableau_SSRSMSA03_BI_Integration_STEPH_2010[[#This Row],[DAT_NAISSANCE_ELEVE]]","v":"2000-08-22"},"2009-09-30",3326,9.1060917180013696,{"$f":"IF(AND(LEFT(CO139,1)=\"1\",CS139>5.5),\"V\",IF(AND(LEFT(CO139,1)=\"2\",CS139>6.5),\"V\",IF(AND(LEFT(CO139,1)=\"3\",CS139>7.5),\"V\",IF(AND(LEFT(CO139,1)=\"4\",CS139>8.5),\"V\",IF(AND(LEFT(CO139,1)=\"5\",CS139>9.5),\"V\",IF(AND(LEFT(CO139,1)=\"6\",CS139>10.5),\"V\",\"J\"))))))","v":"J"},{"$f":"IF(AJ139=0,0,IF(BH139=0,0,1))","v":1}]
["2010","001","506",null,null,0,"2000-07-20",null,null,"F",80,80,0,90,85,95,85,80,75,0,0,70,0,0,0,0,80,80,0,85,80,90,80,85,85,90,75,75,0,0,0,0,75,80,0,80,85,80,85,65,80,80,95,80,0,0,0,0,80,80,0,72,76,75,63,76,77,78,60,70,80,86,72,73,null,56.666666666666664,86.25,0,81.666666666666671,83.75,81.25,0,78.333333333333329,78.75,83.75,0,73.75,null,null,null,"001506","0.100","50",{"$f":"Tableau_SSRSMSA03_BI_Integration_STEPH_2010[[#This Row],[DAT_NAISSANCE_ELEVE]]","v":"2000-07-20"},"2009-09-30",3359,9.1964407939767288,{"$f":"IF(AND(LEFT(CO140,1)=\"1\",CS140>5.5),\"V\",IF(AND(LEFT(CO140,1)=\"2\",CS140>6.5),\"V\",IF(AND(LEFT(CO140,1)=\"3\",CS140>7.5),\"V\",IF(AND(LEFT(CO140,1)=\"4\",CS140>8.5),\"V\",IF(AND(LEFT(CO140,1)=\"5\",CS140>9.5),\"V\",IF(AND(LEFT(CO140,1)=\"6\",CS140>10.5),\"V\",\"J\"))))))","v":"J"},{"$f":"IF(AJ140=0,0,IF(BH140=0,0,1))","v":1}]
["2010","001","506",null,null,0,"2000-03-12",null,null,"F",80,90,0,85,75,75,80,70,85,85,90,85,0,0,0,0,80,85,0,85,85,85,80,85,85,90,90,85,0,0,0,0,75,85,0,80,80,85,95,75,80,85,85,70,0,0,0,0,78,78,0,78,74,79,72,72,80,86,81,86,84,96,72,89,null,55,75,86.25,83.333333333333329,83.75,87.5,0,80,83.75,80,0,76.5,null,null,null,"001506","0.100","50",{"$f":"Tableau_SSRSMSA03_BI_Integration_STEPH_2010[[#This Row],[DAT_NAISSANCE_ELEVE]]","v":"2000-03-12"},"2009-09-30",3489,9.5523613963039011,{"$f":"IF(AND(LEFT(CO141,1)=\"1\",CS141>5.5),\"V\",IF(AND(LEFT(CO141,1)=\"2\",CS141>6.5),\"V\",IF(AND(LEFT(CO141,1)=\"3\",CS141>7.5),\"V\",IF(AND(LEFT(CO141,1)=\"4\",CS141>8.5),\"V\",IF(AND(LEFT(CO141,1)=\"5\",CS141>9.5),\"V\",IF(AND(LEFT(CO141,1)=\"6\",CS141>10.5),\"V\",\"J\"))))))","v":"V"},{"$f":"IF(AJ141=0,0,IF(BH141=0,0,1))","v":1}]
["2010","001","506",null,null,0,"2000-07-30",null,null,"F",80,80,0,80,85,85,60,70,85,0,0,70,0,0,0,0,80,70,0,80,85,90,75,70,80,90,75,75,0,0,0,0,75,90,0,70,80,80,65,70,80,80,85,80,0,0,0,0,75,82,0,84,77,74,70,71,67,78,65,84,76,71,40,90,null,53.333333333333336,75,0,76.666666666666671,80,80,0,78.333333333333329,73.75,81.25,0,77.75,null,null,null,"001506","0.100","50",{"$f":"Tableau_SSRSMSA03_BI_Integration_STEPH_2010[[#This Row],[DAT_NAISSANCE_ELEVE]]","v":"2000-07-30"},"2009-09-30",3349,9.1690622861054081,{"$f":"IF(AND(LEFT(CO142,1)=\"1\",CS142>5.5),\"V\",IF(AND(LEFT(CO142,1)=\"2\",CS142>6.5),\"V\",IF(AND(LEFT(CO142,1)=\"3\",CS142>7.5),\"V\",IF(AND(LEFT(CO142,1)=\"4\",CS142>8.5),\"V\",IF(AND(LEFT(CO142,1)=\"5\",CS142>9.5),\"V\",IF(AND(LEFT(CO142,1)=\"6\",CS142>10.5),\"V\",\"J\"))))))","v":"J"},{"$f":"IF(AJ142=0,0,IF(BH142=0,0,1))","v":1}]
["2010","001","506",null,null,0,"2001-03-05",null,null,"M",85,75,0,90,85,85,90,90,85,0,0,90,0,0,0,0,85,85,0,85,90,90,85,90,90,90,70,90,0,0,0,0,90,90,0,90,95,85,95,90,90,80,90,90,0,0,0,0,84,82,0,88,98,77,91,90,92,84,88,86,96,86,92,84,null,58.333333333333336,87.5,0,85,88.75,85,0,90,91.25,87.5,0,86.25,null,null,null,"001506","0.100","50",{"$f":"Tableau_SSRSMSA03_BI_Integration_STEPH_2010[[#This Row],[DAT_NAISSANCE_ELEVE]]","v":"2001-03-05"},"2009-09-30",3131,8.5722108145106084,{"$f":"IF(AND(LEFT(CO143,1)=\"1\",CS143>5.5),\"V\",IF(AND(LEFT(CO143,1)=\"2\",CS143>6.5),\"V\",IF(AND(LEFT(CO143,1)=\"3\",CS143>7.5),\"V\",IF(AND(LEFT(CO143,1)=\"4\",CS143>8.5),\"V\",IF(AND(LEFT(CO143,1)=\"5\",CS143>9.5),\"V\",IF(AND(LEFT(CO143,1)=\"6\",CS143>10.5),\"V\",\"J\"))))))","v":"J"},{"$f":"IF(AJ143=0,0,IF(BH143=0,0,1))","v":1}]
["2010","001","506",null,null,0,"1999-10-30",null,null,"M",85,70,0,70,85,85,90,90,90,0,0,95,0,0,0,0,90,95,0,90,90,95,95,95,90,95,95,95,0,0,0,0,85,85,0,95,90,80,75,90,90,90,80,90,0,0,0,0,92,95,0,82,88,90,90,85,90,95,90,90,84,93,92,91,null,51.666666666666664,87.5,0,91.666666666666671,93.75,93.75,0,88.333333333333329,83.75,87.5,0,89.75,null,null,null,"001506","0.100","50",{"$f":"Tableau_SSRSMSA03_BI_Integration_STEPH_2010[[#This Row],[DAT_NAISSANCE_ELEVE]]","v":"1999-10-30"},"2009-09-30",3623,9.9192334017796036,{"$f":"IF(AND(LEFT(CO144,1)=\"1\",CS144>5.5),\"V\",IF(AND(LEFT(CO144,1)=\"2\",CS144>6.5),\"V\",IF(AND(LEFT(CO144,1)=\"3\",CS144>7.5),\"V\",IF(AND(LEFT(CO144,1)=\"4\",CS144>8.5),\"V\",IF(AND(LEFT(CO144,1)=\"5\",CS144>9.5),\"V\",IF(AND(LEFT(CO144,1)=\"6\",CS144>10.5),\"V\",\"J\"))))))","v":"V"},{"$f":"IF(AJ144=0,0,IF(BH144=0,0,1))","v":1}]
["2010","001","506",null,null,0,"2000-01-01",null,null,"M",0,0,0,0,0,0,0,0,0,0,0,0,0,0,0,0,0,0,0,0,0,0,0,0,0,0,0,0,0,0,0,0,80,95,0,95,90,85,95,90,85,95,95,90,0,0,0,0,87,85,85,95,0,0,0,0,83,86,96,92,88,86,92,96,null,0,0,0,0,0,0,0,90,90,91.25,0,88,null,null,null,"001506","0.100","50",{"$f":"Tableau_SSRSMSA03_BI_Integration_STEPH_2010[[#This Row],[DAT_NAISSANCE_ELEVE]]","v":"2000-01-01"},"2009-09-30",3560,9.7467488021902806,{"$f":"IF(AND(LEFT(CO145,1)=\"1\",CS145>5.5),\"V\",IF(AND(LEFT(CO145,1)=\"2\",CS145>6.5),\"V\",IF(AND(LEFT(CO145,1)=\"3\",CS145>7.5),\"V\",IF(AND(LEFT(CO145,1)=\"4\",CS145>8.5),\"V\",IF(AND(LEFT(CO145,1)=\"5\",CS145>9.5),\"V\",IF(AND(LEFT(CO145,1)=\"6\",CS145>10.5),\"V\",\"J\"))))))","v":"V"},{"$f":"IF(AJ145=0,0,IF(BH145=0,0,1))","v":0}]
["2010","001","506",null,null,0,"2000-07-07",null,null,"M",75,80,0,70,75,75,75,70,75,85,80,90,0,0,0,0,70,65,0,80,75,85,90,70,75,85,70,80,0,0,0,0,70,85,0,85,85,70,60,80,80,70,70,75,0,0,0,0,74,70,0,78,86,75,76,76,78,72,84,79,76,79,84,91,null,48.333333333333336,73.75,82.5,71.666666666666671,80,77.5,0,80,73.75,73.75,0,74.5,null,null,null,"001506","0.100","50",{"$f":"Tableau_SSRSMSA03_BI_Integration_STEPH_2010[[#This Row],[DAT_NAISSANCE_ELEVE]]","v":"2000-07-07"},"2009-09-30",3372,9.2320328542094447,{"$f":"IF(AND(LEFT(CO146,1)=\"1\",CS146>5.5),\"V\",IF(AND(LEFT(CO146,1)=\"2\",CS146>6.5),\"V\",IF(AND(LEFT(CO146,1)=\"3\",CS146>7.5),\"V\",IF(AND(LEFT(CO146,1)=\"4\",CS146>8.5),\"V\",IF(AND(LEFT(CO146,1)=\"5\",CS146>9.5),\"V\",IF(AND(LEFT(CO146,1)=\"6\",CS146>10.5),\"V\",\"J\"))))))","v":"J"},{"$f":"IF(AJ146=0,0,IF(BH146=0,0,1))","v":1}]
["2010","001","506",null,null,0,"2000-05-16",null,null,"F",0,0,0,0,0,0,0,0,0,0,0,0,0,0,0,0,80,90,0,90,80,75,90,80,85,90,70,85,0,0,0,0,75,75,0,80,80,75,95,90,85,80,80,70,0,0,0,0,82,82,70,68,0,0,0,0,78,89,75,66,84,84,64,73,null,0,0,0,86.666666666666671,81.25,82.5,0,76.666666666666671,85,78.75,0,75.5,null,null,null,"001506","0.100","50",{"$f":"Tableau_SSRSMSA03_BI_Integration_STEPH_2010[[#This Row],[DAT_NAISSANCE_ELEVE]]","v":"2000-05-16"},"2009-09-30",3424,9.3744010951403141,{"$f":"IF(AND(LEFT(CO147,1)=\"1\",CS147>5.5),\"V\",IF(AND(LEFT(CO147,1)=\"2\",CS147>6.5),\"V\",IF(AND(LEFT(CO147,1)=\"3\",CS147>7.5),\"V\",IF(AND(LEFT(CO147,1)=\"4\",CS147>8.5),\"V\",IF(AND(LEFT(CO147,1)=\"5\",CS147>9.5),\"V\",IF(AND(LEFT(CO147,1)=\"6\",CS147>10.5),\"V\",\"J\"))))))","v":"J"},{"$f":"IF(AJ147=0,0,IF(BH147=0,0,1))","v":1}]
["2010","001","506",null,null,0,"2000-02-23",null,null,"M",80,85,0,90,85,85,80,90,80,75,80,85,0,0,0,0,80,80,0,85,85,75,90,90,85,90,90,95,0,0,0,0,80,70,0,90,85,75,80,85,85,75,95,90,0,0,0,0,79,76,70,88,0,0,0,0,81,79,89,79,76,82,92,97,null,56.666666666666664,85,80,81.666666666666671,85,90,0,80,81.25,86.25,0,78.25,null,null,null,"001506","0.100","50",{"$f":"Tableau_SSRSMSA03_BI_Integration_STEPH_2010[[#This Row],[DAT_NAISSANCE_ELEVE]]","v":"2000-02-23"},"2009-09-30",3507,9.6016427104722801,{"$f":"IF(AND(LEFT(CO148,1)=\"1\",CS148>5.5),\"V\",IF(AND(LEFT(CO148,1)=\"2\",CS148>6.5),\"V\",IF(AND(LEFT(CO148,1)=\"3\",CS148>7.5),\"V\",IF(AND(LEFT(CO148,1)=\"4\",CS148>8.5),\"V\",IF(AND(LEFT(CO148,1)=\"5\",CS148>9.5),\"V\",IF(AND(LEFT(CO148,1)=\"6\",CS148>10.5),\"V\",\"J\"))))))","v":"V"},{"$f":"IF(AJ148=0,0,IF(BH148=0,0,1))","v":1}]
["2010","001","506",null,null,0,"2000-06-22",null,null,"F",75,70,0,80,75,80,80,75,75,75,80,80,0,0,0,0,75,70,0,80,75,75,80,75,75,70,70,85,0,0,0,0,75,75,0,85,75,70,90,70,75,70,75,75,0,0,0,0,72,68,0,61,75,72,72,61,70,70,80,75,72,71,80,75,null,51.666666666666664,77.5,77.5,75,76.25,75,0,78.333333333333329,76.25,73.75,0,68.25,null,null,null,"001506","0.100","50",{"$f":"Tableau_SSRSMSA03_BI_Integration_STEPH_2010[[#This Row],[DAT_NAISSANCE_ELEVE]]","v":"2000-06-22"},"2009-09-30",3387,9.2731006160164267,{"$f":"IF(AND(LEFT(CO149,1)=\"1\",CS149>5.5),\"V\",IF(AND(LEFT(CO149,1)=\"2\",CS149>6.5),\"V\",IF(AND(LEFT(CO149,1)=\"3\",CS149>7.5),\"V\",IF(AND(LEFT(CO149,1)=\"4\",CS149>8.5),\"V\",IF(AND(LEFT(CO149,1)=\"5\",CS149>9.5),\"V\",IF(AND(LEFT(CO149,1)=\"6\",CS149>10.5),\"V\",\"J\"))))))","v":"J"},{"$f":"IF(AJ149=0,0,IF(BH149=0,0,1))","v":1}]
["2010","001","506",null,null,0,"2000-09-10",null,null,"F",80,75,0,90,85,80,70,80,85,0,0,85,0,0,0,0,85,80,0,90,90,75,80,70,80,80,80,85,0,0,0,0,75,70,0,80,90,70,70,70,85,70,90,80,0,0,0,0,85,77,0,94,81,83,82,91,87,87,93,89,92,89,80,90,null,56.666666666666664,78.75,0,85,78.75,81.25,0,75,75,81.25,0,84.5,null,null,null,"001506","0.100","50",{"$f":"Tableau_SSRSMSA03_BI_Integration_STEPH_2010[[#This Row],[DAT_NAISSANCE_ELEVE]]","v":"2000-09-10"},"2009-09-30",3307,9.0540725530458595,{"$f":"IF(AND(LEFT(CO150,1)=\"1\",CS150>5.5),\"V\",IF(AND(LEFT(CO150,1)=\"2\",CS150>6.5),\"V\",IF(AND(LEFT(CO150,1)=\"3\",CS150>7.5),\"V\",IF(AND(LEFT(CO150,1)=\"4\",CS150>8.5),\"V\",IF(AND(LEFT(CO150,1)=\"5\",CS150>9.5),\"V\",IF(AND(LEFT(CO150,1)=\"6\",CS150>10.5),\"V\",\"J\"))))))","v":"J"},{"$f":"IF(AJ150=0,0,IF(BH150=0,0,1))","v":1}]
["2010","001","506",null,null,0,"2000-02-11",null,null,"M",85,95,0,95,85,85,90,85,85,90,90,95,0,0,0,0,80,80,0,90,80,75,85,90,85,90,85,90,0,0,0,0,85,80,0,90,85,80,95,75,85,75,95,80,0,0,0,0,86,88,0,93,88,81,100,91,80,83,96,95,88,89,92,99,null,60,86.25,90,83.333333333333329,82.5,87.5,0,85,83.75,83.75,0,91.75,null,null,null,"001506","0.100","50",{"$f":"Tableau_SSRSMSA03_BI_Integration_STEPH_2010[[#This Row],[DAT_NAISSANCE_ELEVE]]","v":"2000-02-11"},"2009-09-30",3519,9.6344969199178649,{"$f":"IF(AND(LEFT(CO151,1)=\"1\",CS151>5.5),\"V\",IF(AND(LEFT(CO151,1)=\"2\",CS151>6.5),\"V\",IF(AND(LEFT(CO151,1)=\"3\",CS151>7.5),\"V\",IF(AND(LEFT(CO151,1)=\"4\",CS151>8.5),\"V\",IF(AND(LEFT(CO151,1)=\"5\",CS151>9.5),\"V\",IF(AND(LEFT(CO151,1)=\"6\",CS151>10.5),\"V\",\"J\"))))))","v":"V"},{"$f":"IF(AJ151=0,0,IF(BH151=0,0,1))","v":1}]
["2010","001","506",null,null,0,"1999-08-14",null,null,"F",80,85,0,90,80,90,90,90,90,0,0,75,0,0,0,0,80,85,0,85,85,90,85,90,85,90,90,95,0,0,0,0,85,80,0,90,80,80,85,85,85,75,85,90,0,0,0,0,89,77,0,96,86,87,78,83,85,90,86,91,88,86,92,96,null,56.666666666666664,87.5,0,83.333333333333329,87.5,90,0,85,82.5,83.75,0,85,null,null,null,"001506","0.100","50",{"$f":"Tableau_SSRSMSA03_BI_Integration_STEPH_2010[[#This Row],[DAT_NAISSANCE_ELEVE]]","v":"1999-08-14"},"2009-09-30",3700,10.130047912388775,{"$f":"IF(AND(LEFT(CO152,1)=\"1\",CS152>5.5),\"V\",IF(AND(LEFT(CO152,1)=\"2\",CS152>6.5),\"V\",IF(AND(LEFT(CO152,1)=\"3\",CS152>7.5),\"V\",IF(AND(LEFT(CO152,1)=\"4\",CS152>8.5),\"V\",IF(AND(LEFT(CO152,1)=\"5\",CS152>9.5),\"V\",IF(AND(LEFT(CO152,1)=\"6\",CS152>10.5),\"V\",\"J\"))))))","v":"V"},{"$f":"IF(AJ152=0,0,IF(BH152=0,0,1))","v":1}]
["2010","001","506",null,null,0,"2000-02-27",null,null,"M",0,0,0,0,0,0,0,0,0,0,0,0,0,0,0,0,0,0,0,0,0,0,0,0,0,0,0,0,0,0,0,0,50,80,0,75,70,65,95,80,65,65,90,80,0,0,0,0,72,87,0,86,73,88,80,85,60,60,85,85,60,57,92,84,null,0,0,0,0,0,0,0,68.333333333333329,77.5,75,0,81.25,null,null,null,"001506","0.100","50",{"$f":"Tableau_SSRSMSA03_BI_Integration_STEPH_2010[[#This Row],[DAT_NAISSANCE_ELEVE]]","v":"2000-02-27"},"2009-09-30",3503,9.5906913073237501,{"$f":"IF(AND(LEFT(CO153,1)=\"1\",CS153>5.5),\"V\",IF(AND(LEFT(CO153,1)=\"2\",CS153>6.5),\"V\",IF(AND(LEFT(CO153,1)=\"3\",CS153>7.5),\"V\",IF(AND(LEFT(CO153,1)=\"4\",CS153>8.5),\"V\",IF(AND(LEFT(CO153,1)=\"5\",CS153>9.5),\"V\",IF(AND(LEFT(CO153,1)=\"6\",CS153>10.5),\"V\",\"J\"))))))","v":"V"},{"$f":"IF(AJ153=0,0,IF(BH153=0,0,1))","v":0}]
["2010","001","506",null,null,0,"2000-07-19",null,null,"M",80,80,0,80,80,85,80,80,80,0,0,75,0,0,0,0,85,90,0,90,80,80,85,90,75,85,90,90,0,0,0,0,70,85,0,85,75,60,75,70,80,75,70,75,0,0,0,0,65,79,0,78,62,74,56,75,62,72,76,80,68,93,80,83,null,53.333333333333336,81.25,0,88.333333333333329,83.75,85,0,80,70,75,0,69.5,null,null,null,"001506","0.100","50",{"$f":"Tableau_SSRSMSA03_BI_Integration_STEPH_2010[[#This Row],[DAT_NAISSANCE_ELEVE]]","v":"2000-07-19"},"2009-09-30",3360,9.1991786447638599,{"$f":"IF(AND(LEFT(CO154,1)=\"1\",CS154>5.5),\"V\",IF(AND(LEFT(CO154,1)=\"2\",CS154>6.5),\"V\",IF(AND(LEFT(CO154,1)=\"3\",CS154>7.5),\"V\",IF(AND(LEFT(CO154,1)=\"4\",CS154>8.5),\"V\",IF(AND(LEFT(CO154,1)=\"5\",CS154>9.5),\"V\",IF(AND(LEFT(CO154,1)=\"6\",CS154>10.5),\"V\",\"J\"))))))","v":"J"},{"$f":"IF(AJ154=0,0,IF(BH154=0,0,1))","v":1}]
["2010","001","506",null,null,0,"2000-05-03",null,null,"M",0,0,0,0,0,0,0,0,0,0,0,0,0,0,0,0,0,0,0,0,0,0,0,0,0,0,0,0,0,0,0,0,65,70,0,85,70,65,95,85,70,75,90,85,0,0,0,0,73,77,0,84,76,62,73,80,68,73,79,94,76,79,100,81,null,0,0,0,0,0,0,0,73.333333333333329,78.75,80,0,76.75,null,null,null,"001506","0.100","50",{"$f":"Tableau_SSRSMSA03_BI_Integration_STEPH_2010[[#This Row],[DAT_NAISSANCE_ELEVE]]","v":"2000-05-03"},"2009-09-30",3437,9.4099931553730318,{"$f":"IF(AND(LEFT(CO155,1)=\"1\",CS155>5.5),\"V\",IF(AND(LEFT(CO155,1)=\"2\",CS155>6.5),\"V\",IF(AND(LEFT(CO155,1)=\"3\",CS155>7.5),\"V\",IF(AND(LEFT(CO155,1)=\"4\",CS155>8.5),\"V\",IF(AND(LEFT(CO155,1)=\"5\",CS155>9.5),\"V\",IF(AND(LEFT(CO155,1)=\"6\",CS155>10.5),\"V\",\"J\"))))))","v":"J"},{"$f":"IF(AJ155=0,0,IF(BH155=0,0,1))","v":0}]
["2010","001","507",null,null,0,"1999-12-18",null,null,"F",80,90,0,85,85,90,90,85,80,0,0,90,0,0,0,0,75,80,0,75,80,85,75,75,85,85,80,70,0,0,0,0,70,85,0,70,80,75,60,65,85,75,85,65,0,0,0,0,70,69,0,81,77,80,60,71,83,85,84,83,80,82,80,84,null,55,87.5,0,76.666666666666671,78.75,80,0,75,70,77.5,0,70,null,null,null,"001507","0.100","50",{"$f":"Tableau_SSRSMSA03_BI_Integration_STEPH_2010[[#This Row],[DAT_NAISSANCE_ELEVE]]","v":"1999-12-18"},"2009-09-30",3574,9.7850787132101296,{"$f":"IF(AND(LEFT(CO156,1)=\"1\",CS156>5.5),\"V\",IF(AND(LEFT(CO156,1)=\"2\",CS156>6.5),\"V\",IF(AND(LEFT(CO156,1)=\"3\",CS156>7.5),\"V\",IF(AND(LEFT(CO156,1)=\"4\",CS156>8.5),\"V\",IF(AND(LEFT(CO156,1)=\"5\",CS156>9.5),\"V\",IF(AND(LEFT(CO156,1)=\"6\",CS156>10.5),\"V\",\"J\"))))))","v":"V"},{"$f":"IF(AJ156=0,0,IF(BH156=0,0,1))","v":1}]
["2010","001","507",null,null,0,"2000-08-22",null,null,"M",80,90,0,85,75,95,85,85,75,0,0,80,0,0,0,0,75,80,0,85,75,85,85,60,70,90,70,85,0,0,0,0,80,75,0,70,75,70,60,80,70,90,85,80,0,0,0,0,71,85,0,83,81,85,65,81,72,80,87,70,80,82,72,82,null,55,85,0,80,76.25,78.75,0,75,71.25,81.25,0,76,null,null,null,"001507","0.100","50",{"$f":"Tableau_SSRSMSA03_BI_Integration_STEPH_2010[[#This Row],[DAT_NAISSANCE_ELEVE]]","v":"2000-08-22"},"2009-09-30",3326,9.1060917180013696,{"$f":"IF(AND(LEFT(CO157,1)=\"1\",CS157>5.5),\"V\",IF(AND(LEFT(CO157,1)=\"2\",CS157>6.5),\"V\",IF(AND(LEFT(CO157,1)=\"3\",CS157>7.5),\"V\",IF(AND(LEFT(CO157,1)=\"4\",CS157>8.5),\"V\",IF(AND(LEFT(CO157,1)=\"5\",CS157>9.5),\"V\",IF(AND(LEFT(CO157,1)=\"6\",CS157>10.5),\"V\",\"J\"))))))","v":"J"},{"$f":"IF(AJ157=0,0,IF(BH157=0,0,1))","v":1}]
["2010","001","507",null,null,0,"2000-12-30",null,null,"F",55,55,0,60,60,65,50,55,55,0,0,55,0,0,0,0,60,50,0,60,50,60,75,50,50,55,70,55,0,0,0,0,50,45,0,30,50,30,30,30,65,35,65,30,0,0,0,0,56,57,0,34,47,50,36,27,43,36,39,28,0,0,0,0,null,38.333333333333336,57.5,0,56.666666666666664,58.75,57.5,0,41.666666666666664,35,48.75,0,45.75,null,null,null,"001507","0.100","50",{"$f":"Tableau_SSRSMSA03_BI_Integration_STEPH_2010[[#This Row],[DAT_NAISSANCE_ELEVE]]","v":"2000-12-30"},"2009-09-30",3196,8.7501711156741955,{"$f":"IF(AND(LEFT(CO158,1)=\"1\",CS158>5.5),\"V\",IF(AND(LEFT(CO158,1)=\"2\",CS158>6.5),\"V\",IF(AND(LEFT(CO158,1)=\"3\",CS158>7.5),\"V\",IF(AND(LEFT(CO158,1)=\"4\",CS158>8.5),\"V\",IF(AND(LEFT(CO158,1)=\"5\",CS158>9.5),\"V\",IF(AND(LEFT(CO158,1)=\"6\",CS158>10.5),\"V\",\"J\"))))))","v":"J"},{"$f":"IF(AJ158=0,0,IF(BH158=0,0,1))","v":1}]
["2010","001","507",null,null,0,"2000-09-11",null,null,"M",75,80,0,85,80,80,80,75,75,85,85,85,0,0,0,0,80,80,0,90,75,85,80,85,75,80,80,85,0,0,0,0,75,85,0,90,80,85,90,90,85,75,90,85,0,0,0,0,71,87,0,90,83,82,97,90,74,81,97,95,82,89,92,97,null,53.333333333333336,78.75,82.5,83.333333333333329,81.25,80,0,83.333333333333329,86.25,83.75,0,86.25,null,null,null,"001507","0.100","50",{"$f":"Tableau_SSRSMSA03_BI_Integration_STEPH_2010[[#This Row],[DAT_NAISSANCE_ELEVE]]","v":"2000-09-11"},"2009-09-30",3306,9.0513347022587265,{"$f":"IF(AND(LEFT(CO159,1)=\"1\",CS159>5.5),\"V\",IF(AND(LEFT(CO159,1)=\"2\",CS159>6.5),\"V\",IF(AND(LEFT(CO159,1)=\"3\",CS159>7.5),\"V\",IF(AND(LEFT(CO159,1)=\"4\",CS159>8.5),\"V\",IF(AND(LEFT(CO159,1)=\"5\",CS159>9.5),\"V\",IF(AND(LEFT(CO159,1)=\"6\",CS159>10.5),\"V\",\"J\"))))))","v":"J"},{"$f":"IF(AJ159=0,0,IF(BH159=0,0,1))","v":1}]
["2010","001","507",null,null,0,"1999-04-25",null,null,"F",0,0,0,0,0,0,0,0,0,0,0,0,0,0,0,0,0,0,0,0,0,0,0,0,0,0,0,0,0,0,0,0,55,55,0,30,65,60,50,50,75,70,60,50,0,0,0,0,68,81,0,58,78,77,50,60,70,70,65,65,68,75,60,60,null,0,0,0,0,0,0,0,46.666666666666664,56.25,63.75,0,64.25,null,null,null,"001507","0.100","50",{"$f":"Tableau_SSRSMSA03_BI_Integration_STEPH_2010[[#This Row],[DAT_NAISSANCE_ELEVE]]","v":"1999-04-25"},"2009-09-30",3811,10.433949349760438,{"$f":"IF(AND(LEFT(CO160,1)=\"1\",CS160>5.5),\"V\",IF(AND(LEFT(CO160,1)=\"2\",CS160>6.5),\"V\",IF(AND(LEFT(CO160,1)=\"3\",CS160>7.5),\"V\",IF(AND(LEFT(CO160,1)=\"4\",CS160>8.5),\"V\",IF(AND(LEFT(CO160,1)=\"5\",CS160>9.5),\"V\",IF(AND(LEFT(CO160,1)=\"6\",CS160>10.5),\"V\",\"J\"))))))","v":"V"},{"$f":"IF(AJ160=0,0,IF(BH160=0,0,1))","v":0}]
["2010","001","507",null,null,0,"2000-04-16",null,null,"M",80,75,0,85,80,85,75,80,75,80,80,80,0,0,0,0,75,80,0,80,80,65,95,80,80,70,80,90,0,0,0,0,70,80,0,90,75,70,75,80,80,65,80,80,0,0,0,0,73,75,0,80,76,80,79,74,72,76,71,81,72,79,80,92,null,55,80,78.75,78.333333333333329,80,80,0,80,75,76.25,0,76.75,null,null,null,"001507","0.100","50",{"$f":"Tableau_SSRSMSA03_BI_Integration_STEPH_2010[[#This Row],[DAT_NAISSANCE_ELEVE]]","v":"2000-04-16"},"2009-09-30",3454,9.4565366187542779,{"$f":"IF(AND(LEFT(CO161,1)=\"1\",CS161>5.5),\"V\",IF(AND(LEFT(CO161,1)=\"2\",CS161>6.5),\"V\",IF(AND(LEFT(CO161,1)=\"3\",CS161>7.5),\"V\",IF(AND(LEFT(CO161,1)=\"4\",CS161>8.5),\"V\",IF(AND(LEFT(CO161,1)=\"5\",CS161>9.5),\"V\",IF(AND(LEFT(CO161,1)=\"6\",CS161>10.5),\"V\",\"J\"))))))","v":"J"},{"$f":"IF(AJ161=0,0,IF(BH161=0,0,1))","v":1}]
["2010","001","507",null,null,0,"2000-09-09",null,null,"F",75,70,0,85,75,80,80,80,80,0,0,85,0,0,0,0,80,90,0,85,80,80,75,85,75,80,80,90,0,0,0,0,80,75,0,85,75,70,80,90,80,70,90,75,0,0,0,0,70,77,0,83,68,73,74,77,64,80,78,76,72,79,88,92,null,53.333333333333336,78.75,0,85,80,81.25,0,80,78.75,78.75,0,76,null,null,null,"001507","0.100","50",{"$f":"Tableau_SSRSMSA03_BI_Integration_STEPH_2010[[#This Row],[DAT_NAISSANCE_ELEVE]]","v":"2000-09-09"},"2009-09-30",3308,9.0568104038329906,{"$f":"IF(AND(LEFT(CO162,1)=\"1\",CS162>5.5),\"V\",IF(AND(LEFT(CO162,1)=\"2\",CS162>6.5),\"V\",IF(AND(LEFT(CO162,1)=\"3\",CS162>7.5),\"V\",IF(AND(LEFT(CO162,1)=\"4\",CS162>8.5),\"V\",IF(AND(LEFT(CO162,1)=\"5\",CS162>9.5),\"V\",IF(AND(LEFT(CO162,1)=\"6\",CS162>10.5),\"V\",\"J\"))))))","v":"J"},{"$f":"IF(AJ162=0,0,IF(BH162=0,0,1))","v":1}]
["2010","001","507",null,null,0,"2000-09-17",null,null,"F",75,65,0,60,80,70,60,60,70,0,0,60,0,0,0,0,65,70,0,60,70,80,60,40,75,80,40,40,0,0,0,0,70,65,0,40,70,60,50,50,75,65,40,45,0,0,0,0,77,65,0,57,76,74,40,50,74,65,43,43,57,75,52,47,null,45,67.5,0,65,62.5,58.75,0,58.333333333333336,57.5,56.25,0,59.75,null,null,null,"001507","0.100","50",{"$f":"Tableau_SSRSMSA03_BI_Integration_STEPH_2010[[#This Row],[DAT_NAISSANCE_ELEVE]]","v":"2000-09-17"},"2009-09-30",3300,9.0349075975359341,{"$f":"IF(AND(LEFT(CO163,1)=\"1\",CS163>5.5),\"V\",IF(AND(LEFT(CO163,1)=\"2\",CS163>6.5),\"V\",IF(AND(LEFT(CO163,1)=\"3\",CS163>7.5),\"V\",IF(AND(LEFT(CO163,1)=\"4\",CS163>8.5),\"V\",IF(AND(LEFT(CO163,1)=\"5\",CS163>9.5),\"V\",IF(AND(LEFT(CO163,1)=\"6\",CS163>10.5),\"V\",\"J\"))))))","v":"J"},{"$f":"IF(AJ163=0,0,IF(BH163=0,0,1))","v":1}]
["2010","001","507",null,null,0,"2000-08-31",null,null,"M",85,85,0,85,80,90,85,90,90,85,85,85,0,0,0,0,80,80,0,90,85,85,80,85,85,85,90,90,0,0,0,0,90,90,0,95,85,85,95,85,80,85,90,85,0,0,0,0,83,86,0,90,91,88,95,82,80,86,95,91,84,86,100,88,null,56.666666666666664,86.25,86.25,83.333333333333329,83.75,87.5,0,91.666666666666671,87.5,85,0,88.5,null,null,null,"001507","0.100","50",{"$f":"Tableau_SSRSMSA03_BI_Integration_STEPH_2010[[#This Row],[DAT_NAISSANCE_ELEVE]]","v":"2000-08-31"},"2009-09-30",3317,9.0814510609171801,{"$f":"IF(AND(LEFT(CO164,1)=\"1\",CS164>5.5),\"V\",IF(AND(LEFT(CO164,1)=\"2\",CS164>6.5),\"V\",IF(AND(LEFT(CO164,1)=\"3\",CS164>7.5),\"V\",IF(AND(LEFT(CO164,1)=\"4\",CS164>8.5),\"V\",IF(AND(LEFT(CO164,1)=\"5\",CS164>9.5),\"V\",IF(AND(LEFT(CO164,1)=\"6\",CS164>10.5),\"V\",\"J\"))))))","v":"J"},{"$f":"IF(AJ164=0,0,IF(BH164=0,0,1))","v":1}]
["2010","001","507",null,null,0,"2000-07-02",null,null,"M",75,75,0,85,80,85,85,90,75,0,0,90,0,0,0,0,70,85,0,80,75,85,80,80,75,80,75,85,0,0,0,0,80,85,0,85,70,85,95,85,85,85,80,85,0,0,0,0,76,81,0,83,82,83,90,80,85,90,95,90,84,89,92,87,null,53.333333333333336,85,0,78.333333333333329,80,78.75,0,83.333333333333329,83.75,83.75,0,82.5,null,null,null,"001507","0.100","50",{"$f":"Tableau_SSRSMSA03_BI_Integration_STEPH_2010[[#This Row],[DAT_NAISSANCE_ELEVE]]","v":"2000-07-02"},"2009-09-30",3377,9.245722108145106,{"$f":"IF(AND(LEFT(CO165,1)=\"1\",CS165>5.5),\"V\",IF(AND(LEFT(CO165,1)=\"2\",CS165>6.5),\"V\",IF(AND(LEFT(CO165,1)=\"3\",CS165>7.5),\"V\",IF(AND(LEFT(CO165,1)=\"4\",CS165>8.5),\"V\",IF(AND(LEFT(CO165,1)=\"5\",CS165>9.5),\"V\",IF(AND(LEFT(CO165,1)=\"6\",CS165>10.5),\"V\",\"J\"))))))","v":"J"},{"$f":"IF(AJ165=0,0,IF(BH165=0,0,1))","v":1}]
["2010","001","507",null,null,0,"2000-10-27",null,null,"M",80,85,0,95,85,95,90,85,80,95,90,90,0,0,0,0,80,85,0,85,80,85,85,85,80,90,75,85,0,0,0,0,75,90,0,90,80,85,85,90,80,90,85,90,0,0,0,0,86,86,93,91,0,0,0,0,80,82,84,79,84,82,100,96,null,58.333333333333336,88.75,88.75,83.333333333333329,83.75,82.5,0,85,85,86.25,0,89,null,null,null,"001507","0.100","50",{"$f":"Tableau_SSRSMSA03_BI_Integration_STEPH_2010[[#This Row],[DAT_NAISSANCE_ELEVE]]","v":"2000-10-27"},"2009-09-30",3260,8.9253935660506496,{"$f":"IF(AND(LEFT(CO166,1)=\"1\",CS166>5.5),\"V\",IF(AND(LEFT(CO166,1)=\"2\",CS166>6.5),\"V\",IF(AND(LEFT(CO166,1)=\"3\",CS166>7.5),\"V\",IF(AND(LEFT(CO166,1)=\"4\",CS166>8.5),\"V\",IF(AND(LEFT(CO166,1)=\"5\",CS166>9.5),\"V\",IF(AND(LEFT(CO166,1)=\"6\",CS166>10.5),\"V\",\"J\"))))))","v":"J"},{"$f":"IF(AJ166=0,0,IF(BH166=0,0,1))","v":1}]
["2010","001","507",null,null,0,"2000-06-11",null,null,"F",75,75,0,65,80,85,85,80,80,0,0,55,0,0,0,0,80,70,0,75,75,70,85,70,70,75,70,70,0,0,0,0,60,55,0,60,65,65,55,65,75,75,75,70,0,0,0,0,71,64,0,44,72,72,60,60,67,72,60,69,80,75,52,65,null,46.666666666666664,82.5,0,75,75,71.25,0,58.333333333333336,62.5,73.75,0,59.75,null,null,null,"001507","0.100","50",{"$f":"Tableau_SSRSMSA03_BI_Integration_STEPH_2010[[#This Row],[DAT_NAISSANCE_ELEVE]]","v":"2000-06-11"},"2009-09-30",3398,9.3032169746748803,{"$f":"IF(AND(LEFT(CO167,1)=\"1\",CS167>5.5),\"V\",IF(AND(LEFT(CO167,1)=\"2\",CS167>6.5),\"V\",IF(AND(LEFT(CO167,1)=\"3\",CS167>7.5),\"V\",IF(AND(LEFT(CO167,1)=\"4\",CS167>8.5),\"V\",IF(AND(LEFT(CO167,1)=\"5\",CS167>9.5),\"V\",IF(AND(LEFT(CO167,1)=\"6\",CS167>10.5),\"V\",\"J\"))))))","v":"J"},{"$f":"IF(AJ167=0,0,IF(BH167=0,0,1))","v":1}]
["2010","001","507",null,null,0,"2000-04-27",null,null,"M",65,60,0,75,65,70,70,75,70,70,70,70,0,0,0,0,70,50,0,75,75,55,85,85,75,60,65,80,0,0,0,0,70,65,0,75,75,65,70,80,80,70,75,85,0,0,0,0,72,71,0,74,84,70,65,75,75,80,80,80,72,82,78,83,null,46.666666666666664,70,70,65,75,70,0,70,72.5,77.5,0,70.5,null,null,null,"001507","0.100","50",{"$f":"Tableau_SSRSMSA03_BI_Integration_STEPH_2010[[#This Row],[DAT_NAISSANCE_ELEVE]]","v":"2000-04-27"},"2009-09-30",3443,9.4264202600958242,{"$f":"IF(AND(LEFT(CO168,1)=\"1\",CS168>5.5),\"V\",IF(AND(LEFT(CO168,1)=\"2\",CS168>6.5),\"V\",IF(AND(LEFT(CO168,1)=\"3\",CS168>7.5),\"V\",IF(AND(LEFT(CO168,1)=\"4\",CS168>8.5),\"V\",IF(AND(LEFT(CO168,1)=\"5\",CS168>9.5),\"V\",IF(AND(LEFT(CO168,1)=\"6\",CS168>10.5),\"V\",\"J\"))))))","v":"J"},{"$f":"IF(AJ168=0,0,IF(BH168=0,0,1))","v":1}]
["2010","001","507",null,null,0,"2000-09-24",null,null,"F",80,65,0,70,85,75,65,80,85,0,0,65,0,0,0,0,80,75,0,85,75,80,75,85,70,75,80,80,0,0,0,0,65,70,0,75,70,80,65,80,70,80,85,80,0,0,0,0,62,68,0,68,78,68,65,72,87,85,85,74,68,75,72,86,null,50,76.25,0,80,78.75,76.25,0,70,73.75,78.75,0,65.75,null,null,null,"001507","0.100","50",{"$f":"Tableau_SSRSMSA03_BI_Integration_STEPH_2010[[#This Row],[DAT_NAISSANCE_ELEVE]]","v":"2000-09-24"},"2009-09-30",3293,9.0157426420260087,{"$f":"IF(AND(LEFT(CO169,1)=\"1\",CS169>5.5),\"V\",IF(AND(LEFT(CO169,1)=\"2\",CS169>6.5),\"V\",IF(AND(LEFT(CO169,1)=\"3\",CS169>7.5),\"V\",IF(AND(LEFT(CO169,1)=\"4\",CS169>8.5),\"V\",IF(AND(LEFT(CO169,1)=\"5\",CS169>9.5),\"V\",IF(AND(LEFT(CO169,1)=\"6\",CS169>10.5),\"V\",\"J\"))))))","v":"J"},{"$f":"IF(AJ169=0,0,IF(BH169=0,0,1))","v":1}]
["2010","001","507",null,null,0,"2000-07-25",null,null,"F",80,90,0,90,80,80,95,90,80,85,95,90,0,0,0,0,80,80,0,90,85,95,95,95,85,90,95,90,0,0,0,0,85,85,0,95,80,80,75,90,90,80,95,85,0,0,0,0,86,84,95,94,0,0,0,0,88,86,98,95,80,82,84,91,null,56.666666666666664,86.25,87.5,83.333333333333329,92.5,90,0,88.333333333333329,81.25,87.5,0,89.75,null,null,null,"001507","0.100","50",{"$f":"Tableau_SSRSMSA03_BI_Integration_STEPH_2010[[#This Row],[DAT_NAISSANCE_ELEVE]]","v":"2000-07-25"},"2009-09-30",3354,9.1827515400410675,{"$f":"IF(AND(LEFT(CO170,1)=\"1\",CS170>5.5),\"V\",IF(AND(LEFT(CO170,1)=\"2\",CS170>6.5),\"V\",IF(AND(LEFT(CO170,1)=\"3\",CS170>7.5),\"V\",IF(AND(LEFT(CO170,1)=\"4\",CS170>8.5),\"V\",IF(AND(LEFT(CO170,1)=\"5\",CS170>9.5),\"V\",IF(AND(LEFT(CO170,1)=\"6\",CS170>10.5),\"V\",\"J\"))))))","v":"J"},{"$f":"IF(AJ170=0,0,IF(BH170=0,0,1))","v":1}]
["2010","001","507",null,null,0,"1999-11-26",null,null,"M",90,90,0,85,85,85,90,85,80,85,85,85,0,0,0,0,85,95,0,90,75,80,70,80,85,80,85,80,0,0,0,0,85,85,0,95,85,85,85,95,85,80,90,80,0,0,0,0,81,85,0,87,83,85,90,81,86,87,90,88,92,96,92,82,null,58.333333333333336,86.25,83.75,90,76.25,82.5,0,88.333333333333329,87.5,83.75,0,85.75,null,null,null,"001507","0.100","50",{"$f":"Tableau_SSRSMSA03_BI_Integration_STEPH_2010[[#This Row],[DAT_NAISSANCE_ELEVE]]","v":"1999-11-26"},"2009-09-30",3596,9.8453114305270368,{"$f":"IF(AND(LEFT(CO171,1)=\"1\",CS171>5.5),\"V\",IF(AND(LEFT(CO171,1)=\"2\",CS171>6.5),\"V\",IF(AND(LEFT(CO171,1)=\"3\",CS171>7.5),\"V\",IF(AND(LEFT(CO171,1)=\"4\",CS171>8.5),\"V\",IF(AND(LEFT(CO171,1)=\"5\",CS171>9.5),\"V\",IF(AND(LEFT(CO171,1)=\"6\",CS171>10.5),\"V\",\"J\"))))))","v":"V"},{"$f":"IF(AJ171=0,0,IF(BH171=0,0,1))","v":1}]
["2010","001","507",null,null,0,"2000-08-25",null,null,"M",0,0,0,89,0,0,0,94,0,0,0,94,0,0,0,0,75,80,0,95,80,80,95,85,70,90,95,90,0,0,0,0,65,85,0,95,75,70,95,95,80,80,95,95,0,0,0,0,0,0,0,0,0,0,0,0,0,0,0,0,0,0,0,0,null,0,0,0,83.333333333333329,85,86.25,0,81.666666666666671,83.75,87.5,0,0,null,null,null,"001507","0.100","50",{"$f":"Tableau_SSRSMSA03_BI_Integration_STEPH_2010[[#This Row],[DAT_NAISSANCE_ELEVE]]","v":"2000-08-25"},"2009-09-30",3323,9.0978781656399725,{"$f":"IF(AND(LEFT(CO172,1)=\"1\",CS172>5.5),\"V\",IF(AND(LEFT(CO172,1)=\"2\",CS172>6.5),\"V\",IF(AND(LEFT(CO172,1)=\"3\",CS172>7.5),\"V\",IF(AND(LEFT(CO172,1)=\"4\",CS172>8.5),\"V\",IF(AND(LEFT(CO172,1)=\"5\",CS172>9.5),\"V\",IF(AND(LEFT(CO172,1)=\"6\",CS172>10.5),\"V\",\"J\"))))))","v":"J"},{"$f":"IF(AJ172=0,0,IF(BH172=0,0,1))","v":0}]
["2010","001","507",null,null,0,"1999-11-26",null,null,"M",75,90,0,95,85,95,95,95,95,95,90,95,0,0,0,0,90,90,0,90,90,90,85,90,90,95,90,90,0,0,0,0,90,85,0,95,90,85,95,95,90,90,90,95,0,0,0,0,89,80,0,87,79,82,100,88,91,88,95,96,84,93,80,96,null,56.666666666666664,92.5,93.75,90,88.75,91.25,0,90,91.25,91.25,0,89,null,null,null,"001507","0.100","50",{"$f":"Tableau_SSRSMSA03_BI_Integration_STEPH_2010[[#This Row],[DAT_NAISSANCE_ELEVE]]","v":"1999-11-26"},"2009-09-30",3596,9.8453114305270368,{"$f":"IF(AND(LEFT(CO173,1)=\"1\",CS173>5.5),\"V\",IF(AND(LEFT(CO173,1)=\"2\",CS173>6.5),\"V\",IF(AND(LEFT(CO173,1)=\"3\",CS173>7.5),\"V\",IF(AND(LEFT(CO173,1)=\"4\",CS173>8.5),\"V\",IF(AND(LEFT(CO173,1)=\"5\",CS173>9.5),\"V\",IF(AND(LEFT(CO173,1)=\"6\",CS173>10.5),\"V\",\"J\"))))))","v":"V"},{"$f":"IF(AJ173=0,0,IF(BH173=0,0,1))","v":1}]
["2010","001","507",null,null,0,"1999-10-28",null,null,"M",80,90,0,80,85,85,80,85,80,0,0,90,0,0,0,0,70,80,0,75,75,80,80,75,75,80,85,80,0,0,0,0,80,85,0,80,75,75,70,80,80,80,85,75,0,0,0,0,77,82,0,80,80,87,78,70,73,68,60,82,80,89,80,75,null,53.333333333333336,83.75,0,75,77.5,80,0,81.666666666666671,75,80,0,79.25,null,null,null,"001507","0.100","50",{"$f":"Tableau_SSRSMSA03_BI_Integration_STEPH_2010[[#This Row],[DAT_NAISSANCE_ELEVE]]","v":"1999-10-28"},"2009-09-30",3625,9.9247091033538677,{"$f":"IF(AND(LEFT(CO174,1)=\"1\",CS174>5.5),\"V\",IF(AND(LEFT(CO174,1)=\"2\",CS174>6.5),\"V\",IF(AND(LEFT(CO174,1)=\"3\",CS174>7.5),\"V\",IF(AND(LEFT(CO174,1)=\"4\",CS174>8.5),\"V\",IF(AND(LEFT(CO174,1)=\"5\",CS174>9.5),\"V\",IF(AND(LEFT(CO174,1)=\"6\",CS174>10.5),\"V\",\"J\"))))))","v":"V"},{"$f":"IF(AJ174=0,0,IF(BH174=0,0,1))","v":1}]
["2010","001","507",null,null,0,"2000-09-19",null,null,"M",80,75,0,85,75,75,90,90,80,0,0,90,0,0,0,0,75,75,0,80,75,80,70,80,75,75,75,85,0,0,0,0,80,80,0,80,70,75,80,90,85,90,80,90,0,0,0,0,72,79,72,86,0,0,0,0,72,87,86,73,76,86,80,96,null,55,82.5,0,76.666666666666671,76.25,77.5,0,80,78.75,86.25,0,77.25,null,null,null,"001507","0.100","50",{"$f":"Tableau_SSRSMSA03_BI_Integration_STEPH_2010[[#This Row],[DAT_NAISSANCE_ELEVE]]","v":"2000-09-19"},"2009-09-30",3298,9.02943189596167,{"$f":"IF(AND(LEFT(CO175,1)=\"1\",CS175>5.5),\"V\",IF(AND(LEFT(CO175,1)=\"2\",CS175>6.5),\"V\",IF(AND(LEFT(CO175,1)=\"3\",CS175>7.5),\"V\",IF(AND(LEFT(CO175,1)=\"4\",CS175>8.5),\"V\",IF(AND(LEFT(CO175,1)=\"5\",CS175>9.5),\"V\",IF(AND(LEFT(CO175,1)=\"6\",CS175>10.5),\"V\",\"J\"))))))","v":"J"},{"$f":"IF(AJ175=0,0,IF(BH175=0,0,1))","v":1}]
["2010","001","507",null,null,0,"2000-01-27",null,null,"M",65,70,0,75,55,75,75,70,55,75,70,70,0,0,0,0,75,75,0,80,65,80,75,70,60,70,60,65,0,0,0,0,65,75,0,65,70,75,55,65,75,80,70,55,0,0,0,0,60,74,0,56,55,85,60,63,52,79,70,64,52,82,56,55,null,46.666666666666664,68.75,67.5,76.666666666666671,72.5,63.75,0,68.333333333333329,66.25,70,0,62.5,null,null,null,"001507","0.100","50",{"$f":"Tableau_SSRSMSA03_BI_Integration_STEPH_2010[[#This Row],[DAT_NAISSANCE_ELEVE]]","v":"2000-01-27"},"2009-09-30",3534,9.6755646817248468,{"$f":"IF(AND(LEFT(CO176,1)=\"1\",CS176>5.5),\"V\",IF(AND(LEFT(CO176,1)=\"2\",CS176>6.5),\"V\",IF(AND(LEFT(CO176,1)=\"3\",CS176>7.5),\"V\",IF(AND(LEFT(CO176,1)=\"4\",CS176>8.5),\"V\",IF(AND(LEFT(CO176,1)=\"5\",CS176>9.5),\"V\",IF(AND(LEFT(CO176,1)=\"6\",CS176>10.5),\"V\",\"J\"))))))","v":"V"},{"$f":"IF(AJ176=0,0,IF(BH176=0,0,1))","v":1}]
["2010","001","507",null,null,0,"2000-03-21",null,null,"F",90,90,0,95,90,90,90,90,90,0,0,90,0,0,0,0,90,90,0,90,95,95,95,95,90,95,90,95,0,0,0,0,85,90,0,95,85,85,95,90,95,90,90,90,0,0,0,0,90,83,0,97,97,88,80,90,91,83,87,88,96,96,92,95,null,61.666666666666664,90,0,90,95,92.5,0,90,88.75,91.25,0,87.5,null,null,null,"001507","0.100","50",{"$f":"Tableau_SSRSMSA03_BI_Integration_STEPH_2010[[#This Row],[DAT_NAISSANCE_ELEVE]]","v":"2000-03-21"},"2009-09-30",3480,9.5277207392197134,{"$f":"IF(AND(LEFT(CO177,1)=\"1\",CS177>5.5),\"V\",IF(AND(LEFT(CO177,1)=\"2\",CS177>6.5),\"V\",IF(AND(LEFT(CO177,1)=\"3\",CS177>7.5),\"V\",IF(AND(LEFT(CO177,1)=\"4\",CS177>8.5),\"V\",IF(AND(LEFT(CO177,1)=\"5\",CS177>9.5),\"V\",IF(AND(LEFT(CO177,1)=\"6\",CS177>10.5),\"V\",\"J\"))))))","v":"V"},{"$f":"IF(AJ177=0,0,IF(BH177=0,0,1))","v":1}]
["2010","001","507",null,null,0,"2000-06-25",null,null,"F",85,85,0,95,85,85,95,95,85,85,90,95,0,0,0,0,85,85,0,95,95,95,95,95,90,90,85,95,0,0,0,0,85,90,0,95,90,85,95,90,90,90,85,90,0,0,0,0,88,85,85,90,0,0,0,0,81,87,93,94,92,84,100,100,null,60,90,88.75,88.333333333333329,95,90,0,90,90,88.75,0,87,null,null,null,"001507","0.100","50",{"$f":"Tableau_SSRSMSA03_BI_Integration_STEPH_2010[[#This Row],[DAT_NAISSANCE_ELEVE]]","v":"2000-06-25"},"2009-09-30",3384,9.2648870636550313,{"$f":"IF(AND(LEFT(CO178,1)=\"1\",CS178>5.5),\"V\",IF(AND(LEFT(CO178,1)=\"2\",CS178>6.5),\"V\",IF(AND(LEFT(CO178,1)=\"3\",CS178>7.5),\"V\",IF(AND(LEFT(CO178,1)=\"4\",CS178>8.5),\"V\",IF(AND(LEFT(CO178,1)=\"5\",CS178>9.5),\"V\",IF(AND(LEFT(CO178,1)=\"6\",CS178>10.5),\"V\",\"J\"))))))","v":"J"},{"$f":"IF(AJ178=0,0,IF(BH178=0,0,1))","v":1}]
["2010","001","507",null,null,0,"2000-05-27",null,null,"M",80,90,0,90,80,95,95,95,85,0,0,90,0,0,0,0,75,85,0,80,75,85,80,85,80,85,80,85,0,0,0,0,85,95,0,95,80,90,90,95,85,85,90,90,0,0,0,0,0,0,0,0,0,0,0,0,0,0,0,0,0,0,0,0,null,56.666666666666664,91.25,0,80,81.25,82.5,0,91.666666666666671,88.75,87.5,0,0,null,null,null,"001507","0.100","50",{"$f":"Tableau_SSRSMSA03_BI_Integration_STEPH_2010[[#This Row],[DAT_NAISSANCE_ELEVE]]","v":"2000-05-27"},"2009-09-30",3413,9.3442847364818622,{"$f":"IF(AND(LEFT(CO179,1)=\"1\",CS179>5.5),\"V\",IF(AND(LEFT(CO179,1)=\"2\",CS179>6.5),\"V\",IF(AND(LEFT(CO179,1)=\"3\",CS179>7.5),\"V\",IF(AND(LEFT(CO179,1)=\"4\",CS179>8.5),\"V\",IF(AND(LEFT(CO179,1)=\"5\",CS179>9.5),\"V\",IF(AND(LEFT(CO179,1)=\"6\",CS179>10.5),\"V\",\"J\"))))))","v":"J"},{"$f":"IF(AJ179=0,0,IF(BH179=0,0,1))","v":0}]
["2010","001","507",null,null,0,"2000-02-09",null,null,"M",80,80,0,85,85,90,90,85,75,0,0,75,0,0,0,0,75,80,0,80,80,75,75,80,80,75,80,80,0,0,0,0,70,85,0,80,70,70,85,75,80,70,70,70,0,0,0,0,72,76,0,76,71,72,65,66,65,65,66,73,76,75,64,73,null,55,87.5,0,78.333333333333329,77.5,78.75,0,78.333333333333329,75,72.5,0,72.25,null,null,null,"001507","0.100","50",{"$f":"Tableau_SSRSMSA03_BI_Integration_STEPH_2010[[#This Row],[DAT_NAISSANCE_ELEVE]]","v":"2000-02-09"},"2009-09-30",3521,9.6399726214921291,{"$f":"IF(AND(LEFT(CO180,1)=\"1\",CS180>5.5),\"V\",IF(AND(LEFT(CO180,1)=\"2\",CS180>6.5),\"V\",IF(AND(LEFT(CO180,1)=\"3\",CS180>7.5),\"V\",IF(AND(LEFT(CO180,1)=\"4\",CS180>8.5),\"V\",IF(AND(LEFT(CO180,1)=\"5\",CS180>9.5),\"V\",IF(AND(LEFT(CO180,1)=\"6\",CS180>10.5),\"V\",\"J\"))))))","v":"V"},{"$f":"IF(AJ180=0,0,IF(BH180=0,0,1))","v":1}]
["2010","001","507",null,null,0,"2000-08-16",null,null,"F",80,95,0,70,80,90,90,85,85,0,0,80,0,0,0,0,80,85,0,85,85,90,80,95,80,90,80,90,0,0,0,0,80,85,0,85,90,80,95,85,85,80,85,90,0,0,0,0,92,72,0,92,92,90,99,95,95,95,95,95,99,93,99,99,null,50,86.25,0,83.333333333333329,87.5,85,0,83.333333333333329,87.5,85,0,88.75,null,null,null,"001507","0.100","50",{"$f":"Tableau_SSRSMSA03_BI_Integration_STEPH_2010[[#This Row],[DAT_NAISSANCE_ELEVE]]","v":"2000-08-16"},"2009-09-30",3332,9.122518822724162,{"$f":"IF(AND(LEFT(CO181,1)=\"1\",CS181>5.5),\"V\",IF(AND(LEFT(CO181,1)=\"2\",CS181>6.5),\"V\",IF(AND(LEFT(CO181,1)=\"3\",CS181>7.5),\"V\",IF(AND(LEFT(CO181,1)=\"4\",CS181>8.5),\"V\",IF(AND(LEFT(CO181,1)=\"5\",CS181>9.5),\"V\",IF(AND(LEFT(CO181,1)=\"6\",CS181>10.5),\"V\",\"J\"))))))","v":"J"},{"$f":"IF(AJ181=0,0,IF(BH181=0,0,1))","v":1}]
["2010","001","601",null,null,0,"1998-11-19",null,null,"F",90,85,0,85,90,90,90,90,85,90,80,90,0,0,0,0,85,85,0,90,90,85,85,90,90,85,80,85,0,0,0,0,80,75,0,85,80,80,85,75,85,75,75,70,0,0,0,0,0,0,0,0,0,0,0,0,0,0,0,0,0,0,0,0,null,58.333333333333336,90,86.25,86.666666666666671,87.5,85,0,80,80,76.25,0,0,null,null,null,"001601","0.100","60",{"$f":"Tableau_SSRSMSA03_BI_Integration_STEPH_2010[[#This Row],[DAT_NAISSANCE_ELEVE]]","v":"1998-11-19"},"2009-09-30",3968,10.863791923340179,{"$f":"IF(AND(LEFT(CO182,1)=\"1\",CS182>5.5),\"V\",IF(AND(LEFT(CO182,1)=\"2\",CS182>6.5),\"V\",IF(AND(LEFT(CO182,1)=\"3\",CS182>7.5),\"V\",IF(AND(LEFT(CO182,1)=\"4\",CS182>8.5),\"V\",IF(AND(LEFT(CO182,1)=\"5\",CS182>9.5),\"V\",IF(AND(LEFT(CO182,1)=\"6\",CS182>10.5),\"V\",\"J\"))))))","v":"V"},{"$f":"IF(AJ182=0,0,IF(BH182=0,0,1))","v":0}]
["2010","001","601",null,null,0,"1998-02-28",null,null,"F",75,75,0,75,75,75,70,85,65,70,70,75,0,0,0,0,55,70,0,65,65,70,65,75,70,75,75,75,0,0,0,0,70,70,0,65,65,70,60,65,75,75,65,60,0,0,0,0,0,0,0,0,0,0,0,0,0,0,0,0,0,0,0,0,null,50,76.25,70,63.333333333333336,68.75,73.75,0,68.333333333333329,65,68.75,0,0,null,null,null,"001601","0.100","60",{"$f":"Tableau_SSRSMSA03_BI_Integration_STEPH_2010[[#This Row],[DAT_NAISSANCE_ELEVE]]","v":"1998-02-28"},"2009-09-30",4232,11.586584531143053,{"$f":"IF(AND(LEFT(CO183,1)=\"1\",CS183>5.5),\"V\",IF(AND(LEFT(CO183,1)=\"2\",CS183>6.5),\"V\",IF(AND(LEFT(CO183,1)=\"3\",CS183>7.5),\"V\",IF(AND(LEFT(CO183,1)=\"4\",CS183>8.5),\"V\",IF(AND(LEFT(CO183,1)=\"5\",CS183>9.5),\"V\",IF(AND(LEFT(CO183,1)=\"6\",CS183>10.5),\"V\",\"J\"))))))","v":"V"},{"$f":"IF(AJ183=0,0,IF(BH183=0,0,1))","v":0}]
["2010","001","601",null,null,0,"1999-10-07",null,null,"F",80,80,0,85,80,75,85,85,80,75,90,85,0,0,0,0,75,65,0,85,80,80,80,85,80,80,70,80,0,0,0,0,80,80,0,90,80,85,85,85,85,85,90,80,0,0,0,0,0,0,0,0,0,0,0,0,0,0,0,0,0,0,0,0,null,55,81.25,82.5,75,81.25,77.5,0,83.333333333333329,83.75,85,0,0,null,null,null,"001601","0.100","60",{"$f":"Tableau_SSRSMSA03_BI_Integration_STEPH_2010[[#This Row],[DAT_NAISSANCE_ELEVE]]","v":"1999-10-07"},"2009-09-30",3646,9.982203969883642,{"$f":"IF(AND(LEFT(CO184,1)=\"1\",CS184>5.5),\"V\",IF(AND(LEFT(CO184,1)=\"2\",CS184>6.5),\"V\",IF(AND(LEFT(CO184,1)=\"3\",CS184>7.5),\"V\",IF(AND(LEFT(CO184,1)=\"4\",CS184>8.5),\"V\",IF(AND(LEFT(CO184,1)=\"5\",CS184>9.5),\"V\",IF(AND(LEFT(CO184,1)=\"6\",CS184>10.5),\"V\",\"J\"))))))","v":"J"},{"$f":"IF(AJ184=0,0,IF(BH184=0,0,1))","v":0}]
["2010","001","601",null,null,0,"1999-11-13",null,null,"F",90,85,0,85,90,85,90,90,85,80,80,85,0,0,0,0,75,80,0,85,80,70,90,85,85,80,95,90,0,0,0,0,75,65,0,80,80,70,85,80,80,75,80,80,0,0,0,0,0,0,0,0,0,0,0,0,0,0,0,0,0,0,0,0,null,58.333333333333336,88.75,82.5,80,81.25,87.5,0,73.333333333333329,78.75,78.75,0,0,null,null,null,"001601","0.100","60",{"$f":"Tableau_SSRSMSA03_BI_Integration_STEPH_2010[[#This Row],[DAT_NAISSANCE_ELEVE]]","v":"1999-11-13"},"2009-09-30",3609,9.8809034907597528,{"$f":"IF(AND(LEFT(CO185,1)=\"1\",CS185>5.5),\"V\",IF(AND(LEFT(CO185,1)=\"2\",CS185>6.5),\"V\",IF(AND(LEFT(CO185,1)=\"3\",CS185>7.5),\"V\",IF(AND(LEFT(CO185,1)=\"4\",CS185>8.5),\"V\",IF(AND(LEFT(CO185,1)=\"5\",CS185>9.5),\"V\",IF(AND(LEFT(CO185,1)=\"6\",CS185>10.5),\"V\",\"J\"))))))","v":"J"},{"$f":"IF(AJ185=0,0,IF(BH185=0,0,1))","v":0}]
["2010","001","601",null,null,0,"1998-11-25",null,null,"F",85,85,0,85,85,80,85,85,90,80,85,80,0,0,0,0,85,90,0,60,90,80,80,75,85,85,75,70,0,0,0,0,85,80,0,70,80,80,80,65,95,85,80,65,0,0,0,0,0,0,0,0,0,0,0,0,0,0,0,0,0,0,0,0,null,56.666666666666664,83.75,83.75,78.333333333333329,81.25,78.75,0,78.333333333333329,76.25,81.25,0,0,null,null,null,"001601","0.100","60",{"$f":"Tableau_SSRSMSA03_BI_Integration_STEPH_2010[[#This Row],[DAT_NAISSANCE_ELEVE]]","v":"1998-11-25"},"2009-09-30",3962,10.847364818617386,{"$f":"IF(AND(LEFT(CO186,1)=\"1\",CS186>5.5),\"V\",IF(AND(LEFT(CO186,1)=\"2\",CS186>6.5),\"V\",IF(AND(LEFT(CO186,1)=\"3\",CS186>7.5),\"V\",IF(AND(LEFT(CO186,1)=\"4\",CS186>8.5),\"V\",IF(AND(LEFT(CO186,1)=\"5\",CS186>9.5),\"V\",IF(AND(LEFT(CO186,1)=\"6\",CS186>10.5),\"V\",\"J\"))))))","v":"V"},{"$f":"IF(AJ186=0,0,IF(BH186=0,0,1))","v":0}]
["2010","001","601",null,null,0,"1999-04-25",null,null,"M",80,95,0,85,85,85,85,90,80,85,80,85,0,0,0,0,80,80,0,75,75,85,65,85,75,85,95,85,0,0,0,0,80,75,0,90,85,85,95,75,85,85,90,70,0,0,0,0,0,0,0,0,0,0,0,0,0,0,0,0,0,0,0,0,null,55,86.25,82.5,78.333333333333329,77.5,85,0,81.666666666666671,85,82.5,0,0,null,null,null,"001601","0.100","60",{"$f":"Tableau_SSRSMSA03_BI_Integration_STEPH_2010[[#This Row],[DAT_NAISSANCE_ELEVE]]","v":"1999-04-25"},"2009-09-30",3811,10.433949349760438,{"$f":"IF(AND(LEFT(CO187,1)=\"1\",CS187>5.5),\"V\",IF(AND(LEFT(CO187,1)=\"2\",CS187>6.5),\"V\",IF(AND(LEFT(CO187,1)=\"3\",CS187>7.5),\"V\",IF(AND(LEFT(CO187,1)=\"4\",CS187>8.5),\"V\",IF(AND(LEFT(CO187,1)=\"5\",CS187>9.5),\"V\",IF(AND(LEFT(CO187,1)=\"6\",CS187>10.5),\"V\",\"J\"))))))","v":"J"},{"$f":"IF(AJ187=0,0,IF(BH187=0,0,1))","v":0}]
["2010","001","601",null,null,0,"1999-09-15",null,null,"M",90,90,0,90,90,90,85,85,85,85,80,85,0,0,0,0,80,75,0,85,90,80,85,75,90,85,85,80,0,0,0,0,80,75,0,85,90,75,90,80,85,85,80,75,0,0,0,0,0,0,0,0,0,0,0,0,0,0,0,0,0,0,0,0,null,60,87.5,83.75,80,82.5,85,0,80,83.75,81.25,0,0,null,null,null,"001601","0.100","60",{"$f":"Tableau_SSRSMSA03_BI_Integration_STEPH_2010[[#This Row],[DAT_NAISSANCE_ELEVE]]","v":"1999-09-15"},"2009-09-30",3668,10.042436687200547,{"$f":"IF(AND(LEFT(CO188,1)=\"1\",CS188>5.5),\"V\",IF(AND(LEFT(CO188,1)=\"2\",CS188>6.5),\"V\",IF(AND(LEFT(CO188,1)=\"3\",CS188>7.5),\"V\",IF(AND(LEFT(CO188,1)=\"4\",CS188>8.5),\"V\",IF(AND(LEFT(CO188,1)=\"5\",CS188>9.5),\"V\",IF(AND(LEFT(CO188,1)=\"6\",CS188>10.5),\"V\",\"J\"))))))","v":"J"},{"$f":"IF(AJ188=0,0,IF(BH188=0,0,1))","v":0}]
["2010","001","601",null,null,0,"1998-11-30",null,null,"M",0,0,0,0,0,0,0,0,0,0,0,0,0,0,0,0,0,0,0,0,0,0,0,0,0,0,0,0,0,0,0,0,40,40,0,55,50,40,60,50,50,50,50,50,0,0,0,0,0,0,57,70,70,44,55,58,64,45,66,54,0,0,0,0,null,0,0,0,0,0,0,0,45,50,50,0,0,null,null,null,"001601","0.100","60",{"$f":"Tableau_SSRSMSA03_BI_Integration_STEPH_2010[[#This Row],[DAT_NAISSANCE_ELEVE]]","v":"1998-11-30"},"2009-09-30",3957,10.833675564681725,{"$f":"IF(AND(LEFT(CO189,1)=\"1\",CS189>5.5),\"V\",IF(AND(LEFT(CO189,1)=\"2\",CS189>6.5),\"V\",IF(AND(LEFT(CO189,1)=\"3\",CS189>7.5),\"V\",IF(AND(LEFT(CO189,1)=\"4\",CS189>8.5),\"V\",IF(AND(LEFT(CO189,1)=\"5\",CS189>9.5),\"V\",IF(AND(LEFT(CO189,1)=\"6\",CS189>10.5),\"V\",\"J\"))))))","v":"V"},{"$f":"IF(AJ189=0,0,IF(BH189=0,0,1))","v":0}]
["2010","001","601",null,null,0,"1998-06-04",null,null,"M",55,55,0,75,55,55,85,85,55,65,65,70,0,0,0,0,50,60,0,70,55,55,55,65,50,60,60,50,0,0,0,0,55,55,0,70,55,50,55,55,60,50,60,50,0,0,0,0,71,83,0,58,59,67,71,67,60,56,115,87,0,0,0,0,null,43.333333333333336,70,63.75,60,57.5,55,0,60,53.75,55,0,70.75,null,null,null,"001601","0.100","60",{"$f":"Tableau_SSRSMSA03_BI_Integration_STEPH_2010[[#This Row],[DAT_NAISSANCE_ELEVE]]","v":"1998-06-04"},"2009-09-30",4136,11.323750855578371,{"$f":"IF(AND(LEFT(CO190,1)=\"1\",CS190>5.5),\"V\",IF(AND(LEFT(CO190,1)=\"2\",CS190>6.5),\"V\",IF(AND(LEFT(CO190,1)=\"3\",CS190>7.5),\"V\",IF(AND(LEFT(CO190,1)=\"4\",CS190>8.5),\"V\",IF(AND(LEFT(CO190,1)=\"5\",CS190>9.5),\"V\",IF(AND(LEFT(CO190,1)=\"6\",CS190>10.5),\"V\",\"J\"))))))","v":"V"},{"$f":"IF(AJ190=0,0,IF(BH190=0,0,1))","v":1}]
["2010","001","601",null,null,0,"1999-05-27",null,null,"M",90,90,0,90,90,90,95,95,95,95,90,95,0,0,0,0,90,90,0,90,95,90,90,95,95,90,95,95,0,0,0,0,90,80,0,90,90,85,85,90,95,90,80,70,0,0,0,0,0,0,0,0,0,0,0,0,0,0,0,0,0,0,0,0,null,60,92.5,93.75,90,92.5,93.75,0,86.666666666666671,87.5,83.75,0,0,null,null,null,"001601","0.100","60",{"$f":"Tableau_SSRSMSA03_BI_Integration_STEPH_2010[[#This Row],[DAT_NAISSANCE_ELEVE]]","v":"1999-05-27"},"2009-09-30",3779,10.346338124572211,{"$f":"IF(AND(LEFT(CO191,1)=\"1\",CS191>5.5),\"V\",IF(AND(LEFT(CO191,1)=\"2\",CS191>6.5),\"V\",IF(AND(LEFT(CO191,1)=\"3\",CS191>7.5),\"V\",IF(AND(LEFT(CO191,1)=\"4\",CS191>8.5),\"V\",IF(AND(LEFT(CO191,1)=\"5\",CS191>9.5),\"V\",IF(AND(LEFT(CO191,1)=\"6\",CS191>10.5),\"V\",\"J\"))))))","v":"J"},{"$f":"IF(AJ191=0,0,IF(BH191=0,0,1))","v":0}]
["2010","001","601",null,null,0,"1999-06-21",null,null,"M",70,75,0,85,90,75,90,90,70,85,80,85,0,0,0,0,65,75,85,75,60,75,80,80,70,75,85,80,0,0,0,0,75,75,0,85,80,70,85,75,85,80,85,75,0,0,0,0,0,0,0,0,0,0,0,0,0,0,0,0,0,0,0,0,null,51.666666666666664,86.25,80,75,73.75,77.5,0,78.333333333333329,77.5,81.25,0,0,null,null,null,"001601","0.100","60",{"$f":"Tableau_SSRSMSA03_BI_Integration_STEPH_2010[[#This Row],[DAT_NAISSANCE_ELEVE]]","v":"1999-06-21"},"2009-09-30",3754,10.277891854893909,{"$f":"IF(AND(LEFT(CO192,1)=\"1\",CS192>5.5),\"V\",IF(AND(LEFT(CO192,1)=\"2\",CS192>6.5),\"V\",IF(AND(LEFT(CO192,1)=\"3\",CS192>7.5),\"V\",IF(AND(LEFT(CO192,1)=\"4\",CS192>8.5),\"V\",IF(AND(LEFT(CO192,1)=\"5\",CS192>9.5),\"V\",IF(AND(LEFT(CO192,1)=\"6\",CS192>10.5),\"V\",\"J\"))))))","v":"J"},{"$f":"IF(AJ192=0,0,IF(BH192=0,0,1))","v":0}]
["2010","001","601",null,null,0,"1999-03-02",null,null,"F",90,90,0,90,95,95,95,95,95,90,85,90,0,0,0,0,90,90,0,90,95,90,90,95,95,90,95,95,0,0,0,0,90,85,0,95,95,85,90,90,95,90,95,90,0,0,0,0,0,0,0,0,0,0,0,0,0,0,0,0,0,0,0,0,null,60,95,90,90,92.5,93.75,0,90,90,92.5,0,0,null,null,null,"001601","0.100","60",{"$f":"Tableau_SSRSMSA03_BI_Integration_STEPH_2010[[#This Row],[DAT_NAISSANCE_ELEVE]]","v":"1999-03-02"},"2009-09-30",3865,10.581793292265571,{"$f":"IF(AND(LEFT(CO193,1)=\"1\",CS193>5.5),\"V\",IF(AND(LEFT(CO193,1)=\"2\",CS193>6.5),\"V\",IF(AND(LEFT(CO193,1)=\"3\",CS193>7.5),\"V\",IF(AND(LEFT(CO193,1)=\"4\",CS193>8.5),\"V\",IF(AND(LEFT(CO193,1)=\"5\",CS193>9.5),\"V\",IF(AND(LEFT(CO193,1)=\"6\",CS193>10.5),\"V\",\"J\"))))))","v":"V"},{"$f":"IF(AJ193=0,0,IF(BH193=0,0,1))","v":0}]
["2010","001","601",null,null,0,"1999-01-04",null,null,"M",80,90,0,90,75,85,80,85,80,80,85,85,0,0,0,0,75,85,0,75,80,80,85,85,80,85,90,85,0,0,0,0,85,85,0,95,80,80,85,80,85,85,95,75,0,0,0,0,0,0,0,0,0,0,0,0,0,0,0,0,0,0,0,0,null,56.666666666666664,81.25,82.5,78.333333333333329,82.5,85,0,88.333333333333329,81.25,85,0,0,null,null,null,{"$f":"IF(LEFT(C194,1)=\"8\",\"\",IF(LEFT(C194,1)=\"9\",\"\",B194&C194))","v":"001601"},{"$f":"VLOOKUP(B194,ecoleTaux,3,FALSE)","v":"0.100"},"60",{"$f":"Tableau_SSRSMSA03_BI_Integration_STEPH_2010[[#This Row],[DAT_NAISSANCE_ELEVE]]","v":"1999-01-04"},"2009-09-30",3922,10.737850787132102,{"$f":"IF(AND(LEFT(CO194,1)=\"1\",CS194>5.5),\"V\",IF(AND(LEFT(CO194,1)=\"2\",CS194>6.5),\"V\",IF(AND(LEFT(CO194,1)=\"3\",CS194>7.5),\"V\",IF(AND(LEFT(CO194,1)=\"4\",CS194>8.5),\"V\",IF(AND(LEFT(CO194,1)=\"5\",CS194>9.5),\"V\",IF(AND(LEFT(CO194,1)=\"6\",CS194>10.5),\"V\",\"J\"))))))","v":"V"},{"$f":"IF(AJ194=0,0,IF(BH194=0,0,1))","v":0}]
["2010","001","601",null,null,0,"1998-09-20",null,null,"M",65,50,0,65,70,65,75,95,65,70,70,85,0,0,0,0,60,55,0,65,50,50,65,60,55,55,55,60,0,0,0,0,55,55,0,60,55,55,70,60,55,55,60,55,0,0,0,0,70,78,65,71,46,76,83,87,54,76,67,70,0,0,0,0,null,{"$f":"IF(L195=0,0,IF(M195=0,AVERAGE(M195,K195,N195),AVERAGE(K195:N195)))","v":43.333333333333336},{"$f":"IF(P195=0,0,IF(Q195=0,AVERAGE(Q195,O195,R195),AVERAGE(O195:R195)))","v":76.25},{"$f":"IF(T195=0,0,IF(U195=0,AVERAGE(T195,S195,V195),AVERAGE(S195:V195)))","v":72.5},{"$f":"IF(AB195=0,0,IF(AC195=0,AVERAGE(AB195,AA195,AD195),AVERAGE(AA195:AD195)))","v":60},{"$f":"IF(AF195=0,0,IF(AG195=0,AVERAGE(AF195,AE195,AH195),AVERAGE(AE195:AH195)))","v":56.25},{"$f":"IF(AJ195=0,0,IF(AK195=0,AVERAGE(AJ195,AI195,AL195),AVERAGE(AI195:AL195)))","v":56.25},{"$f":"IF(AN195=0,0,IF(AO195=0,AVERAGE(AN195,AM195,AP195),AVERAGE(AM195:AP195)))","v":0},{"$f":"IF(AR195=0,0,IF(AS195=0,AVERAGE(AR195,AQ195,AT195),AVERAGE(AQ195:AT195)))","v":56.666666666666664},{"$f":"IF(AV195=0,0,IF(AW195=0,AVERAGE(AV195,AU195,AX195),AVERAGE(AU195:AX195)))","v":60},{"$f":"IF(AZ195=0,0,IF(BA195=0,AVERAGE(AZ195,AY195,BB195),AVERAGE(AY195:BB195)))","v":56.25},{"$f":"IF(BD195=0,0,IF(BE195=0,AVERAGE(BD195,BC195,BF195),AVERAGE(BC195:BF195)))","v":0},{"$f":"IF(BH195=0,0,IF(BI195=0,AVERAGE(BH195,BG195,BJ195,BM195),AVERAGE(BG195:BJ195)))","v":71},null,null,null,"001601","0.100","60",{"$f":"Tableau_SSRSMSA03_BI_Integration_STEPH_2010[[#This Row],[DAT_NAISSANCE_ELEVE]]","v":"1998-09-20"},"2009-09-30",4028,11.028062970568104,{"$f":"IF(AND(LEFT(CO195,1)=\"1\",CS195>5.5),\"V\",IF(AND(LEFT(CO195,1)=\"2\",CS195>6.5),\"V\",IF(AND(LEFT(CO195,1)=\"3\",CS195>7.5),\"V\",IF(AND(LEFT(CO195,1)=\"4\",CS195>8.5),\"V\",IF(AND(LEFT(CO195,1)=\"5\",CS195>9.5),\"V\",IF(AND(LEFT(CO195,1)=\"6\",CS195>10.5),\"V\",\"J\"))))))","v":"V"},{"$f":"IF(AJ195=0,0,IF(BH195=0,0,1))","v":1}]
["2010","001","601",null,null,0,"1998-12-16",null,null,"M",75,85,0,75,75,75,85,85,75,80,75,80,0,0,0,0,60,70,65,70,55,65,75,60,65,75,65,50,0,0,0,0,75,65,0,55,70,75,70,55,70,70,65,50,0,0,0,0,0,0,0,0,0,0,0,0,51,0,0,0,0,0,0,0,null,50,80,77.5,66.25,63.75,63.75,0,65,67.5,63.75,0,0,null,null,null,"001601","0.100","60",{"$f":"Tableau_SSRSMSA03_BI_Integration_STEPH_2010[[#This Row],[DAT_NAISSANCE_ELEVE]]","v":"1998-12-16"},"2009-09-30",3941,10.789869952087612,{"$f":"IF(AND(LEFT(CO196,1)=\"1\",CS196>5.5),\"V\",IF(AND(LEFT(CO196,1)=\"2\",CS196>6.5),\"V\",IF(AND(LEFT(CO196,1)=\"3\",CS196>7.5),\"V\",IF(AND(LEFT(CO196,1)=\"4\",CS196>8.5),\"V\",IF(AND(LEFT(CO196,1)=\"5\",CS196>9.5),\"V\",IF(AND(LEFT(CO196,1)=\"6\",CS196>10.5),\"V\",\"J\"))))))","v":"V"},{"$f":"IF(AJ196=0,0,IF(BH196=0,0,1))","v":0}]
["2010","001","601",null,null,0,"1999-05-04",null,null,"M",85,80,0,90,85,85,90,85,85,85,0,85,0,0,0,0,90,85,0,90,90,80,90,90,90,95,90,95,0,0,0,0,95,80,0,85,95,80,80,80,95,85,90,80,0,0,0,0,0,0,0,0,0,0,0,0,0,0,0,0,0,0,0,0,null,58.333333333333336,86.25,85,88.333333333333329,87.5,92.5,0,86.666666666666671,83.75,87.5,0,0,null,null,null,"001601","0.100","60",{"$f":"Tableau_SSRSMSA03_BI_Integration_STEPH_2010[[#This Row],[DAT_NAISSANCE_ELEVE]]","v":"1999-05-04"},"2009-09-30",3802,10.40930869267625,{"$f":"IF(AND(LEFT(CO197,1)=\"1\",CS197>5.5),\"V\",IF(AND(LEFT(CO197,1)=\"2\",CS197>6.5),\"V\",IF(AND(LEFT(CO197,1)=\"3\",CS197>7.5),\"V\",IF(AND(LEFT(CO197,1)=\"4\",CS197>8.5),\"V\",IF(AND(LEFT(CO197,1)=\"5\",CS197>9.5),\"V\",IF(AND(LEFT(CO197,1)=\"6\",CS197>10.5),\"V\",\"J\"))))))","v":"J"},{"$f":"IF(AJ197=0,0,IF(BH197=0,0,1))","v":0}]
["2010","001","601",null,null,0,"1999-03-01",null,null,"F",0,0,0,0,90,90,80,80,90,85,75,75,0,0,0,0,80,85,0,90,90,90,80,95,90,90,90,85,0,0,0,0,95,85,0,80,90,85,85,85,90,95,85,85,0,0,0,0,0,0,0,0,0,0,0,0,0,0,0,0,0,0,0,0,null,0,85,81.25,85,88.75,88.75,0,86.666666666666671,86.25,88.75,0,0,null,null,null,"001601","0.100",{"$f":"LEFT(C198,2)","v":"60"},{"$f":"Tableau_SSRSMSA03_BI_Integration_STEPH_2010[[#This Row],[DAT_NAISSANCE_ELEVE]]","v":"1999-03-01"},"2009-09-30",{"$f":"DATEDIF(CP198,CQ198,\"d\")","v":3866},{"$f":"CR198/365.25","v":10.584531143052704},{"$f":"IF(AND(LEFT(CO198,1)=\"1\",CS198>5.5),\"V\",IF(AND(LEFT(CO198,1)=\"2\",CS198>6.5),\"V\",IF(AND(LEFT(CO198,1)=\"3\",CS198>7.5),\"V\",IF(AND(LEFT(CO198,1)=\"4\",CS198>8.5),\"V\",IF(AND(LEFT(CO198,1)=\"5\",CS198>9.5),\"V\",IF(AND(LEFT(CO198,1)=\"6\",CS198>10.5),\"V\",\"J\"))))))","v":"V"},{"$f":"IF(AJ198=0,0,IF(BH198=0,0,1))","v":0}]
["2010","001","601",null,null,0,"1999-08-30",null,null,"M",70,80,0,95,80,80,90,95,80,85,90,95,0,0,0,0,65,90,0,90,85,80,75,80,85,80,80,85,0,0,0,0,75,75,0,90,75,75,90,85,75,80,95,85,0,0,0,0,0,0,0,0,0,0,0,0,0,0,0,0,0,0,0,0,null,55,86.25,87.5,81.666666666666671,80,82.5,0,80,81.25,83.75,0,0,null,null,null,"001601","0.100","60",{"$f":"Tableau_SSRSMSA03_BI_Integration_STEPH_2010[[#This Row],[DAT_NAISSANCE_ELEVE]]","v":"1999-08-30"},"2009-09-30",3684,10.086242299794661,{"$f":"IF(AND(LEFT(CO199,1)=\"1\",CS199>5.5),\"V\",IF(AND(LEFT(CO199,1)=\"2\",CS199>6.5),\"V\",IF(AND(LEFT(CO199,1)=\"3\",CS199>7.5),\"V\",IF(AND(LEFT(CO199,1)=\"4\",CS199>8.5),\"V\",IF(AND(LEFT(CO199,1)=\"5\",CS199>9.5),\"V\",IF(AND(LEFT(CO199,1)=\"6\",CS199>10.5),\"V\",\"J\"))))))","v":"J"},{"$f":"IF(AJ199=0,0,IF(BH199=0,0,1))","v":0}]
["2010","001","601",null,null,0,"1999-02-11",null,null,"M",75,80,0,90,75,85,80,80,75,85,95,90,0,0,0,0,65,90,0,75,75,90,80,80,75,70,75,90,0,0,0,0,70,70,0,90,75,75,90,85,80,90,95,90,0,0,0,0,0,0,0,0,0,0,0,0,0,0,0,0,0,0,0,0,null,55,80,86.25,76.666666666666671,81.25,77.5,0,76.666666666666671,81.25,88.75,0,0,null,null,null,"001601","0.100","60",{"$f":"Tableau_SSRSMSA03_BI_Integration_STEPH_2010[[#This Row],[DAT_NAISSANCE_ELEVE]]","v":"1999-02-11"},"2009-09-30",3884,10.633812457221081,{"$f":"IF(AND(LEFT(CO200,1)=\"1\",CS200>5.5),\"V\",IF(AND(LEFT(CO200,1)=\"2\",CS200>6.5),\"V\",IF(AND(LEFT(CO200,1)=\"3\",CS200>7.5),\"V\",IF(AND(LEFT(CO200,1)=\"4\",CS200>8.5),\"V\",IF(AND(LEFT(CO200,1)=\"5\",CS200>9.5),\"V\",IF(AND(LEFT(CO200,1)=\"6\",CS200>10.5),\"V\",\"J\"))))))","v":"V"},{"$f":"IF(AJ200=0,0,IF(BH200=0,0,1))","v":0}]
["2010","001","601",null,null,0,"1999-09-06",null,null,"M",75,80,0,85,70,80,90,85,75,80,90,90,0,0,0,0,65,80,0,90,70,75,75,80,75,75,90,90,0,0,0,0,70,65,0,85,65,70,75,80,65,70,70,70,0,0,0,0,0,0,0,0,0,0,0,0,0,0,0,0,0,0,0,0,null,53.333333333333336,81.25,83.75,78.333333333333329,75,82.5,0,73.333333333333329,72.5,68.75,0,0,null,null,null,"001601","0.100","60",{"$f":"Tableau_SSRSMSA03_BI_Integration_STEPH_2010[[#This Row],[DAT_NAISSANCE_ELEVE]]","v":"1999-09-06"},"2009-09-30",3677,10.067077344284737,{"$f":"IF(AND(LEFT(CO201,1)=\"1\",CS201>5.5),\"V\",IF(AND(LEFT(CO201,1)=\"2\",CS201>6.5),\"V\",IF(AND(LEFT(CO201,1)=\"3\",CS201>7.5),\"V\",IF(AND(LEFT(CO201,1)=\"4\",CS201>8.5),\"V\",IF(AND(LEFT(CO201,1)=\"5\",CS201>9.5),\"V\",IF(AND(LEFT(CO201,1)=\"6\",CS201>10.5),\"V\",\"J\"))))))","v":"J"},{"$f":"IF(AJ201=0,0,IF(BH201=0,0,1))","v":0}]
["2010","001","601",null,null,0,"1999-07-02",null,null,"M",70,75,0,75,75,70,70,75,80,80,70,70,0,0,0,0,60,70,0,60,70,70,70,80,75,75,70,65,0,0,0,0,75,65,0,75,75,70,70,65,75,75,60,60,0,0,0,0,0,0,0,0,0,0,0,0,0,0,0,0,0,0,0,0,null,48.333333333333336,72.5,75,63.333333333333336,72.5,71.25,0,71.666666666666671,70,67.5,0,0,null,null,null,"001601","0.100","60",{"$f":"Tableau_SSRSMSA03_BI_Integration_STEPH_2010[[#This Row],[DAT_NAISSANCE_ELEVE]]","v":"1999-07-02"},"2009-09-30",3743,10.247775496235455,{"$f":"IF(AND(LEFT(CO202,1)=\"1\",CS202>5.5),\"V\",IF(AND(LEFT(CO202,1)=\"2\",CS202>6.5),\"V\",IF(AND(LEFT(CO202,1)=\"3\",CS202>7.5),\"V\",IF(AND(LEFT(CO202,1)=\"4\",CS202>8.5),\"V\",IF(AND(LEFT(CO202,1)=\"5\",CS202>9.5),\"V\",IF(AND(LEFT(CO202,1)=\"6\",CS202>10.5),\"V\",\"J\"))))))","v":"J"},{"$f":"IF(AJ202=0,0,IF(BH202=0,0,1))","v":0}]
["2010","001","601",null,null,0,"1999-04-13",null,null,"F",80,85,0,85,95,80,95,85,80,85,80,85,0,0,0,0,85,85,0,75,85,80,75,75,80,90,60,80,0,0,0,0,85,85,0,75,90,90,95,80,90,85,85,80,0,0,0,0,0,0,0,0,0,0,0,0,0,0,0,0,0,0,0,0,null,55,88.75,82.5,81.666666666666671,78.75,77.5,0,81.666666666666671,88.75,85,0,0,null,null,null,"001601","0.100","60",{"$f":"Tableau_SSRSMSA03_BI_Integration_STEPH_2010[[#This Row],[DAT_NAISSANCE_ELEVE]]","v":"1999-04-13"},"2009-09-30",3823,10.466803559206022,{"$f":"IF(AND(LEFT(CO203,1)=\"1\",CS203>5.5),\"V\",IF(AND(LEFT(CO203,1)=\"2\",CS203>6.5),\"V\",IF(AND(LEFT(CO203,1)=\"3\",CS203>7.5),\"V\",IF(AND(LEFT(CO203,1)=\"4\",CS203>8.5),\"V\",IF(AND(LEFT(CO203,1)=\"5\",CS203>9.5),\"V\",IF(AND(LEFT(CO203,1)=\"6\",CS203>10.5),\"V\",\"J\"))))))","v":"J"},{"$f":"IF(AJ203=0,0,IF(BH203=0,0,1))","v":0}]
["2010","001","601",null,null,0,"1998-10-16",null,null,"F",60,60,0,55,60,70,70,70,60,65,60,60,0,0,0,0,55,75,0,60,60,70,75,80,60,55,80,75,0,0,0,0,65,60,0,60,60,55,60,50,65,60,70,50,0,0,0,0,0,0,0,0,0,0,0,0,0,0,0,0,0,0,0,0,null,38.333333333333336,67.5,61.25,63.333333333333336,71.25,67.5,0,61.666666666666664,56.25,61.25,0,0,null,null,null,"001601","0.100","60",{"$f":"Tableau_SSRSMSA03_BI_Integration_STEPH_2010[[#This Row],[DAT_NAISSANCE_ELEVE]]","v":"1998-10-16"},"2009-09-30",4002,10.956878850102669,{"$f":"IF(AND(LEFT(CO204,1)=\"1\",CS204>5.5),\"V\",IF(AND(LEFT(CO204,1)=\"2\",CS204>6.5),\"V\",IF(AND(LEFT(CO204,1)=\"3\",CS204>7.5),\"V\",IF(AND(LEFT(CO204,1)=\"4\",CS204>8.5),\"V\",IF(AND(LEFT(CO204,1)=\"5\",CS204>9.5),\"V\",IF(AND(LEFT(CO204,1)=\"6\",CS204>10.5),\"V\",\"J\"))))))","v":"V"},{"$f":"IF(AJ204=0,0,IF(BH204=0,0,1))","v":0}]
["2010","001","601",null,null,0,"1999-09-06",null,null,"F",75,65,0,50,85,70,55,70,75,80,50,70,0,0,0,0,60,70,0,55,70,85,75,50,80,85,60,75,0,0,0,0,75,70,0,80,70,75,90,65,85,70,75,55,0,0,0,0,0,0,0,0,0,0,0,0,0,0,0,0,0,0,0,0,null,41.666666666666664,70,68.75,61.666666666666664,70,75,0,75,75,71.25,0,0,null,null,null,"001601","0.100","60",{"$f":"Tableau_SSRSMSA03_BI_Integration_STEPH_2010[[#This Row],[DAT_NAISSANCE_ELEVE]]","v":"1999-09-06"},"2009-09-30",3677,10.067077344284737,{"$f":"IF(AND(LEFT(CO205,1)=\"1\",CS205>5.5),\"V\",IF(AND(LEFT(CO205,1)=\"2\",CS205>6.5),\"V\",IF(AND(LEFT(CO205,1)=\"3\",CS205>7.5),\"V\",IF(AND(LEFT(CO205,1)=\"4\",CS205>8.5),\"V\",IF(AND(LEFT(CO205,1)=\"5\",CS205>9.5),\"V\",IF(AND(LEFT(CO205,1)=\"6\",CS205>10.5),\"V\",\"J\"))))))","v":"J"},{"$f":"IF(AJ205=0,0,IF(BH205=0,0,1))","v":0}]
["2010","001","602",null,null,0,"1998-11-27",null,null,"M",60,75,0,85,75,80,75,75,65,75,70,85,0,0,0,0,60,75,0,55,65,65,75,70,70,80,70,75,0,0,0,0,65,70,0,75,65,60,80,55,70,70,60,65,0,0,0,0,43,80,54,65,48,69,81,80,65,62,79,74,0,0,0,0,null,48.333333333333336,76.25,73.75,63.333333333333336,68.75,73.75,0,70,65,66.25,0,60.5,null,null,null,"001602","0.100","60",{"$f":"Tableau_SSRSMSA03_BI_Integration_STEPH_2010[[#This Row],[DAT_NAISSANCE_ELEVE]]","v":"1998-11-27"},"2009-09-30",3960,10.841889117043122,{"$f":"IF(AND(LEFT(CO206,1)=\"1\",CS206>5.5),\"V\",IF(AND(LEFT(CO206,1)=\"2\",CS206>6.5),\"V\",IF(AND(LEFT(CO206,1)=\"3\",CS206>7.5),\"V\",IF(AND(LEFT(CO206,1)=\"4\",CS206>8.5),\"V\",IF(AND(LEFT(CO206,1)=\"5\",CS206>9.5),\"V\",IF(AND(LEFT(CO206,1)=\"6\",CS206>10.5),\"V\",\"J\"))))))","v":"V"},{"$f":"IF(AJ206=0,0,IF(BH206=0,0,1))","v":1}]
["2010","001","602",null,null,0,"1999-11-25",null,null,"F",75,75,0,85,75,80,85,80,75,75,80,80,0,0,0,0,65,80,0,90,75,75,90,90,80,85,85,75,0,0,0,0,75,80,0,80,70,75,90,80,80,75,75,80,0,0,0,0,0,0,0,0,0,0,0,0,0,0,0,0,0,0,0,0,null,53.333333333333336,80,77.5,78.333333333333329,82.5,81.25,0,78.333333333333329,78.75,77.5,0,0,null,null,null,"001602","0.100","60",{"$f":"Tableau_SSRSMSA03_BI_Integration_STEPH_2010[[#This Row],[DAT_NAISSANCE_ELEVE]]","v":"1999-11-25"},"2009-09-30",3597,9.848049281314168,{"$f":"IF(AND(LEFT(CO207,1)=\"1\",CS207>5.5),\"V\",IF(AND(LEFT(CO207,1)=\"2\",CS207>6.5),\"V\",IF(AND(LEFT(CO207,1)=\"3\",CS207>7.5),\"V\",IF(AND(LEFT(CO207,1)=\"4\",CS207>8.5),\"V\",IF(AND(LEFT(CO207,1)=\"5\",CS207>9.5),\"V\",IF(AND(LEFT(CO207,1)=\"6\",CS207>10.5),\"V\",\"J\"))))))","v":"J"},{"$f":"IF(AJ207=0,0,IF(BH207=0,0,1))","v":0}]
["2010","001","602",null,null,0,"1999-04-29",null,null,"M",80,75,0,75,80,80,75,75,80,80,70,75,0,0,0,0,85,80,0,50,85,70,75,85,85,75,70,70,0,0,0,0,80,70,0,60,85,70,65,65,95,75,50,70,0,0,0,0,0,0,0,0,0,0,0,0,0,0,0,0,0,0,0,0,null,51.666666666666664,77.5,76.25,71.666666666666671,78.75,75,0,70,71.25,72.5,0,0,null,null,null,"001602","0.100","60",{"$f":"Tableau_SSRSMSA03_BI_Integration_STEPH_2010[[#This Row],[DAT_NAISSANCE_ELEVE]]","v":"1999-04-29"},"2009-09-30",3807,10.422997946611909,{"$f":"IF(AND(LEFT(CO208,1)=\"1\",CS208>5.5),\"V\",IF(AND(LEFT(CO208,1)=\"2\",CS208>6.5),\"V\",IF(AND(LEFT(CO208,1)=\"3\",CS208>7.5),\"V\",IF(AND(LEFT(CO208,1)=\"4\",CS208>8.5),\"V\",IF(AND(LEFT(CO208,1)=\"5\",CS208>9.5),\"V\",IF(AND(LEFT(CO208,1)=\"6\",CS208>10.5),\"V\",\"J\"))))))","v":"J"},{"$f":"IF(AJ208=0,0,IF(BH208=0,0,1))","v":0}]
["2010","001","602",null,null,0,"1999-09-06",null,null,"M",0,0,0,0,0,0,0,0,0,0,0,0,0,0,0,0,0,0,0,0,0,0,0,0,0,0,0,0,0,0,0,0,80,80,0,95,90,85,90,90,95,90,95,95,0,0,0,0,0,0,0,0,0,0,0,0,0,0,0,0,0,0,0,0,null,0,0,0,0,0,0,0,85,88.75,93.75,0,0,null,null,null,"001602","0.100","60",{"$f":"Tableau_SSRSMSA03_BI_Integration_STEPH_2010[[#This Row],[DAT_NAISSANCE_ELEVE]]","v":"1999-09-06"},"2009-09-30",3677,10.067077344284737,{"$f":"IF(AND(LEFT(CO209,1)=\"1\",CS209>5.5),\"V\",IF(AND(LEFT(CO209,1)=\"2\",CS209>6.5),\"V\",IF(AND(LEFT(CO209,1)=\"3\",CS209>7.5),\"V\",IF(AND(LEFT(CO209,1)=\"4\",CS209>8.5),\"V\",IF(AND(LEFT(CO209,1)=\"5\",CS209>9.5),\"V\",IF(AND(LEFT(CO209,1)=\"6\",CS209>10.5),\"V\",\"J\"))))))","v":"J"},{"$f":"IF(AJ209=0,0,IF(BH209=0,0,1))","v":0}]
["2010","001","602",null,null,0,"1999-05-20",null,null,"M",0,0,0,0,0,0,0,0,0,0,0,0,0,0,0,0,50,50,0,50,50,50,65,55,60,55,55,60,0,0,0,0,55,65,0,60,50,50,90,70,70,70,55,60,0,0,0,0,0,0,0,0,0,0,0,0,0,0,0,0,0,0,0,0,null,0,0,0,50,55,57.5,0,60,65,63.75,0,0,null,null,null,"001602","0.100","60",{"$f":"Tableau_SSRSMSA03_BI_Integration_STEPH_2010[[#This Row],[DAT_NAISSANCE_ELEVE]]","v":"1999-05-20"},"2009-09-30",3786,10.365503080082135,{"$f":"IF(AND(LEFT(CO210,1)=\"1\",CS210>5.5),\"V\",IF(AND(LEFT(CO210,1)=\"2\",CS210>6.5),\"V\",IF(AND(LEFT(CO210,1)=\"3\",CS210>7.5),\"V\",IF(AND(LEFT(CO210,1)=\"4\",CS210>8.5),\"V\",IF(AND(LEFT(CO210,1)=\"5\",CS210>9.5),\"V\",IF(AND(LEFT(CO210,1)=\"6\",CS210>10.5),\"V\",\"J\"))))))","v":"J"},{"$f":"IF(AJ210=0,0,IF(BH210=0,0,1))","v":0}]
["2010","001","602",null,null,0,"1999-09-10",null,null,"M",85,80,0,85,85,85,90,90,85,80,85,85,0,0,0,0,70,85,0,90,80,80,75,80,75,80,90,85,0,0,0,0,75,85,0,90,90,80,95,90,85,80,95,90,0,0,0,0,0,0,0,0,0,0,0,0,0,0,0,0,0,0,0,0,null,56.666666666666664,87.5,83.75,81.666666666666671,78.75,82.5,0,83.333333333333329,88.75,87.5,0,0,null,null,null,"001602","0.100","60",{"$f":"Tableau_SSRSMSA03_BI_Integration_STEPH_2010[[#This Row],[DAT_NAISSANCE_ELEVE]]","v":"1999-09-10"},"2009-09-30",3673,10.056125941136209,{"$f":"IF(AND(LEFT(CO211,1)=\"1\",CS211>5.5),\"V\",IF(AND(LEFT(CO211,1)=\"2\",CS211>6.5),\"V\",IF(AND(LEFT(CO211,1)=\"3\",CS211>7.5),\"V\",IF(AND(LEFT(CO211,1)=\"4\",CS211>8.5),\"V\",IF(AND(LEFT(CO211,1)=\"5\",CS211>9.5),\"V\",IF(AND(LEFT(CO211,1)=\"6\",CS211>10.5),\"V\",\"J\"))))))","v":"J"},{"$f":"IF(AJ211=0,0,IF(BH211=0,0,1))","v":0}]
["2010","001","602",null,null,0,"1999-03-06",null,null,"M",90,95,0,95,90,95,95,95,95,95,95,95,0,0,0,0,90,90,0,90,95,95,90,95,95,90,95,95,0,0,0,0,95,95,0,95,95,95,95,95,95,95,95,95,0,0,0,0,0,0,0,0,0,0,0,0,0,0,0,0,0,0,0,0,null,61.666666666666664,93.75,95,90,93.75,93.75,0,95,95,95,0,0,null,null,null,"001602","0.100","60",{"$f":"Tableau_SSRSMSA03_BI_Integration_STEPH_2010[[#This Row],[DAT_NAISSANCE_ELEVE]]","v":"1999-03-06"},"2009-09-30",3861,10.570841889117043,{"$f":"IF(AND(LEFT(CO212,1)=\"1\",CS212>5.5),\"V\",IF(AND(LEFT(CO212,1)=\"2\",CS212>6.5),\"V\",IF(AND(LEFT(CO212,1)=\"3\",CS212>7.5),\"V\",IF(AND(LEFT(CO212,1)=\"4\",CS212>8.5),\"V\",IF(AND(LEFT(CO212,1)=\"5\",CS212>9.5),\"V\",IF(AND(LEFT(CO212,1)=\"6\",CS212>10.5),\"V\",\"J\"))))))","v":"V"},{"$f":"IF(AJ212=0,0,IF(BH212=0,0,1))","v":0}]
["2010","001","602",null,null,0,"1999-02-07",null,null,"F",90,90,0,85,90,95,95,90,95,95,90,95,0,0,0,0,85,90,85,90,85,95,90,90,85,85,90,90,0,0,0,0,90,80,0,95,90,80,95,90,95,90,95,95,0,0,0,0,0,0,0,0,0,0,0,0,0,0,0,0,0,0,0,0,null,58.333333333333336,92.5,93.75,87.5,90,87.5,0,88.333333333333329,88.75,93.75,0,0,null,null,null,"001602","0.100","60",{"$f":"Tableau_SSRSMSA03_BI_Integration_STEPH_2010[[#This Row],[DAT_NAISSANCE_ELEVE]]","v":"1999-02-07"},"2009-09-30",3888,10.64476386036961,{"$f":"IF(AND(LEFT(CO213,1)=\"1\",CS213>5.5),\"V\",IF(AND(LEFT(CO213,1)=\"2\",CS213>6.5),\"V\",IF(AND(LEFT(CO213,1)=\"3\",CS213>7.5),\"V\",IF(AND(LEFT(CO213,1)=\"4\",CS213>8.5),\"V\",IF(AND(LEFT(CO213,1)=\"5\",CS213>9.5),\"V\",IF(AND(LEFT(CO213,1)=\"6\",CS213>10.5),\"V\",\"J\"))))))","v":"V"},{"$f":"IF(AJ213=0,0,IF(BH213=0,0,1))","v":0}]
["2010","001","602",null,null,0,"1999-01-14",null,null,"F",80,70,0,85,90,80,85,90,80,85,85,95,0,0,0,0,70,85,0,75,70,80,75,80,65,80,80,75,0,0,0,0,70,80,0,90,80,70,95,85,90,85,90,90,0,0,0,0,0,0,0,0,0,0,0,0,0,0,0,0,0,0,0,0,null,55,86.25,86.25,76.666666666666671,76.25,75,0,80,82.5,88.75,0,0,null,null,null,"001602","0.100","60",{"$f":"Tableau_SSRSMSA03_BI_Integration_STEPH_2010[[#This Row],[DAT_NAISSANCE_ELEVE]]","v":"1999-01-14"},"2009-09-30",3912,10.710472279260781,{"$f":"IF(AND(LEFT(CO214,1)=\"1\",CS214>5.5),\"V\",IF(AND(LEFT(CO214,1)=\"2\",CS214>6.5),\"V\",IF(AND(LEFT(CO214,1)=\"3\",CS214>7.5),\"V\",IF(AND(LEFT(CO214,1)=\"4\",CS214>8.5),\"V\",IF(AND(LEFT(CO214,1)=\"5\",CS214>9.5),\"V\",IF(AND(LEFT(CO214,1)=\"6\",CS214>10.5),\"V\",\"J\"))))))","v":"V"},{"$f":"IF(AJ214=0,0,IF(BH214=0,0,1))","v":0}]
["2010","001","602",null,null,0,"1999-08-27",null,null,"F",55,60,0,70,60,55,50,50,65,60,55,60,0,0,0,0,55,50,0,50,50,55,60,50,60,55,55,55,0,0,0,0,40,55,0,60,55,50,60,60,70,70,65,65,0,0,0,0,0,0,0,0,0,0,0,0,0,0,0,0,0,0,0,0,null,41.666666666666664,53.75,60,51.666666666666664,53.75,56.25,0,51.666666666666664,56.25,67.5,0,0,null,null,null,"001602","0.100","60",{"$f":"Tableau_SSRSMSA03_BI_Integration_STEPH_2010[[#This Row],[DAT_NAISSANCE_ELEVE]]","v":"1999-08-27"},"2009-09-30",3687,10.094455852156058,{"$f":"IF(AND(LEFT(CO215,1)=\"1\",CS215>5.5),\"V\",IF(AND(LEFT(CO215,1)=\"2\",CS215>6.5),\"V\",IF(AND(LEFT(CO215,1)=\"3\",CS215>7.5),\"V\",IF(AND(LEFT(CO215,1)=\"4\",CS215>8.5),\"V\",IF(AND(LEFT(CO215,1)=\"5\",CS215>9.5),\"V\",IF(AND(LEFT(CO215,1)=\"6\",CS215>10.5),\"V\",\"J\"))))))","v":"J"},{"$f":"IF(AJ215=0,0,IF(BH215=0,0,1))","v":0}]
["2010","001","602",null,null,0,"1999-04-25",null,null,"M",85,90,0,90,80,80,70,70,85,90,80,85,0,0,0,0,55,70,0,70,70,65,75,75,75,75,70,75,0,0,0,0,74,80,0,80,75,75,90,80,75,75,85,80,0,0,0,0,0,0,0,0,0,0,0,0,0,0,0,0,0,0,0,0,null,58.333333333333336,75,85,65,71.25,73.75,0,78,80,78.75,0,0,null,null,null,"001602","0.100","60",{"$f":"Tableau_SSRSMSA03_BI_Integration_STEPH_2010[[#This Row],[DAT_NAISSANCE_ELEVE]]","v":"1999-04-25"},"2009-09-30",3811,10.433949349760438,{"$f":"IF(AND(LEFT(CO216,1)=\"1\",CS216>5.5),\"V\",IF(AND(LEFT(CO216,1)=\"2\",CS216>6.5),\"V\",IF(AND(LEFT(CO216,1)=\"3\",CS216>7.5),\"V\",IF(AND(LEFT(CO216,1)=\"4\",CS216>8.5),\"V\",IF(AND(LEFT(CO216,1)=\"5\",CS216>9.5),\"V\",IF(AND(LEFT(CO216,1)=\"6\",CS216>10.5),\"V\",\"J\"))))))","v":"J"},{"$f":"IF(AJ216=0,0,IF(BH216=0,0,1))","v":0}]
["2010","001","602",null,null,0,"1999-03-16",null,null,"M",80,85,0,80,75,70,75,75,75,75,65,75,0,0,0,0,65,85,0,65,70,70,80,80,75,75,80,70,0,0,0,0,70,80,0,85,65,80,80,75,75,85,80,80,0,0,0,0,0,0,0,0,0,0,0,0,0,0,0,0,0,0,0,0,null,53.333333333333336,73.75,72.5,71.666666666666671,75,75,0,78.333333333333329,75,80,0,0,null,null,null,"001602","0.100","60",{"$f":"Tableau_SSRSMSA03_BI_Integration_STEPH_2010[[#This Row],[DAT_NAISSANCE_ELEVE]]","v":"1999-03-16"},"2009-09-30",3851,10.543463381245722,{"$f":"IF(AND(LEFT(CO217,1)=\"1\",CS217>5.5),\"V\",IF(AND(LEFT(CO217,1)=\"2\",CS217>6.5),\"V\",IF(AND(LEFT(CO217,1)=\"3\",CS217>7.5),\"V\",IF(AND(LEFT(CO217,1)=\"4\",CS217>8.5),\"V\",IF(AND(LEFT(CO217,1)=\"5\",CS217>9.5),\"V\",IF(AND(LEFT(CO217,1)=\"6\",CS217>10.5),\"V\",\"J\"))))))","v":"V"},{"$f":"IF(AJ217=0,0,IF(BH217=0,0,1))","v":0}]
["2010","001","602",null,null,0,"1999-06-01",null,null,"M",80,85,0,85,80,80,85,75,80,85,80,90,0,0,0,0,65,80,0,70,75,70,65,75,75,75,80,75,0,0,0,0,65,75,0,85,75,70,65,85,85,70,65,80,0,0,0,0,0,0,0,0,0,0,0,0,0,0,0,0,0,0,0,0,null,55,80,83.75,71.666666666666671,71.25,76.25,0,75,73.75,75,0,0,null,null,null,"001602","0.100","60",{"$f":"Tableau_SSRSMSA03_BI_Integration_STEPH_2010[[#This Row],[DAT_NAISSANCE_ELEVE]]","v":"1999-06-01"},"2009-09-30",3774,10.33264887063655,{"$f":"IF(AND(LEFT(CO218,1)=\"1\",CS218>5.5),\"V\",IF(AND(LEFT(CO218,1)=\"2\",CS218>6.5),\"V\",IF(AND(LEFT(CO218,1)=\"3\",CS218>7.5),\"V\",IF(AND(LEFT(CO218,1)=\"4\",CS218>8.5),\"V\",IF(AND(LEFT(CO218,1)=\"5\",CS218>9.5),\"V\",IF(AND(LEFT(CO218,1)=\"6\",CS218>10.5),\"V\",\"J\"))))))","v":"J"},{"$f":"IF(AJ218=0,0,IF(BH218=0,0,1))","v":0}]
["2010","001","602",null,null,0,"1999-06-28",null,null,"F",0,0,0,0,0,0,0,0,0,0,0,0,0,0,0,0,0,0,0,65,0,0,0,80,0,0,0,80,0,0,0,0,50,65,0,70,60,70,70,70,75,70,80,80,0,0,0,0,0,0,85,85,74,54,78,64,74,53,66,61,0,0,0,0,null,0,0,0,0,0,0,0,61.666666666666664,67.5,76.25,0,0,null,null,null,"001602","0.100","60",{"$f":"Tableau_SSRSMSA03_BI_Integration_STEPH_2010[[#This Row],[DAT_NAISSANCE_ELEVE]]","v":"1999-06-28"},"2009-09-30",3747,10.258726899383984,{"$f":"IF(AND(LEFT(CO219,1)=\"1\",CS219>5.5),\"V\",IF(AND(LEFT(CO219,1)=\"2\",CS219>6.5),\"V\",IF(AND(LEFT(CO219,1)=\"3\",CS219>7.5),\"V\",IF(AND(LEFT(CO219,1)=\"4\",CS219>8.5),\"V\",IF(AND(LEFT(CO219,1)=\"5\",CS219>9.5),\"V\",IF(AND(LEFT(CO219,1)=\"6\",CS219>10.5),\"V\",\"J\"))))))","v":"J"},{"$f":"IF(AJ219=0,0,IF(BH219=0,0,1))","v":0}]
["2010","001","602",null,null,0,"1998-08-30",null,null,"F",70,85,0,80,65,70,75,80,65,75,80,75,0,0,0,0,65,75,75,75,70,60,80,70,65,80,90,65,0,0,0,0,65,75,0,75,70,75,80,70,75,75,80,80,0,0,0,0,71,72,51,42,56,60,66,57,60,60,60,64,0,0,0,0,null,50,72.5,73.75,72.5,70,75,0,71.666666666666671,73.75,77.5,0,59,null,null,null,"001602","0.100","60",{"$f":"Tableau_SSRSMSA03_BI_Integration_STEPH_2010[[#This Row],[DAT_NAISSANCE_ELEVE]]","v":"1998-08-30"},"2009-09-30",4049,11.085557837097879,{"$f":"IF(AND(LEFT(CO220,1)=\"1\",CS220>5.5),\"V\",IF(AND(LEFT(CO220,1)=\"2\",CS220>6.5),\"V\",IF(AND(LEFT(CO220,1)=\"3\",CS220>7.5),\"V\",IF(AND(LEFT(CO220,1)=\"4\",CS220>8.5),\"V\",IF(AND(LEFT(CO220,1)=\"5\",CS220>9.5),\"V\",IF(AND(LEFT(CO220,1)=\"6\",CS220>10.5),\"V\",\"J\"))))))","v":"V"},{"$f":"IF(AJ220=0,0,IF(BH220=0,0,1))","v":1}]
["2010","001","602",null,null,0,"1999-09-15",null,null,"F",65,70,0,70,70,75,80,80,75,70,80,80,0,0,0,0,75,85,0,85,80,75,80,90,80,85,95,90,0,0,0,0,80,65,0,85,75,70,75,80,85,75,85,90,0,0,0,0,0,0,0,0,0,0,0,0,0,0,0,0,0,0,0,0,null,45,76.25,76.25,81.666666666666671,81.25,87.5,0,76.666666666666671,75,83.75,0,0,null,null,null,"001602","0.100","60",{"$f":"Tableau_SSRSMSA03_BI_Integration_STEPH_2010[[#This Row],[DAT_NAISSANCE_ELEVE]]","v":"1999-09-15"},"2009-09-30",3668,10.042436687200547,{"$f":"IF(AND(LEFT(CO221,1)=\"1\",CS221>5.5),\"V\",IF(AND(LEFT(CO221,1)=\"2\",CS221>6.5),\"V\",IF(AND(LEFT(CO221,1)=\"3\",CS221>7.5),\"V\",IF(AND(LEFT(CO221,1)=\"4\",CS221>8.5),\"V\",IF(AND(LEFT(CO221,1)=\"5\",CS221>9.5),\"V\",IF(AND(LEFT(CO221,1)=\"6\",CS221>10.5),\"V\",\"J\"))))))","v":"J"},{"$f":"IF(AJ221=0,0,IF(BH221=0,0,1))","v":0}]
["2010","001","602",null,null,0,"1999-09-06",null,null,"F",75,85,0,75,95,80,80,95,85,90,80,90,0,0,0,0,80,85,0,80,80,75,80,80,80,75,85,85,0,0,0,0,80,85,0,85,80,70,90,90,90,85,90,85,0,0,0,0,0,0,0,0,0,0,0,0,0,0,0,0,0,0,0,0,null,50,87.5,86.25,81.666666666666671,78.75,81.25,0,83.333333333333329,82.5,87.5,0,0,null,null,null,"001602","0.100","60",{"$f":"Tableau_SSRSMSA03_BI_Integration_STEPH_2010[[#This Row],[DAT_NAISSANCE_ELEVE]]","v":"1999-09-06"},"2009-09-30",3677,10.067077344284737,{"$f":"IF(AND(LEFT(CO222,1)=\"1\",CS222>5.5),\"V\",IF(AND(LEFT(CO222,1)=\"2\",CS222>6.5),\"V\",IF(AND(LEFT(CO222,1)=\"3\",CS222>7.5),\"V\",IF(AND(LEFT(CO222,1)=\"4\",CS222>8.5),\"V\",IF(AND(LEFT(CO222,1)=\"5\",CS222>9.5),\"V\",IF(AND(LEFT(CO222,1)=\"6\",CS222>10.5),\"V\",\"J\"))))))","v":"J"},{"$f":"IF(AJ222=0,0,IF(BH222=0,0,1))","v":0}]
["2010","001","602",null,null,0,"1999-06-10",null,null,"F",75,70,0,75,85,85,85,80,85,80,80,75,0,0,0,0,75,85,0,75,80,85,80,85,90,90,85,85,0,0,0,0,85,75,0,90,85,75,70,85,90,80,85,85,0,0,0,0,0,0,0,0,0,0,0,0,0,0,0,0,0,0,0,0,null,50,83.75,80,78.333333333333329,82.5,87.5,0,83.333333333333329,78.75,85,0,0,null,null,null,"001602","0.100","60",{"$f":"Tableau_SSRSMSA03_BI_Integration_STEPH_2010[[#This Row],[DAT_NAISSANCE_ELEVE]]","v":"1999-06-10"},"2009-09-30",3765,10.308008213552361,{"$f":"IF(AND(LEFT(CO223,1)=\"1\",CS223>5.5),\"V\",IF(AND(LEFT(CO223,1)=\"2\",CS223>6.5),\"V\",IF(AND(LEFT(CO223,1)=\"3\",CS223>7.5),\"V\",IF(AND(LEFT(CO223,1)=\"4\",CS223>8.5),\"V\",IF(AND(LEFT(CO223,1)=\"5\",CS223>9.5),\"V\",IF(AND(LEFT(CO223,1)=\"6\",CS223>10.5),\"V\",\"J\"))))))","v":"J"},{"$f":"IF(AJ223=0,0,IF(BH223=0,0,1))","v":0}]
["2010","001","602",null,null,0,"1999-03-21",null,null,"M",0,0,0,0,0,0,0,0,0,0,0,0,0,0,0,0,60,90,0,80,80,90,80,95,80,85,90,85,0,0,0,0,85,80,0,95,85,85,95,95,90,90,95,95,0,0,0,0,0,0,0,0,0,0,0,0,0,0,0,0,0,0,0,0,null,0,0,0,76.666666666666671,86.25,85,0,86.666666666666671,90,92.5,0,0,null,null,null,"001602","0.100","60",{"$f":"Tableau_SSRSMSA03_BI_Integration_STEPH_2010[[#This Row],[DAT_NAISSANCE_ELEVE]]","v":"1999-03-21"},"2009-09-30",3846,10.529774127310061,{"$f":"IF(AND(LEFT(CO224,1)=\"1\",CS224>5.5),\"V\",IF(AND(LEFT(CO224,1)=\"2\",CS224>6.5),\"V\",IF(AND(LEFT(CO224,1)=\"3\",CS224>7.5),\"V\",IF(AND(LEFT(CO224,1)=\"4\",CS224>8.5),\"V\",IF(AND(LEFT(CO224,1)=\"5\",CS224>9.5),\"V\",IF(AND(LEFT(CO224,1)=\"6\",CS224>10.5),\"V\",\"J\"))))))","v":"V"},{"$f":"IF(AJ224=0,0,IF(BH224=0,0,1))","v":0}]
["2010","001","602",null,null,0,"1999-06-28",null,null,"F",90,85,0,85,90,85,90,90,95,85,90,90,0,0,0,0,90,90,85,90,90,80,80,85,95,85,95,75,0,0,0,0,95,85,0,90,90,85,95,90,95,90,90,90,0,0,0,0,0,0,0,0,0,0,0,0,0,0,0,0,0,0,0,0,null,58.333333333333336,88.75,90,88.75,83.75,87.5,0,90,90,91.25,0,0,null,null,null,"001602","0.100","60",{"$f":"Tableau_SSRSMSA03_BI_Integration_STEPH_2010[[#This Row],[DAT_NAISSANCE_ELEVE]]","v":"1999-06-28"},"2009-09-30",3747,10.258726899383984,{"$f":"IF(AND(LEFT(CO225,1)=\"1\",CS225>5.5),\"V\",IF(AND(LEFT(CO225,1)=\"2\",CS225>6.5),\"V\",IF(AND(LEFT(CO225,1)=\"3\",CS225>7.5),\"V\",IF(AND(LEFT(CO225,1)=\"4\",CS225>8.5),\"V\",IF(AND(LEFT(CO225,1)=\"5\",CS225>9.5),\"V\",IF(AND(LEFT(CO225,1)=\"6\",CS225>10.5),\"V\",\"J\"))))))","v":"J"},{"$f":"IF(AJ225=0,0,IF(BH225=0,0,1))","v":0}]
["2010","001","602",null,null,0,"1998-10-07",null,null,"F",95,95,0,95,95,95,90,90,95,95,95,95,0,0,0,0,90,90,0,90,95,95,85,95,95,95,95,95,0,0,0,0,95,95,0,95,95,95,95,95,95,95,95,95,0,0,0,0,0,0,0,0,0,0,0,0,0,0,0,0,0,0,0,0,null,63.333333333333336,92.5,95,90,92.5,95,0,95,95,95,0,0,null,null,null,"001602","0.100","60",{"$f":"Tableau_SSRSMSA03_BI_Integration_STEPH_2010[[#This Row],[DAT_NAISSANCE_ELEVE]]","v":"1998-10-07"},"2009-09-30",4011,10.981519507186858,{"$f":"IF(AND(LEFT(CO226,1)=\"1\",CS226>5.5),\"V\",IF(AND(LEFT(CO226,1)=\"2\",CS226>6.5),\"V\",IF(AND(LEFT(CO226,1)=\"3\",CS226>7.5),\"V\",IF(AND(LEFT(CO226,1)=\"4\",CS226>8.5),\"V\",IF(AND(LEFT(CO226,1)=\"5\",CS226>9.5),\"V\",IF(AND(LEFT(CO226,1)=\"6\",CS226>10.5),\"V\",\"J\"))))))","v":"V"},{"$f":"IF(AJ226=0,0,IF(BH226=0,0,1))","v":0}]
["2010","001","602",null,null,0,"1999-05-07",null,null,"F",75,85,0,60,75,85,75,85,80,80,90,70,0,0,0,0,70,80,0,70,75,70,65,65,85,85,80,70,0,0,0,0,75,70,0,85,80,75,90,75,85,75,80,60,0,0,0,0,0,0,0,0,0,0,0,0,0,0,0,0,0,0,0,0,null,45,80,80,73.333333333333329,68.75,80,0,76.666666666666671,80,75,0,0,null,null,null,"001602","0.100","60",{"$f":"Tableau_SSRSMSA03_BI_Integration_STEPH_2010[[#This Row],[DAT_NAISSANCE_ELEVE]]","v":"1999-05-07"},"2009-09-30",3799,10.401095140314853,{"$f":"IF(AND(LEFT(CO227,1)=\"1\",CS227>5.5),\"V\",IF(AND(LEFT(CO227,1)=\"2\",CS227>6.5),\"V\",IF(AND(LEFT(CO227,1)=\"3\",CS227>7.5),\"V\",IF(AND(LEFT(CO227,1)=\"4\",CS227>8.5),\"V\",IF(AND(LEFT(CO227,1)=\"5\",CS227>9.5),\"V\",IF(AND(LEFT(CO227,1)=\"6\",CS227>10.5),\"V\",\"J\"))))))","v":"J"},{"$f":"IF(AJ227=0,0,IF(BH227=0,0,1))","v":0}]
["2010","001","602",null,null,0,"1999-01-16",null,null,"M",75,75,0,70,75,80,70,70,75,85,80,75,0,0,0,0,70,80,0,70,70,75,65,65,70,75,65,65,0,0,0,0,70,85,0,80,70,85,70,65,80,85,70,60,0,0,0,0,0,0,0,0,0,0,0,0,0,0,0,0,0,0,0,0,null,48.333333333333336,73.75,78.75,73.333333333333329,68.75,68.75,0,78.333333333333329,72.5,73.75,0,0,null,null,null,"001602","0.100","60",{"$f":"Tableau_SSRSMSA03_BI_Integration_STEPH_2010[[#This Row],[DAT_NAISSANCE_ELEVE]]","v":"1999-01-16"},"2009-09-30",3910,10.704996577686517,{"$f":"IF(AND(LEFT(CO228,1)=\"1\",CS228>5.5),\"V\",IF(AND(LEFT(CO228,1)=\"2\",CS228>6.5),\"V\",IF(AND(LEFT(CO228,1)=\"3\",CS228>7.5),\"V\",IF(AND(LEFT(CO228,1)=\"4\",CS228>8.5),\"V\",IF(AND(LEFT(CO228,1)=\"5\",CS228>9.5),\"V\",IF(AND(LEFT(CO228,1)=\"6\",CS228>10.5),\"V\",\"J\"))))))","v":"V"},{"$f":"IF(AJ228=0,0,IF(BH228=0,0,1))","v":0}]
["2010","001","602",null,null,0,"1999-04-10",null,null,"M",75,80,0,90,70,80,90,90,75,80,90,90,0,0,0,0,65,75,0,90,75,85,85,85,75,85,90,90,0,0,0,0,75,80,0,80,75,75,95,80,75,80,95,85,0,0,0,0,0,0,0,0,0,0,0,0,0,0,0,0,0,0,0,0,null,55,82.5,83.75,76.666666666666671,82.5,85,0,78.333333333333329,81.25,83.75,0,0,null,null,null,"001602","0.100","60",{"$f":"Tableau_SSRSMSA03_BI_Integration_STEPH_2010[[#This Row],[DAT_NAISSANCE_ELEVE]]","v":"1999-04-10"},"2009-09-30",3826,10.47501711156742,{"$f":"IF(AND(LEFT(CO229,1)=\"1\",CS229>5.5),\"V\",IF(AND(LEFT(CO229,1)=\"2\",CS229>6.5),\"V\",IF(AND(LEFT(CO229,1)=\"3\",CS229>7.5),\"V\",IF(AND(LEFT(CO229,1)=\"4\",CS229>8.5),\"V\",IF(AND(LEFT(CO229,1)=\"5\",CS229>9.5),\"V\",IF(AND(LEFT(CO229,1)=\"6\",CS229>10.5),\"V\",\"J\"))))))","v":"J"},{"$f":"IF(AJ229=0,0,IF(BH229=0,0,1))","v":0}]
["2010","001","603",null,null,0,"1999-07-08",null,null,"M",85,85,0,85,80,80,80,80,80,85,85,85,0,0,0,0,65,85,0,80,80,80,80,75,80,90,95,90,0,0,0,0,80,85,0,95,80,80,95,85,80,80,90,75,0,0,0,0,77,78,72,84,71,72,85,81,76,78,81,66,0,0,0,0,null,56.666666666666664,80,83.75,76.666666666666671,78.75,88.75,0,86.666666666666671,85,81.25,0,77.75,null,null,null,"001603","0.100","60",{"$f":"Tableau_SSRSMSA03_BI_Integration_STEPH_2010[[#This Row],[DAT_NAISSANCE_ELEVE]]","v":"1999-07-08"},"2009-09-30",3737,10.231348391512663,{"$f":"IF(AND(LEFT(CO230,1)=\"1\",CS230>5.5),\"V\",IF(AND(LEFT(CO230,1)=\"2\",CS230>6.5),\"V\",IF(AND(LEFT(CO230,1)=\"3\",CS230>7.5),\"V\",IF(AND(LEFT(CO230,1)=\"4\",CS230>8.5),\"V\",IF(AND(LEFT(CO230,1)=\"5\",CS230>9.5),\"V\",IF(AND(LEFT(CO230,1)=\"6\",CS230>10.5),\"V\",\"J\"))))))","v":"J"},{"$f":"IF(AJ230=0,0,IF(BH230=0,0,1))","v":1}]
["2010","001","603",null,null,0,"1999-05-21",null,null,"M",90,85,0,90,85,90,80,80,85,90,75,90,0,0,0,0,85,85,85,80,85,80,80,95,90,80,85,85,0,0,0,0,90,90,0,90,90,90,95,80,90,85,90,90,0,0,0,0,0,0,0,0,0,0,0,0,0,0,0,0,0,0,0,0,null,60,83.75,85,83.75,85,85,0,90,88.75,88.75,0,0,null,null,null,"001603","0.100","60",{"$f":"Tableau_SSRSMSA03_BI_Integration_STEPH_2010[[#This Row],[DAT_NAISSANCE_ELEVE]]","v":"1999-05-21"},"2009-09-30",3785,10.362765229295004,{"$f":"IF(AND(LEFT(CO231,1)=\"1\",CS231>5.5),\"V\",IF(AND(LEFT(CO231,1)=\"2\",CS231>6.5),\"V\",IF(AND(LEFT(CO231,1)=\"3\",CS231>7.5),\"V\",IF(AND(LEFT(CO231,1)=\"4\",CS231>8.5),\"V\",IF(AND(LEFT(CO231,1)=\"5\",CS231>9.5),\"V\",IF(AND(LEFT(CO231,1)=\"6\",CS231>10.5),\"V\",\"J\"))))))","v":"J"},{"$f":"IF(AJ231=0,0,IF(BH231=0,0,1))","v":0}]
["2010","001","603",null,null,0,"1999-03-30",null,null,"M",80,75,0,75,80,75,85,80,80,80,85,80,0,0,0,0,80,80,75,90,75,70,75,90,85,85,80,90,0,0,0,0,75,75,0,85,90,75,95,90,80,70,85,75,0,0,0,0,0,0,0,0,0,0,0,0,0,0,0,0,0,0,0,0,null,51.666666666666664,80,81.25,81.25,77.5,85,0,78.333333333333329,87.5,77.5,0,0,null,null,null,"001603","0.100","60",{"$f":"Tableau_SSRSMSA03_BI_Integration_STEPH_2010[[#This Row],[DAT_NAISSANCE_ELEVE]]","v":"1999-03-30"},"2009-09-30",3837,10.505133470225873,{"$f":"IF(AND(LEFT(CO232,1)=\"1\",CS232>5.5),\"V\",IF(AND(LEFT(CO232,1)=\"2\",CS232>6.5),\"V\",IF(AND(LEFT(CO232,1)=\"3\",CS232>7.5),\"V\",IF(AND(LEFT(CO232,1)=\"4\",CS232>8.5),\"V\",IF(AND(LEFT(CO232,1)=\"5\",CS232>9.5),\"V\",IF(AND(LEFT(CO232,1)=\"6\",CS232>10.5),\"V\",\"J\"))))))","v":"V"},{"$f":"IF(AJ232=0,0,IF(BH232=0,0,1))","v":0}]
["2010","001","603",null,null,0,"1998-10-26",null,null,"M",90,85,0,95,95,95,90,90,95,85,95,95,0,0,0,0,90,90,0,90,95,95,75,95,95,95,90,95,0,0,0,0,95,95,0,95,95,90,95,90,95,85,90,85,0,0,0,0,0,0,0,0,0,0,0,0,0,0,0,0,0,0,0,0,null,61.666666666666664,92.5,92.5,90,90,93.75,0,95,92.5,88.75,0,0,null,null,null,"001603","0.100","60",{"$f":"Tableau_SSRSMSA03_BI_Integration_STEPH_2010[[#This Row],[DAT_NAISSANCE_ELEVE]]","v":"1998-10-26"},"2009-09-30",3992,10.929500342231348,{"$f":"IF(AND(LEFT(CO233,1)=\"1\",CS233>5.5),\"V\",IF(AND(LEFT(CO233,1)=\"2\",CS233>6.5),\"V\",IF(AND(LEFT(CO233,1)=\"3\",CS233>7.5),\"V\",IF(AND(LEFT(CO233,1)=\"4\",CS233>8.5),\"V\",IF(AND(LEFT(CO233,1)=\"5\",CS233>9.5),\"V\",IF(AND(LEFT(CO233,1)=\"6\",CS233>10.5),\"V\",\"J\"))))))","v":"V"},{"$f":"IF(AJ233=0,0,IF(BH233=0,0,1))","v":0}]
["2010","001","603",null,null,0,"1999-04-03",null,null,"F",75,85,0,75,90,80,90,95,80,80,80,85,0,0,0,0,75,70,0,90,75,70,80,85,80,80,90,85,0,0,0,0,80,75,0,85,85,90,95,85,85,90,95,90,0,0,0,0,76,69,98,98,78,76,85,83,82,78,83,73,0,0,0,0,null,50,88.75,81.25,78.333333333333329,77.5,83.75,0,80,88.75,90,0,85.25,null,null,null,"001603","0.100","60",{"$f":"Tableau_SSRSMSA03_BI_Integration_STEPH_2010[[#This Row],[DAT_NAISSANCE_ELEVE]]","v":"1999-04-03"},"2009-09-30",3833,10.494182067077345,{"$f":"IF(AND(LEFT(CO234,1)=\"1\",CS234>5.5),\"V\",IF(AND(LEFT(CO234,1)=\"2\",CS234>6.5),\"V\",IF(AND(LEFT(CO234,1)=\"3\",CS234>7.5),\"V\",IF(AND(LEFT(CO234,1)=\"4\",CS234>8.5),\"V\",IF(AND(LEFT(CO234,1)=\"5\",CS234>9.5),\"V\",IF(AND(LEFT(CO234,1)=\"6\",CS234>10.5),\"V\",\"J\"))))))","v":"J"},{"$f":"IF(AJ234=0,0,IF(BH234=0,0,1))","v":1}]
["2010","001","603",null,null,0,"1998-10-14",null,null,"F",80,90,0,90,90,80,90,90,90,90,95,95,0,0,0,0,75,85,0,75,80,85,90,75,85,85,85,85,0,0,0,0,80,85,0,90,90,85,95,85,85,80,95,80,0,0,0,0,0,0,0,0,0,0,0,0,0,0,0,0,0,0,0,0,null,56.666666666666664,87.5,92.5,78.333333333333329,82.5,85,0,85,88.75,85,0,0,null,null,null,"001603","0.100","60",{"$f":"Tableau_SSRSMSA03_BI_Integration_STEPH_2010[[#This Row],[DAT_NAISSANCE_ELEVE]]","v":"1998-10-14"},"2009-09-30",4004,10.962354551676933,{"$f":"IF(AND(LEFT(CO235,1)=\"1\",CS235>5.5),\"V\",IF(AND(LEFT(CO235,1)=\"2\",CS235>6.5),\"V\",IF(AND(LEFT(CO235,1)=\"3\",CS235>7.5),\"V\",IF(AND(LEFT(CO235,1)=\"4\",CS235>8.5),\"V\",IF(AND(LEFT(CO235,1)=\"5\",CS235>9.5),\"V\",IF(AND(LEFT(CO235,1)=\"6\",CS235>10.5),\"V\",\"J\"))))))","v":"V"},{"$f":"IF(AJ235=0,0,IF(BH235=0,0,1))","v":0}]
["2010","001","603",null,null,0,"1999-06-06",null,null,"F",85,85,0,75,85,85,75,75,85,80,70,65,0,0,0,0,80,80,0,70,75,85,75,70,80,80,70,70,0,0,0,0,85,85,0,85,90,80,85,70,85,85,75,75,0,0,0,0,0,0,0,0,0,0,0,0,0,0,0,0,0,0,0,0,null,53.333333333333336,80,75,76.666666666666671,76.25,75,0,85,81.25,80,0,0,null,null,null,"001603","0.100","60",{"$f":"Tableau_SSRSMSA03_BI_Integration_STEPH_2010[[#This Row],[DAT_NAISSANCE_ELEVE]]","v":"1999-06-06"},"2009-09-30",3769,10.318959616700889,{"$f":"IF(AND(LEFT(CO236,1)=\"1\",CS236>5.5),\"V\",IF(AND(LEFT(CO236,1)=\"2\",CS236>6.5),\"V\",IF(AND(LEFT(CO236,1)=\"3\",CS236>7.5),\"V\",IF(AND(LEFT(CO236,1)=\"4\",CS236>8.5),\"V\",IF(AND(LEFT(CO236,1)=\"5\",CS236>9.5),\"V\",IF(AND(LEFT(CO236,1)=\"6\",CS236>10.5),\"V\",\"J\"))))))","v":"J"},{"$f":"IF(AJ236=0,0,IF(BH236=0,0,1))","v":0}]
["2010","001","603",null,null,0,"1999-06-17",null,null,"F",75,70,0,75,75,75,70,75,65,60,65,60,0,0,0,0,55,50,0,50,65,55,70,60,60,60,60,55,0,0,0,0,55,55,0,70,65,60,55,60,65,60,60,60,0,0,0,0,44,52,60,64,60,55,62,61,58,49,125,100,0,0,0,0,null,50,73.75,62.5,51.666666666666664,62.5,58.75,0,60,60,61.25,0,55,null,null,null,"001603","0.100","60",{"$f":"Tableau_SSRSMSA03_BI_Integration_STEPH_2010[[#This Row],[DAT_NAISSANCE_ELEVE]]","v":"1999-06-17"},"2009-09-30",3758,10.288843258042437,{"$f":"IF(AND(LEFT(CO237,1)=\"1\",CS237>5.5),\"V\",IF(AND(LEFT(CO237,1)=\"2\",CS237>6.5),\"V\",IF(AND(LEFT(CO237,1)=\"3\",CS237>7.5),\"V\",IF(AND(LEFT(CO237,1)=\"4\",CS237>8.5),\"V\",IF(AND(LEFT(CO237,1)=\"5\",CS237>9.5),\"V\",IF(AND(LEFT(CO237,1)=\"6\",CS237>10.5),\"V\",\"J\"))))))","v":"J"},{"$f":"IF(AJ237=0,0,IF(BH237=0,0,1))","v":1}]
["2010","001","603",null,null,0,"1999-08-31",null,null,"M",80,80,0,90,85,85,95,95,80,80,95,95,0,0,0,0,70,75,0,85,75,80,85,90,80,80,80,95,0,0,0,0,60,65,0,95,65,70,95,80,65,75,95,85,0,0,0,0,62,57,87,90,68,60,58,75,75,56,77,69,0,0,0,0,null,56.666666666666664,90,87.5,76.666666666666671,82.5,83.75,0,73.333333333333329,77.5,80,0,74,null,null,null,"001603","0.100","60",{"$f":"Tableau_SSRSMSA03_BI_Integration_STEPH_2010[[#This Row],[DAT_NAISSANCE_ELEVE]]","v":"1999-08-31"},"2009-09-30",3683,10.083504449007529,{"$f":"IF(AND(LEFT(CO238,1)=\"1\",CS238>5.5),\"V\",IF(AND(LEFT(CO238,1)=\"2\",CS238>6.5),\"V\",IF(AND(LEFT(CO238,1)=\"3\",CS238>7.5),\"V\",IF(AND(LEFT(CO238,1)=\"4\",CS238>8.5),\"V\",IF(AND(LEFT(CO238,1)=\"5\",CS238>9.5),\"V\",IF(AND(LEFT(CO238,1)=\"6\",CS238>10.5),\"V\",\"J\"))))))","v":"J"},{"$f":"IF(AJ238=0,0,IF(BH238=0,0,1))","v":1}]
["2010","001","603",null,null,0,"1999-08-22",null,null,"F",80,80,0,80,85,80,60,60,75,80,65,75,0,0,0,0,55,65,0,60,70,70,75,65,85,75,75,70,0,0,0,0,70,70,0,60,65,55,70,50,65,70,80,65,0,0,0,0,60,54,63,69,55,60,71,67,64,58,69,55,0,0,0,0,null,53.333333333333336,71.25,73.75,60,70,76.25,0,66.666666666666671,60,70,0,61.5,null,null,null,"001603","0.100","60",{"$f":"Tableau_SSRSMSA03_BI_Integration_STEPH_2010[[#This Row],[DAT_NAISSANCE_ELEVE]]","v":"1999-08-22"},"2009-09-30",3692,10.108145106091717,{"$f":"IF(AND(LEFT(CO239,1)=\"1\",CS239>5.5),\"V\",IF(AND(LEFT(CO239,1)=\"2\",CS239>6.5),\"V\",IF(AND(LEFT(CO239,1)=\"3\",CS239>7.5),\"V\",IF(AND(LEFT(CO239,1)=\"4\",CS239>8.5),\"V\",IF(AND(LEFT(CO239,1)=\"5\",CS239>9.5),\"V\",IF(AND(LEFT(CO239,1)=\"6\",CS239>10.5),\"V\",\"J\"))))))","v":"J"},{"$f":"IF(AJ239=0,0,IF(BH239=0,0,1))","v":1}]
["2010","001","603",null,null,0,"1999-02-05",null,null,"M",80,95,0,90,90,90,95,95,80,80,85,90,0,0,0,0,80,80,70,90,85,75,80,85,85,90,95,80,0,0,0,0,90,85,0,95,85,85,85,90,80,85,90,90,0,0,0,0,0,0,0,0,0,0,0,0,0,0,0,0,0,0,0,0,null,56.666666666666664,92.5,83.75,80,81.25,87.5,0,90,86.25,86.25,0,0,null,null,null,"001603","0.100","60",{"$f":"Tableau_SSRSMSA03_BI_Integration_STEPH_2010[[#This Row],[DAT_NAISSANCE_ELEVE]]","v":"1999-02-05"},"2009-09-30",3890,10.650239561943874,{"$f":"IF(AND(LEFT(CO240,1)=\"1\",CS240>5.5),\"V\",IF(AND(LEFT(CO240,1)=\"2\",CS240>6.5),\"V\",IF(AND(LEFT(CO240,1)=\"3\",CS240>7.5),\"V\",IF(AND(LEFT(CO240,1)=\"4\",CS240>8.5),\"V\",IF(AND(LEFT(CO240,1)=\"5\",CS240>9.5),\"V\",IF(AND(LEFT(CO240,1)=\"6\",CS240>10.5),\"V\",\"J\"))))))","v":"V"},{"$f":"IF(AJ240=0,0,IF(BH240=0,0,1))","v":0}]
["2010","001","603",null,null,0,"1999-05-11",null,null,"F",90,90,0,90,90,95,85,90,90,90,90,90,0,0,0,0,85,90,0,80,95,80,85,85,95,90,90,90,0,0,0,0,95,90,0,95,95,90,95,90,95,90,95,85,0,0,0,0,0,0,0,0,0,0,0,0,0,0,0,0,0,0,0,0,null,60,90,90,85,86.25,91.25,0,93.333333333333329,92.5,91.25,0,0,null,null,null,"001603","0.100","60",{"$f":"Tableau_SSRSMSA03_BI_Integration_STEPH_2010[[#This Row],[DAT_NAISSANCE_ELEVE]]","v":"1999-05-11"},"2009-09-30",3795,10.390143737166325,{"$f":"IF(AND(LEFT(CO241,1)=\"1\",CS241>5.5),\"V\",IF(AND(LEFT(CO241,1)=\"2\",CS241>6.5),\"V\",IF(AND(LEFT(CO241,1)=\"3\",CS241>7.5),\"V\",IF(AND(LEFT(CO241,1)=\"4\",CS241>8.5),\"V\",IF(AND(LEFT(CO241,1)=\"5\",CS241>9.5),\"V\",IF(AND(LEFT(CO241,1)=\"6\",CS241>10.5),\"V\",\"J\"))))))","v":"J"},{"$f":"IF(AJ241=0,0,IF(BH241=0,0,1))","v":0}]
["2010","001","603",null,null,0,"1999-09-21",null,null,"F",75,75,0,75,80,70,85,80,80,75,80,75,0,0,0,0,70,80,0,65,85,75,80,80,80,85,90,80,0,0,0,0,70,65,0,85,85,70,85,75,85,80,80,75,0,0,0,0,80,57,61,90,81,60,83,72,60,68,60,78,0,0,0,0,null,50,78.75,77.5,71.666666666666671,80,83.75,0,73.333333333333329,78.75,80,0,72,null,null,null,"001603","0.100","60",{"$f":"Tableau_SSRSMSA03_BI_Integration_STEPH_2010[[#This Row],[DAT_NAISSANCE_ELEVE]]","v":"1999-09-21"},"2009-09-30",3662,10.026009582477755,{"$f":"IF(AND(LEFT(CO242,1)=\"1\",CS242>5.5),\"V\",IF(AND(LEFT(CO242,1)=\"2\",CS242>6.5),\"V\",IF(AND(LEFT(CO242,1)=\"3\",CS242>7.5),\"V\",IF(AND(LEFT(CO242,1)=\"4\",CS242>8.5),\"V\",IF(AND(LEFT(CO242,1)=\"5\",CS242>9.5),\"V\",IF(AND(LEFT(CO242,1)=\"6\",CS242>10.5),\"V\",\"J\"))))))","v":"J"},{"$f":"IF(AJ242=0,0,IF(BH242=0,0,1))","v":1}]
["2010","001","603",null,null,0,"1999-03-13",null,null,"M",75,85,0,95,80,95,90,95,80,90,90,85,0,0,0,0,80,80,0,90,90,80,90,90,85,75,90,85,0,0,0,0,85,80,0,90,90,75,90,90,90,75,90,90,0,0,0,0,0,0,0,0,0,0,0,0,0,0,0,0,0,0,0,0,null,56.666666666666664,90,86.25,83.333333333333329,87.5,83.75,0,85,86.25,86.25,0,0,null,null,null,"001603","0.100","60",{"$f":"Tableau_SSRSMSA03_BI_Integration_STEPH_2010[[#This Row],[DAT_NAISSANCE_ELEVE]]","v":"1999-03-13"},"2009-09-30",3854,10.551676933607119,{"$f":"IF(AND(LEFT(CO243,1)=\"1\",CS243>5.5),\"V\",IF(AND(LEFT(CO243,1)=\"2\",CS243>6.5),\"V\",IF(AND(LEFT(CO243,1)=\"3\",CS243>7.5),\"V\",IF(AND(LEFT(CO243,1)=\"4\",CS243>8.5),\"V\",IF(AND(LEFT(CO243,1)=\"5\",CS243>9.5),\"V\",IF(AND(LEFT(CO243,1)=\"6\",CS243>10.5),\"V\",\"J\"))))))","v":"V"},{"$f":"IF(AJ243=0,0,IF(BH243=0,0,1))","v":0}]
["2010","001","603",null,null,0,"1999-03-10",null,null,"F",85,90,0,90,95,90,85,85,90,85,85,80,0,0,0,0,75,80,0,75,85,85,85,80,90,85,85,85,0,0,0,0,95,85,0,90,95,85,90,85,90,85,75,75,0,0,0,0,0,0,0,0,0,0,0,0,0,0,0,0,0,0,0,0,null,58.333333333333336,88.75,85,76.666666666666671,83.75,86.25,0,90,88.75,81.25,0,0,null,null,null,"001603","0.100","60",{"$f":"Tableau_SSRSMSA03_BI_Integration_STEPH_2010[[#This Row],[DAT_NAISSANCE_ELEVE]]","v":"1999-03-10"},"2009-09-30",3857,10.559890485968515,{"$f":"IF(AND(LEFT(CO244,1)=\"1\",CS244>5.5),\"V\",IF(AND(LEFT(CO244,1)=\"2\",CS244>6.5),\"V\",IF(AND(LEFT(CO244,1)=\"3\",CS244>7.5),\"V\",IF(AND(LEFT(CO244,1)=\"4\",CS244>8.5),\"V\",IF(AND(LEFT(CO244,1)=\"5\",CS244>9.5),\"V\",IF(AND(LEFT(CO244,1)=\"6\",CS244>10.5),\"V\",\"J\"))))))","v":"V"},{"$f":"IF(AJ244=0,0,IF(BH244=0,0,1))","v":0}]
["2010","001","603",null,null,0,"1999-10-14",null,null,"F",85,90,0,85,85,85,90,85,85,90,90,85,0,0,0,0,80,90,0,85,90,90,80,85,90,95,90,90,0,0,0,0,95,95,0,90,95,90,95,90,90,85,85,85,0,0,0,0,71,74,73,73,70,71,65,78,62,77,74,71,0,0,0,0,null,56.666666666666664,86.25,87.5,85,86.25,91.25,0,93.333333333333329,92.5,86.25,0,72.75,null,null,null,"001603","0.100","60",{"$f":"Tableau_SSRSMSA03_BI_Integration_STEPH_2010[[#This Row],[DAT_NAISSANCE_ELEVE]]","v":"1999-10-14"},"2009-09-30",3639,9.9630390143737166,{"$f":"IF(AND(LEFT(CO245,1)=\"1\",CS245>5.5),\"V\",IF(AND(LEFT(CO245,1)=\"2\",CS245>6.5),\"V\",IF(AND(LEFT(CO245,1)=\"3\",CS245>7.5),\"V\",IF(AND(LEFT(CO245,1)=\"4\",CS245>8.5),\"V\",IF(AND(LEFT(CO245,1)=\"5\",CS245>9.5),\"V\",IF(AND(LEFT(CO245,1)=\"6\",CS245>10.5),\"V\",\"J\"))))))","v":"J"},{"$f":"IF(AJ245=0,0,IF(BH245=0,0,1))","v":1}]
["2010","001","603",null,null,0,"1999-02-28",null,null,"F",60,60,0,60,60,60,70,70,65,60,60,70,0,0,0,0,50,60,0,50,55,60,55,60,60,70,65,60,0,0,0,0,60,55,0,70,65,50,85,60,65,65,85,75,0,0,0,0,0,0,0,0,0,0,0,0,0,0,0,0,0,0,0,0,null,40,65,63.75,53.333333333333336,57.5,63.75,0,61.666666666666664,65,72.5,0,0,null,null,null,"001603","0.100","60",{"$f":"Tableau_SSRSMSA03_BI_Integration_STEPH_2010[[#This Row],[DAT_NAISSANCE_ELEVE]]","v":"1999-02-28"},"2009-09-30",3867,10.587268993839835,{"$f":"IF(AND(LEFT(CO246,1)=\"1\",CS246>5.5),\"V\",IF(AND(LEFT(CO246,1)=\"2\",CS246>6.5),\"V\",IF(AND(LEFT(CO246,1)=\"3\",CS246>7.5),\"V\",IF(AND(LEFT(CO246,1)=\"4\",CS246>8.5),\"V\",IF(AND(LEFT(CO246,1)=\"5\",CS246>9.5),\"V\",IF(AND(LEFT(CO246,1)=\"6\",CS246>10.5),\"V\",\"J\"))))))","v":"V"},{"$f":"IF(AJ246=0,0,IF(BH246=0,0,1))","v":0}]
["2010","001","603",null,null,0,"1999-05-19",null,null,"F",0,0,0,0,0,0,0,0,0,0,0,0,0,0,0,0,0,0,0,85,0,0,0,85,0,0,0,90,0,0,0,0,65,75,0,75,80,85,95,75,80,75,75,75,0,0,0,0,70,70,78,80,69,76,66,65,80,69,76,70,0,0,0,0,null,0,0,0,0,0,0,0,71.666666666666671,83.75,76.25,0,74.5,null,null,null,"001603","0.100","60",{"$f":"Tableau_SSRSMSA03_BI_Integration_STEPH_2010[[#This Row],[DAT_NAISSANCE_ELEVE]]","v":"1999-05-19"},"2009-09-30",3787,10.368240930869268,{"$f":"IF(AND(LEFT(CO247,1)=\"1\",CS247>5.5),\"V\",IF(AND(LEFT(CO247,1)=\"2\",CS247>6.5),\"V\",IF(AND(LEFT(CO247,1)=\"3\",CS247>7.5),\"V\",IF(AND(LEFT(CO247,1)=\"4\",CS247>8.5),\"V\",IF(AND(LEFT(CO247,1)=\"5\",CS247>9.5),\"V\",IF(AND(LEFT(CO247,1)=\"6\",CS247>10.5),\"V\",\"J\"))))))","v":"J"},{"$f":"IF(AJ247=0,0,IF(BH247=0,0,1))","v":0}]
["2010","001","603",null,null,0,"1999-05-16",null,null,"M",60,65,0,65,55,50,80,80,60,65,65,70,0,0,0,0,65,65,0,65,65,65,85,65,65,70,75,65,0,0,0,0,60,50,0,60,70,55,75,60,60,60,50,70,0,0,0,0,74,49,0,69,57,54,72,69,56,42,69,43,67,60,0,0,null,41.666666666666664,66.25,65,65,70,68.75,0,56.666666666666664,65,60,0,66,null,null,null,"001603","0.100","60",{"$f":"Tableau_SSRSMSA03_BI_Integration_STEPH_2010[[#This Row],[DAT_NAISSANCE_ELEVE]]","v":"1999-05-16"},"2009-09-30",3790,10.376454483230663,{"$f":"IF(AND(LEFT(CO248,1)=\"1\",CS248>5.5),\"V\",IF(AND(LEFT(CO248,1)=\"2\",CS248>6.5),\"V\",IF(AND(LEFT(CO248,1)=\"3\",CS248>7.5),\"V\",IF(AND(LEFT(CO248,1)=\"4\",CS248>8.5),\"V\",IF(AND(LEFT(CO248,1)=\"5\",CS248>9.5),\"V\",IF(AND(LEFT(CO248,1)=\"6\",CS248>10.5),\"V\",\"J\"))))))","v":"J"},{"$f":"IF(AJ248=0,0,IF(BH248=0,0,1))","v":1}]
["2010","001","603",null,null,0,"1998-12-10",null,null,"M",0,70,95,80,70,0,70,70,70,80,85,80,0,0,0,0,50,65,0,85,50,70,75,55,65,55,70,50,0,0,0,0,50,60,0,75,50,60,90,55,55,65,70,55,0,0,0,0,56,54,0,83,64,67,70,75,70,61,65,68,0,0,0,0,null,61.25,0,78.75,66.666666666666671,62.5,60,0,61.666666666666664,63.75,61.25,0,65.75,null,null,null,"001603","0.100","60",{"$f":"Tableau_SSRSMSA03_BI_Integration_STEPH_2010[[#This Row],[DAT_NAISSANCE_ELEVE]]","v":"1998-12-10"},"2009-09-30",3947,10.806297056810404,{"$f":"IF(AND(LEFT(CO249,1)=\"1\",CS249>5.5),\"V\",IF(AND(LEFT(CO249,1)=\"2\",CS249>6.5),\"V\",IF(AND(LEFT(CO249,1)=\"3\",CS249>7.5),\"V\",IF(AND(LEFT(CO249,1)=\"4\",CS249>8.5),\"V\",IF(AND(LEFT(CO249,1)=\"5\",CS249>9.5),\"V\",IF(AND(LEFT(CO249,1)=\"6\",CS249>10.5),\"V\",\"J\"))))))","v":"V"},{"$f":"IF(AJ249=0,0,IF(BH249=0,0,1))","v":1}]
["2010","001","603",null,null,0,"1998-11-13",null,null,"M",80,75,0,85,75,85,85,90,80,85,85,80,0,0,0,0,70,80,90,90,75,85,65,80,80,80,70,70,0,0,0,0,70,65,0,75,75,75,85,75,75,70,80,75,0,0,0,0,0,0,0,0,0,0,0,0,0,0,0,0,0,0,0,0,null,55,83.75,82.5,82.5,76.25,75,0,70,77.5,75,0,0,null,null,null,"001603","0.100","60",{"$f":"Tableau_SSRSMSA03_BI_Integration_STEPH_2010[[#This Row],[DAT_NAISSANCE_ELEVE]]","v":"1998-11-13"},"2009-09-30",3974,10.880219028062971,{"$f":"IF(AND(LEFT(CO250,1)=\"1\",CS250>5.5),\"V\",IF(AND(LEFT(CO250,1)=\"2\",CS250>6.5),\"V\",IF(AND(LEFT(CO250,1)=\"3\",CS250>7.5),\"V\",IF(AND(LEFT(CO250,1)=\"4\",CS250>8.5),\"V\",IF(AND(LEFT(CO250,1)=\"5\",CS250>9.5),\"V\",IF(AND(LEFT(CO250,1)=\"6\",CS250>10.5),\"V\",\"J\"))))))","v":"V"},{"$f":"IF(AJ250=0,0,IF(BH250=0,0,1))","v":0}]
["2010","001","603",null,null,0,"1999-05-31",null,null,"F",75,70,0,80,90,70,95,80,80,75,80,85,0,0,0,0,65,65,0,65,70,80,65,80,75,70,75,70,0,0,0,0,75,70,0,80,80,75,95,80,75,75,75,75,0,0,0,0,0,0,0,0,0,0,0,0,0,0,0,0,0,0,0,0,null,51.666666666666664,83.75,80,65,73.75,72.5,0,75,82.5,75,0,0,null,null,null,"001603","0.100","60",{"$f":"Tableau_SSRSMSA03_BI_Integration_STEPH_2010[[#This Row],[DAT_NAISSANCE_ELEVE]]","v":"1999-05-31"},"2009-09-30",3775,10.335386721423683,{"$f":"IF(AND(LEFT(CO251,1)=\"1\",CS251>5.5),\"V\",IF(AND(LEFT(CO251,1)=\"2\",CS251>6.5),\"V\",IF(AND(LEFT(CO251,1)=\"3\",CS251>7.5),\"V\",IF(AND(LEFT(CO251,1)=\"4\",CS251>8.5),\"V\",IF(AND(LEFT(CO251,1)=\"5\",CS251>9.5),\"V\",IF(AND(LEFT(CO251,1)=\"6\",CS251>10.5),\"V\",\"J\"))))))","v":"J"},{"$f":"IF(AJ251=0,0,IF(BH251=0,0,1))","v":0}]
["2010","001","603",null,null,0,"1999-04-22",null,null,"M",50,70,0,50,40,60,40,60,60,65,40,65,0,0,0,0,40,50,0,40,50,50,55,50,50,60,40,40,0,0,0,0,40,50,0,50,55,65,50,40,55,50,55,40,0,0,0,0,58,58,0,57,60,62,50,47,50,61,40,50,64,57,52,38,null,33.333333333333336,50,57.5,43.333333333333336,51.25,47.5,0,46.666666666666664,52.5,50,0,55.75,null,null,null,"001603","0.100","60",{"$f":"Tableau_SSRSMSA03_BI_Integration_STEPH_2010[[#This Row],[DAT_NAISSANCE_ELEVE]]","v":"1999-04-22"},"2009-09-30",3814,10.442162902121835,{"$f":"IF(AND(LEFT(CO252,1)=\"1\",CS252>5.5),\"V\",IF(AND(LEFT(CO252,1)=\"2\",CS252>6.5),\"V\",IF(AND(LEFT(CO252,1)=\"3\",CS252>7.5),\"V\",IF(AND(LEFT(CO252,1)=\"4\",CS252>8.5),\"V\",IF(AND(LEFT(CO252,1)=\"5\",CS252>9.5),\"V\",IF(AND(LEFT(CO252,1)=\"6\",CS252>10.5),\"V\",\"J\"))))))","v":"J"},{"$f":"IF(AJ252=0,0,IF(BH252=0,0,1))","v":1}]
["2010","001","603",null,null,0,"1999-10-02",null,null,"F",0,0,0,0,0,0,0,0,0,0,0,0,0,0,0,0,75,90,0,80,80,85,80,85,90,90,90,85,0,0,0,0,85,90,0,95,90,90,95,85,95,95,85,85,0,0,0,0,0,0,0,0,0,0,0,0,0,0,0,0,0,0,0,0,null,0,0,0,81.666666666666671,82.5,88.75,0,90,90,90,0,0,null,null,null,"001603","0.100","60",{"$f":"Tableau_SSRSMSA03_BI_Integration_STEPH_2010[[#This Row],[DAT_NAISSANCE_ELEVE]]","v":"1999-10-02"},"2009-09-30",3651,9.9958932238193015,{"$f":"IF(AND(LEFT(CO253,1)=\"1\",CS253>5.5),\"V\",IF(AND(LEFT(CO253,1)=\"2\",CS253>6.5),\"V\",IF(AND(LEFT(CO253,1)=\"3\",CS253>7.5),\"V\",IF(AND(LEFT(CO253,1)=\"4\",CS253>8.5),\"V\",IF(AND(LEFT(CO253,1)=\"5\",CS253>9.5),\"V\",IF(AND(LEFT(CO253,1)=\"6\",CS253>10.5),\"V\",\"J\"))))))","v":"J"},{"$f":"IF(AJ253=0,0,IF(BH253=0,0,1))","v":0}]
["2010","001","603",null,null,0,"1998-11-11",null,null,"M",70,70,0,80,75,75,85,85,75,70,75,70,0,0,0,0,60,70,0,75,65,70,65,75,75,70,60,75,0,0,0,0,65,65,0,85,75,75,85,75,65,70,90,70,0,0,0,0,0,0,0,0,0,0,0,0,0,0,0,0,0,0,0,0,null,50,80,72.5,68.333333333333329,68.75,70,0,71.666666666666671,77.5,73.75,0,0,null,null,null,"001603","0.100","60",{"$f":"Tableau_SSRSMSA03_BI_Integration_STEPH_2010[[#This Row],[DAT_NAISSANCE_ELEVE]]","v":"1998-11-11"},"2009-09-30",3976,10.885694729637235,{"$f":"IF(AND(LEFT(CO254,1)=\"1\",CS254>5.5),\"V\",IF(AND(LEFT(CO254,1)=\"2\",CS254>6.5),\"V\",IF(AND(LEFT(CO254,1)=\"3\",CS254>7.5),\"V\",IF(AND(LEFT(CO254,1)=\"4\",CS254>8.5),\"V\",IF(AND(LEFT(CO254,1)=\"5\",CS254>9.5),\"V\",IF(AND(LEFT(CO254,1)=\"6\",CS254>10.5),\"V\",\"J\"))))))","v":"V"},{"$f":"IF(AJ254=0,0,IF(BH254=0,0,1))","v":0}]
["2010","001","604",null,null,0,"1998-11-19",null,null,"M",80,85,0,90,80,80,90,90,75,80,85,85,0,0,0,0,70,85,0,80,80,85,65,80,85,85,80,75,0,0,0,0,80,65,0,90,80,80,95,70,80,80,85,80,0,0,0,0,0,0,0,0,0,0,0,0,0,0,0,0,0,0,0,0,null,56.666666666666664,85,81.25,78.333333333333329,77.5,81.25,0,78.333333333333329,81.25,81.25,0,0,null,null,null,"001604","0.100","60",{"$f":"Tableau_SSRSMSA03_BI_Integration_STEPH_2010[[#This Row],[DAT_NAISSANCE_ELEVE]]","v":"1998-11-19"},"2009-09-30",3968,10.863791923340179,{"$f":"IF(AND(LEFT(CO255,1)=\"1\",CS255>5.5),\"V\",IF(AND(LEFT(CO255,1)=\"2\",CS255>6.5),\"V\",IF(AND(LEFT(CO255,1)=\"3\",CS255>7.5),\"V\",IF(AND(LEFT(CO255,1)=\"4\",CS255>8.5),\"V\",IF(AND(LEFT(CO255,1)=\"5\",CS255>9.5),\"V\",IF(AND(LEFT(CO255,1)=\"6\",CS255>10.5),\"V\",\"J\"))))))","v":"V"},{"$f":"IF(AJ255=0,0,IF(BH255=0,0,1))","v":0}]
["2010","001","604",null,null,0,"1999-09-12",null,null,"F",70,70,0,90,70,75,85,85,65,65,65,70,0,0,0,0,60,65,0,60,65,55,65,70,70,65,55,65,0,0,0,0,65,55,0,70,70,55,55,50,75,60,55,65,0,0,0,0,65,55,80,79,74,70,80,82,66,59,76,71,0,0,0,0,null,53.333333333333336,78.75,66.25,61.666666666666664,63.75,63.75,0,63.333333333333336,57.5,63.75,0,69.75,null,null,null,"001604","0.100","60",{"$f":"Tableau_SSRSMSA03_BI_Integration_STEPH_2010[[#This Row],[DAT_NAISSANCE_ELEVE]]","v":"1999-09-12"},"2009-09-30",3671,10.050650239561945,{"$f":"IF(AND(LEFT(CO256,1)=\"1\",CS256>5.5),\"V\",IF(AND(LEFT(CO256,1)=\"2\",CS256>6.5),\"V\",IF(AND(LEFT(CO256,1)=\"3\",CS256>7.5),\"V\",IF(AND(LEFT(CO256,1)=\"4\",CS256>8.5),\"V\",IF(AND(LEFT(CO256,1)=\"5\",CS256>9.5),\"V\",IF(AND(LEFT(CO256,1)=\"6\",CS256>10.5),\"V\",\"J\"))))))","v":"J"},{"$f":"IF(AJ256=0,0,IF(BH256=0,0,1))","v":1}]
["2010","001","604",null,null,0,"1999-09-11",null,null,"F",85,80,0,75,85,85,75,75,85,85,80,80,0,0,0,0,75,80,75,80,85,85,75,75,85,90,75,60,0,0,0,0,85,75,0,80,85,80,80,70,95,95,70,70,0,0,0,0,0,0,0,0,0,0,0,0,0,0,0,0,0,0,0,0,null,53.333333333333336,80,82.5,77.5,80,77.5,0,80,78.75,82.5,0,0,null,null,null,"001604","0.100","60",{"$f":"Tableau_SSRSMSA03_BI_Integration_STEPH_2010[[#This Row],[DAT_NAISSANCE_ELEVE]]","v":"1999-09-11"},"2009-09-30",3672,10.053388090349076,{"$f":"IF(AND(LEFT(CO257,1)=\"1\",CS257>5.5),\"V\",IF(AND(LEFT(CO257,1)=\"2\",CS257>6.5),\"V\",IF(AND(LEFT(CO257,1)=\"3\",CS257>7.5),\"V\",IF(AND(LEFT(CO257,1)=\"4\",CS257>8.5),\"V\",IF(AND(LEFT(CO257,1)=\"5\",CS257>9.5),\"V\",IF(AND(LEFT(CO257,1)=\"6\",CS257>10.5),\"V\",\"J\"))))))","v":"J"},{"$f":"IF(AJ257=0,0,IF(BH257=0,0,1))","v":0}]
["2010","001","604",null,null,0,"1999-08-09",null,null,"F",90,85,0,85,85,85,80,80,85,90,80,80,0,0,0,0,80,85,0,85,85,85,85,90,85,90,85,85,0,0,0,0,85,80,0,90,80,85,95,80,90,90,90,80,0,0,0,0,0,0,0,0,0,0,0,0,0,0,0,0,0,0,0,0,null,58.333333333333336,82.5,83.75,83.333333333333329,86.25,86.25,0,85,85,87.5,0,0,null,null,null,{"$f":"IF(LEFT(C258,1)=\"8\",\"\",IF(LEFT(C258,1)=\"9\",\"\",B258&C258))","v":"001604"},{"$f":"VLOOKUP(B258,ecoleTaux,3,FALSE)","v":"0.100"},"60",{"$f":"Tableau_SSRSMSA03_BI_Integration_STEPH_2010[[#This Row],[DAT_NAISSANCE_ELEVE]]","v":"1999-08-09"},"2009-09-30",3705,10.143737166324435,{"$f":"IF(AND(LEFT(CO258,1)=\"1\",CS258>5.5),\"V\",IF(AND(LEFT(CO258,1)=\"2\",CS258>6.5),\"V\",IF(AND(LEFT(CO258,1)=\"3\",CS258>7.5),\"V\",IF(AND(LEFT(CO258,1)=\"4\",CS258>8.5),\"V\",IF(AND(LEFT(CO258,1)=\"5\",CS258>9.5),\"V\",IF(AND(LEFT(CO258,1)=\"6\",CS258>10.5),\"V\",\"J\"))))))","v":"J"},{"$f":"IF(AJ258=0,0,IF(BH258=0,0,1))","v":0}]
["2010","001","604",null,null,0,"1998-12-27",null,null,"M",85,80,0,85,90,90,90,90,90,90,90,95,0,0,0,0,85,85,0,90,85,80,85,90,85,85,90,95,0,0,0,0,80,80,0,90,80,85,90,90,80,90,90,85,0,0,0,0,0,0,0,0,0,0,0,0,0,0,0,0,0,0,0,0,null,{"$f":"IF(L259=0,0,IF(M259=0,AVERAGE(M259,K259,N259),AVERAGE(K259:N259)))","v":56.666666666666664},{"$f":"IF(P259=0,0,IF(Q259=0,AVERAGE(Q259,O259,R259),AVERAGE(O259:R259)))","v":90},{"$f":"IF(T259=0,0,IF(U259=0,AVERAGE(T259,S259,V259),AVERAGE(S259:V259)))","v":91.25},{"$f":"IF(AB259=0,0,IF(AC259=0,AVERAGE(AB259,AA259,AD259),AVERAGE(AA259:AD259)))","v":86.666666666666671},{"$f":"IF(AF259=0,0,IF(AG259=0,AVERAGE(AF259,AE259,AH259),AVERAGE(AE259:AH259)))","v":85},{"$f":"IF(AJ259=0,0,IF(AK259=0,AVERAGE(AJ259,AI259,AL259),AVERAGE(AI259:AL259)))","v":88.75},{"$f":"IF(AN259=0,0,IF(AO259=0,AVERAGE(AN259,AM259,AP259),AVERAGE(AM259:AP259)))","v":0},{"$f":"IF(AR259=0,0,IF(AS259=0,AVERAGE(AR259,AQ259,AT259),AVERAGE(AQ259:AT259)))","v":83.333333333333329},{"$f":"IF(AV259=0,0,IF(AW259=0,AVERAGE(AV259,AU259,AX259),AVERAGE(AU259:AX259)))","v":86.25},{"$f":"IF(AZ259=0,0,IF(BA259=0,AVERAGE(AZ259,AY259,BB259),AVERAGE(AY259:BB259)))","v":86.25},{"$f":"IF(BD259=0,0,IF(BE259=0,AVERAGE(BD259,BC259,BF259),AVERAGE(BC259:BF259)))","v":0},{"$f":"IF(BH259=0,0,IF(BI259=0,AVERAGE(BH259,BG259,BJ259,BM259),AVERAGE(BG259:BJ259)))","v":0},null,null,null,"001604","0.100","60",{"$f":"Tableau_SSRSMSA03_BI_Integration_STEPH_2010[[#This Row],[DAT_NAISSANCE_ELEVE]]","v":"1998-12-27"},"2009-09-30",3930,10.759753593429158,{"$f":"IF(AND(LEFT(CO259,1)=\"1\",CS259>5.5),\"V\",IF(AND(LEFT(CO259,1)=\"2\",CS259>6.5),\"V\",IF(AND(LEFT(CO259,1)=\"3\",CS259>7.5),\"V\",IF(AND(LEFT(CO259,1)=\"4\",CS259>8.5),\"V\",IF(AND(LEFT(CO259,1)=\"5\",CS259>9.5),\"V\",IF(AND(LEFT(CO259,1)=\"6\",CS259>10.5),\"V\",\"J\"))))))","v":"V"},{"$f":"IF(AJ259=0,0,IF(BH259=0,0,1))","v":0}]
["2010","001","604",null,null,0,"1999-04-13",null,null,"M",0,0,0,0,0,0,0,0,0,0,0,0,0,0,0,0,50,75,0,50,60,60,65,80,65,70,75,90,0,0,0,0,65,65,0,70,60,70,75,75,65,50,60,70,0,0,0,0,60,71,0,85,62,68,91,94,68,76,78,81,0,0,0,0,null,0,0,0,58.333333333333336,66.25,75,0,66.666666666666671,70,61.25,0,76.75,null,null,null,"001604","0.100","60",{"$f":"Tableau_SSRSMSA03_BI_Integration_STEPH_2010[[#This Row],[DAT_NAISSANCE_ELEVE]]","v":"1999-04-13"},"2009-09-30",3823,10.466803559206022,{"$f":"IF(AND(LEFT(CO260,1)=\"1\",CS260>5.5),\"V\",IF(AND(LEFT(CO260,1)=\"2\",CS260>6.5),\"V\",IF(AND(LEFT(CO260,1)=\"3\",CS260>7.5),\"V\",IF(AND(LEFT(CO260,1)=\"4\",CS260>8.5),\"V\",IF(AND(LEFT(CO260,1)=\"5\",CS260>9.5),\"V\",IF(AND(LEFT(CO260,1)=\"6\",CS260>10.5),\"V\",\"J\"))))))","v":"J"},{"$f":"IF(AJ260=0,0,IF(BH260=0,0,1))","v":1}]
["2010","001","604",null,null,0,"1999-09-23",null,null,"F",80,80,0,75,85,80,80,85,80,80,70,80,0,0,0,0,65,80,0,80,85,90,80,90,90,70,90,89,0,0,0,0,80,75,0,90,75,80,80,85,85,85,85,80,0,0,0,0,0,0,0,0,0,0,0,0,0,0,0,0,0,0,0,0,null,51.666666666666664,82.5,77.5,75,86.25,84.75,0,81.666666666666671,80,83.75,0,0,null,null,null,"001604","0.100","60",{"$f":"Tableau_SSRSMSA03_BI_Integration_STEPH_2010[[#This Row],[DAT_NAISSANCE_ELEVE]]","v":"1999-09-23"},"2009-09-30",3660,10.020533880903491,{"$f":"IF(AND(LEFT(CO261,1)=\"1\",CS261>5.5),\"V\",IF(AND(LEFT(CO261,1)=\"2\",CS261>6.5),\"V\",IF(AND(LEFT(CO261,1)=\"3\",CS261>7.5),\"V\",IF(AND(LEFT(CO261,1)=\"4\",CS261>8.5),\"V\",IF(AND(LEFT(CO261,1)=\"5\",CS261>9.5),\"V\",IF(AND(LEFT(CO261,1)=\"6\",CS261>10.5),\"V\",\"J\"))))))","v":"J"},{"$f":"IF(AJ261=0,0,IF(BH261=0,0,1))","v":0}]
["2010","001","604",null,null,0,"1998-11-22",null,null,"M",80,80,0,80,75,85,80,80,75,85,85,80,0,0,0,0,65,80,0,70,75,70,65,70,70,70,70,65,0,0,0,0,65,60,0,70,65,70,80,75,75,70,75,60,0,0,0,0,0,0,0,0,0,0,0,0,0,0,0,0,0,0,0,0,null,53.333333333333336,80,81.25,71.666666666666671,70,68.75,0,65,72.5,70,0,0,null,null,null,"001604","0.100",{"$f":"LEFT(C262,2)","v":"60"},{"$f":"Tableau_SSRSMSA03_BI_Integration_STEPH_2010[[#This Row],[DAT_NAISSANCE_ELEVE]]","v":"1998-11-22"},"2009-09-30",{"$f":"DATEDIF(CP262,CQ262,\"d\")","v":3965},{"$f":"CR262/365.25","v":10.855578370978781},{"$f":"IF(AND(LEFT(CO262,1)=\"1\",CS262>5.5),\"V\",IF(AND(LEFT(CO262,1)=\"2\",CS262>6.5),\"V\",IF(AND(LEFT(CO262,1)=\"3\",CS262>7.5),\"V\",IF(AND(LEFT(CO262,1)=\"4\",CS262>8.5),\"V\",IF(AND(LEFT(CO262,1)=\"5\",CS262>9.5),\"V\",IF(AND(LEFT(CO262,1)=\"6\",CS262>10.5),\"V\",\"J\"))))))","v":"V"},{"$f":"IF(AJ262=0,0,IF(BH262=0,0,1))","v":0}]
["2010","001","604",null,null,0,"1999-07-28",null,null,"M",75,80,0,80,60,85,70,70,75,75,75,80,0,0,0,0,60,75,70,60,65,70,75,70,70,75,60,60,0,0,0,0,70,70,0,75,70,85,90,60,75,60,65,65,0,0,0,0,0,0,0,0,0,0,0,0,0,0,0,0,0,0,0,0,null,51.666666666666664,71.25,76.25,66.25,70,66.25,0,71.666666666666671,76.25,66.25,0,0,null,null,null,"001604","0.100","60",{"$f":"Tableau_SSRSMSA03_BI_Integration_STEPH_2010[[#This Row],[DAT_NAISSANCE_ELEVE]]","v":"1999-07-28"},"2009-09-30",3717,10.17659137577002,{"$f":"IF(AND(LEFT(CO263,1)=\"1\",CS263>5.5),\"V\",IF(AND(LEFT(CO263,1)=\"2\",CS263>6.5),\"V\",IF(AND(LEFT(CO263,1)=\"3\",CS263>7.5),\"V\",IF(AND(LEFT(CO263,1)=\"4\",CS263>8.5),\"V\",IF(AND(LEFT(CO263,1)=\"5\",CS263>9.5),\"V\",IF(AND(LEFT(CO263,1)=\"6\",CS263>10.5),\"V\",\"J\"))))))","v":"J"},{"$f":"IF(AJ263=0,0,IF(BH263=0,0,1))","v":0}]
["2010","001","604",null,null,0,"1998-07-31",null,null,"F",75,75,0,85,90,75,95,90,80,80,80,90,0,0,0,0,55,80,0,85,60,65,75,85,65,75,75,85,0,0,0,0,65,65,0,80,65,70,75,70,70,60,70,60,0,0,0,0,47,51,75,78,52,60,72,74,52,57,70,56,0,0,0,0,null,53.333333333333336,87.5,82.5,73.333333333333329,71.25,75,0,70,70,65,0,62.75,null,null,null,"001604","0.100","60",{"$f":"Tableau_SSRSMSA03_BI_Integration_STEPH_2010[[#This Row],[DAT_NAISSANCE_ELEVE]]","v":"1998-07-31"},"2009-09-30",4079,11.167693360711841,{"$f":"IF(AND(LEFT(CO264,1)=\"1\",CS264>5.5),\"V\",IF(AND(LEFT(CO264,1)=\"2\",CS264>6.5),\"V\",IF(AND(LEFT(CO264,1)=\"3\",CS264>7.5),\"V\",IF(AND(LEFT(CO264,1)=\"4\",CS264>8.5),\"V\",IF(AND(LEFT(CO264,1)=\"5\",CS264>9.5),\"V\",IF(AND(LEFT(CO264,1)=\"6\",CS264>10.5),\"V\",\"J\"))))))","v":"V"},{"$f":"IF(AJ264=0,0,IF(BH264=0,0,1))","v":1}]
["2010","001","604",null,null,0,"1998-12-10",null,null,"M",85,90,0,90,90,95,90,85,90,90,90,95,0,0,0,0,75,90,0,90,90,90,90,95,95,85,90,95,0,0,0,0,85,85,0,95,90,95,95,95,95,95,95,95,0,0,0,0,0,0,0,0,0,0,0,0,0,0,0,0,0,0,0,0,null,58.333333333333336,90,91.25,85,91.25,91.25,0,88.333333333333329,93.75,95,0,0,null,null,null,"001604","0.100","60",{"$f":"Tableau_SSRSMSA03_BI_Integration_STEPH_2010[[#This Row],[DAT_NAISSANCE_ELEVE]]","v":"1998-12-10"},"2009-09-30",3947,10.806297056810404,{"$f":"IF(AND(LEFT(CO265,1)=\"1\",CS265>5.5),\"V\",IF(AND(LEFT(CO265,1)=\"2\",CS265>6.5),\"V\",IF(AND(LEFT(CO265,1)=\"3\",CS265>7.5),\"V\",IF(AND(LEFT(CO265,1)=\"4\",CS265>8.5),\"V\",IF(AND(LEFT(CO265,1)=\"5\",CS265>9.5),\"V\",IF(AND(LEFT(CO265,1)=\"6\",CS265>10.5),\"V\",\"J\"))))))","v":"V"},{"$f":"IF(AJ265=0,0,IF(BH265=0,0,1))","v":0}]
["2010","001","604",null,null,0,"1999-02-19",null,null,"M",80,85,0,90,90,95,90,90,85,85,95,95,0,0,0,0,75,75,0,90,75,85,80,90,80,85,85,90,0,0,0,0,75,80,0,95,75,85,95,95,85,95,95,95,0,0,0,0,0,0,0,0,0,0,0,0,0,0,0,0,0,0,0,0,null,56.666666666666664,91.25,90,80,82.5,85,0,83.333333333333329,87.5,92.5,0,0,null,null,null,"001604","0.100","60",{"$f":"Tableau_SSRSMSA03_BI_Integration_STEPH_2010[[#This Row],[DAT_NAISSANCE_ELEVE]]","v":"1999-02-19"},"2009-09-30",3876,10.611909650924025,{"$f":"IF(AND(LEFT(CO266,1)=\"1\",CS266>5.5),\"V\",IF(AND(LEFT(CO266,1)=\"2\",CS266>6.5),\"V\",IF(AND(LEFT(CO266,1)=\"3\",CS266>7.5),\"V\",IF(AND(LEFT(CO266,1)=\"4\",CS266>8.5),\"V\",IF(AND(LEFT(CO266,1)=\"5\",CS266>9.5),\"V\",IF(AND(LEFT(CO266,1)=\"6\",CS266>10.5),\"V\",\"J\"))))))","v":"V"},{"$f":"IF(AJ266=0,0,IF(BH266=0,0,1))","v":0}]
["2010","001","604",null,null,0,"1998-10-10",null,null,"F",65,60,0,80,75,80,80,75,75,80,90,75,0,0,0,0,65,70,70,70,70,50,75,75,70,70,85,85,0,0,0,0,70,65,0,75,75,80,85,75,75,70,90,85,0,0,0,0,0,0,0,0,0,0,0,0,0,0,0,0,0,0,0,0,null,48.333333333333336,77.5,80,68.75,67.5,77.5,0,70,78.75,80,0,0,null,null,null,"001604","0.100","60",{"$f":"Tableau_SSRSMSA03_BI_Integration_STEPH_2010[[#This Row],[DAT_NAISSANCE_ELEVE]]","v":"1998-10-10"},"2009-09-30",4008,10.973305954825461,{"$f":"IF(AND(LEFT(CO267,1)=\"1\",CS267>5.5),\"V\",IF(AND(LEFT(CO267,1)=\"2\",CS267>6.5),\"V\",IF(AND(LEFT(CO267,1)=\"3\",CS267>7.5),\"V\",IF(AND(LEFT(CO267,1)=\"4\",CS267>8.5),\"V\",IF(AND(LEFT(CO267,1)=\"5\",CS267>9.5),\"V\",IF(AND(LEFT(CO267,1)=\"6\",CS267>10.5),\"V\",\"J\"))))))","v":"V"},{"$f":"IF(AJ267=0,0,IF(BH267=0,0,1))","v":0}]
["2010","001","604",null,null,0,"1999-04-29",null,null,"M",75,75,0,80,70,75,80,80,70,80,80,85,0,0,0,0,60,80,0,90,70,75,90,80,70,80,85,80,0,0,0,0,75,85,0,80,80,90,90,80,80,80,80,85,0,0,0,0,0,0,0,0,0,0,0,0,0,0,0,0,0,0,0,0,null,51.666666666666664,76.25,78.75,76.666666666666671,78.75,78.75,0,80,85,81.25,0,0,null,null,null,"001604","0.100","60",{"$f":"Tableau_SSRSMSA03_BI_Integration_STEPH_2010[[#This Row],[DAT_NAISSANCE_ELEVE]]","v":"1999-04-29"},"2009-09-30",3807,10.422997946611909,{"$f":"IF(AND(LEFT(CO268,1)=\"1\",CS268>5.5),\"V\",IF(AND(LEFT(CO268,1)=\"2\",CS268>6.5),\"V\",IF(AND(LEFT(CO268,1)=\"3\",CS268>7.5),\"V\",IF(AND(LEFT(CO268,1)=\"4\",CS268>8.5),\"V\",IF(AND(LEFT(CO268,1)=\"5\",CS268>9.5),\"V\",IF(AND(LEFT(CO268,1)=\"6\",CS268>10.5),\"V\",\"J\"))))))","v":"J"},{"$f":"IF(AJ268=0,0,IF(BH268=0,0,1))","v":0}]
["2010","001","604",null,null,0,"1998-10-07",null,null,"F",90,95,0,70,95,95,90,95,90,90,95,90,0,0,0,0,90,90,0,85,95,95,85,85,95,95,90,90,0,0,0,0,95,95,0,95,90,95,90,90,95,95,90,95,0,0,0,0,82,81,92,92,85,83,93,87,86,85,87,75,0,0,0,0,null,53.333333333333336,93.75,91.25,88.333333333333329,90,92.5,0,95,91.25,93.75,0,86.75,null,null,null,"001604","0.100","60",{"$f":"Tableau_SSRSMSA03_BI_Integration_STEPH_2010[[#This Row],[DAT_NAISSANCE_ELEVE]]","v":"1998-10-07"},"2009-09-30",4011,10.981519507186858,{"$f":"IF(AND(LEFT(CO269,1)=\"1\",CS269>5.5),\"V\",IF(AND(LEFT(CO269,1)=\"2\",CS269>6.5),\"V\",IF(AND(LEFT(CO269,1)=\"3\",CS269>7.5),\"V\",IF(AND(LEFT(CO269,1)=\"4\",CS269>8.5),\"V\",IF(AND(LEFT(CO269,1)=\"5\",CS269>9.5),\"V\",IF(AND(LEFT(CO269,1)=\"6\",CS269>10.5),\"V\",\"J\"))))))","v":"V"},{"$f":"IF(AJ269=0,0,IF(BH269=0,0,1))","v":1}]
["2010","001","604",null,null,0,"1999-08-04",null,null,"M",75,80,0,90,75,75,90,90,75,85,85,85,0,0,0,0,60,80,80,90,65,85,90,80,80,80,65,85,0,0,0,0,75,75,0,95,75,85,90,80,80,90,95,90,0,0,0,0,0,0,0,0,0,0,0,0,0,0,0,0,0,0,0,0,null,55,82.5,82.5,77.5,80,77.5,0,81.666666666666671,82.5,88.75,0,0,null,null,null,"001604","0.100","60",{"$f":"Tableau_SSRSMSA03_BI_Integration_STEPH_2010[[#This Row],[DAT_NAISSANCE_ELEVE]]","v":"1999-08-04"},"2009-09-30",3710,10.157426420260096,{"$f":"IF(AND(LEFT(CO270,1)=\"1\",CS270>5.5),\"V\",IF(AND(LEFT(CO270,1)=\"2\",CS270>6.5),\"V\",IF(AND(LEFT(CO270,1)=\"3\",CS270>7.5),\"V\",IF(AND(LEFT(CO270,1)=\"4\",CS270>8.5),\"V\",IF(AND(LEFT(CO270,1)=\"5\",CS270>9.5),\"V\",IF(AND(LEFT(CO270,1)=\"6\",CS270>10.5),\"V\",\"J\"))))))","v":"J"},{"$f":"IF(AJ270=0,0,IF(BH270=0,0,1))","v":0}]
["2010","001","604",null,null,0,"1999-03-28",null,null,"F",85,85,0,80,85,85,85,85,85,85,90,85,0,0,0,0,65,90,0,85,85,90,80,90,90,70,90,80,0,0,0,0,85,70,0,90,80,90,85,85,90,80,85,85,0,0,0,0,0,0,0,0,0,0,0,0,0,0,0,0,0,0,0,0,null,55,85,86.25,80,86.25,82.5,0,81.666666666666671,85,85,0,0,null,null,null,"001604","0.100","60",{"$f":"Tableau_SSRSMSA03_BI_Integration_STEPH_2010[[#This Row],[DAT_NAISSANCE_ELEVE]]","v":"1999-03-28"},"2009-09-30",3839,10.510609171800137,{"$f":"IF(AND(LEFT(CO271,1)=\"1\",CS271>5.5),\"V\",IF(AND(LEFT(CO271,1)=\"2\",CS271>6.5),\"V\",IF(AND(LEFT(CO271,1)=\"3\",CS271>7.5),\"V\",IF(AND(LEFT(CO271,1)=\"4\",CS271>8.5),\"V\",IF(AND(LEFT(CO271,1)=\"5\",CS271>9.5),\"V\",IF(AND(LEFT(CO271,1)=\"6\",CS271>10.5),\"V\",\"J\"))))))","v":"V"},{"$f":"IF(AJ271=0,0,IF(BH271=0,0,1))","v":0}]
["2010","001","604",null,null,0,"1999-08-30",null,null,"M",0,0,0,0,0,0,0,0,0,0,0,0,0,0,0,0,35,35,0,35,40,50,40,35,40,50,40,45,0,0,0,0,45,30,0,30,35,60,50,40,45,50,30,30,0,0,0,0,17,13,9,46,59,13,10,30,60,35,70,70,0,0,0,0,null,0,0,0,35,41.25,43.75,0,35,46.25,38.75,0,21.25,null,null,null,"001604","0.100","60",{"$f":"Tableau_SSRSMSA03_BI_Integration_STEPH_2010[[#This Row],[DAT_NAISSANCE_ELEVE]]","v":"1999-08-30"},"2009-09-30",3684,10.086242299794661,{"$f":"IF(AND(LEFT(CO272,1)=\"1\",CS272>5.5),\"V\",IF(AND(LEFT(CO272,1)=\"2\",CS272>6.5),\"V\",IF(AND(LEFT(CO272,1)=\"3\",CS272>7.5),\"V\",IF(AND(LEFT(CO272,1)=\"4\",CS272>8.5),\"V\",IF(AND(LEFT(CO272,1)=\"5\",CS272>9.5),\"V\",IF(AND(LEFT(CO272,1)=\"6\",CS272>10.5),\"V\",\"J\"))))))","v":"J"},{"$f":"IF(AJ272=0,0,IF(BH272=0,0,1))","v":1}]
["2010","001","604",null,null,0,"1999-04-24",null,null,"F",90,85,0,85,90,90,90,90,95,95,85,90,0,0,0,0,85,90,0,75,95,90,80,90,95,90,75,90,0,0,0,0,90,90,0,90,90,95,95,95,95,95,90,90,0,0,0,0,0,0,0,0,0,0,0,0,0,0,0,0,0,0,0,0,null,58.333333333333336,90,91.25,83.333333333333329,88.75,87.5,0,90,93.75,92.5,0,0,null,null,null,"001604","0.100","60",{"$f":"Tableau_SSRSMSA03_BI_Integration_STEPH_2010[[#This Row],[DAT_NAISSANCE_ELEVE]]","v":"1999-04-24"},"2009-09-30",3812,10.436687200547571,{"$f":"IF(AND(LEFT(CO273,1)=\"1\",CS273>5.5),\"V\",IF(AND(LEFT(CO273,1)=\"2\",CS273>6.5),\"V\",IF(AND(LEFT(CO273,1)=\"3\",CS273>7.5),\"V\",IF(AND(LEFT(CO273,1)=\"4\",CS273>8.5),\"V\",IF(AND(LEFT(CO273,1)=\"5\",CS273>9.5),\"V\",IF(AND(LEFT(CO273,1)=\"6\",CS273>10.5),\"V\",\"J\"))))))","v":"J"},{"$f":"IF(AJ273=0,0,IF(BH273=0,0,1))","v":0}]
["2010","001","604",null,null,0,"1998-11-13",null,null,"F",75,75,0,60,70,60,60,80,75,80,60,75,0,0,0,0,65,60,0,60,75,70,65,75,75,80,65,80,0,0,0,0,70,75,0,85,70,75,85,80,80,75,90,80,0,0,0,0,0,0,0,0,0,0,0,0,0,0,0,0,0,0,0,0,null,45,67.5,72.5,61.666666666666664,71.25,75,0,76.666666666666671,77.5,81.25,0,0,null,null,null,"001604","0.100","60",{"$f":"Tableau_SSRSMSA03_BI_Integration_STEPH_2010[[#This Row],[DAT_NAISSANCE_ELEVE]]","v":"1998-11-13"},"2009-09-30",3974,10.880219028062971,{"$f":"IF(AND(LEFT(CO274,1)=\"1\",CS274>5.5),\"V\",IF(AND(LEFT(CO274,1)=\"2\",CS274>6.5),\"V\",IF(AND(LEFT(CO274,1)=\"3\",CS274>7.5),\"V\",IF(AND(LEFT(CO274,1)=\"4\",CS274>8.5),\"V\",IF(AND(LEFT(CO274,1)=\"5\",CS274>9.5),\"V\",IF(AND(LEFT(CO274,1)=\"6\",CS274>10.5),\"V\",\"J\"))))))","v":"V"},{"$f":"IF(AJ274=0,0,IF(BH274=0,0,1))","v":0}]
["2010","001","604",null,null,0,"1998-10-11",null,null,"F",90,80,0,90,90,80,90,85,90,85,85,90,0,0,0,0,90,90,0,85,95,90,90,80,95,90,95,90,0,0,0,0,90,95,0,90,90,95,90,85,95,90,90,85,0,0,0,0,0,0,0,0,0,0,0,0,0,0,0,0,0,0,0,0,null,60,86.25,87.5,88.333333333333329,88.75,92.5,0,91.666666666666671,90,90,0,0,null,null,null,"001604","0.100","60",{"$f":"Tableau_SSRSMSA03_BI_Integration_STEPH_2010[[#This Row],[DAT_NAISSANCE_ELEVE]]","v":"1998-10-11"},"2009-09-30",4007,10.97056810403833,{"$f":"IF(AND(LEFT(CO275,1)=\"1\",CS275>5.5),\"V\",IF(AND(LEFT(CO275,1)=\"2\",CS275>6.5),\"V\",IF(AND(LEFT(CO275,1)=\"3\",CS275>7.5),\"V\",IF(AND(LEFT(CO275,1)=\"4\",CS275>8.5),\"V\",IF(AND(LEFT(CO275,1)=\"5\",CS275>9.5),\"V\",IF(AND(LEFT(CO275,1)=\"6\",CS275>10.5),\"V\",\"J\"))))))","v":"V"},{"$f":"IF(AJ275=0,0,IF(BH275=0,0,1))","v":0}]
["2010","001","604",null,null,0,"1999-06-02",null,null,"M",75,75,0,80,70,85,85,85,75,85,80,90,0,0,0,0,65,75,0,85,70,80,75,80,75,75,85,80,0,0,0,0,70,80,0,85,70,85,90,70,80,80,90,85,0,0,0,0,0,0,0,0,0,0,0,0,0,0,0,0,0,0,0,0,null,51.666666666666664,81.25,82.5,75,76.25,78.75,0,78.333333333333329,78.75,83.75,0,0,null,null,null,"001604","0.100","60",{"$f":"Tableau_SSRSMSA03_BI_Integration_STEPH_2010[[#This Row],[DAT_NAISSANCE_ELEVE]]","v":"1999-06-02"},"2009-09-30",3773,10.329911019849419,{"$f":"IF(AND(LEFT(CO276,1)=\"1\",CS276>5.5),\"V\",IF(AND(LEFT(CO276,1)=\"2\",CS276>6.5),\"V\",IF(AND(LEFT(CO276,1)=\"3\",CS276>7.5),\"V\",IF(AND(LEFT(CO276,1)=\"4\",CS276>8.5),\"V\",IF(AND(LEFT(CO276,1)=\"5\",CS276>9.5),\"V\",IF(AND(LEFT(CO276,1)=\"6\",CS276>10.5),\"V\",\"J\"))))))","v":"J"},{"$f":"IF(AJ276=0,0,IF(BH276=0,0,1))","v":0}]
["2010","001","604",null,null,0,"1998-11-26",null,null,"F",80,80,0,75,75,80,85,85,75,70,70,75,0,0,0,0,60,65,0,75,70,75,80,85,80,75,80,80,0,0,0,0,70,60,0,85,70,70,80,75,75,80,85,80,0,0,0,0,0,0,0,0,0,0,0,0,0,0,0,0,0,0,0,0,null,51.666666666666664,81.25,72.5,66.666666666666671,77.5,78.75,0,71.666666666666671,73.75,80,0,0,null,null,null,"001604","0.100","60",{"$f":"Tableau_SSRSMSA03_BI_Integration_STEPH_2010[[#This Row],[DAT_NAISSANCE_ELEVE]]","v":"1998-11-26"},"2009-09-30",3961,10.844626967830253,{"$f":"IF(AND(LEFT(CO277,1)=\"1\",CS277>5.5),\"V\",IF(AND(LEFT(CO277,1)=\"2\",CS277>6.5),\"V\",IF(AND(LEFT(CO277,1)=\"3\",CS277>7.5),\"V\",IF(AND(LEFT(CO277,1)=\"4\",CS277>8.5),\"V\",IF(AND(LEFT(CO277,1)=\"5\",CS277>9.5),\"V\",IF(AND(LEFT(CO277,1)=\"6\",CS277>10.5),\"V\",\"J\"))))))","v":"V"},{"$f":"IF(AJ277=0,0,IF(BH277=0,0,1))","v":0}]
["2010","001","604",null,null,0,"1999-06-03",null,null,"F",0,0,0,0,0,0,0,0,0,0,0,0,0,0,0,0,75,60,0,80,90,80,85,85,90,80,85,90,0,0,0,0,85,85,0,95,85,90,90,90,85,85,90,85,0,0,0,0,83,90,93,85,82,92,91,86,75,88,73,83,0,0,0,0,null,0,0,0,71.666666666666671,85,86.25,0,88.333333333333329,88.75,86.25,0,87.75,null,null,null,"001604","0.100","60",{"$f":"Tableau_SSRSMSA03_BI_Integration_STEPH_2010[[#This Row],[DAT_NAISSANCE_ELEVE]]","v":"1999-06-03"},"2009-09-30",3772,10.327173169062286,{"$f":"IF(AND(LEFT(CO278,1)=\"1\",CS278>5.5),\"V\",IF(AND(LEFT(CO278,1)=\"2\",CS278>6.5),\"V\",IF(AND(LEFT(CO278,1)=\"3\",CS278>7.5),\"V\",IF(AND(LEFT(CO278,1)=\"4\",CS278>8.5),\"V\",IF(AND(LEFT(CO278,1)=\"5\",CS278>9.5),\"V\",IF(AND(LEFT(CO278,1)=\"6\",CS278>10.5),\"V\",\"J\"))))))","v":"J"},{"$f":"IF(AJ278=0,0,IF(BH278=0,0,1))","v":1}]
["2010","001","604",null,null,0,"1999-04-21",null,null,"M",85,85,0,90,90,85,90,90,90,90,90,95,0,0,0,0,85,85,0,90,85,85,85,95,90,90,90,95,0,0,0,0,75,70,0,90,75,85,95,85,80,90,95,80,0,0,0,0,0,0,0,0,0,0,0,0,0,0,0,0,0,0,0,0,null,58.333333333333336,88.75,91.25,86.666666666666671,87.5,91.25,0,78.333333333333329,85,86.25,0,0,null,null,null,"001604","0.100","60",{"$f":"Tableau_SSRSMSA03_BI_Integration_STEPH_2010[[#This Row],[DAT_NAISSANCE_ELEVE]]","v":"1999-04-21"},"2009-09-30",3815,10.444900752908966,{"$f":"IF(AND(LEFT(CO279,1)=\"1\",CS279>5.5),\"V\",IF(AND(LEFT(CO279,1)=\"2\",CS279>6.5),\"V\",IF(AND(LEFT(CO279,1)=\"3\",CS279>7.5),\"V\",IF(AND(LEFT(CO279,1)=\"4\",CS279>8.5),\"V\",IF(AND(LEFT(CO279,1)=\"5\",CS279>9.5),\"V\",IF(AND(LEFT(CO279,1)=\"6\",CS279>10.5),\"V\",\"J\"))))))","v":"J"},{"$f":"IF(AJ279=0,0,IF(BH279=0,0,1))","v":0}]
["2010","001","605",null,null,0,"1999-08-26",null,null,"F",75,80,0,95,85,90,75,85,80,80,80,90,0,0,0,0,70,80,0,80,70,75,65,80,75,75,80,85,0,0,0,0,75,75,0,85,75,70,75,85,75,80,75,75,0,0,0,0,75,68,84,92,60,60,90,80,65,60,78,92,0,0,0,0,null,56.666666666666664,83.75,82.5,76.666666666666671,72.5,78.75,0,78.333333333333329,76.25,76.25,0,79.75,null,null,null,"001605","0.100","60",{"$f":"Tableau_SSRSMSA03_BI_Integration_STEPH_2010[[#This Row],[DAT_NAISSANCE_ELEVE]]","v":"1999-08-26"},"2009-09-30",3688,10.097193702943189,{"$f":"IF(AND(LEFT(CO280,1)=\"1\",CS280>5.5),\"V\",IF(AND(LEFT(CO280,1)=\"2\",CS280>6.5),\"V\",IF(AND(LEFT(CO280,1)=\"3\",CS280>7.5),\"V\",IF(AND(LEFT(CO280,1)=\"4\",CS280>8.5),\"V\",IF(AND(LEFT(CO280,1)=\"5\",CS280>9.5),\"V\",IF(AND(LEFT(CO280,1)=\"6\",CS280>10.5),\"V\",\"J\"))))))","v":"J"},{"$f":"IF(AJ280=0,0,IF(BH280=0,0,1))","v":1}]
["2010","001","605",null,null,0,"1999-07-08",null,null,"F",90,85,0,80,90,90,85,85,90,90,85,90,0,0,0,0,85,85,0,80,90,80,85,85,90,85,85,80,0,0,0,0,90,80,0,95,80,80,80,80,85,85,80,85,0,0,0,0,0,0,0,0,0,0,0,0,0,0,0,0,0,0,0,0,null,56.666666666666664,87.5,88.75,83.333333333333329,85,85,0,88.333333333333329,80,83.75,0,0,null,null,null,"001605","0.100","60",{"$f":"Tableau_SSRSMSA03_BI_Integration_STEPH_2010[[#This Row],[DAT_NAISSANCE_ELEVE]]","v":"1999-07-08"},"2009-09-30",3737,10.231348391512663,{"$f":"IF(AND(LEFT(CO281,1)=\"1\",CS281>5.5),\"V\",IF(AND(LEFT(CO281,1)=\"2\",CS281>6.5),\"V\",IF(AND(LEFT(CO281,1)=\"3\",CS281>7.5),\"V\",IF(AND(LEFT(CO281,1)=\"4\",CS281>8.5),\"V\",IF(AND(LEFT(CO281,1)=\"5\",CS281>9.5),\"V\",IF(AND(LEFT(CO281,1)=\"6\",CS281>10.5),\"V\",\"J\"))))))","v":"J"},{"$f":"IF(AJ281=0,0,IF(BH281=0,0,1))","v":0}]
["2010","001","605",null,null,0,"1999-07-29",null,null,"M",85,90,0,85,90,95,85,85,90,85,85,90,0,0,0,0,70,90,0,70,85,90,65,75,90,85,75,70,0,0,0,0,90,95,0,85,80,90,95,85,90,90,90,85,0,0,0,0,0,0,0,0,0,0,0,0,0,0,0,0,0,0,0,0,null,56.666666666666664,88.75,87.5,76.666666666666671,78.75,80,0,90,87.5,88.75,0,0,null,null,null,"001605","0.100","60",{"$f":"Tableau_SSRSMSA03_BI_Integration_STEPH_2010[[#This Row],[DAT_NAISSANCE_ELEVE]]","v":"1999-07-29"},"2009-09-30",3716,10.173853524982889,{"$f":"IF(AND(LEFT(CO282,1)=\"1\",CS282>5.5),\"V\",IF(AND(LEFT(CO282,1)=\"2\",CS282>6.5),\"V\",IF(AND(LEFT(CO282,1)=\"3\",CS282>7.5),\"V\",IF(AND(LEFT(CO282,1)=\"4\",CS282>8.5),\"V\",IF(AND(LEFT(CO282,1)=\"5\",CS282>9.5),\"V\",IF(AND(LEFT(CO282,1)=\"6\",CS282>10.5),\"V\",\"J\"))))))","v":"J"},{"$f":"IF(AJ282=0,0,IF(BH282=0,0,1))","v":0}]
["2010","001","605",null,null,0,"1999-05-18",null,null,"F",85,95,0,95,85,95,90,95,90,95,90,95,0,0,0,0,85,90,0,90,90,90,80,90,90,90,90,90,0,0,0,0,90,95,0,95,90,95,95,95,95,95,95,95,0,0,0,0,0,0,0,0,0,0,0,0,0,0,0,0,0,0,0,0,null,60,91.25,92.5,88.333333333333329,87.5,90,0,93.333333333333329,93.75,95,0,0,null,null,null,"001605","0.100","60",{"$f":"Tableau_SSRSMSA03_BI_Integration_STEPH_2010[[#This Row],[DAT_NAISSANCE_ELEVE]]","v":"1999-05-18"},"2009-09-30",3788,10.370978781656399,{"$f":"IF(AND(LEFT(CO283,1)=\"1\",CS283>5.5),\"V\",IF(AND(LEFT(CO283,1)=\"2\",CS283>6.5),\"V\",IF(AND(LEFT(CO283,1)=\"3\",CS283>7.5),\"V\",IF(AND(LEFT(CO283,1)=\"4\",CS283>8.5),\"V\",IF(AND(LEFT(CO283,1)=\"5\",CS283>9.5),\"V\",IF(AND(LEFT(CO283,1)=\"6\",CS283>10.5),\"V\",\"J\"))))))","v":"J"},{"$f":"IF(AJ283=0,0,IF(BH283=0,0,1))","v":0}]
["2010","001","605",null,null,0,"1999-03-12",null,null,"M",0,60,0,96,70,85,95,93,80,80,80,85,0,0,0,0,84,0,0,94,0,80,0,0,80,87,98,0,0,0,0,0,60,75,0,90,70,75,95,85,75,75,90,90,0,0,0,0,84,75,90,90,60,84,93,93,83,90,85,81,0,0,0,0,null,32,85.75,81.25,0,26.666666666666668,66.25,0,75,81.25,82.5,0,84.75,null,null,null,"001605","0.100","60",{"$f":"Tableau_SSRSMSA03_BI_Integration_STEPH_2010[[#This Row],[DAT_NAISSANCE_ELEVE]]","v":"1999-03-12"},"2009-09-30",3855,10.55441478439425,{"$f":"IF(AND(LEFT(CO284,1)=\"1\",CS284>5.5),\"V\",IF(AND(LEFT(CO284,1)=\"2\",CS284>6.5),\"V\",IF(AND(LEFT(CO284,1)=\"3\",CS284>7.5),\"V\",IF(AND(LEFT(CO284,1)=\"4\",CS284>8.5),\"V\",IF(AND(LEFT(CO284,1)=\"5\",CS284>9.5),\"V\",IF(AND(LEFT(CO284,1)=\"6\",CS284>10.5),\"V\",\"J\"))))))","v":"V"},{"$f":"IF(AJ284=0,0,IF(BH284=0,0,1))","v":1}]
["2010","001","605",null,null,0,"1998-11-17",null,null,"M",80,85,0,95,80,80,90,85,80,85,70,90,0,0,0,0,75,80,0,80,80,85,75,85,85,85,85,95,0,0,0,0,80,85,0,90,80,75,80,95,75,75,85,95,0,0,0,0,0,0,0,0,0,0,0,0,0,0,0,0,0,0,0,0,null,58.333333333333336,83.75,81.25,78.333333333333329,81.25,87.5,0,85,82.5,82.5,0,0,null,null,null,"001605","0.100","60",{"$f":"Tableau_SSRSMSA03_BI_Integration_STEPH_2010[[#This Row],[DAT_NAISSANCE_ELEVE]]","v":"1998-11-17"},"2009-09-30",3970,10.869267624914443,{"$f":"IF(AND(LEFT(CO285,1)=\"1\",CS285>5.5),\"V\",IF(AND(LEFT(CO285,1)=\"2\",CS285>6.5),\"V\",IF(AND(LEFT(CO285,1)=\"3\",CS285>7.5),\"V\",IF(AND(LEFT(CO285,1)=\"4\",CS285>8.5),\"V\",IF(AND(LEFT(CO285,1)=\"5\",CS285>9.5),\"V\",IF(AND(LEFT(CO285,1)=\"6\",CS285>10.5),\"V\",\"J\"))))))","v":"V"},{"$f":"IF(AJ285=0,0,IF(BH285=0,0,1))","v":0}]
["2010","001","605",null,null,0,"1998-04-03",null,null,"F",0,0,0,0,0,0,0,0,0,0,0,0,0,0,0,0,0,0,0,0,55,65,65,55,60,65,70,60,0,0,0,0,60,70,0,70,70,75,75,65,70,75,70,75,0,0,0,0,56,50,48,42,50,47,23,52,56,60,138,120,0,0,0,0,null,0,0,0,0,60,63.75,0,66.666666666666671,71.25,72.5,0,49,null,null,null,"001605","0.100","60",{"$f":"Tableau_SSRSMSA03_BI_Integration_STEPH_2010[[#This Row],[DAT_NAISSANCE_ELEVE]]","v":"1998-04-03"},"2009-09-30",4198,11.493497604380561,{"$f":"IF(AND(LEFT(CO286,1)=\"1\",CS286>5.5),\"V\",IF(AND(LEFT(CO286,1)=\"2\",CS286>6.5),\"V\",IF(AND(LEFT(CO286,1)=\"3\",CS286>7.5),\"V\",IF(AND(LEFT(CO286,1)=\"4\",CS286>8.5),\"V\",IF(AND(LEFT(CO286,1)=\"5\",CS286>9.5),\"V\",IF(AND(LEFT(CO286,1)=\"6\",CS286>10.5),\"V\",\"J\"))))))","v":"V"},{"$f":"IF(AJ286=0,0,IF(BH286=0,0,1))","v":1}]
["2010","001","605",null,null,0,"1999-09-18",null,null,"F",75,75,0,85,90,80,85,90,80,80,80,90,0,0,0,0,70,80,0,80,85,80,65,75,80,85,80,80,0,0,0,0,80,80,0,90,85,80,90,90,85,80,90,90,0,0,0,0,0,0,0,0,0,0,0,0,0,0,0,0,0,0,0,0,null,53.333333333333336,86.25,82.5,76.666666666666671,76.25,81.25,0,83.333333333333329,86.25,86.25,0,0,null,null,null,"001605","0.100","60",{"$f":"Tableau_SSRSMSA03_BI_Integration_STEPH_2010[[#This Row],[DAT_NAISSANCE_ELEVE]]","v":"1999-09-18"},"2009-09-30",3665,10.03422313483915,{"$f":"IF(AND(LEFT(CO287,1)=\"1\",CS287>5.5),\"V\",IF(AND(LEFT(CO287,1)=\"2\",CS287>6.5),\"V\",IF(AND(LEFT(CO287,1)=\"3\",CS287>7.5),\"V\",IF(AND(LEFT(CO287,1)=\"4\",CS287>8.5),\"V\",IF(AND(LEFT(CO287,1)=\"5\",CS287>9.5),\"V\",IF(AND(LEFT(CO287,1)=\"6\",CS287>10.5),\"V\",\"J\"))))))","v":"J"},{"$f":"IF(AJ287=0,0,IF(BH287=0,0,1))","v":0}]
["2010","001","605",null,null,0,"1998-11-03",null,null,"M",90,90,0,90,90,85,95,95,90,90,90,90,0,0,0,0,80,85,0,90,80,90,90,95,85,90,95,95,0,0,0,0,90,95,0,95,90,90,90,90,95,90,95,95,0,0,0,0,0,0,0,0,0,0,0,0,0,0,0,0,0,0,0,0,null,60,91.25,90,85,88.75,91.25,0,93.333333333333329,90,93.75,0,0,null,null,null,"001605","0.100","60",{"$f":"Tableau_SSRSMSA03_BI_Integration_STEPH_2010[[#This Row],[DAT_NAISSANCE_ELEVE]]","v":"1998-11-03"},"2009-09-30",3984,10.907597535934292,{"$f":"IF(AND(LEFT(CO288,1)=\"1\",CS288>5.5),\"V\",IF(AND(LEFT(CO288,1)=\"2\",CS288>6.5),\"V\",IF(AND(LEFT(CO288,1)=\"3\",CS288>7.5),\"V\",IF(AND(LEFT(CO288,1)=\"4\",CS288>8.5),\"V\",IF(AND(LEFT(CO288,1)=\"5\",CS288>9.5),\"V\",IF(AND(LEFT(CO288,1)=\"6\",CS288>10.5),\"V\",\"J\"))))))","v":"V"},{"$f":"IF(AJ288=0,0,IF(BH288=0,0,1))","v":0}]
["2010","001","605",null,null,0,"1998-12-17",null,null,"F",90,90,0,90,85,85,85,85,85,75,75,75,0,0,0,0,70,75,0,70,75,70,85,75,80,75,70,70,0,0,0,0,70,70,0,75,75,70,60,70,80,75,70,75,0,0,0,0,0,0,0,0,0,0,0,0,0,0,0,0,0,0,0,0,null,60,85,77.5,71.666666666666671,76.25,73.75,0,71.666666666666671,68.75,75,0,0,null,null,null,"001605","0.100","60",{"$f":"Tableau_SSRSMSA03_BI_Integration_STEPH_2010[[#This Row],[DAT_NAISSANCE_ELEVE]]","v":"1998-12-17"},"2009-09-30",3940,10.787132101300479,{"$f":"IF(AND(LEFT(CO289,1)=\"1\",CS289>5.5),\"V\",IF(AND(LEFT(CO289,1)=\"2\",CS289>6.5),\"V\",IF(AND(LEFT(CO289,1)=\"3\",CS289>7.5),\"V\",IF(AND(LEFT(CO289,1)=\"4\",CS289>8.5),\"V\",IF(AND(LEFT(CO289,1)=\"5\",CS289>9.5),\"V\",IF(AND(LEFT(CO289,1)=\"6\",CS289>10.5),\"V\",\"J\"))))))","v":"V"},{"$f":"IF(AJ289=0,0,IF(BH289=0,0,1))","v":0}]
["2010","001","605",null,null,0,"1998-04-08",null,null,"M",0,0,0,80,0,0,0,80,0,0,0,86,0,0,0,0,0,0,0,0,50,60,55,80,65,60,70,85,0,0,0,0,60,60,0,80,65,55,70,80,70,70,80,90,0,0,0,0,0,0,84,84,58,43,67,69,68,63,58,74,0,0,0,0,null,0,0,0,0,61.25,70,0,66.666666666666671,67.5,77.5,0,0,null,null,null,"001605","0.100","60",{"$f":"Tableau_SSRSMSA03_BI_Integration_STEPH_2010[[#This Row],[DAT_NAISSANCE_ELEVE]]","v":"1998-04-08"},"2009-09-30",4193,11.4798083504449,{"$f":"IF(AND(LEFT(CO290,1)=\"1\",CS290>5.5),\"V\",IF(AND(LEFT(CO290,1)=\"2\",CS290>6.5),\"V\",IF(AND(LEFT(CO290,1)=\"3\",CS290>7.5),\"V\",IF(AND(LEFT(CO290,1)=\"4\",CS290>8.5),\"V\",IF(AND(LEFT(CO290,1)=\"5\",CS290>9.5),\"V\",IF(AND(LEFT(CO290,1)=\"6\",CS290>10.5),\"V\",\"J\"))))))","v":"V"},{"$f":"IF(AJ290=0,0,IF(BH290=0,0,1))","v":0}]
["2010","001","605",null,null,0,"1998-08-20",null,null,"M",40,60,0,85,55,60,80,85,55,70,75,85,0,0,0,0,50,60,0,75,60,70,65,80,60,65,70,70,0,0,0,0,60,70,0,90,60,65,90,80,70,75,80,80,0,0,0,0,0,0,0,0,0,0,0,0,0,0,0,0,0,0,0,0,null,41.666666666666664,70,71.25,61.666666666666664,68.75,66.25,0,73.333333333333329,73.75,76.25,0,0,null,null,null,"001605","0.100","60",{"$f":"Tableau_SSRSMSA03_BI_Integration_STEPH_2010[[#This Row],[DAT_NAISSANCE_ELEVE]]","v":"1998-08-20"},"2009-09-30",4059,11.112936344969199,{"$f":"IF(AND(LEFT(CO291,1)=\"1\",CS291>5.5),\"V\",IF(AND(LEFT(CO291,1)=\"2\",CS291>6.5),\"V\",IF(AND(LEFT(CO291,1)=\"3\",CS291>7.5),\"V\",IF(AND(LEFT(CO291,1)=\"4\",CS291>8.5),\"V\",IF(AND(LEFT(CO291,1)=\"5\",CS291>9.5),\"V\",IF(AND(LEFT(CO291,1)=\"6\",CS291>10.5),\"V\",\"J\"))))))","v":"V"},{"$f":"IF(AJ291=0,0,IF(BH291=0,0,1))","v":0}]
["2010","001","605",null,null,0,"1999-09-19",null,null,"F",90,90,0,90,85,85,85,85,90,85,85,95,0,0,0,0,90,90,90,90,90,90,80,90,90,90,95,90,0,0,0,0,90,85,0,95,90,85,85,90,95,90,95,90,0,0,0,0,0,0,0,0,0,0,0,0,0,0,0,0,0,0,0,0,null,60,85,88.75,90,87.5,91.25,0,90,87.5,92.5,0,0,null,null,null,"001605","0.100","60",{"$f":"Tableau_SSRSMSA03_BI_Integration_STEPH_2010[[#This Row],[DAT_NAISSANCE_ELEVE]]","v":"1999-09-19"},"2009-09-30",3664,10.031485284052019,{"$f":"IF(AND(LEFT(CO292,1)=\"1\",CS292>5.5),\"V\",IF(AND(LEFT(CO292,1)=\"2\",CS292>6.5),\"V\",IF(AND(LEFT(CO292,1)=\"3\",CS292>7.5),\"V\",IF(AND(LEFT(CO292,1)=\"4\",CS292>8.5),\"V\",IF(AND(LEFT(CO292,1)=\"5\",CS292>9.5),\"V\",IF(AND(LEFT(CO292,1)=\"6\",CS292>10.5),\"V\",\"J\"))))))","v":"J"},{"$f":"IF(AJ292=0,0,IF(BH292=0,0,1))","v":0}]
["2010","001","605",null,null,0,"1999-04-26",null,null,"M",75,75,0,80,75,95,90,90,85,85,90,80,0,0,0,0,75,85,0,85,85,75,90,85,80,85,85,80,0,0,0,0,75,80,0,80,80,75,75,75,80,80,75,80,0,0,0,0,0,0,0,0,0,0,0,0,0,0,0,0,0,0,0,0,null,51.666666666666664,87.5,85,81.666666666666671,83.75,82.5,0,78.333333333333329,76.25,78.75,0,0,null,null,null,"001605","0.100","60",{"$f":"Tableau_SSRSMSA03_BI_Integration_STEPH_2010[[#This Row],[DAT_NAISSANCE_ELEVE]]","v":"1999-04-26"},"2009-09-30",3810,10.431211498973306,{"$f":"IF(AND(LEFT(CO293,1)=\"1\",CS293>5.5),\"V\",IF(AND(LEFT(CO293,1)=\"2\",CS293>6.5),\"V\",IF(AND(LEFT(CO293,1)=\"3\",CS293>7.5),\"V\",IF(AND(LEFT(CO293,1)=\"4\",CS293>8.5),\"V\",IF(AND(LEFT(CO293,1)=\"5\",CS293>9.5),\"V\",IF(AND(LEFT(CO293,1)=\"6\",CS293>10.5),\"V\",\"J\"))))))","v":"J"},{"$f":"IF(AJ293=0,0,IF(BH293=0,0,1))","v":0}]
["2010","001","605",null,null,0,"1999-05-16",null,null,"F",90,95,0,95,95,95,95,95,90,95,90,95,0,0,0,0,85,85,90,90,85,90,90,90,90,85,95,85,0,0,0,0,90,90,0,90,90,85,90,90,90,85,90,95,0,0,0,0,0,0,0,0,0,0,0,0,0,0,0,0,0,0,0,0,null,61.666666666666664,95,92.5,87.5,88.75,88.75,0,90,88.75,90,0,0,null,null,null,"001605","0.100","60",{"$f":"Tableau_SSRSMSA03_BI_Integration_STEPH_2010[[#This Row],[DAT_NAISSANCE_ELEVE]]","v":"1999-05-16"},"2009-09-30",3790,10.376454483230663,{"$f":"IF(AND(LEFT(CO294,1)=\"1\",CS294>5.5),\"V\",IF(AND(LEFT(CO294,1)=\"2\",CS294>6.5),\"V\",IF(AND(LEFT(CO294,1)=\"3\",CS294>7.5),\"V\",IF(AND(LEFT(CO294,1)=\"4\",CS294>8.5),\"V\",IF(AND(LEFT(CO294,1)=\"5\",CS294>9.5),\"V\",IF(AND(LEFT(CO294,1)=\"6\",CS294>10.5),\"V\",\"J\"))))))","v":"J"},{"$f":"IF(AJ294=0,0,IF(BH294=0,0,1))","v":0}]
["2010","001","605",null,null,0,"1999-04-01",null,null,"F",85,85,0,90,85,85,90,85,85,85,90,85,0,0,0,0,80,90,0,80,85,85,90,90,85,90,95,95,0,0,0,0,90,90,0,95,90,90,95,95,90,95,95,90,0,0,0,0,0,0,0,0,0,0,0,0,0,0,0,0,0,0,0,0,null,58.333333333333336,86.25,86.25,83.333333333333329,87.5,91.25,0,91.666666666666671,92.5,92.5,0,0,null,null,null,"001605","0.100","60",{"$f":"Tableau_SSRSMSA03_BI_Integration_STEPH_2010[[#This Row],[DAT_NAISSANCE_ELEVE]]","v":"1999-04-01"},"2009-09-30",3835,10.499657768651609,{"$f":"IF(AND(LEFT(CO295,1)=\"1\",CS295>5.5),\"V\",IF(AND(LEFT(CO295,1)=\"2\",CS295>6.5),\"V\",IF(AND(LEFT(CO295,1)=\"3\",CS295>7.5),\"V\",IF(AND(LEFT(CO295,1)=\"4\",CS295>8.5),\"V\",IF(AND(LEFT(CO295,1)=\"5\",CS295>9.5),\"V\",IF(AND(LEFT(CO295,1)=\"6\",CS295>10.5),\"V\",\"J\"))))))","v":"J"},{"$f":"IF(AJ295=0,0,IF(BH295=0,0,1))","v":0}]
["2010","001","605",null,null,0,"1999-07-21",null,null,"M",65,60,0,65,70,60,60,65,70,60,55,70,0,0,0,0,60,75,0,60,70,70,55,70,70,70,65,55,0,0,0,0,60,65,0,55,70,65,70,65,70,60,60,60,0,0,0,0,0,0,0,0,0,0,0,0,0,0,0,0,0,0,0,0,null,43.333333333333336,63.75,63.75,65,66.25,65,0,60,67.5,62.5,0,0,null,null,null,"001605","0.100","60",{"$f":"Tableau_SSRSMSA03_BI_Integration_STEPH_2010[[#This Row],[DAT_NAISSANCE_ELEVE]]","v":"1999-07-21"},"2009-09-30",3724,10.195756331279945,{"$f":"IF(AND(LEFT(CO296,1)=\"1\",CS296>5.5),\"V\",IF(AND(LEFT(CO296,1)=\"2\",CS296>6.5),\"V\",IF(AND(LEFT(CO296,1)=\"3\",CS296>7.5),\"V\",IF(AND(LEFT(CO296,1)=\"4\",CS296>8.5),\"V\",IF(AND(LEFT(CO296,1)=\"5\",CS296>9.5),\"V\",IF(AND(LEFT(CO296,1)=\"6\",CS296>10.5),\"V\",\"J\"))))))","v":"J"},{"$f":"IF(AJ296=0,0,IF(BH296=0,0,1))","v":0}]
["2010","001","605",null,null,0,"1999-07-23",null,null,"M",0,0,0,0,0,0,0,0,0,0,0,0,0,0,0,0,0,0,0,0,0,0,0,0,0,0,0,0,0,0,0,0,30,55,0,65,40,60,60,65,40,60,60,70,0,0,0,0,56,50,79,80,52,62,60,62,60,61,70,59,0,0,0,0,null,0,0,0,0,0,0,0,50,56.25,57.5,0,66.25,null,null,null,"001605","0.100","60",{"$f":"Tableau_SSRSMSA03_BI_Integration_STEPH_2010[[#This Row],[DAT_NAISSANCE_ELEVE]]","v":"1999-07-23"},"2009-09-30",3722,10.190280629705681,{"$f":"IF(AND(LEFT(CO297,1)=\"1\",CS297>5.5),\"V\",IF(AND(LEFT(CO297,1)=\"2\",CS297>6.5),\"V\",IF(AND(LEFT(CO297,1)=\"3\",CS297>7.5),\"V\",IF(AND(LEFT(CO297,1)=\"4\",CS297>8.5),\"V\",IF(AND(LEFT(CO297,1)=\"5\",CS297>9.5),\"V\",IF(AND(LEFT(CO297,1)=\"6\",CS297>10.5),\"V\",\"J\"))))))","v":"J"},{"$f":"IF(AJ297=0,0,IF(BH297=0,0,1))","v":0}]
["2010","001","605",null,null,0,"1998-11-02",null,null,"M",0,0,0,0,0,0,0,0,0,0,0,0,0,0,0,0,85,75,0,90,80,70,80,80,85,80,70,90,0,0,0,0,90,85,0,85,95,80,85,80,90,85,90,85,0,0,0,0,0,0,0,0,0,0,0,0,0,0,0,0,0,0,0,0,null,0,0,0,83.333333333333329,77.5,81.25,0,86.666666666666671,85,87.5,0,0,null,null,null,"001605","0.100","60",{"$f":"Tableau_SSRSMSA03_BI_Integration_STEPH_2010[[#This Row],[DAT_NAISSANCE_ELEVE]]","v":"1998-11-02"},"2009-09-30",3985,10.910335386721425,{"$f":"IF(AND(LEFT(CO298,1)=\"1\",CS298>5.5),\"V\",IF(AND(LEFT(CO298,1)=\"2\",CS298>6.5),\"V\",IF(AND(LEFT(CO298,1)=\"3\",CS298>7.5),\"V\",IF(AND(LEFT(CO298,1)=\"4\",CS298>8.5),\"V\",IF(AND(LEFT(CO298,1)=\"5\",CS298>9.5),\"V\",IF(AND(LEFT(CO298,1)=\"6\",CS298>10.5),\"V\",\"J\"))))))","v":"V"},{"$f":"IF(AJ298=0,0,IF(BH298=0,0,1))","v":0}]
["2010","001","605",null,null,0,"1998-10-28",null,null,"M",75,85,0,85,75,90,85,90,75,85,80,85,0,0,0,0,65,90,0,85,70,80,75,85,75,75,95,80,0,0,0,0,85,80,0,90,85,70,85,80,85,85,90,85,0,0,0,0,0,0,0,0,0,0,0,0,0,0,0,0,0,0,0,0,null,53.333333333333336,85,81.25,80,77.5,81.25,0,85,80,86.25,0,0,null,null,null,"001605","0.100","60",{"$f":"Tableau_SSRSMSA03_BI_Integration_STEPH_2010[[#This Row],[DAT_NAISSANCE_ELEVE]]","v":"1998-10-28"},"2009-09-30",3990,10.924024640657084,{"$f":"IF(AND(LEFT(CO299,1)=\"1\",CS299>5.5),\"V\",IF(AND(LEFT(CO299,1)=\"2\",CS299>6.5),\"V\",IF(AND(LEFT(CO299,1)=\"3\",CS299>7.5),\"V\",IF(AND(LEFT(CO299,1)=\"4\",CS299>8.5),\"V\",IF(AND(LEFT(CO299,1)=\"5\",CS299>9.5),\"V\",IF(AND(LEFT(CO299,1)=\"6\",CS299>10.5),\"V\",\"J\"))))))","v":"V"},{"$f":"IF(AJ299=0,0,IF(BH299=0,0,1))","v":0}]
["2010","001","605",null,null,0,"1999-02-13",null,null,"M",80,95,0,95,85,80,95,90,80,85,85,95,0,0,0,0,65,90,0,90,80,90,80,90,85,80,85,80,0,0,0,0,80,85,0,85,85,70,75,80,80,80,80,80,0,0,0,0,0,0,0,0,0,0,0,0,0,0,0,0,0,0,0,0,null,58.333333333333336,87.5,86.25,81.666666666666671,85,82.5,0,83.333333333333329,77.5,80,0,0,null,null,null,"001605","0.100","60",{"$f":"Tableau_SSRSMSA03_BI_Integration_STEPH_2010[[#This Row],[DAT_NAISSANCE_ELEVE]]","v":"1999-02-13"},"2009-09-30",3882,10.628336755646817,{"$f":"IF(AND(LEFT(CO300,1)=\"1\",CS300>5.5),\"V\",IF(AND(LEFT(CO300,1)=\"2\",CS300>6.5),\"V\",IF(AND(LEFT(CO300,1)=\"3\",CS300>7.5),\"V\",IF(AND(LEFT(CO300,1)=\"4\",CS300>8.5),\"V\",IF(AND(LEFT(CO300,1)=\"5\",CS300>9.5),\"V\",IF(AND(LEFT(CO300,1)=\"6\",CS300>10.5),\"V\",\"J\"))))))","v":"V"},{"$f":"IF(AJ300=0,0,IF(BH300=0,0,1))","v":0}]
["2010","001","605",null,null,0,"1999-03-15",null,null,"F",75,85,0,85,75,85,85,80,80,80,85,85,0,0,0,0,75,85,0,85,85,95,90,90,85,75,90,80,0,0,0,0,75,80,0,80,75,80,95,85,80,90,80,80,0,0,0,0,0,0,0,0,0,0,0,0,0,0,0,0,0,0,0,0,null,53.333333333333336,81.25,82.5,81.666666666666671,90,82.5,0,78.333333333333329,83.75,82.5,0,0,null,null,null,"001605","0.100","60",{"$f":"Tableau_SSRSMSA03_BI_Integration_STEPH_2010[[#This Row],[DAT_NAISSANCE_ELEVE]]","v":"1999-03-15"},"2009-09-30",3852,10.546201232032855,{"$f":"IF(AND(LEFT(CO301,1)=\"1\",CS301>5.5),\"V\",IF(AND(LEFT(CO301,1)=\"2\",CS301>6.5),\"V\",IF(AND(LEFT(CO301,1)=\"3\",CS301>7.5),\"V\",IF(AND(LEFT(CO301,1)=\"4\",CS301>8.5),\"V\",IF(AND(LEFT(CO301,1)=\"5\",CS301>9.5),\"V\",IF(AND(LEFT(CO301,1)=\"6\",CS301>10.5),\"V\",\"J\"))))))","v":"V"},{"$f":"IF(AJ301=0,0,IF(BH301=0,0,1))","v":0}]
["2010","001","605",null,null,0,"1999-05-08",null,null,"F",60,60,0,65,65,65,75,65,70,70,65,60,0,0,0,0,55,70,0,55,60,70,65,55,70,80,55,55,0,0,0,0,60,75,0,50,55,70,70,55,70,70,65,55,0,0,0,0,86,98,0,79,55,87,68,73,77,83,83,72,0,0,0,0,null,41.666666666666664,67.5,66.25,60,62.5,65,0,61.666666666666664,62.5,65,0,82.75,null,null,null,"001605","0.100","60",{"$f":"Tableau_SSRSMSA03_BI_Integration_STEPH_2010[[#This Row],[DAT_NAISSANCE_ELEVE]]","v":"1999-05-08"},"2009-09-30",3798,10.39835728952772,{"$f":"IF(AND(LEFT(CO302,1)=\"1\",CS302>5.5),\"V\",IF(AND(LEFT(CO302,1)=\"2\",CS302>6.5),\"V\",IF(AND(LEFT(CO302,1)=\"3\",CS302>7.5),\"V\",IF(AND(LEFT(CO302,1)=\"4\",CS302>8.5),\"V\",IF(AND(LEFT(CO302,1)=\"5\",CS302>9.5),\"V\",IF(AND(LEFT(CO302,1)=\"6\",CS302>10.5),\"V\",\"J\"))))))","v":"J"},{"$f":"IF(AJ302=0,0,IF(BH302=0,0,1))","v":1}]
["2010","001","605",null,null,0,"1999-06-30",null,null,"M",60,30,0,40,60,60,55,75,65,60,55,55,0,0,0,0,50,50,0,55,60,65,65,70,75,50,65,55,0,0,0,0,55,60,0,65,65,60,80,75,65,70,80,75,0,0,0,0,61,73,0,78,72,77,82,74,73,49,81,50,0,0,0,0,null,33.333333333333336,62.5,58.75,51.666666666666664,65,61.25,0,60,70,72.5,0,73.5,null,null,null,"001605","0.100","60",{"$f":"Tableau_SSRSMSA03_BI_Integration_STEPH_2010[[#This Row],[DAT_NAISSANCE_ELEVE]]","v":"1999-06-30"},"2009-09-30",3745,10.253251197809719,{"$f":"IF(AND(LEFT(CO303,1)=\"1\",CS303>5.5),\"V\",IF(AND(LEFT(CO303,1)=\"2\",CS303>6.5),\"V\",IF(AND(LEFT(CO303,1)=\"3\",CS303>7.5),\"V\",IF(AND(LEFT(CO303,1)=\"4\",CS303>8.5),\"V\",IF(AND(LEFT(CO303,1)=\"5\",CS303>9.5),\"V\",IF(AND(LEFT(CO303,1)=\"6\",CS303>10.5),\"V\",\"J\"))))))","v":"J"},{"$f":"IF(AJ303=0,0,IF(BH303=0,0,1))","v":1}]
["2010","001","605",null,null,0,"1999-02-05",null,null,"M",75,70,0,80,90,80,90,95,75,75,75,85,0,0,0,0,75,70,70,65,80,65,90,90,80,70,60,70,0,0,0,0,70,65,0,80,75,75,85,80,75,80,80,80,0,0,0,0,0,0,0,0,0,0,0,0,0,0,0,0,0,0,0,0,null,51.666666666666664,88.75,77.5,70,81.25,70,0,71.666666666666671,78.75,78.75,0,0,null,null,null,"001605","0.100","60",{"$f":"Tableau_SSRSMSA03_BI_Integration_STEPH_2010[[#This Row],[DAT_NAISSANCE_ELEVE]]","v":"1999-02-05"},"2009-09-30",3890,10.650239561943874,{"$f":"IF(AND(LEFT(CO304,1)=\"1\",CS304>5.5),\"V\",IF(AND(LEFT(CO304,1)=\"2\",CS304>6.5),\"V\",IF(AND(LEFT(CO304,1)=\"3\",CS304>7.5),\"V\",IF(AND(LEFT(CO304,1)=\"4\",CS304>8.5),\"V\",IF(AND(LEFT(CO304,1)=\"5\",CS304>9.5),\"V\",IF(AND(LEFT(CO304,1)=\"6\",CS304>10.5),\"V\",\"J\"))))))","v":"V"},{"$f":"IF(AJ304=0,0,IF(BH304=0,0,1))","v":0}]
["2010","001","606",null,null,0,"1998-12-08",null,null,"F",80,90,0,80,90,85,95,90,85,85,80,90,0,0,0,0,70,80,0,85,85,80,70,80,80,85,90,90,0,0,0,0,80,85,0,95,80,85,85,85,95,85,90,90,0,0,0,0,0,0,0,0,0,0,0,0,0,0,0,0,0,0,0,0,null,53.333333333333336,90,85,78.333333333333329,78.75,86.25,0,86.666666666666671,83.75,90,0,0,null,null,null,"001606","0.100","60",{"$f":"Tableau_SSRSMSA03_BI_Integration_STEPH_2010[[#This Row],[DAT_NAISSANCE_ELEVE]]","v":"1998-12-08"},"2009-09-30",3949,10.811772758384668,{"$f":"IF(AND(LEFT(CO305,1)=\"1\",CS305>5.5),\"V\",IF(AND(LEFT(CO305,1)=\"2\",CS305>6.5),\"V\",IF(AND(LEFT(CO305,1)=\"3\",CS305>7.5),\"V\",IF(AND(LEFT(CO305,1)=\"4\",CS305>8.5),\"V\",IF(AND(LEFT(CO305,1)=\"5\",CS305>9.5),\"V\",IF(AND(LEFT(CO305,1)=\"6\",CS305>10.5),\"V\",\"J\"))))))","v":"V"},{"$f":"IF(AJ305=0,0,IF(BH305=0,0,1))","v":0}]
["2010","001","606",null,null,0,"1999-02-04",null,null,"F",75,80,0,75,75,85,80,80,75,80,65,75,0,0,0,0,70,70,70,65,65,80,80,75,75,75,80,65,0,0,0,0,85,85,0,70,80,80,90,75,90,85,90,80,0,0,0,0,0,0,0,0,0,0,0,0,0,0,0,0,0,0,0,0,null,50,80,73.75,68.75,75,73.75,0,80,81.25,86.25,0,0,null,null,null,"001606","0.100","60",{"$f":"Tableau_SSRSMSA03_BI_Integration_STEPH_2010[[#This Row],[DAT_NAISSANCE_ELEVE]]","v":"1999-02-04"},"2009-09-30",3891,10.652977412731007,{"$f":"IF(AND(LEFT(CO306,1)=\"1\",CS306>5.5),\"V\",IF(AND(LEFT(CO306,1)=\"2\",CS306>6.5),\"V\",IF(AND(LEFT(CO306,1)=\"3\",CS306>7.5),\"V\",IF(AND(LEFT(CO306,1)=\"4\",CS306>8.5),\"V\",IF(AND(LEFT(CO306,1)=\"5\",CS306>9.5),\"V\",IF(AND(LEFT(CO306,1)=\"6\",CS306>10.5),\"V\",\"J\"))))))","v":"V"},{"$f":"IF(AJ306=0,0,IF(BH306=0,0,1))","v":0}]
["2010","001","606",null,null,0,"1999-08-18",null,null,"F",75,80,0,70,60,70,70,70,65,70,65,80,0,0,0,0,70,90,0,60,70,70,55,85,75,80,65,75,0,0,0,0,75,80,0,60,75,80,60,70,60,75,60,65,0,0,0,0,0,0,0,0,0,0,0,0,0,0,0,0,0,0,0,0,null,48.333333333333336,67.5,70,73.333333333333329,70,73.75,0,71.666666666666671,71.25,65,0,0,null,null,null,"001606","0.100","60",{"$f":"Tableau_SSRSMSA03_BI_Integration_STEPH_2010[[#This Row],[DAT_NAISSANCE_ELEVE]]","v":"1999-08-18"},"2009-09-30",3696,10.119096509240247,{"$f":"IF(AND(LEFT(CO307,1)=\"1\",CS307>5.5),\"V\",IF(AND(LEFT(CO307,1)=\"2\",CS307>6.5),\"V\",IF(AND(LEFT(CO307,1)=\"3\",CS307>7.5),\"V\",IF(AND(LEFT(CO307,1)=\"4\",CS307>8.5),\"V\",IF(AND(LEFT(CO307,1)=\"5\",CS307>9.5),\"V\",IF(AND(LEFT(CO307,1)=\"6\",CS307>10.5),\"V\",\"J\"))))))","v":"J"},{"$f":"IF(AJ307=0,0,IF(BH307=0,0,1))","v":0}]
["2010","001","606",null,null,0,"1999-05-23",null,null,"F",80,75,0,80,80,75,75,80,80,70,70,65,0,0,0,0,80,70,0,75,80,70,65,80,70,75,70,70,0,0,0,0,85,70,0,70,80,75,75,75,80,75,85,75,0,0,0,0,0,0,0,0,0,0,0,0,0,0,0,0,0,0,0,0,null,53.333333333333336,77.5,71.25,75,73.75,71.25,0,75,76.25,78.75,0,0,null,null,null,"001606","0.100","60",{"$f":"Tableau_SSRSMSA03_BI_Integration_STEPH_2010[[#This Row],[DAT_NAISSANCE_ELEVE]]","v":"1999-05-23"},"2009-09-30",3783,10.35728952772074,{"$f":"IF(AND(LEFT(CO308,1)=\"1\",CS308>5.5),\"V\",IF(AND(LEFT(CO308,1)=\"2\",CS308>6.5),\"V\",IF(AND(LEFT(CO308,1)=\"3\",CS308>7.5),\"V\",IF(AND(LEFT(CO308,1)=\"4\",CS308>8.5),\"V\",IF(AND(LEFT(CO308,1)=\"5\",CS308>9.5),\"V\",IF(AND(LEFT(CO308,1)=\"6\",CS308>10.5),\"V\",\"J\"))))))","v":"J"},{"$f":"IF(AJ308=0,0,IF(BH308=0,0,1))","v":0}]
["2010","001","606",null,null,0,"1999-05-18",null,null,"M",80,85,0,90,85,85,95,85,85,90,85,90,0,0,0,0,75,80,0,90,90,80,90,95,85,85,85,85,0,0,0,0,80,85,0,95,85,85,95,90,95,90,95,95,0,0,0,0,0,0,0,0,0,0,0,0,0,0,0,0,0,0,0,0,null,56.666666666666664,87.5,87.5,81.666666666666671,88.75,85,0,86.666666666666671,88.75,93.75,0,0,null,null,null,"001606","0.100","60",{"$f":"Tableau_SSRSMSA03_BI_Integration_STEPH_2010[[#This Row],[DAT_NAISSANCE_ELEVE]]","v":"1999-05-18"},"2009-09-30",3788,10.370978781656399,{"$f":"IF(AND(LEFT(CO309,1)=\"1\",CS309>5.5),\"V\",IF(AND(LEFT(CO309,1)=\"2\",CS309>6.5),\"V\",IF(AND(LEFT(CO309,1)=\"3\",CS309>7.5),\"V\",IF(AND(LEFT(CO309,1)=\"4\",CS309>8.5),\"V\",IF(AND(LEFT(CO309,1)=\"5\",CS309>9.5),\"V\",IF(AND(LEFT(CO309,1)=\"6\",CS309>10.5),\"V\",\"J\"))))))","v":"J"},{"$f":"IF(AJ309=0,0,IF(BH309=0,0,1))","v":0}]
["2010","001","606",null,null,0,"1998-12-24",null,null,"M",60,70,0,75,70,60,70,55,65,70,85,70,0,0,0,0,65,75,0,60,60,60,65,60,65,55,55,55,0,0,0,0,55,55,0,60,60,60,70,60,60,60,60,50,0,0,0,0,0,0,0,0,0,0,0,0,0,0,0,0,0,0,0,0,null,45,63.75,72.5,66.666666666666671,61.25,57.5,0,56.666666666666664,62.5,57.5,0,0,null,null,null,"001606","0.100","60",{"$f":"Tableau_SSRSMSA03_BI_Integration_STEPH_2010[[#This Row],[DAT_NAISSANCE_ELEVE]]","v":"1998-12-24"},"2009-09-30",3933,10.767967145790555,{"$f":"IF(AND(LEFT(CO310,1)=\"1\",CS310>5.5),\"V\",IF(AND(LEFT(CO310,1)=\"2\",CS310>6.5),\"V\",IF(AND(LEFT(CO310,1)=\"3\",CS310>7.5),\"V\",IF(AND(LEFT(CO310,1)=\"4\",CS310>8.5),\"V\",IF(AND(LEFT(CO310,1)=\"5\",CS310>9.5),\"V\",IF(AND(LEFT(CO310,1)=\"6\",CS310>10.5),\"V\",\"J\"))))))","v":"V"},{"$f":"IF(AJ310=0,0,IF(BH310=0,0,1))","v":0}]
["2010","001","606",null,null,0,"1999-03-25",null,null,"F",55,60,0,55,75,60,50,50,60,65,55,55,0,0,0,0,60,55,0,50,60,65,55,55,65,45,55,40,0,0,0,0,50,55,0,40,60,60,40,40,60,60,60,40,0,0,0,0,49,44,50,50,50,50,38,34,52,52,42,28,0,0,0,0,null,36.666666666666664,58.75,58.75,55,58.75,51.25,0,48.333333333333336,50,55,0,48.25,null,null,null,"001606","0.100","60",{"$f":"Tableau_SSRSMSA03_BI_Integration_STEPH_2010[[#This Row],[DAT_NAISSANCE_ELEVE]]","v":"1999-03-25"},"2009-09-30",3842,10.518822724161533,{"$f":"IF(AND(LEFT(CO311,1)=\"1\",CS311>5.5),\"V\",IF(AND(LEFT(CO311,1)=\"2\",CS311>6.5),\"V\",IF(AND(LEFT(CO311,1)=\"3\",CS311>7.5),\"V\",IF(AND(LEFT(CO311,1)=\"4\",CS311>8.5),\"V\",IF(AND(LEFT(CO311,1)=\"5\",CS311>9.5),\"V\",IF(AND(LEFT(CO311,1)=\"6\",CS311>10.5),\"V\",\"J\"))))))","v":"V"},{"$f":"IF(AJ311=0,0,IF(BH311=0,0,1))","v":1}]
["2010","001","606",null,null,0,"1999-03-23",null,null,"F",85,90,0,85,90,90,90,90,95,90,95,90,0,0,0,0,85,80,85,90,80,85,75,90,85,90,75,80,0,0,0,0,80,90,0,90,85,90,95,85,95,85,90,85,0,0,0,0,0,0,0,0,0,0,0,0,0,0,0,0,0,0,0,0,null,56.666666666666664,90,92.5,85,82.5,82.5,0,86.666666666666671,88.75,88.75,0,0,null,null,null,"001606","0.100","60",{"$f":"Tableau_SSRSMSA03_BI_Integration_STEPH_2010[[#This Row],[DAT_NAISSANCE_ELEVE]]","v":"1999-03-23"},"2009-09-30",3844,10.524298425735797,{"$f":"IF(AND(LEFT(CO312,1)=\"1\",CS312>5.5),\"V\",IF(AND(LEFT(CO312,1)=\"2\",CS312>6.5),\"V\",IF(AND(LEFT(CO312,1)=\"3\",CS312>7.5),\"V\",IF(AND(LEFT(CO312,1)=\"4\",CS312>8.5),\"V\",IF(AND(LEFT(CO312,1)=\"5\",CS312>9.5),\"V\",IF(AND(LEFT(CO312,1)=\"6\",CS312>10.5),\"V\",\"J\"))))))","v":"V"},{"$f":"IF(AJ312=0,0,IF(BH312=0,0,1))","v":0}]
["2010","001","606",null,null,0,"1999-03-26",null,null,"M",90,90,0,90,90,95,90,90,90,85,85,90,0,0,0,0,90,80,0,90,85,80,90,90,95,90,95,90,0,0,0,0,90,85,0,95,90,85,95,90,90,90,95,95,0,0,0,0,0,0,0,0,0,0,0,0,0,0,0,0,0,0,0,0,null,60,91.25,87.5,86.666666666666671,86.25,92.5,0,90,90,92.5,0,0,null,null,null,"001606","0.100","60",{"$f":"Tableau_SSRSMSA03_BI_Integration_STEPH_2010[[#This Row],[DAT_NAISSANCE_ELEVE]]","v":"1999-03-26"},"2009-09-30",3841,10.516084873374401,{"$f":"IF(AND(LEFT(CO313,1)=\"1\",CS313>5.5),\"V\",IF(AND(LEFT(CO313,1)=\"2\",CS313>6.5),\"V\",IF(AND(LEFT(CO313,1)=\"3\",CS313>7.5),\"V\",IF(AND(LEFT(CO313,1)=\"4\",CS313>8.5),\"V\",IF(AND(LEFT(CO313,1)=\"5\",CS313>9.5),\"V\",IF(AND(LEFT(CO313,1)=\"6\",CS313>10.5),\"V\",\"J\"))))))","v":"V"},{"$f":"IF(AJ313=0,0,IF(BH313=0,0,1))","v":0}]
["2010","001","606",null,null,0,"1998-11-08",null,null,"M",80,75,0,80,75,85,85,85,80,75,70,85,0,0,0,0,75,80,0,80,85,75,90,85,80,75,75,75,0,0,0,0,70,80,0,75,80,80,65,80,70,75,80,90,0,0,0,0,0,0,0,0,0,0,0,0,0,0,0,0,0,0,0,0,null,53.333333333333336,82.5,77.5,78.333333333333329,83.75,76.25,0,75,76.25,78.75,0,0,null,null,null,"001606","0.100","60",{"$f":"Tableau_SSRSMSA03_BI_Integration_STEPH_2010[[#This Row],[DAT_NAISSANCE_ELEVE]]","v":"1998-11-08"},"2009-09-30",3979,10.89390828199863,{"$f":"IF(AND(LEFT(CO314,1)=\"1\",CS314>5.5),\"V\",IF(AND(LEFT(CO314,1)=\"2\",CS314>6.5),\"V\",IF(AND(LEFT(CO314,1)=\"3\",CS314>7.5),\"V\",IF(AND(LEFT(CO314,1)=\"4\",CS314>8.5),\"V\",IF(AND(LEFT(CO314,1)=\"5\",CS314>9.5),\"V\",IF(AND(LEFT(CO314,1)=\"6\",CS314>10.5),\"V\",\"J\"))))))","v":"V"},{"$f":"IF(AJ314=0,0,IF(BH314=0,0,1))","v":0}]
["2010","001","606",null,null,0,"1999-05-07",null,null,"M",80,80,0,85,90,85,90,90,80,85,85,90,0,0,0,0,70,65,0,85,65,70,75,80,75,80,75,75,0,0,0,0,80,80,0,90,80,80,75,70,70,80,80,75,0,0,0,0,0,0,0,0,0,0,0,0,0,0,0,0,0,0,0,0,null,55,88.75,85,73.333333333333329,72.5,76.25,0,83.333333333333329,76.25,76.25,0,0,null,null,null,"001606","0.100","60",{"$f":"Tableau_SSRSMSA03_BI_Integration_STEPH_2010[[#This Row],[DAT_NAISSANCE_ELEVE]]","v":"1999-05-07"},"2009-09-30",3799,10.401095140314853,{"$f":"IF(AND(LEFT(CO315,1)=\"1\",CS315>5.5),\"V\",IF(AND(LEFT(CO315,1)=\"2\",CS315>6.5),\"V\",IF(AND(LEFT(CO315,1)=\"3\",CS315>7.5),\"V\",IF(AND(LEFT(CO315,1)=\"4\",CS315>8.5),\"V\",IF(AND(LEFT(CO315,1)=\"5\",CS315>9.5),\"V\",IF(AND(LEFT(CO315,1)=\"6\",CS315>10.5),\"V\",\"J\"))))))","v":"J"},{"$f":"IF(AJ315=0,0,IF(BH315=0,0,1))","v":0}]
["2010","001","606",null,null,0,"1999-07-25",null,null,"F",90,90,0,90,95,95,90,90,95,90,85,90,0,0,0,0,80,85,0,90,90,90,90,95,90,90,90,95,0,0,0,0,95,95,0,95,95,95,90,90,95,95,90,95,0,0,0,0,0,0,0,0,0,0,0,0,0,0,0,0,0,0,0,0,null,60,92.5,90,85,91.25,91.25,0,95,92.5,93.75,0,0,null,null,null,"001606","0.100","60",{"$f":"Tableau_SSRSMSA03_BI_Integration_STEPH_2010[[#This Row],[DAT_NAISSANCE_ELEVE]]","v":"1999-07-25"},"2009-09-30",3720,10.184804928131417,{"$f":"IF(AND(LEFT(CO316,1)=\"1\",CS316>5.5),\"V\",IF(AND(LEFT(CO316,1)=\"2\",CS316>6.5),\"V\",IF(AND(LEFT(CO316,1)=\"3\",CS316>7.5),\"V\",IF(AND(LEFT(CO316,1)=\"4\",CS316>8.5),\"V\",IF(AND(LEFT(CO316,1)=\"5\",CS316>9.5),\"V\",IF(AND(LEFT(CO316,1)=\"6\",CS316>10.5),\"V\",\"J\"))))))","v":"J"},{"$f":"IF(AJ316=0,0,IF(BH316=0,0,1))","v":0}]
["2010","001","606",null,null,0,"1999-01-27",null,null,"F",85,85,0,90,75,85,80,80,80,90,85,80,0,0,0,0,65,80,0,90,75,80,85,85,80,90,85,90,0,0,0,0,75,85,0,95,80,85,95,85,80,85,90,90,0,0,0,0,0,0,0,0,0,0,0,0,0,0,0,0,0,0,0,0,null,58.333333333333336,80,83.75,78.333333333333329,81.25,86.25,0,85,86.25,86.25,0,0,null,null,null,"001606","0.100","60",{"$f":"Tableau_SSRSMSA03_BI_Integration_STEPH_2010[[#This Row],[DAT_NAISSANCE_ELEVE]]","v":"1999-01-27"},"2009-09-30",3899,10.674880219028063,{"$f":"IF(AND(LEFT(CO317,1)=\"1\",CS317>5.5),\"V\",IF(AND(LEFT(CO317,1)=\"2\",CS317>6.5),\"V\",IF(AND(LEFT(CO317,1)=\"3\",CS317>7.5),\"V\",IF(AND(LEFT(CO317,1)=\"4\",CS317>8.5),\"V\",IF(AND(LEFT(CO317,1)=\"5\",CS317>9.5),\"V\",IF(AND(LEFT(CO317,1)=\"6\",CS317>10.5),\"V\",\"J\"))))))","v":"V"},{"$f":"IF(AJ317=0,0,IF(BH317=0,0,1))","v":0}]
["2010","001","606",null,null,0,"1999-04-26",null,null,"M",0,0,0,0,0,0,0,0,0,0,0,0,0,0,0,0,0,0,0,0,0,0,0,0,0,0,0,0,0,0,0,0,70,70,0,70,75,75,65,75,70,65,70,70,0,0,0,0,0,0,0,0,0,0,0,0,0,0,0,0,0,0,0,0,null,0,0,0,0,0,0,0,70,72.5,68.75,0,0,null,null,null,"001606","0.100","60",{"$f":"Tableau_SSRSMSA03_BI_Integration_STEPH_2010[[#This Row],[DAT_NAISSANCE_ELEVE]]","v":"1999-04-26"},"2009-09-30",3810,10.431211498973306,{"$f":"IF(AND(LEFT(CO318,1)=\"1\",CS318>5.5),\"V\",IF(AND(LEFT(CO318,1)=\"2\",CS318>6.5),\"V\",IF(AND(LEFT(CO318,1)=\"3\",CS318>7.5),\"V\",IF(AND(LEFT(CO318,1)=\"4\",CS318>8.5),\"V\",IF(AND(LEFT(CO318,1)=\"5\",CS318>9.5),\"V\",IF(AND(LEFT(CO318,1)=\"6\",CS318>10.5),\"V\",\"J\"))))))","v":"J"},{"$f":"IF(AJ318=0,0,IF(BH318=0,0,1))","v":0}]
["2010","001","606",null,null,0,"1999-03-10",null,null,"F",85,80,0,85,85,80,85,85,85,80,90,85,0,0,0,0,80,85,0,80,90,85,75,80,90,90,90,75,0,0,0,0,90,90,0,90,90,90,95,85,90,90,85,90,0,0,0,0,0,0,0,0,0,0,0,0,0,0,0,0,0,0,0,0,null,56.666666666666664,83.75,85,81.666666666666671,82.5,86.25,0,90,90,88.75,0,0,null,null,null,"001606","0.100","60",{"$f":"Tableau_SSRSMSA03_BI_Integration_STEPH_2010[[#This Row],[DAT_NAISSANCE_ELEVE]]","v":"1999-03-10"},"2009-09-30",3857,10.559890485968515,{"$f":"IF(AND(LEFT(CO319,1)=\"1\",CS319>5.5),\"V\",IF(AND(LEFT(CO319,1)=\"2\",CS319>6.5),\"V\",IF(AND(LEFT(CO319,1)=\"3\",CS319>7.5),\"V\",IF(AND(LEFT(CO319,1)=\"4\",CS319>8.5),\"V\",IF(AND(LEFT(CO319,1)=\"5\",CS319>9.5),\"V\",IF(AND(LEFT(CO319,1)=\"6\",CS319>10.5),\"V\",\"J\"))))))","v":"V"},{"$f":"IF(AJ319=0,0,IF(BH319=0,0,1))","v":0}]
["2010","001","606",null,null,0,"1999-04-23",null,null,"M",75,75,0,80,80,75,80,80,80,80,70,85,0,0,0,0,70,85,0,85,85,90,65,90,85,85,75,90,0,0,0,0,85,85,0,95,85,85,90,80,80,85,80,95,0,0,0,0,0,0,0,0,0,0,0,0,0,0,0,0,0,0,0,0,null,51.666666666666664,78.75,78.75,80,82.5,83.75,0,88.333333333333329,85,85,0,0,null,null,null,"001606","0.100","60",{"$f":"Tableau_SSRSMSA03_BI_Integration_STEPH_2010[[#This Row],[DAT_NAISSANCE_ELEVE]]","v":"1999-04-23"},"2009-09-30",3813,10.439425051334702,{"$f":"IF(AND(LEFT(CO320,1)=\"1\",CS320>5.5),\"V\",IF(AND(LEFT(CO320,1)=\"2\",CS320>6.5),\"V\",IF(AND(LEFT(CO320,1)=\"3\",CS320>7.5),\"V\",IF(AND(LEFT(CO320,1)=\"4\",CS320>8.5),\"V\",IF(AND(LEFT(CO320,1)=\"5\",CS320>9.5),\"V\",IF(AND(LEFT(CO320,1)=\"6\",CS320>10.5),\"V\",\"J\"))))))","v":"J"},{"$f":"IF(AJ320=0,0,IF(BH320=0,0,1))","v":0}]
["2010","001","606",null,null,0,"1999-08-31",null,null,"F",75,80,0,90,75,85,85,85,70,85,85,85,0,0,0,0,65,80,65,65,80,75,75,75,80,75,60,70,0,0,0,0,80,80,0,85,80,80,80,75,80,85,80,80,0,0,0,0,0,0,0,0,0,0,0,0,0,0,0,0,0,0,0,0,null,55,82.5,81.25,68.75,76.25,71.25,0,81.666666666666671,78.75,81.25,0,0,null,null,null,"001606","0.100","60",{"$f":"Tableau_SSRSMSA03_BI_Integration_STEPH_2010[[#This Row],[DAT_NAISSANCE_ELEVE]]","v":"1999-08-31"},"2009-09-30",3683,10.083504449007529,{"$f":"IF(AND(LEFT(CO321,1)=\"1\",CS321>5.5),\"V\",IF(AND(LEFT(CO321,1)=\"2\",CS321>6.5),\"V\",IF(AND(LEFT(CO321,1)=\"3\",CS321>7.5),\"V\",IF(AND(LEFT(CO321,1)=\"4\",CS321>8.5),\"V\",IF(AND(LEFT(CO321,1)=\"5\",CS321>9.5),\"V\",IF(AND(LEFT(CO321,1)=\"6\",CS321>10.5),\"V\",\"J\"))))))","v":"J"},{"$f":"IF(AJ321=0,0,IF(BH321=0,0,1))","v":0}]
["2010","001","606",null,null,0,"1998-10-16",null,null,"F",90,95,0,85,85,90,95,90,95,95,85,90,0,0,0,0,85,85,0,80,85,90,80,90,90,85,90,85,0,0,0,0,90,85,0,90,90,90,90,85,95,95,90,90,0,0,0,0,0,0,0,0,0,0,0,0,0,0,0,0,0,0,0,0,null,58.333333333333336,90,91.25,83.333333333333329,86.25,87.5,0,88.333333333333329,88.75,92.5,0,0,null,null,null,{"$f":"IF(LEFT(C322,1)=\"8\",\"\",IF(LEFT(C322,1)=\"9\",\"\",B322&C322))","v":"001606"},{"$f":"VLOOKUP(B322,ecoleTaux,3,FALSE)","v":"0.100"},"60",{"$f":"Tableau_SSRSMSA03_BI_Integration_STEPH_2010[[#This Row],[DAT_NAISSANCE_ELEVE]]","v":"1998-10-16"},"2009-09-30",4002,10.956878850102669,{"$f":"IF(AND(LEFT(CO322,1)=\"1\",CS322>5.5),\"V\",IF(AND(LEFT(CO322,1)=\"2\",CS322>6.5),\"V\",IF(AND(LEFT(CO322,1)=\"3\",CS322>7.5),\"V\",IF(AND(LEFT(CO322,1)=\"4\",CS322>8.5),\"V\",IF(AND(LEFT(CO322,1)=\"5\",CS322>9.5),\"V\",IF(AND(LEFT(CO322,1)=\"6\",CS322>10.5),\"V\",\"J\"))))))","v":"V"},{"$f":"IF(AJ322=0,0,IF(BH322=0,0,1))","v":0}]
["2010","001","606",null,null,0,"1999-03-19",null,null,"M",65,70,0,65,70,70,65,70,60,75,75,70,0,0,0,0,60,55,0,75,65,70,75,75,65,75,70,70,0,0,0,0,70,75,0,75,75,75,80,65,70,75,80,75,0,0,0,0,78,81,0,92,57,86,89,69,70,79,81,77,0,0,0,0,null,{"$f":"IF(L323=0,0,IF(M323=0,AVERAGE(M323,K323,N323),AVERAGE(K323:N323)))","v":43.333333333333336},{"$f":"IF(P323=0,0,IF(Q323=0,AVERAGE(Q323,O323,R323),AVERAGE(O323:R323)))","v":68.75},{"$f":"IF(T323=0,0,IF(U323=0,AVERAGE(T323,S323,V323),AVERAGE(S323:V323)))","v":70},{"$f":"IF(AB323=0,0,IF(AC323=0,AVERAGE(AB323,AA323,AD323),AVERAGE(AA323:AD323)))","v":63.333333333333336},{"$f":"IF(AF323=0,0,IF(AG323=0,AVERAGE(AF323,AE323,AH323),AVERAGE(AE323:AH323)))","v":71.25},{"$f":"IF(AJ323=0,0,IF(AK323=0,AVERAGE(AJ323,AI323,AL323),AVERAGE(AI323:AL323)))","v":70},{"$f":"IF(AN323=0,0,IF(AO323=0,AVERAGE(AN323,AM323,AP323),AVERAGE(AM323:AP323)))","v":0},{"$f":"IF(AR323=0,0,IF(AS323=0,AVERAGE(AR323,AQ323,AT323),AVERAGE(AQ323:AT323)))","v":73.333333333333329},{"$f":"IF(AV323=0,0,IF(AW323=0,AVERAGE(AV323,AU323,AX323),AVERAGE(AU323:AX323)))","v":73.75},{"$f":"IF(AZ323=0,0,IF(BA323=0,AVERAGE(AZ323,AY323,BB323),AVERAGE(AY323:BB323)))","v":75},{"$f":"IF(BD323=0,0,IF(BE323=0,AVERAGE(BD323,BC323,BF323),AVERAGE(BC323:BF323)))","v":0},{"$f":"IF(BH323=0,0,IF(BI323=0,AVERAGE(BH323,BG323,BJ323,BM323),AVERAGE(BG323:BJ323)))","v":85},null,null,null,"001606","0.100","60",{"$f":"Tableau_SSRSMSA03_BI_Integration_STEPH_2010[[#This Row],[DAT_NAISSANCE_ELEVE]]","v":"1999-03-19"},"2009-09-30",3848,10.535249828884325,{"$f":"IF(AND(LEFT(CO323,1)=\"1\",CS323>5.5),\"V\",IF(AND(LEFT(CO323,1)=\"2\",CS323>6.5),\"V\",IF(AND(LEFT(CO323,1)=\"3\",CS323>7.5),\"V\",IF(AND(LEFT(CO323,1)=\"4\",CS323>8.5),\"V\",IF(AND(LEFT(CO323,1)=\"5\",CS323>9.5),\"V\",IF(AND(LEFT(CO323,1)=\"6\",CS323>10.5),\"V\",\"J\"))))))","v":"V"},{"$f":"IF(AJ323=0,0,IF(BH323=0,0,1))","v":1}]
["2010","001","606",null,null,0,"1999-01-31",null,null,"F",0,0,0,0,0,0,0,0,0,0,0,0,0,0,0,0,0,0,0,0,0,0,0,85,0,0,0,80,0,0,0,0,50,50,0,80,65,65,85,60,70,70,70,60,0,0,0,0,0,0,80,95,81,62,83,82,75,67,53,63,0,0,0,0,null,0,0,0,0,0,0,0,60,68.75,67.5,0,0,null,null,null,"001606","0.100","60",{"$f":"Tableau_SSRSMSA03_BI_Integration_STEPH_2010[[#This Row],[DAT_NAISSANCE_ELEVE]]","v":"1999-01-31"},"2009-09-30",3895,10.663928815879535,{"$f":"IF(AND(LEFT(CO324,1)=\"1\",CS324>5.5),\"V\",IF(AND(LEFT(CO324,1)=\"2\",CS324>6.5),\"V\",IF(AND(LEFT(CO324,1)=\"3\",CS324>7.5),\"V\",IF(AND(LEFT(CO324,1)=\"4\",CS324>8.5),\"V\",IF(AND(LEFT(CO324,1)=\"5\",CS324>9.5),\"V\",IF(AND(LEFT(CO324,1)=\"6\",CS324>10.5),\"V\",\"J\"))))))","v":"V"},{"$f":"IF(AJ324=0,0,IF(BH324=0,0,1))","v":0}]
["2010","001","606",null,null,0,"1999-09-05",null,null,"M",75,70,0,55,80,75,70,80,80,80,65,75,0,0,0,0,65,75,0,50,80,85,75,60,80,75,80,60,0,0,0,0,70,80,0,60,80,75,75,60,80,80,75,75,0,0,0,0,74,50,59,59,75,86,36,80,76,77,58,57,0,0,0,0,null,43.333333333333336,76.25,75,63.333333333333336,75,73.75,0,70,72.5,77.5,0,60.5,null,null,null,"001606","0.100","60",{"$f":"Tableau_SSRSMSA03_BI_Integration_STEPH_2010[[#This Row],[DAT_NAISSANCE_ELEVE]]","v":"1999-09-05"},"2009-09-30",3678,10.069815195071868,{"$f":"IF(AND(LEFT(CO325,1)=\"1\",CS325>5.5),\"V\",IF(AND(LEFT(CO325,1)=\"2\",CS325>6.5),\"V\",IF(AND(LEFT(CO325,1)=\"3\",CS325>7.5),\"V\",IF(AND(LEFT(CO325,1)=\"4\",CS325>8.5),\"V\",IF(AND(LEFT(CO325,1)=\"5\",CS325>9.5),\"V\",IF(AND(LEFT(CO325,1)=\"6\",CS325>10.5),\"V\",\"J\"))))))","v":"J"},{"$f":"IF(AJ325=0,0,IF(BH325=0,0,1))","v":1}]
["2010","001","606",null,null,0,"1999-04-09",null,null,"F",0,0,0,0,0,0,0,0,0,0,0,0,0,0,0,0,60,75,0,80,70,85,80,90,70,85,90,95,0,0,0,0,85,90,0,90,85,90,95,80,85,90,90,90,0,0,0,0,0,0,0,0,0,0,0,0,0,0,0,0,0,0,0,0,null,0,0,0,71.666666666666671,81.25,85,0,88.333333333333329,87.5,88.75,0,0,null,null,null,"001606","0.100",{"$f":"LEFT(C326,2)","v":"60"},{"$f":"Tableau_SSRSMSA03_BI_Integration_STEPH_2010[[#This Row],[DAT_NAISSANCE_ELEVE]]","v":"1999-04-09"},"2009-09-30",{"$f":"DATEDIF(CP326,CQ326,\"d\")","v":3827},{"$f":"CR326/365.25","v":10.477754962354553},{"$f":"IF(AND(LEFT(CO326,1)=\"1\",CS326>5.5),\"V\",IF(AND(LEFT(CO326,1)=\"2\",CS326>6.5),\"V\",IF(AND(LEFT(CO326,1)=\"3\",CS326>7.5),\"V\",IF(AND(LEFT(CO326,1)=\"4\",CS326>8.5),\"V\",IF(AND(LEFT(CO326,1)=\"5\",CS326>9.5),\"V\",IF(AND(LEFT(CO326,1)=\"6\",CS326>10.5),\"V\",\"J\"))))))","v":"J"},{"$f":"IF(AJ326=0,0,IF(BH326=0,0,1))","v":0}]
["2010","001","606",null,null,0,"1999-07-05",null,null,"F",60,60,0,55,65,65,70,60,65,75,85,70,0,0,0,0,55,70,0,60,55,65,65,60,70,80,65,65,0,0,0,0,75,80,0,70,80,80,80,75,75,75,80,75,0,0,0,0,0,0,0,0,0,0,0,0,0,0,0,0,0,0,0,0,null,38.333333333333336,65,73.75,61.666666666666664,61.25,70,0,75,78.75,76.25,0,0,null,null,null,"001606","0.100","60",{"$f":"Tableau_SSRSMSA03_BI_Integration_STEPH_2010[[#This Row],[DAT_NAISSANCE_ELEVE]]","v":"1999-07-05"},"2009-09-30",3740,10.239561943874058,{"$f":"IF(AND(LEFT(CO327,1)=\"1\",CS327>5.5),\"V\",IF(AND(LEFT(CO327,1)=\"2\",CS327>6.5),\"V\",IF(AND(LEFT(CO327,1)=\"3\",CS327>7.5),\"V\",IF(AND(LEFT(CO327,1)=\"4\",CS327>8.5),\"V\",IF(AND(LEFT(CO327,1)=\"5\",CS327>9.5),\"V\",IF(AND(LEFT(CO327,1)=\"6\",CS327>10.5),\"V\",\"J\"))))))","v":"J"},{"$f":"IF(AJ327=0,0,IF(BH327=0,0,1))","v":0}]
["2010","001","607",null,null,0,"1998-10-12",null,null,"M",85,95,0,95,95,95,95,95,90,95,90,95,0,0,0,0,90,90,90,90,95,90,90,95,95,90,90,95,0,0,0,0,95,90,0,90,95,95,95,95,95,90,95,95,0,0,0,0,0,0,0,0,0,0,0,0,0,0,0,0,0,0,0,0,null,60,95,92.5,90,92.5,92.5,0,91.666666666666671,95,93.75,0,0,null,null,null,"001607","0.100","60",{"$f":"Tableau_SSRSMSA03_BI_Integration_STEPH_2010[[#This Row],[DAT_NAISSANCE_ELEVE]]","v":"1998-10-12"},"2009-09-30",4006,10.967830253251197,{"$f":"IF(AND(LEFT(CO328,1)=\"1\",CS328>5.5),\"V\",IF(AND(LEFT(CO328,1)=\"2\",CS328>6.5),\"V\",IF(AND(LEFT(CO328,1)=\"3\",CS328>7.5),\"V\",IF(AND(LEFT(CO328,1)=\"4\",CS328>8.5),\"V\",IF(AND(LEFT(CO328,1)=\"5\",CS328>9.5),\"V\",IF(AND(LEFT(CO328,1)=\"6\",CS328>10.5),\"V\",\"J\"))))))","v":"V"},{"$f":"IF(AJ328=0,0,IF(BH328=0,0,1))","v":0}]
["2010","001","607",null,null,0,"1999-05-27",null,null,"M",75,75,0,75,75,70,80,80,75,70,70,80,0,0,0,0,50,55,0,65,65,55,65,75,65,60,80,55,0,0,0,0,55,55,0,60,65,55,65,65,65,70,60,70,0,0,0,0,0,0,0,0,0,0,0,0,0,0,0,0,0,0,0,0,null,50,76.25,73.75,56.666666666666664,65,65,0,56.666666666666664,62.5,66.25,0,0,null,null,null,"001607","0.100","60",{"$f":"Tableau_SSRSMSA03_BI_Integration_STEPH_2010[[#This Row],[DAT_NAISSANCE_ELEVE]]","v":"1999-05-27"},"2009-09-30",3779,10.346338124572211,{"$f":"IF(AND(LEFT(CO329,1)=\"1\",CS329>5.5),\"V\",IF(AND(LEFT(CO329,1)=\"2\",CS329>6.5),\"V\",IF(AND(LEFT(CO329,1)=\"3\",CS329>7.5),\"V\",IF(AND(LEFT(CO329,1)=\"4\",CS329>8.5),\"V\",IF(AND(LEFT(CO329,1)=\"5\",CS329>9.5),\"V\",IF(AND(LEFT(CO329,1)=\"6\",CS329>10.5),\"V\",\"J\"))))))","v":"J"},{"$f":"IF(AJ329=0,0,IF(BH329=0,0,1))","v":0}]
["2010","001","607",null,null,0,"1998-10-07",null,null,"F",85,85,0,85,85,85,90,90,85,85,85,90,0,0,0,0,80,85,0,90,90,85,90,95,95,85,90,90,0,0,0,0,80,80,0,85,90,85,65,85,85,80,55,85,0,0,0,0,0,0,0,0,0,0,0,0,0,0,0,0,0,0,0,0,null,56.666666666666664,87.5,86.25,85,90,90,0,81.666666666666671,81.25,76.25,0,0,null,null,null,"001607","0.100","60",{"$f":"Tableau_SSRSMSA03_BI_Integration_STEPH_2010[[#This Row],[DAT_NAISSANCE_ELEVE]]","v":"1998-10-07"},"2009-09-30",4011,10.981519507186858,{"$f":"IF(AND(LEFT(CO330,1)=\"1\",CS330>5.5),\"V\",IF(AND(LEFT(CO330,1)=\"2\",CS330>6.5),\"V\",IF(AND(LEFT(CO330,1)=\"3\",CS330>7.5),\"V\",IF(AND(LEFT(CO330,1)=\"4\",CS330>8.5),\"V\",IF(AND(LEFT(CO330,1)=\"5\",CS330>9.5),\"V\",IF(AND(LEFT(CO330,1)=\"6\",CS330>10.5),\"V\",\"J\"))))))","v":"V"},{"$f":"IF(AJ330=0,0,IF(BH330=0,0,1))","v":0}]
["2010","001","607",null,null,0,"2000-02-11",null,null,"F",95,95,0,90,90,90,90,90,90,95,85,85,0,0,0,0,85,80,0,90,90,80,90,90,90,85,95,85,0,0,0,0,85,80,0,90,90,80,85,85,90,80,90,90,0,0,0,0,0,0,0,0,0,0,0,0,0,0,0,0,0,0,0,0,null,61.666666666666664,90,88.75,85,87.5,88.75,0,85,85,87.5,0,0,null,null,null,"001607","0.100","60",{"$f":"Tableau_SSRSMSA03_BI_Integration_STEPH_2010[[#This Row],[DAT_NAISSANCE_ELEVE]]","v":"2000-02-11"},"2009-09-30",3519,9.6344969199178649,{"$f":"IF(AND(LEFT(CO331,1)=\"1\",CS331>5.5),\"V\",IF(AND(LEFT(CO331,1)=\"2\",CS331>6.5),\"V\",IF(AND(LEFT(CO331,1)=\"3\",CS331>7.5),\"V\",IF(AND(LEFT(CO331,1)=\"4\",CS331>8.5),\"V\",IF(AND(LEFT(CO331,1)=\"5\",CS331>9.5),\"V\",IF(AND(LEFT(CO331,1)=\"6\",CS331>10.5),\"V\",\"J\"))))))","v":"J"},{"$f":"IF(AJ331=0,0,IF(BH331=0,0,1))","v":0}]
["2010","001","607",null,null,0,"1999-01-10",null,null,"M",80,95,0,80,80,95,95,90,85,90,95,90,0,0,0,0,75,80,0,85,80,80,75,90,85,80,85,85,0,0,0,0,85,85,0,90,90,85,85,90,85,85,90,90,0,0,0,0,0,0,0,0,0,0,0,0,0,0,0,0,0,0,0,0,null,53.333333333333336,90,90,80,81.25,83.75,0,86.666666666666671,87.5,87.5,0,0,null,null,null,"001607","0.100","60",{"$f":"Tableau_SSRSMSA03_BI_Integration_STEPH_2010[[#This Row],[DAT_NAISSANCE_ELEVE]]","v":"1999-01-10"},"2009-09-30",3916,10.721423682409309,{"$f":"IF(AND(LEFT(CO332,1)=\"1\",CS332>5.5),\"V\",IF(AND(LEFT(CO332,1)=\"2\",CS332>6.5),\"V\",IF(AND(LEFT(CO332,1)=\"3\",CS332>7.5),\"V\",IF(AND(LEFT(CO332,1)=\"4\",CS332>8.5),\"V\",IF(AND(LEFT(CO332,1)=\"5\",CS332>9.5),\"V\",IF(AND(LEFT(CO332,1)=\"6\",CS332>10.5),\"V\",\"J\"))))))","v":"V"},{"$f":"IF(AJ332=0,0,IF(BH332=0,0,1))","v":0}]
["2010","001","607",null,null,0,"1999-04-06",null,null,"M",65,50,0,65,75,65,40,70,50,65,60,65,0,0,0,0,50,60,60,40,60,60,65,60,65,60,65,75,0,0,0,0,55,55,0,50,50,50,40,40,55,55,40,50,0,0,0,0,70,85,0,80,75,80,70,75,85,80,80,65,84,86,68,70,null,43.333333333333336,62.5,60,52.5,61.25,66.25,0,53.333333333333336,45,50,0,76.25,null,null,null,"001607","0.100","60",{"$f":"Tableau_SSRSMSA03_BI_Integration_STEPH_2010[[#This Row],[DAT_NAISSANCE_ELEVE]]","v":"1999-04-06"},"2009-09-30",3830,10.485968514715948,{"$f":"IF(AND(LEFT(CO333,1)=\"1\",CS333>5.5),\"V\",IF(AND(LEFT(CO333,1)=\"2\",CS333>6.5),\"V\",IF(AND(LEFT(CO333,1)=\"3\",CS333>7.5),\"V\",IF(AND(LEFT(CO333,1)=\"4\",CS333>8.5),\"V\",IF(AND(LEFT(CO333,1)=\"5\",CS333>9.5),\"V\",IF(AND(LEFT(CO333,1)=\"6\",CS333>10.5),\"V\",\"J\"))))))","v":"J"},{"$f":"IF(AJ333=0,0,IF(BH333=0,0,1))","v":1}]
["2010","001","607",null,null,0,"1999-05-01",null,null,"M",65,60,0,75,65,65,80,75,60,70,75,70,0,0,0,0,65,70,0,70,55,60,55,70,65,70,65,65,0,0,0,0,60,65,0,75,70,80,70,65,70,70,55,70,0,0,0,0,0,0,0,0,0,0,0,0,0,0,0,0,0,0,0,0,null,46.666666666666664,71.25,68.75,68.333333333333329,60,66.25,0,66.666666666666671,71.25,66.25,0,0,null,null,null,"001607","0.100","60",{"$f":"Tableau_SSRSMSA03_BI_Integration_STEPH_2010[[#This Row],[DAT_NAISSANCE_ELEVE]]","v":"1999-05-01"},"2009-09-30",3805,10.417522245037645,{"$f":"IF(AND(LEFT(CO334,1)=\"1\",CS334>5.5),\"V\",IF(AND(LEFT(CO334,1)=\"2\",CS334>6.5),\"V\",IF(AND(LEFT(CO334,1)=\"3\",CS334>7.5),\"V\",IF(AND(LEFT(CO334,1)=\"4\",CS334>8.5),\"V\",IF(AND(LEFT(CO334,1)=\"5\",CS334>9.5),\"V\",IF(AND(LEFT(CO334,1)=\"6\",CS334>10.5),\"V\",\"J\"))))))","v":"J"},{"$f":"IF(AJ334=0,0,IF(BH334=0,0,1))","v":0}]
["2010","001","607",null,null,0,"1999-09-14",null,null,"F",65,75,0,75,65,65,70,75,65,75,70,75,0,0,0,0,65,75,80,75,75,80,80,75,75,80,80,70,0,0,0,0,65,80,0,80,70,80,80,75,75,85,70,80,0,0,0,0,0,0,0,0,0,0,0,0,0,0,0,0,0,0,0,0,null,46.666666666666664,68.75,71.25,73.75,77.5,76.25,0,75,76.25,77.5,0,0,null,null,null,"001607","0.100","60",{"$f":"Tableau_SSRSMSA03_BI_Integration_STEPH_2010[[#This Row],[DAT_NAISSANCE_ELEVE]]","v":"1999-09-14"},"2009-09-30",3669,10.04517453798768,{"$f":"IF(AND(LEFT(CO335,1)=\"1\",CS335>5.5),\"V\",IF(AND(LEFT(CO335,1)=\"2\",CS335>6.5),\"V\",IF(AND(LEFT(CO335,1)=\"3\",CS335>7.5),\"V\",IF(AND(LEFT(CO335,1)=\"4\",CS335>8.5),\"V\",IF(AND(LEFT(CO335,1)=\"5\",CS335>9.5),\"V\",IF(AND(LEFT(CO335,1)=\"6\",CS335>10.5),\"V\",\"J\"))))))","v":"J"},{"$f":"IF(AJ335=0,0,IF(BH335=0,0,1))","v":0}]
["2010","001","607",null,null,0,"1998-12-01",null,null,"F",65,65,0,65,60,70,60,65,60,70,60,55,0,0,0,0,60,60,0,40,65,70,55,40,60,75,60,40,0,0,0,0,55,70,0,50,65,75,60,40,65,70,50,50,0,0,0,0,0,0,0,0,0,0,0,0,0,0,0,0,0,0,0,0,null,43.333333333333336,63.75,61.25,53.333333333333336,57.5,58.75,0,58.333333333333336,60,58.75,0,0,null,null,null,"001607","0.100","60",{"$f":"Tableau_SSRSMSA03_BI_Integration_STEPH_2010[[#This Row],[DAT_NAISSANCE_ELEVE]]","v":"1998-12-01"},"2009-09-30",3956,10.830937713894592,{"$f":"IF(AND(LEFT(CO336,1)=\"1\",CS336>5.5),\"V\",IF(AND(LEFT(CO336,1)=\"2\",CS336>6.5),\"V\",IF(AND(LEFT(CO336,1)=\"3\",CS336>7.5),\"V\",IF(AND(LEFT(CO336,1)=\"4\",CS336>8.5),\"V\",IF(AND(LEFT(CO336,1)=\"5\",CS336>9.5),\"V\",IF(AND(LEFT(CO336,1)=\"6\",CS336>10.5),\"V\",\"J\"))))))","v":"V"},{"$f":"IF(AJ336=0,0,IF(BH336=0,0,1))","v":0}]
[]
[null,null,null,null,null,"calculs en haut"]
[null,null,null,null,null,null,null,null,null,1,2,3,4,5,6,7,8,9,10,11,12,13,14,15,16,17,18,19,20,21,22,23,24,25,26,27,28,29,30,31,32,33,34,35,36,37,38,39,40,41,42,43,44,45,46,47,48,49,50,51,52,53,54,55,56,57,58,59,60,61,62,63,64,65,66,67,68,69,70,71,72,73,74,75,76,77,78,null,null,79,80,81,null,null,null,null,null,1,2,35]
[null,null,null,null,null,null,null,null,null,{"$f":"J1","v":"COD_SEXE_ELEVE"},{"$f":"K1","v":"AN_2008_ET_1_ECRIRE"},{"$f":"L1","v":"AN_2008_ET_1_LIRE"},{"$f":"M1","v":"AN_2008_ET_1_RESOUDRE"},{"$f":"N1","v":"AN_2008_ET_1_RAISONNER"},{"$f":"O1","v":"AN_2008_ET_2_ECRIRE"},{"$f":"P1","v":"AN_2008_ET_2_LIRE"},{"$f":"Q1","v":"AN_2008_ET_2_RESOUDRE"},{"$f":"R1","v":"AN_2008_ET_2_RAISONNER"},{"$f":"S1","v":"AN_2008_ET_3_ECRIRE"},{"$f":"T1","v":"AN_2008_ET_3_LIRE"},{"$f":"U1","v":"AN_2008_ET_3_RESOUDRE"},{"$f":"V1","v":"AN_2008_ET_3_RAISONNER"},{"$f":"W1","v":"AN_2008_ET_EX_ECRIRE"},{"$f":"X1","v":"AN_2008_ET_EX_LIRE"},{"$f":"Y1","v":"AN_2008_ET_EX_RESOUDRE"},{"$f":"Z1","v":"AN_2008_ET_EX_RAISONNER"},{"$f":"AA1","v":"AN_2009_ET_1_ECRIRE"},{"$f":"AB1","v":"AN_2009_ET_1_LIRE"},{"$f":"AC1","v":"AN_2009_ET_1_RESOUDRE"},{"$f":"AD1","v":"AN_2009_ET_1_RAISONNER"},{"$f":"AE1","v":"AN_2009_ET_2_ECRIRE"},{"$f":"AF1","v":"AN_2009_ET_2_LIRE"},{"$f":"AG1","v":"AN_2009_ET_2_RESOUDRE"},{"$f":"AH1","v":"AN_2009_ET_2_RAISONNER"},{"$f":"AI1","v":"AN_2009_ET_3_ECRIRE"},{"$f":"AJ1","v":"AN_2009_ET_3_LIRE"},{"$f":"AK1","v":"AN_2009_ET_3_RESOUDRE"},{"$f":"AL1","v":"AN_2009_ET_3_RAISONNER"},{"$f":"AM1","v":"AN_2009_ET_EX_ECRIRE"},{"$f":"AN1","v":"AN_2009_ET_EX_LIRE"},{"$f":"AO1","v":"AN_2009_ET_EX_RESOUDRE"},{"$f":"AP1","v":"AN_2009_ET_EX_RAISONNER"},{"$f":"AQ1","v":"AN_2010_ET_1_ECRIRE"},{"$f":"AR1","v":"AN_2010_ET_1_LIRE"},{"$f":"AS1","v":"AN_2010_ET_1_RESOUDRE"},{"$f":"AT1","v":"AN_2010_ET_1_RAISONNER"},{"$f":"AU1","v":"AN_2010_ET_2_ECRIRE"},{"$f":"AV1","v":"AN_2010_ET_2_LIRE"},{"$f":"AW1","v":"AN_2010_ET_2_RESOUDRE"},{"$f":"AX1","v":"AN_2010_ET_2_RAISONNER"},{"$f":"AY1","v":"AN_2010_ET_3_ECRIRE"},{"$f":"AZ1","v":"AN_2010_ET_3_LIRE"},{"$f":"BA1","v":"AN_2010_ET_3_RESOUDRE"},{"$f":"BB1","v":"AN_2010_ET_3_RAISONNER"},{"$f":"BC1","v":"AN_2010_ET_EX_ECRIRE"},{"$f":"BD1","v":"AN_2010_ET_EX_LIRE"},{"$f":"BE1","v":"AN_2010_ET_EX_RESOUDRE"},{"$f":"BF1","v":"AN_2010_ET_EX_RAISONNER"},{"$f":"BG1","v":"AN_2011_ET_1_ECRIRE"},{"$f":"BH1","v":"AN_2011_ET_1_LIRE"},{"$f":"BI1","v":"AN_2011_ET_1_RESOUDRE"},{"$f":"BJ1","v":"AN_2011_ET_1_RAISONNER"},{"$f":"BK1","v":"AN_2011_ET_2_ECRIRE"},{"$f":"BL1","v":"AN_2011_ET_2_LIRE"},{"$f":"BM1","v":"AN_2011_ET_2_RESOUDRE"},{"$f":"BN1","v":"AN_2011_ET_2_RAISONNER"},{"$f":"BO1","v":"AN_2011_ET_3_ECRIRE"},{"$f":"BP1","v":"AN_2011_ET_3_LIRE"},{"$f":"BQ1","v":"AN_2011_ET_3_RESOUDRE"},{"$f":"BR1","v":"AN_2011_ET_3_RAISONNER"},{"$f":"BS1","v":"AN_2011_ET_EX_ECRIRE"},{"$f":"BT1","v":"AN_2011_ET_EX_LIRE"},{"$f":"BU1","v":"AN_2011_ET_EX_RESOUDRE"},{"$f":"BV1","v":"AN_2011_ET_EX_RAISONNER"},{"$f":"BW1","v":0},{"$f":"BX1","v":"moy-10"},{"$f":"BY1","v":"moy-20"},{"$f":"BZ1","v":"moy-30"},{"$f":"CA1","v":"moy-1"},{"$f":"CB1","v":"moy-2"},{"$f":"CC1","v":"moy0"},{"$f":"CD1","v":"moy0min"},{"$f":"CE1","v":"moy1"},{"$f":"CF1","v":"moy2"},{"$f":"CG1","v":"moy3"},{"$f":"CH1","v":"moy3min"},{"$f":"CI1","v":"moy4"},null,null,{"$f":"CL1","v":0},{"$f":"CM1","v":"code ecole-gr"},{"$f":"CN1","v":"défavorisation"}]
[null,null,null,null,null,null,null,null,null,"nb",{"$f":"COUNTIF(K2:K338,\">3\")","v":291},{"$f":"COUNTIF(L2:L338,\">3\")","v":292},{"$f":"COUNTIF(M2:M338,\">3\")","v":2},{"$f":"COUNTIF(N2:N338,\">3\")","v":295},{"$f":"COUNTIF(O2:O338,\">3\")","v":294},{"$f":"COUNTIF(P2:P338,\">3\")","v":292},{"$f":"COUNTIF(Q2:Q338,\">3\")","v":293},{"$f":"COUNTIF(R2:R338,\">3\")","v":297},{"$f":"COUNTIF(S2:S338,\">3\")","v":294},{"$f":"COUNTIF(T2:T338,\">3\")","v":206},{"$f":"COUNTIF(U2:U338,\">3\")","v":204},{"$f":"COUNTIF(V2:V338,\">3\")","v":298},{"$f":"COUNTIF(W2:W338,\">3\")","v":0},{"$f":"COUNTIF(X2:X338,\">3\")","v":0},{"$f":"COUNTIF(Y2:Y338,\">3\")","v":0},{"$f":"COUNTIF(Z2:Z338,\">3\")","v":0},{"$f":"COUNTIF(AA2:AA338,\">3\")","v":308},{"$f":"COUNTIF(AB2:AB338,\">3\")","v":306},{"$f":"COUNTIF(AC2:AC338,\">3\")","v":22},{"$f":"COUNTIF(AD2:AD338,\">3\")","v":312},{"$f":"COUNTIF(AE2:AE338,\">3\")","v":307},{"$f":"COUNTIF(AF2:AF338,\">3\")","v":310},{"$f":"COUNTIF(AG2:AG338,\">3\")","v":308},{"$f":"COUNTIF(AH2:AH338,\">3\")","v":314},{"$f":"COUNTIF(AI2:AI338,\">3\")","v":310},{"$f":"COUNTIF(AJ2:AJ338,\">3\")","v":310},{"$f":"COUNTIF(AK2:AK338,\">3\")","v":310},{"$f":"COUNTIF(AL2:AL338,\">3\")","v":315},{"$f":"COUNTIF(AM2:AM338,\">3\")","v":0},{"$f":"COUNTIF(AN2:AN338,\">3\")","v":0},{"$f":"COUNTIF(AO2:AO338,\">3\")","v":0},{"$f":"COUNTIF(AP2:AP338,\">3\")","v":0},{"$f":"COUNTIF(AQ2:AQ338,\">3\")","v":332},{"$f":"COUNTIF(AR2:AR338,\">3\")","v":332},{"$f":"COUNTIF(AS2:AS338,\">3\")","v":0},{"$f":"COUNTIF(AT2:AT338,\">3\")","v":332},{"$f":"COUNTIF(AU2:AU338,\">3\")","v":333},{"$f":"COUNTIF(AV2:AV338,\">3\")","v":333},{"$f":"COUNTIF(AW2:AW338,\">3\")","v":333},{"$f":"COUNTIF(AX2:AX338,\">3\")","v":333},{"$f":"COUNTIF(AY2:AY338,\">3\")","v":335},{"$f":"COUNTIF(AZ2:AZ338,\">3\")","v":335},{"$f":"COUNTIF(BA2:BA338,\">3\")","v":335},{"$f":"COUNTIF(BB2:BB338,\">3\")","v":335},{"$f":"COUNTIF(BC2:BC338,\">3\")","v":0},{"$f":"COUNTIF(BD2:BD338,\">3\")","v":0},{"$f":"COUNTIF(BE2:BE338,\">3\")","v":0},{"$f":"COUNTIF(BF2:BF338,\">3\")","v":0},{"$f":"COUNTIF(BG2:BG338,\">3\")","v":204},{"$f":"COUNTIF(BH2:BH338,\">3\")","v":204},{"$f":"COUNTIF(BI2:BI338,\">3\")","v":54},{"$f":"COUNTIF(BJ2:BJ338,\">3\")","v":208},{"$f":"COUNTIF(BK2:BK338,\">3\")","v":181},{"$f":"COUNTIF(BL2:BL338,\">3\")","v":181},{"$f":"COUNTIF(BM2:BM338,\">3\")","v":180},{"$f":"COUNTIF(BN2:BN338,\">3\")","v":181},{"$f":"COUNTIF(BO2:BO338,\">3\")","v":210},{"$f":"COUNTIF(BP2:BP338,\">3\")","v":209},{"$f":"COUNTIF(BQ2:BQ338,\">3\")","v":208},{"$f":"COUNTIF(BR2:BR338,\">3\")","v":209},{"$f":"COUNTIF(BS2:BS338,\">3\")","v":176},{"$f":"COUNTIF(BT2:BT338,\">3\")","v":176},{"$f":"COUNTIF(BU2:BU338,\">3\")","v":175},{"$f":"COUNTIF(BV2:BV338,\">3\")","v":174},{"$f":"COUNTIF(BW2:BW338,\">3\")","v":0},{"$f":"COUNTIF(BX2:BX338,\">3\")","v":292},{"$f":"COUNTIF(BY2:BY338,\">3\")","v":292},{"$f":"COUNTIF(BZ2:BZ338,\">3\")","v":206},{"$f":"COUNTIF(CA2:CA338,\">3\")","v":306},{"$f":"COUNTIF(CB2:CB338,\">3\")","v":310},{"$f":"COUNTIF(CC2:CC338,\">3\")","v":310},{"$f":"COUNTIF(CD2:CD338,\">3\")","v":0},{"$f":"COUNTIF(CE2:CE338,\">3\")","v":332},{"$f":"COUNTIF(CF2:CF338,\">3\")","v":333},{"$f":"COUNTIF(CG2:CG338,\">3\")","v":335},{"$f":"COUNTIF(CH2:CH338,\">3\")","v":0},{"$f":"COUNTIF(CI2:CI338,\">3\")","v":204},null,null,null,"0.100",{"$f":"COUNTIF(CN$2:CN$338,\"=0.100\")","v":335},null,null,null,null,1,"nb","nb tot"]
[null,null,null,null,null,null,null,null,null,"moy",{"$f":"AVERAGEIF(K2:K338,\">3\")","v":77.845360824742272},{"$f":"AVERAGEIF(L2:L338,\">3\")","v":79.589041095890408},{"$f":"AVERAGEIF(M2:M338,\">3\")","v":87.5},{"$f":"AVERAGEIF(N2:N338,\">3\")","v":82.125423728813558},{"$f":"AVERAGEIF(O2:O338,\">3\")","v":79.69047619047619},{"$f":"AVERAGEIF(P2:P338,\">3\")","v":81.541095890410958},{"$f":"AVERAGEIF(Q2:Q338,\">3\")","v":82.153583617747444},{"$f":"AVERAGEIF(R2:R338,\">3\")","v":82.895622895622893},{"$f":"AVERAGEIF(S2:S338,\">3\")","v":79.591836734693871},{"$f":"AVERAGEIF(T2:T338,\">3\")","v":81.451456310679617},{"$f":"AVERAGEIF(U2:U338,\">3\")","v":79.519607843137251},{"$f":"AVERAGEIF(V2:V338,\">3\")","v":81.852348993288587},{"$f":"AVERAGEIF(W2:W338,\">3\")","v":{"$error":"#DIV/0!"}},{"$f":"AVERAGEIF(X2:X338,\">3\")","v":{"$error":"#DIV/0!"}},{"$f":"AVERAGEIF(Y2:Y338,\">3\")","v":{"$error":"#DIV/0!"}},{"$f":"AVERAGEIF(Z2:Z338,\">3\")","v":{"$error":"#DIV/0!"}},{"$f":"AVERAGEIF(AA2:AA338,\">3\")","v":74.662337662337663},{"$f":"AVERAGEIF(AB2:AB338,\">3\")","v":78.137254901960787},{"$f":"AVERAGEIF(AC2:AC338,\">3\")","v":77.727272727272734},{"$f":"AVERAGEIF(AD2:AD338,\">3\")","v":78.887820512820511},{"$f":"AVERAGEIF(AE2:AE338,\">3\")","v":78.110749185667757},{"$f":"AVERAGEIF(AF2:AF338,\">3\")","v":78.522580645161284},{"$f":"AVERAGEIF(AG2:AG338,\">3\")","v":79.123376623376629},{"$f":"AVERAGEIF(AH2:AH338,\">3\")","v":80.254777070063696},{"$f":"AVERAGEIF(AI2:AI338,\">3\")","v":78.887096774193552},{"$f":"AVERAGEIF(AJ2:AJ338,\">3\")","v":80.248387096774195},{"$f":"AVERAGEIF(AK2:AK338,\">3\")","v":78.790322580645167},{"$f":"AVERAGEIF(AL2:AL338,\">3\")","v":80.412698412698418},{"$f":"AVERAGEIF(AM2:AM338,\">3\")","v":{"$error":"#DIV/0!"}},{"$f":"AVERAGEIF(AN2:AN338,\">3\")","v":{"$error":"#DIV/0!"}},{"$f":"AVERAGEIF(AO2:AO338,\">3\")","v":{"$error":"#DIV/0!"}},{"$f":"AVERAGEIF(AP2:AP338,\">3\")","v":{"$error":"#DIV/0!"}},{"$f":"AVERAGEIF(AQ2:AQ338,\">3\")","v":74.710843373493972},{"$f":"AVERAGEIF(AR2:AR338,\">3\")","v":77.515060240963862},{"$f":"AVERAGEIF(AS2:AS338,\">3\")","v":{"$error":"#DIV/0!"}},{"$f":"AVERAGEIF(AT2:AT338,\">3\")","v":80.51204819277109},{"$f":"AVERAGEIF(AU2:AU338,\">3\")","v":77.303303303303309},{"$f":"AVERAGEIF(AV2:AV338,\">3\")","v":77.447447447447445},{"$f":"AVERAGEIF(AW2:AW338,\">3\")","v":79.861861861861868},{"$f":"AVERAGEIF(AX2:AX338,\">3\")","v":78.453453453453449},{"$f":"AVERAGEIF(AY2:AY338,\">3\")","v":79.791044776119406},{"$f":"AVERAGEIF(AZ2:AZ338,\">3\")","v":78.611940298507463},{"$f":"AVERAGEIF(BA2:BA338,\">3\")","v":79.671641791044777},{"$f":"AVERAGEIF(BB2:BB338,\">3\")","v":78.358208955223887},{"$f":"AVERAGEIF(BC2:BC338,\">3\")","v":{"$error":"#DIV/0!"}},{"$f":"AVERAGEIF(BD2:BD338,\">3\")","v":{"$error":"#DIV/0!"}},{"$f":"AVERAGEIF(BE2:BE338,\">3\")","v":{"$error":"#DIV/0!"}},{"$f":"AVERAGEIF(BF2:BF338,\">3\")","v":{"$error":"#DIV/0!"}},{"$f":"AVERAGEIF(BG2:BG338,\">3\")","v":75.803921568627445},{"$f":"AVERAGEIF(BH2:BH338,\">3\")","v":74.857843137254903},{"$f":"AVERAGEIF(BI2:BI338,\">3\")","v":76.68518518518519},{"$f":"AVERAGEIF(BJ2:BJ338,\">3\")","v":79.168269230769226},{"$f":"AVERAGEIF(BK2:BK338,\">3\")","v":75.790055248618785},{"$f":"AVERAGEIF(BL2:BL338,\">3\")","v":74.44198895027624},{"$f":"AVERAGEIF(BM2:BM338,\">3\")","v":73.188888888888883},{"$f":"AVERAGEIF(BN2:BN338,\">3\")","v":75.204419889502759},{"$f":"AVERAGEIF(BO2:BO338,\">3\")","v":75.319047619047623},{"$f":"AVERAGEIF(BP2:BP338,\">3\")","v":76.267942583732051},{"$f":"AVERAGEIF(BQ2:BQ338,\">3\")","v":78.168269230769226},{"$f":"AVERAGEIF(BR2:BR338,\">3\")","v":78.832535885167459},{"$f":"AVERAGEIF(BS2:BS338,\">3\")","v":79.039772727272734},{"$f":"AVERAGEIF(BT2:BT338,\">3\")","v":80.73863636363636},{"$f":"AVERAGEIF(BU2:BU338,\">3\")","v":80.891428571428577},{"$f":"AVERAGEIF(BV2:BV338,\">3\")","v":83.339080459770116},{"$f":"AVERAGEIF(BW2:BW338,\">3\")","v":{"$error":"#DIV/0!"}},{"$f":"IF(L342=0,0,IF(M342=0,AVERAGE(M342,K342,N342),AVERAGE(K342:N342)))","v":81.764956412361556},{"$f":"IF(P342=0,0,IF(Q342=0,AVERAGE(Q342,O342,R342),AVERAGE(O342:R342)))","v":81.570194648564367},{"$f":"IF(T342=0,0,IF(U342=0,AVERAGE(T342,S342,V342),AVERAGE(S342:V342)))","v":80.603812470449839},{"$f":"IF(AB342=0,0,IF(AC342=0,AVERAGE(AB342,AA342,AD342),AVERAGE(AA342:AD342)))","v":77.353671451097924},{"$f":"IF(AF342=0,0,IF(AG342=0,AVERAGE(AF342,AE342,AH342),AVERAGE(AE342:AH342)))","v":79.002870881067338},{"$f":"IF(AJ342=0,0,IF(AK342=0,AVERAGE(AJ342,AI342,AL342),AVERAGE(AI342:AL342)))","v":79.584626216077837},{"$f":"IF(AN342=0,0,IF(AO342=0,AVERAGE(AN342,AM342,AP342),AVERAGE(AM342:AP342)))","v":{"$error":"#DIV/0!"}},{"$f":"IF(AR342=0,0,IF(AS342=0,AVERAGE(AR342,AQ342,AT342),AVERAGE(AQ342:AT342)))","v":{"$error":"#DIV/0!"}},{"$f":"IF(AV342=0,0,IF(AW342=0,AVERAGE(AV342,AU342,AX342),AVERAGE(AU342:AX342)))","v":78.266516516516518},{"$f":"IF(AZ342=0,0,IF(BA342=0,AVERAGE(AZ342,AY342,BB342),AVERAGE(AY342:BB342)))","v":79.108208955223887},{"$f":"IF(BD342=0,0,IF(BE342=0,AVERAGE(BD342,BC342,BF342),AVERAGE(BC342:BF342)))","v":{"$error":"#DIV/0!"}},{"$f":"IF(BH342=0,0,IF(BI342=0,AVERAGE(BH342,BG342,BJ342,BM342),AVERAGE(BG342:BJ342)))","v":76.628804780459191},null,null,null,"0.200",{"$f":"COUNTIF(CN$2:CN$338,\"=0.200\")","v":0},null,null,null,null,2,"moy","moy tot"]
[null,null,null,null,null,null,null,null,null,"% réuss",{"$f":"(COUNTIF(K$2:K$338,\">=60\")/K341)*100","v":96.56357388316151},{"$f":"(COUNTIF(L$2:L$338,\">=60\")/L341)*100","v":97.602739726027394},{"$f":"(COUNTIF(M$2:M$338,\">=60\")/M341)*100","v":100},{"$f":"(COUNTIF(N$2:N$338,\">=60\")/N341)*100","v":96.949152542372886},{"$f":"(COUNTIF(O$2:O$338,\">=60\")/O341)*100","v":96.938775510204081},{"$f":"(COUNTIF(P$2:P$338,\">=60\")/P341)*100","v":98.630136986301366},{"$f":"(COUNTIF(Q$2:Q$338,\">=60\")/Q341)*100","v":96.928327645051198},{"$f":"(COUNTIF(R$2:R$338,\">=60\")/R341)*100","v":97.643097643097647},{"$f":"(COUNTIF(S$2:S$338,\">=60\")/S341)*100","v":97.278911564625844},{"$f":"(COUNTIF(T$2:T$338,\">=60\")/T341)*100","v":100},{"$f":"(COUNTIF(U$2:U$338,\">=60\")/U341)*100","v":96.568627450980387},{"$f":"(COUNTIF(V$2:V$338,\">=60\")/V341)*100","v":97.651006711409394},{"$f":"(COUNTIF(W$2:W$338,\">=60\")/W341)*100","v":{"$error":"#DIV/0!"}},{"$f":"(COUNTIF(X$2:X$338,\">=60\")/X341)*100","v":{"$error":"#DIV/0!"}},{"$f":"(COUNTIF(Y$2:Y$338,\">=60\")/Y341)*100","v":{"$error":"#DIV/0!"}},{"$f":"(COUNTIF(Z$2:Z$338,\">=60\")/Z341)*100","v":{"$error":"#DIV/0!"}},{"$f":"(COUNTIF(AA$2:AA$338,\">=60\")/AA341)*100","v":91.558441558441558},{"$f":"(COUNTIF(AB$2:AB$338,\">=60\")/AB341)*100","v":94.444444444444443},{"$f":"(COUNTIF(AC$2:AC$338,\">=60\")/AC341)*100","v":100},{"$f":"(COUNTIF(AD$2:AD$338,\">=60\")/AD341)*100","v":93.910256410256409},{"$f":"(COUNTIF(AE$2:AE$338,\">=60\")/AE341)*100","v":94.462540716612381},{"$f":"(COUNTIF(AF$2:AF$338,\">=60\")/AF341)*100","v":95.483870967741936},{"$f":"(COUNTIF(AG$2:AG$338,\">=60\")/AG341)*100","v":95.779220779220779},{"$f":"(COUNTIF(AH$2:AH$338,\">=60\")/AH341)*100","v":94.585987261146499},{"$f":"(COUNTIF(AI$2:AI$338,\">=60\")/AI341)*100","v":96.451612903225808},{"$f":"(COUNTIF(AJ$2:AJ$338,\">=60\")/AJ341)*100","v":95.483870967741936},{"$f":"(COUNTIF(AK$2:AK$338,\">=60\")/AK341)*100","v":94.838709677419359},{"$f":"(COUNTIF(AL$2:AL$338,\">=60\")/AL341)*100","v":93.968253968253961},{"$f":"(COUNTIF(AM$2:AM$338,\">=60\")/AM341)*100","v":{"$error":"#DIV/0!"}},{"$f":"(COUNTIF(AN$2:AN$338,\">=60\")/AN341)*100","v":{"$error":"#DIV/0!"}},{"$f":"(COUNTIF(AO$2:AO$338,\">=60\")/AO341)*100","v":{"$error":"#DIV/0!"}},{"$f":"(COUNTIF(AP$2:AP$338,\">=60\")/AP341)*100","v":{"$error":"#DIV/0!"}},{"$f":"(COUNTIF(AQ$2:AQ$338,\">=60\")/AQ341)*100","v":89.457831325301214},{"$f":"(COUNTIF(AR$2:AR$338,\">=60\")/AR341)*100","v":92.46987951807229},{"$f":"(COUNTIF(AS$2:AS$338,\">=60\")/AS341)*100","v":{"$error":"#DIV/0!"}},{"$f":"(COUNTIF(AT$2:AT$338,\">=60\")/AT341)*100","v":92.46987951807229},{"$f":"(COUNTIF(AU$2:AU$338,\">=60\")/AU341)*100","v":93.693693693693689},{"$f":"(COUNTIF(AV$2:AV$338,\">=60\")/AV341)*100","v":94.294294294294289},{"$f":"(COUNTIF(AW$2:AW$338,\">=60\")/AW341)*100","v":91.591591591591595},{"$f":"(COUNTIF(AX$2:AX$338,\">=60\")/AX341)*100","v":91.891891891891902},{"$f":"(COUNTIF(AY$2:AY$338,\">=60\")/AY341)*100","v":96.119402985074629},{"$f":"(COUNTIF(AZ$2:AZ$338,\">=60\")/AZ341)*100","v":95.522388059701484},{"$f":"(COUNTIF(BA$2:BA$338,\">=60\")/BA341)*100","v":91.641791044776127},{"$f":"(COUNTIF(BB$2:BB$338,\">=60\")/BB341)*100","v":91.940298507462686},{"$f":"(COUNTIF(BC$2:BC$338,\">=60\")/BC341)*100","v":{"$error":"#DIV/0!"}},{"$f":"(COUNTIF(BD$2:BD$338,\">=60\")/BD341)*100","v":{"$error":"#DIV/0!"}},{"$f":"(COUNTIF(BE$2:BE$338,\">=60\")/BE341)*100","v":{"$error":"#DIV/0!"}},{"$f":"(COUNTIF(BF$2:BF$338,\">=60\")/BF341)*100","v":{"$error":"#DIV/0!"}},{"$f":"(COUNTIF(BG$2:BG$338,\">=60\")/BG341)*100","v":90.196078431372555},{"$f":"(COUNTIF(BH$2:BH$338,\">=60\")/BH341)*100","v":87.254901960784309},{"$f":"(COUNTIF(BI$2:BI$338,\">=60\")/BI341)*100","v":87.037037037037038},{"$f":"(COUNTIF(BJ$2:BJ$338,\">=60\")/BJ341)*100","v":89.90384615384616},{"$f":"(COUNTIF(BK$2:BK$338,\">=60\")/BK341)*100","v":86.740331491712709},{"$f":"(COUNTIF(BL$2:BL$338,\">=60\")/BL341)*100","v":90.607734806629836},{"$f":"(COUNTIF(BM$2:BM$338,\">=60\")/BM341)*100","v":83.888888888888886},{"$f":"(COUNTIF(BN$2:BN$338,\">=60\")/BN341)*100","v":90.607734806629836},{"$f":"(COUNTIF(BO$2:BO$338,\">=60\")/BO341)*100","v":90.476190476190482},{"$f":"(COUNTIF(BP$2:BP$338,\">=60\")/BP341)*100","v":90.430622009569376},{"$f":"(COUNTIF(BQ$2:BQ$338,\">=60\")/BQ341)*100","v":89.90384615384616},{"$f":"(COUNTIF(BR$2:BR$338,\">=60\")/BR341)*100","v":92.344497607655512},{"$f":"(COUNTIF(BS$2:BS$338,\">=60\")/BS341)*100","v":94.88636363636364},{"$f":"(COUNTIF(BT$2:BT$338,\">=60\")/BT341)*100","v":94.318181818181827},{"$f":"(COUNTIF(BU$2:BU$338,\">=60\")/BU341)*100","v":90.857142857142861},{"$f":"(COUNTIF(BV$2:BV$338,\">=60\")/BV341)*100","v":93.678160919540232},{"$f":"(COUNTIF(BW$2:BW$338,\">=60\")/BW341)*100","v":{"$error":"#DIV/0!"}},97.778866537890451,97.535084446163566,97.874636431753913,94.978285603285599,95.077904931180399,95.185611879160263,{"$error":"#DIV/0!"},{"$error":"#DIV/0!"},92.867867867867858,93.805970149253724,{"$error":"#DIV/0!"},88.597965895760012,null,null,null,"0.300",{"$f":"COUNTIF(CN$2:CN$338,\"=0.300\")","v":0},null,null,null,null,3,"% réuss"]
[null,null,null,null,null,null,null,null,null,null,{"$f":"K347-K349","v":-1.8524233244982753},{"$f":"L347-L349","v":-1.4708233413268914},{"$error":"#DIV/0!"},1.298330566316281,-3.2500000000000284,-0.95018796992472687,0.43090569561158532,0.9510919017288586,-3.2337662337661897,-0.85239361702132044,0.58878143133466665,1.6749547920435504,{"$error":"#DIV/0!"},{"$error":"#DIV/0!"},{"$error":"#DIV/0!"},{"$error":"#DIV/0!"},-3.1161846778284144,-1.2046232876711116,-2.7272727272727053,0.63313706921400126,-3.9289968518675238,-2.6157505947164879,-0.88533739218659946,-1.95018892455181E-2,-3.216268102333018,-3.0854722257001157,-1.1362213597096087,-0.46660474882905589,{"$error":"#DIV/0!"},{"$error":"#DIV/0!"},{"$error":"#DIV/0!"},{"$error":"#DIV/0!"},-4.838141025641022,-2.5713869463869088,{"$error":"#DIV/0!"},-0.48513986013989552,-4.2895480225989218,-2.571164710995248,-1.514124293785386,-0.31671012603227666,-4.9474361724953013,-2.447436172495344,-2.597976113852809,0.12693985553875109,{"$error":"#DIV/0!"},{"$error":"#DIV/0!"},{"$error":"#DIV/0!"},{"$error":"#DIV/0!"},-3.934622823984526,-0.79632495164416639,-4.9833333333333343,0.35119047619046739,-3.3046316826804656,-1.8897511702389949,1.1085116973618199,1.488543976348808,-4.3437499999999574,-2.6062868731563924,6.1011904761869573E-2,-0.63726032448374781,-4.6716378859236158,-5.6959706959707432,0.4286280729578209,-0.80288461538465583,{"$f":"BW347-BW349","v":{"$error":"#DIV/0!"}},{"$error":"#DIV/0!"},-0.70454759314607429,-0.45560590685232683,-1.6037359058895504,-1.8623966820040181,-1.9761416091429567,{"$error":"#DIV/0!"},{"$error":"#DIV/0!"},-2.1728867883529546,-2.4664771508261794,{"$f":"CH347-CH349","v":{"$error":"#DIV/0!"}},-2.3407726581928756,null,null,null,"0.400",{"$f":"COUNTIF(CN$2:CN$338,\"=0.400\")","v":0},null,null,null,null,4,null,"Ava"]
[null,null,null,null,null,null,null,null,null,null,{"$f":"K352-K354","v":-2.2901862876864243E-2},{"$f":"L352-L354","v":-2.3313643292682968},-15,-1.5361305361305995,-5.844277673553222E-2,-1.3359014600276566,-2.5723454459651265,-2.0715074036603056,-0.32313960567594791,-0.13151927437642996,-1.7493261455525726,-2.0874406717780403,{"$error":"#DIV/0!"},{"$error":"#DIV/0!"},{"$error":"#DIV/0!"},{"$error":"#DIV/0!"},-0.55198358413133519,-0.92415827837555753,1.818181818181813,-0.85067778936381444,-0.3972868217054355,2.7637344118645046E-2,7.6094391244879489E-2,-1.3500513874614484,-0.76508257499152421,0.74806201550391904,-1.0701044826424067,2.285714285714846E-2,{"$error":"#DIV/0!"},{"$error":"#DIV/0!"},{"$error":"#DIV/0!"},{"$error":"#DIV/0!"},0.9460562603419902,-0.24765581908435763,{"$error":"#DIV/0!"},-0.85125942268804522,-7.8121571209138096E-2,-0.36811498793062469,-2.8049155145929205,-1.1246434057493815,0.29140771787832875,5.5282555282559542E-2,-2.645974851857261,2.4389362624646083E-2,{"$error":"#DIV/0!"},{"$error":"#DIV/0!"},{"$error":"#DIV/0!"},{"$error":"#DIV/0!"},1.3215443560271041,-0.16769820218095788,1.5397727272727337,0.60998116760828225,3.4235542318193239,0.53723008190618771,-1.3861236802413259,-0.60312732688014137,1.6296056884292511,0.25592903828196256,-1.1984703993957311,-0.48926237161531105,2.4784210526315604,-1.4557894736841916,-2.7969165337586759,-0.86976369495165784,{"$f":"BW352-BW354","v":{"$error":"#DIV/0!"}},-4.7225991820689472,-1.5095492715971517,-1.0728564243457583,-0.12715945842221288,-0.41090161845083628,-0.26606697481821584,{"$error":"#DIV/0!"},{"$error":"#DIV/0!"},-1.0939488698705162,-0.568723804017921,{"$f":"CH352-CH354","v":{"$error":"#DIV/0!"}},0.82590001218179054,null,null,null,"0.500",{"$f":"COUNTIF(CN$2:CN$338,\"=0.500\")","v":0},null,null,null,null,5,null,"Ava"]
[null,null,null,null,null,null,null,null,null,null,{"$f":"SUM(($J$2:$J$338=\"M\")*(K$2:K$338>1)*1)","v":152},{"$f":"SUM(($J$2:$J$338=\"M\")*(L$2:L$338>1)*1)","v":153},{"$f":"SUM(($J$2:$J$338=\"M\")*(M$2:M$338>1)*1)","v":2},{"$f":"SUM(($J$2:$J$338=\"M\")*(N$2:N$338>1)*1)","v":156},{"$f":"SUM(($J$2:$J$338=\"M\")*(O$2:O$338>1)*1)","v":154},{"$f":"SUM(($J$2:$J$338=\"M\")*(P$2:P$338>1)*1)","v":152},{"$f":"SUM(($J$2:$J$338=\"M\")*(Q$2:Q$338>1)*1)","v":153},{"$f":"SUM(($J$2:$J$338=\"M\")*(R$2:R$338>1)*1)","v":157},{"$f":"SUM(($J$2:$J$338=\"M\")*(S$2:S$338>1)*1)","v":154},{"$f":"SUM(($J$2:$J$338=\"M\")*(T$2:T$338>1)*1)","v":112},{"$f":"SUM(($J$2:$J$338=\"M\")*(U$2:U$338>1)*1)","v":110},{"$f":"SUM(($J$2:$J$338=\"M\")*(V$2:V$338>1)*1)","v":158},{"$f":"SUM(($J$2:$J$338=\"M\")*(W$2:W$338>1)*1)","v":0},{"$f":"SUM(($J$2:$J$338=\"M\")*(X$2:X$338>1)*1)","v":0},{"$f":"SUM(($J$2:$J$338=\"M\")*(Y$2:Y$338>1)*1)","v":0},{"$f":"SUM(($J$2:$J$338=\"M\")*(Z$2:Z$338>1)*1)","v":0},{"$f":"SUM(($J$2:$J$338=\"M\")*(AA$2:AA$338>1)*1)","v":162},{"$f":"SUM(($J$2:$J$338=\"M\")*(AB$2:AB$338>1)*1)","v":160},{"$f":"SUM(($J$2:$J$338=\"M\")*(AC$2:AC$338>1)*1)","v":11},{"$f":"SUM(($J$2:$J$338=\"M\")*(AD$2:AD$338>1)*1)","v":163},{"$f":"SUM(($J$2:$J$338=\"M\")*(AE$2:AE$338>1)*1)","v":161},{"$f":"SUM(($J$2:$J$338=\"M\")*(AF$2:AF$338>1)*1)","v":163},{"$f":"SUM(($J$2:$J$338=\"M\")*(AG$2:AG$338>1)*1)","v":162},{"$f":"SUM(($J$2:$J$338=\"M\")*(AH$2:AH$338>1)*1)","v":163},{"$f":"SUM(($J$2:$J$338=\"M\")*(AI$2:AI$338>1)*1)","v":163},{"$f":"SUM(($J$2:$J$338=\"M\")*(AJ$2:AJ$338>1)*1)","v":163},{"$f":"SUM(($J$2:$J$338=\"M\")*(AK$2:AK$338>1)*1)","v":163},{"$f":"SUM(($J$2:$J$338=\"M\")*(AL$2:AL$338>1)*1)","v":164},{"$f":"SUM(($J$2:$J$338=\"M\")*(AM$2:AM$338>1)*1)","v":0},{"$f":"SUM(($J$2:$J$338=\"M\")*(AN$2:AN$338>1)*1)","v":0},{"$f":"SUM(($J$2:$J$338=\"M\")*(AO$2:AO$338>1)*1)","v":0},{"$f":"SUM(($J$2:$J$338=\"M\")*(AP$2:AP$338>1)*1)","v":0},{"$f":"SUM(($J$2:$J$338=\"M\")*(AQ$2:AQ$338>1)*1)","v":176},{"$f":"SUM(($J$2:$J$338=\"M\")*(AR$2:AR$338>1)*1)","v":176},{"$f":"SUM(($J$2:$J$338=\"M\")*(AS$2:AS$338>1)*1)","v":0},{"$f":"SUM(($J$2:$J$338=\"M\")*(AT$2:AT$338>1)*1)","v":176},{"$f":"SUM(($J$2:$J$338=\"M\")*(AU$2:AU$338>1)*1)","v":177},{"$f":"SUM(($J$2:$J$338=\"M\")*(AV$2:AV$338>1)*1)","v":177},{"$f":"SUM(($J$2:$J$338=\"M\")*(AW$2:AW$338>1)*1)","v":177},{"$f":"SUM(($J$2:$J$338=\"M\")*(AX$2:AX$338>1)*1)","v":177},{"$f":"SUM(($J$2:$J$338=\"M\")*(AY$2:AY$338>1)*1)","v":177},{"$f":"SUM(($J$2:$J$338=\"M\")*(AZ$2:AZ$338>1)*1)","v":177},{"$f":"SUM(($J$2:$J$338=\"M\")*(BA$2:BA$338>1)*1)","v":177},{"$f":"SUM(($J$2:$J$338=\"M\")*(BB$2:BB$338>1)*1)","v":177},{"$f":"SUM(($J$2:$J$338=\"M\")*(BC$2:BC$338>1)*1)","v":0},{"$f":"SUM(($J$2:$J$338=\"M\")*(BD$2:BD$338>1)*1)","v":0},{"$f":"SUM(($J$2:$J$338=\"M\")*(BE$2:BE$338>1)*1)","v":0},{"$f":"SUM(($J$2:$J$338=\"M\")*(BF$2:BF$338>1)*1)","v":0},{"$f":"SUM(($J$2:$J$338=\"M\")*(BG$2:BG$338>1)*1)","v":110},{"$f":"SUM(($J$2:$J$338=\"M\")*(BH$2:BH$338>1)*1)","v":110},{"$f":"SUM(($J$2:$J$338=\"M\")*(BI$2:BI$338>1)*1)","v":24},{"$f":"SUM(($J$2:$J$338=\"M\")*(BJ$2:BJ$338>1)*1)","v":112},{"$f":"SUM(($J$2:$J$338=\"M\")*(BK$2:BK$338>1)*1)","v":99},{"$f":"SUM(($J$2:$J$338=\"M\")*(BL$2:BL$338>1)*1)","v":99},{"$f":"SUM(($J$2:$J$338=\"M\")*(BM$2:BM$338>1)*1)","v":98},{"$f":"SUM(($J$2:$J$338=\"M\")*(BN$2:BN$338>1)*1)","v":99},{"$f":"SUM(($J$2:$J$338=\"M\")*(BO$2:BO$338>1)*1)","v":114},{"$f":"SUM(($J$2:$J$338=\"M\")*(BP$2:BP$338>1)*1)","v":113},{"$f":"SUM(($J$2:$J$338=\"M\")*(BQ$2:BQ$338>1)*1)","v":112},{"$f":"SUM(($J$2:$J$338=\"M\")*(BR$2:BR$338>1)*1)","v":113},{"$f":"SUM(($J$2:$J$338=\"M\")*(BS$2:BS$338>1)*1)","v":98},{"$f":"SUM(($J$2:$J$338=\"M\")*(BT$2:BT$338>1)*1)","v":98},{"$f":"SUM(($J$2:$J$338=\"M\")*(BU$2:BU$338>1)*1)","v":97},{"$f":"SUM(($J$2:$J$338=\"M\")*(BV$2:BV$338>1)*1)","v":96},{"$f":"SUM(($J$2:$J$338=\"M\")*(BW$2:BW$338>1)*1)","v":0},{"$f":"SUM(($J$2:$J$338=\"M\")*(BX$2:BX$338>1)*1)","v":153},{"$f":"SUM(($J$2:$J$338=\"M\")*(BY$2:BY$338>1)*1)","v":152},{"$f":"SUM(($J$2:$J$338=\"M\")*(BZ$2:BZ$338>1)*1)","v":112},{"$f":"SUM(($J$2:$J$338=\"M\")*(CA$2:CA$338>1)*1)","v":160},{"$f":"SUM(($J$2:$J$338=\"M\")*(CB$2:CB$338>1)*1)","v":163},{"$f":"SUM(($J$2:$J$338=\"M\")*(CC$2:CC$338>1)*1)","v":163},{"$f":"SUM(($J$2:$J$338=\"M\")*(CD$2:CD$338>1)*1)","v":0},{"$f":"SUM(($J$2:$J$338=\"M\")*(CE$2:CE$338>1)*1)","v":176},{"$f":"SUM(($J$2:$J$338=\"M\")*(CF$2:CF$338>1)*1)","v":177},{"$f":"SUM(($J$2:$J$338=\"M\")*(CG$2:CG$338>1)*1)","v":177},{"$f":"SUM(($J$2:$J$338=\"M\")*(CH$2:CH$338>1)*1)","v":0},{"$f":"SUM(($J$2:$J$338=\"M\")*(CI$2:CI$338>1)*1)","v":110},null,null,null,"0.600",{"$f":"COUNTIF(CN$2:CN$338,\"=0.600\")","v":0},null,null,null,null,6,null,"g"]
[null,null,null,null,null,null,null,null,null,null,{"$f":"SUMPRODUCT((($J$2:$J$338=\"M\")*(K$2:K$338)*(K$2:K$338>2))/SUMPRODUCT(($J$2:$J$338=\"M\")*(K$2:K$338>2)))","v":76.960526315789508},{"$f":"SUMPRODUCT((($J$2:$J$338=\"M\")*(L$2:L$338)*(L$2:L$338>2))/SUMPRODUCT(($J$2:$J$338=\"M\")*(L$2:L$338>2)))","v":78.8888888888889},{"$f":"SUMPRODUCT((($J$2:$J$338=\"M\")*(M$2:M$338)*(M$2:M$338>2))/SUMPRODUCT(($J$2:$J$338=\"M\")*(M$2:M$338>2)))","v":87.5},{"$f":"SUMPRODUCT((($J$2:$J$338=\"M\")*(N$2:N$338)*(N$2:N$338>2))/SUMPRODUCT(($J$2:$J$338=\"M\")*(N$2:N$338>2)))","v":82.737179487179574},{"$f":"SUMPRODUCT((($J$2:$J$338=\"M\")*(O$2:O$338)*(O$2:O$338>2))/SUMPRODUCT(($J$2:$J$338=\"M\")*(O$2:O$338>2)))","v":78.142857142857153},{"$f":"SUMPRODUCT((($J$2:$J$338=\"M\")*(P$2:P$338)*(P$2:P$338>2))/SUMPRODUCT(($J$2:$J$338=\"M\")*(P$2:P$338>2)))","v":81.085526315789537},{"$f":"SUMPRODUCT((($J$2:$J$338=\"M\")*(Q$2:Q$338)*(Q$2:Q$338>2))/SUMPRODUCT(($J$2:$J$338=\"M\")*(Q$2:Q$338>2)))","v":82.35947712418303},{"$f":"SUMPRODUCT((($J$2:$J$338=\"M\")*(R$2:R$338)*(R$2:R$338>2))/SUMPRODUCT(($J$2:$J$338=\"M\")*(R$2:R$338>2)))","v":83.343949044585983},{"$f":"SUMPRODUCT((($J$2:$J$338=\"M\")*(S$2:S$338)*(S$2:S$338>2))/SUMPRODUCT(($J$2:$J$338=\"M\")*(S$2:S$338>2)))","v":78.051948051948074},{"$f":"SUMPRODUCT((($J$2:$J$338=\"M\")*(T$2:T$338)*(T$2:T$338>2))/SUMPRODUCT(($J$2:$J$338=\"M\")*(T$2:T$338>2)))","v":81.0625},{"$f":"SUMPRODUCT((($J$2:$J$338=\"M\")*(U$2:U$338)*(U$2:U$338>2))/SUMPRODUCT(($J$2:$J$338=\"M\")*(U$2:U$338>2)))","v":79.790909090909111},{"$f":"SUMPRODUCT((($J$2:$J$338=\"M\")*(V$2:V$338)*(V$2:V$338>2))/SUMPRODUCT(($J$2:$J$338=\"M\")*(V$2:V$338>2)))","v":82.639240506329273},{"$f":"SUMPRODUCT((($J$2:$J$338=\"M\")*(W$2:W$338)*(W$2:W$338>2))/SUMPRODUCT(($J$2:$J$338=\"M\")*(W$2:W$338>2)))","v":{"$error":"#DIV/0!"}},{"$f":"SUMPRODUCT((($J$2:$J$338=\"M\")*(X$2:X$338)*(X$2:X$338>2))/SUMPRODUCT(($J$2:$J$338=\"M\")*(X$2:X$338>2)))","v":{"$error":"#DIV/0!"}},{"$f":"SUMPRODUCT((($J$2:$J$338=\"M\")*(Y$2:Y$338)*(Y$2:Y$338>2))/SUMPRODUCT(($J$2:$J$338=\"M\")*(Y$2:Y$338>2)))","v":{"$error":"#DIV/0!"}},{"$f":"SUMPRODUCT((($J$2:$J$338=\"M\")*(Z$2:Z$338)*(Z$2:Z$338>2))/SUMPRODUCT(($J$2:$J$338=\"M\")*(Z$2:Z$338>2)))","v":{"$error":"#DIV/0!"}},{"$f":"SUMPRODUCT((($J$2:$J$338=\"M\")*(AA$2:AA$338)*(AA$2:AA$338>2))/SUMPRODUCT(($J$2:$J$338=\"M\")*(AA$2:AA$338>2)))","v":73.185185185185262},{"$f":"SUMPRODUCT((($J$2:$J$338=\"M\")*(AB$2:AB$338)*(AB$2:AB$338>2))/SUMPRODUCT(($J$2:$J$338=\"M\")*(AB$2:AB$338>2)))","v":77.5625},{"$f":"SUMPRODUCT((($J$2:$J$338=\"M\")*(AC$2:AC$338)*(AC$2:AC$338>2))/SUMPRODUCT(($J$2:$J$338=\"M\")*(AC$2:AC$338>2)))","v":76.363636363636374},{"$f":"SUMPRODUCT((($J$2:$J$338=\"M\")*(AD$2:AD$338)*(AD$2:AD$338>2))/SUMPRODUCT(($J$2:$J$338=\"M\")*(AD$2:AD$338>2)))","v":79.19018404907969},{"$f":"SUMPRODUCT((($J$2:$J$338=\"M\")*(AE$2:AE$338)*(AE$2:AE$338>2))/SUMPRODUCT(($J$2:$J$338=\"M\")*(AE$2:AE$338>2)))","v":76.242236024844743},{"$f":"SUMPRODUCT((($J$2:$J$338=\"M\")*(AF$2:AF$338)*(AF$2:AF$338>2))/SUMPRODUCT(($J$2:$J$338=\"M\")*(AF$2:AF$338>2)))","v":77.282208588956991},{"$f":"SUMPRODUCT((($J$2:$J$338=\"M\")*(AG$2:AG$338)*(AG$2:AG$338>2))/SUMPRODUCT(($J$2:$J$338=\"M\")*(AG$2:AG$338>2)))","v":78.703703703703738},{"$f":"SUMPRODUCT((($J$2:$J$338=\"M\")*(AH$2:AH$338)*(AH$2:AH$338>2))/SUMPRODUCT(($J$2:$J$338=\"M\")*(AH$2:AH$338>2)))","v":80.245398773006087},{"$f":"SUMPRODUCT((($J$2:$J$338=\"M\")*(AI$2:AI$338)*(AI$2:AI$338>2))/SUMPRODUCT(($J$2:$J$338=\"M\")*(AI$2:AI$338>2)))","v":77.361963190184028},{"$f":"SUMPRODUCT((($J$2:$J$338=\"M\")*(AJ$2:AJ$338)*(AJ$2:AJ$338>2))/SUMPRODUCT(($J$2:$J$338=\"M\")*(AJ$2:AJ$338>2)))","v":78.785276073619585},{"$f":"SUMPRODUCT((($J$2:$J$338=\"M\")*(AK$2:AK$338)*(AK$2:AK$338>2))/SUMPRODUCT(($J$2:$J$338=\"M\")*(AK$2:AK$338>2)))","v":78.251533742331219},{"$f":"SUMPRODUCT((($J$2:$J$338=\"M\")*(AL$2:AL$338)*(AL$2:AL$338>2))/SUMPRODUCT(($J$2:$J$338=\"M\")*(AL$2:AL$338>2)))","v":80.189024390243745},{"$f":"SUMPRODUCT((($J$2:$J$338=\"M\")*(AM$2:AM$338)*(AM$2:AM$338>2))/SUMPRODUCT(($J$2:$J$338=\"M\")*(AM$2:AM$338>2)))","v":{"$error":"#DIV/0!"}},{"$f":"SUMPRODUCT((($J$2:$J$338=\"M\")*(AN$2:AN$338)*(AN$2:AN$338>2))/SUMPRODUCT(($J$2:$J$338=\"M\")*(AN$2:AN$338>2)))","v":{"$error":"#DIV/0!"}},{"$f":"SUMPRODUCT((($J$2:$J$338=\"M\")*(AO$2:AO$338)*(AO$2:AO$338>2))/SUMPRODUCT(($J$2:$J$338=\"M\")*(AO$2:AO$338>2)))","v":{"$error":"#DIV/0!"}},{"$f":"SUMPRODUCT((($J$2:$J$338=\"M\")*(AP$2:AP$338)*(AP$2:AP$338>2))/SUMPRODUCT(($J$2:$J$338=\"M\")*(AP$2:AP$338>2)))","v":{"$error":"#DIV/0!"}},{"$f":"SUMPRODUCT((($J$2:$J$338=\"M\")*(AQ$2:AQ$338)*(AQ$2:AQ$338>2))/SUMPRODUCT(($J$2:$J$338=\"M\")*(AQ$2:AQ$338>2)))","v":72.4375},{"$f":"SUMPRODUCT((($J$2:$J$338=\"M\")*(AR$2:AR$338)*(AR$2:AR$338>2))/SUMPRODUCT(($J$2:$J$338=\"M\")*(AR$2:AR$338>2)))","v":76.306818181818215},{"$f":"SUMPRODUCT((($J$2:$J$338=\"M\")*(AS$2:AS$338)*(AS$2:AS$338>2))/SUMPRODUCT(($J$2:$J$338=\"M\")*(AS$2:AS$338>2)))","v":{"$error":"#DIV/0!"}},{"$f":"SUMPRODUCT((($J$2:$J$338=\"M\")*(AT$2:AT$338)*(AT$2:AT$338>2))/SUMPRODUCT(($J$2:$J$338=\"M\")*(AT$2:AT$338>2)))","v":80.284090909090949},{"$f":"SUMPRODUCT((($J$2:$J$338=\"M\")*(AU$2:AU$338)*(AU$2:AU$338>2))/SUMPRODUCT(($J$2:$J$338=\"M\")*(AU$2:AU$338>2)))","v":75.293785310734421},{"$f":"SUMPRODUCT((($J$2:$J$338=\"M\")*(AV$2:AV$338)*(AV$2:AV$338>2))/SUMPRODUCT(($J$2:$J$338=\"M\")*(AV$2:AV$338>2)))","v":76.242937853107335},{"$f":"SUMPRODUCT((($J$2:$J$338=\"M\")*(AW$2:AW$338)*(AW$2:AW$338>2))/SUMPRODUCT(($J$2:$J$338=\"M\")*(AW$2:AW$338>2)))","v":79.152542372881328},{"$f":"SUMPRODUCT((($J$2:$J$338=\"M\")*(AX$2:AX$338)*(AX$2:AX$338>2))/SUMPRODUCT(($J$2:$J$338=\"M\")*(AX$2:AX$338>2)))","v":78.305084745762628},{"$f":"SUMPRODUCT((($J$2:$J$338=\"M\")*(AY$2:AY$338)*(AY$2:AY$338>2))/SUMPRODUCT(($J$2:$J$338=\"M\")*(AY$2:AY$338>2)))","v":77.457627118644098},{"$f":"SUMPRODUCT((($J$2:$J$338=\"M\")*(AZ$2:AZ$338)*(AZ$2:AZ$338>2))/SUMPRODUCT(($J$2:$J$338=\"M\")*(AZ$2:AZ$338>2)))","v":77.457627118644027},{"$f":"SUMPRODUCT((($J$2:$J$338=\"M\")*(BA$2:BA$338)*(BA$2:BA$338>2))/SUMPRODUCT(($J$2:$J$338=\"M\")*(BA$2:BA$338>2)))","v":78.446327683615721},{"$f":"SUMPRODUCT((($J$2:$J$338=\"M\")*(BB$2:BB$338)*(BB$2:BB$338>2))/SUMPRODUCT(($J$2:$J$338=\"M\")*(BB$2:BB$338>2)))","v":78.418079096045204},{"$f":"SUMPRODUCT((($J$2:$J$338=\"M\")*(BC$2:BC$338)*(BC$2:BC$338>2))/SUMPRODUCT(($J$2:$J$338=\"M\")*(BC$2:BC$338>2)))","v":{"$error":"#DIV/0!"}},{"$f":"SUMPRODUCT((($J$2:$J$338=\"M\")*(BD$2:BD$338)*(BD$2:BD$338>2))/SUMPRODUCT(($J$2:$J$338=\"M\")*(BD$2:BD$338>2)))","v":{"$error":"#DIV/0!"}},{"$f":"SUMPRODUCT((($J$2:$J$338=\"M\")*(BE$2:BE$338)*(BE$2:BE$338>2))/SUMPRODUCT(($J$2:$J$338=\"M\")*(BE$2:BE$338>2)))","v":{"$error":"#DIV/0!"}},{"$f":"SUMPRODUCT((($J$2:$J$338=\"M\")*(BF$2:BF$338)*(BF$2:BF$338>2))/SUMPRODUCT(($J$2:$J$338=\"M\")*(BF$2:BF$338>2)))","v":{"$error":"#DIV/0!"}},{"$f":"SUMPRODUCT((($J$2:$J$338=\"M\")*(BG$2:BG$338)*(BG$2:BG$338>2))/SUMPRODUCT(($J$2:$J$338=\"M\")*(BG$2:BG$338>2)))","v":73.990909090909128},{"$f":"SUMPRODUCT((($J$2:$J$338=\"M\")*(BH$2:BH$338)*(BH$2:BH$338>2))/SUMPRODUCT(($J$2:$J$338=\"M\")*(BH$2:BH$338>2)))","v":74.490909090909071},{"$f":"SUMPRODUCT((($J$2:$J$338=\"M\")*(BI$2:BI$338)*(BI$2:BI$338>2))/SUMPRODUCT(($J$2:$J$338=\"M\")*(BI$2:BI$338>2)))","v":73.916666666666657},{"$f":"SUMPRODUCT((($J$2:$J$338=\"M\")*(BJ$2:BJ$338)*(BJ$2:BJ$338>2))/SUMPRODUCT(($J$2:$J$338=\"M\")*(BJ$2:BJ$338>2)))","v":79.330357142857125},{"$f":"SUMPRODUCT((($J$2:$J$338=\"M\")*(BK$2:BK$338)*(BK$2:BK$338>2))/SUMPRODUCT(($J$2:$J$338=\"M\")*(BK$2:BK$338>2)))","v":74.29292929292933},{"$f":"SUMPRODUCT((($J$2:$J$338=\"M\")*(BL$2:BL$338)*(BL$2:BL$338>2))/SUMPRODUCT(($J$2:$J$338=\"M\")*(BL$2:BL$338>2)))","v":73.585858585858588},{"$f":"SUMPRODUCT((($J$2:$J$338=\"M\")*(BM$2:BM$338)*(BM$2:BM$338>2))/SUMPRODUCT(($J$2:$J$338=\"M\")*(BM$2:BM$338>2)))","v":73.693877551020378},{"$f":"SUMPRODUCT((($J$2:$J$338=\"M\")*(BN$2:BN$338)*(BN$2:BN$338>2))/SUMPRODUCT(($J$2:$J$338=\"M\")*(BN$2:BN$338>2)))","v":75.878787878787861},{"$f":"SUMPRODUCT((($J$2:$J$338=\"M\")*(BO$2:BO$338)*(BO$2:BO$338>2))/SUMPRODUCT(($J$2:$J$338=\"M\")*(BO$2:BO$338>2)))","v":73.333333333333371},{"$f":"SUMPRODUCT((($J$2:$J$338=\"M\")*(BP$2:BP$338)*(BP$2:BP$338>2))/SUMPRODUCT(($J$2:$J$338=\"M\")*(BP$2:BP$338>2)))","v":75.070796460176965},{"$f":"SUMPRODUCT((($J$2:$J$338=\"M\")*(BQ$2:BQ$338)*(BQ$2:BQ$338>2))/SUMPRODUCT(($J$2:$J$338=\"M\")*(BQ$2:BQ$338>2)))","v":78.196428571428541},{"$f":"SUMPRODUCT((($J$2:$J$338=\"M\")*(BR$2:BR$338)*(BR$2:BR$338>2))/SUMPRODUCT(($J$2:$J$338=\"M\")*(BR$2:BR$338>2)))","v":78.539823008849595},{"$f":"SUMPRODUCT((($J$2:$J$338=\"M\")*(BS$2:BS$338)*(BS$2:BS$338>2))/SUMPRODUCT(($J$2:$J$338=\"M\")*(BS$2:BS$338>2)))","v":76.969387755102048},{"$f":"SUMPRODUCT((($J$2:$J$338=\"M\")*(BT$2:BT$338)*(BT$2:BT$338>2))/SUMPRODUCT(($J$2:$J$338=\"M\")*(BT$2:BT$338>2)))","v":78.214285714285708},{"$f":"SUMPRODUCT((($J$2:$J$338=\"M\")*(BU$2:BU$338)*(BU$2:BU$338>2))/SUMPRODUCT(($J$2:$J$338=\"M\")*(BU$2:BU$338>2)))","v":81.082474226803996},{"$f":"SUMPRODUCT((($J$2:$J$338=\"M\")*(BV$2:BV$338)*(BV$2:BV$338>2))/SUMPRODUCT(($J$2:$J$338=\"M\")*(BV$2:BV$338>2)))","v":82.979166666666657},{"$f":"SUMPRODUCT((($J$2:$J$338=\"M\")*(BW$2:BW$338)*(BW$2:BW$338>2))/SUMPRODUCT(($J$2:$J$338=\"M\")*(BW$2:BW$338>2)))","v":{"$error":"#DIV/0!"}},{"$f":"IF(L347=0,0,IF(M347=0,AVERAGE(M347,K347,N347),AVERAGE(K347:N347)))","v":81.521648672964488},{"$f":"IF(P347=0,0,IF(Q347=0,AVERAGE(Q347,O347,R347),AVERAGE(O347:R347)))","v":81.232952406853926},{"$f":"IF(T347=0,0,IF(U347=0,AVERAGE(T347,S347,V347),AVERAGE(S347:V347)))","v":80.386149412296618},{"$f":"IF(AB347=0,0,IF(AC347=0,AVERAGE(AB347,AA347,AD347),AVERAGE(AA347:AD347)))","v":76.575376399475331},{"$f":"IF(AF347=0,0,IF(AG347=0,AVERAGE(AF347,AE347,AH347),AVERAGE(AE347:AH347)))","v":78.1183867726279},{"$f":"IF(AJ347=0,0,IF(AK347=0,AVERAGE(AJ347,AI347,AL347),AVERAGE(AI347:AL347)))","v":78.646949349094641},{"$f":"IF(AN347=0,0,IF(AO347=0,AVERAGE(AN347,AM347,AP347),AVERAGE(AM347:AP347)))","v":{"$error":"#DIV/0!"}},{"$f":"IF(AR347=0,0,IF(AS347=0,AVERAGE(AR347,AQ347,AT347),AVERAGE(AQ347:AT347)))","v":{"$error":"#DIV/0!"}},{"$f":"IF(AV347=0,0,IF(AW347=0,AVERAGE(AV347,AU347,AX347),AVERAGE(AU347:AX347)))","v":77.248587570621424},{"$f":"IF(AZ347=0,0,IF(BA347=0,AVERAGE(AZ347,AY347,BB347),AVERAGE(AY347:BB347)))","v":77.944915254237259},{"$f":"IF(BD347=0,0,IF(BE347=0,AVERAGE(BD347,BC347,BF347),AVERAGE(BC347:BF347)))","v":{"$error":"#DIV/0!"}},{"$f":"IF(BH347=0,0,IF(BI347=0,AVERAGE(BH347,BG347,BJ347,BM347),AVERAGE(BG347:BJ347)))","v":75.432210497835499},null,null,null,"0.700",{"$f":"COUNTIF(CN$2:CN$338,\"=0.700\")","v":0},null,null,null,null,7]
[null,null,null,null,null,null,null,null,null,null,{"$f":"SUM(($J$2:$J$338=\"F\")*(K$2:K$338>1)*1)","v":139},{"$f":"SUM(($J$2:$J$338=\"F\")*(L$2:L$338>1)*1)","v":139},{"$f":"SUM(($J$2:$J$338=\"F\")*(M$2:M$338>1)*1)","v":0},{"$f":"SUM(($J$2:$J$338=\"F\")*(N$2:N$338>1)*1)","v":139},{"$f":"SUM(($J$2:$J$338=\"F\")*(O$2:O$338>1)*1)","v":140},{"$f":"SUM(($J$2:$J$338=\"F\")*(P$2:P$338>1)*1)","v":140},{"$f":"SUM(($J$2:$J$338=\"F\")*(Q$2:Q$338>1)*1)","v":140},{"$f":"SUM(($J$2:$J$338=\"F\")*(R$2:R$338>1)*1)","v":140},{"$f":"SUM(($J$2:$J$338=\"F\")*(S$2:S$338>1)*1)","v":140},{"$f":"SUM(($J$2:$J$338=\"F\")*(T$2:T$338>1)*1)","v":94},{"$f":"SUM(($J$2:$J$338=\"F\")*(U$2:U$338>1)*1)","v":94},{"$f":"SUM(($J$2:$J$338=\"F\")*(V$2:V$338>1)*1)","v":140},{"$f":"SUM(($J$2:$J$338=\"F\")*(W$2:W$338>1)*1)","v":0},{"$f":"SUM(($J$2:$J$338=\"F\")*(X$2:X$338>1)*1)","v":0},{"$f":"SUM(($J$2:$J$338=\"F\")*(Y$2:Y$338>1)*1)","v":0},{"$f":"SUM(($J$2:$J$338=\"F\")*(Z$2:Z$338>1)*1)","v":0},{"$f":"SUM(($J$2:$J$338=\"F\")*(AA$2:AA$338>1)*1)","v":146},{"$f":"SUM(($J$2:$J$338=\"F\")*(AB$2:AB$338>1)*1)","v":146},{"$f":"SUM(($J$2:$J$338=\"F\")*(AC$2:AC$338>1)*1)","v":11},{"$f":"SUM(($J$2:$J$338=\"F\")*(AD$2:AD$338>1)*1)","v":149},{"$f":"SUM(($J$2:$J$338=\"F\")*(AE$2:AE$338>1)*1)","v":146},{"$f":"SUM(($J$2:$J$338=\"F\")*(AF$2:AF$338>1)*1)","v":147},{"$f":"SUM(($J$2:$J$338=\"F\")*(AG$2:AG$338>1)*1)","v":146},{"$f":"SUM(($J$2:$J$338=\"F\")*(AH$2:AH$338>1)*1)","v":151},{"$f":"SUM(($J$2:$J$338=\"F\")*(AI$2:AI$338>1)*1)","v":147},{"$f":"SUM(($J$2:$J$338=\"F\")*(AJ$2:AJ$338>1)*1)","v":147},{"$f":"SUM(($J$2:$J$338=\"F\")*(AK$2:AK$338>1)*1)","v":147},{"$f":"SUM(($J$2:$J$338=\"F\")*(AL$2:AL$338>1)*1)","v":151},{"$f":"SUM(($J$2:$J$338=\"F\")*(AM$2:AM$338>1)*1)","v":0},{"$f":"SUM(($J$2:$J$338=\"F\")*(AN$2:AN$338>1)*1)","v":0},{"$f":"SUM(($J$2:$J$338=\"F\")*(AO$2:AO$338>1)*1)","v":0},{"$f":"SUM(($J$2:$J$338=\"F\")*(AP$2:AP$338>1)*1)","v":0},{"$f":"SUM(($J$2:$J$338=\"F\")*(AQ$2:AQ$338>1)*1)","v":156},{"$f":"SUM(($J$2:$J$338=\"F\")*(AR$2:AR$338>1)*1)","v":156},{"$f":"SUM(($J$2:$J$338=\"F\")*(AS$2:AS$338>1)*1)","v":0},{"$f":"SUM(($J$2:$J$338=\"F\")*(AT$2:AT$338>1)*1)","v":156},{"$f":"SUM(($J$2:$J$338=\"F\")*(AU$2:AU$338>1)*1)","v":156},{"$f":"SUM(($J$2:$J$338=\"F\")*(AV$2:AV$338>1)*1)","v":156},{"$f":"SUM(($J$2:$J$338=\"F\")*(AW$2:AW$338>1)*1)","v":156},{"$f":"SUM(($J$2:$J$338=\"F\")*(AX$2:AX$338>1)*1)","v":156},{"$f":"SUM(($J$2:$J$338=\"F\")*(AY$2:AY$338>1)*1)","v":158},{"$f":"SUM(($J$2:$J$338=\"F\")*(AZ$2:AZ$338>1)*1)","v":158},{"$f":"SUM(($J$2:$J$338=\"F\")*(BA$2:BA$338>1)*1)","v":158},{"$f":"SUM(($J$2:$J$338=\"F\")*(BB$2:BB$338>1)*1)","v":158},{"$f":"SUM(($J$2:$J$338=\"F\")*(BC$2:BC$338>1)*1)","v":0},{"$f":"SUM(($J$2:$J$338=\"F\")*(BD$2:BD$338>1)*1)","v":0},{"$f":"SUM(($J$2:$J$338=\"F\")*(BE$2:BE$338>1)*1)","v":0},{"$f":"SUM(($J$2:$J$338=\"F\")*(BF$2:BF$338>1)*1)","v":0},{"$f":"SUM(($J$2:$J$338=\"F\")*(BG$2:BG$338>1)*1)","v":94},{"$f":"SUM(($J$2:$J$338=\"F\")*(BH$2:BH$338>1)*1)","v":94},{"$f":"SUM(($J$2:$J$338=\"F\")*(BI$2:BI$338>1)*1)","v":30},{"$f":"SUM(($J$2:$J$338=\"F\")*(BJ$2:BJ$338>1)*1)","v":96},{"$f":"SUM(($J$2:$J$338=\"F\")*(BK$2:BK$338>1)*1)","v":82},{"$f":"SUM(($J$2:$J$338=\"F\")*(BL$2:BL$338>1)*1)","v":82},{"$f":"SUM(($J$2:$J$338=\"F\")*(BM$2:BM$338>1)*1)","v":82},{"$f":"SUM(($J$2:$J$338=\"F\")*(BN$2:BN$338>1)*1)","v":82},{"$f":"SUM(($J$2:$J$338=\"F\")*(BO$2:BO$338>1)*1)","v":96},{"$f":"SUM(($J$2:$J$338=\"F\")*(BP$2:BP$338>1)*1)","v":96},{"$f":"SUM(($J$2:$J$338=\"F\")*(BQ$2:BQ$338>1)*1)","v":96},{"$f":"SUM(($J$2:$J$338=\"F\")*(BR$2:BR$338>1)*1)","v":96},{"$f":"SUM(($J$2:$J$338=\"F\")*(BS$2:BS$338>1)*1)","v":78},{"$f":"SUM(($J$2:$J$338=\"F\")*(BT$2:BT$338>1)*1)","v":78},{"$f":"SUM(($J$2:$J$338=\"F\")*(BU$2:BU$338>1)*1)","v":78},{"$f":"SUM(($J$2:$J$338=\"F\")*(BV$2:BV$338>1)*1)","v":78},{"$f":"SUM(($J$2:$J$338=\"F\")*(BW$2:BW$338>1)*1)","v":0},{"$f":"SUM(($J$2:$J$338=\"F\")*(BX$2:BX$338>1)*1)","v":139},{"$f":"SUM(($J$2:$J$338=\"F\")*(BY$2:BY$338>1)*1)","v":140},{"$f":"SUM(($J$2:$J$338=\"F\")*(BZ$2:BZ$338>1)*1)","v":94},{"$f":"SUM(($J$2:$J$338=\"F\")*(CA$2:CA$338>1)*1)","v":146},{"$f":"SUM(($J$2:$J$338=\"F\")*(CB$2:CB$338>1)*1)","v":147},{"$f":"SUM(($J$2:$J$338=\"F\")*(CC$2:CC$338>1)*1)","v":147},{"$f":"SUM(($J$2:$J$338=\"F\")*(CD$2:CD$338>1)*1)","v":0},{"$f":"SUM(($J$2:$J$338=\"F\")*(CE$2:CE$338>1)*1)","v":156},{"$f":"SUM(($J$2:$J$338=\"F\")*(CF$2:CF$338>1)*1)","v":156},{"$f":"SUM(($J$2:$J$338=\"F\")*(CG$2:CG$338>1)*1)","v":158},{"$f":"SUM(($J$2:$J$338=\"F\")*(CH$2:CH$338>1)*1)","v":0},{"$f":"SUM(($J$2:$J$338=\"F\")*(CI$2:CI$338>1)*1)","v":94},null,null,null,"0.800",{"$f":"COUNTIF(CN$2:CN$338,\"=0.800\")","v":0},null,null,null,null,8,null,"f"]
[null,null,null,null,null,null,null,null,null,null,{"$f":"SUMPRODUCT((($J$2:$J$338=\"F\")*(K$2:K$338)*(K$2:K$338>2))/SUMPRODUCT(($J$2:$J$338=\"F\")*(K$2:K$338>2)))","v":78.812949640287783},{"$f":"SUMPRODUCT((($J$2:$J$338=\"F\")*(L$2:L$338)*(L$2:L$338>2))/SUMPRODUCT(($J$2:$J$338=\"F\")*(L$2:L$338>2)))","v":80.359712230215791},{"$f":"SUMPRODUCT((($J$2:$J$338=\"F\")*(M$2:M$338)*(M$2:M$338>2))/SUMPRODUCT(($J$2:$J$338=\"F\")*(M$2:M$338>2)))","v":{"$error":"#DIV/0!"}},{"$f":"SUMPRODUCT((($J$2:$J$338=\"F\")*(N$2:N$338)*(N$2:N$338>2))/SUMPRODUCT(($J$2:$J$338=\"F\")*(N$2:N$338>2)))","v":81.438848920863293},{"$f":"SUMPRODUCT((($J$2:$J$338=\"F\")*(O$2:O$338)*(O$2:O$338>2))/SUMPRODUCT(($J$2:$J$338=\"F\")*(O$2:O$338>2)))","v":81.392857142857181},{"$f":"SUMPRODUCT((($J$2:$J$338=\"F\")*(P$2:P$338)*(P$2:P$338>2))/SUMPRODUCT(($J$2:$J$338=\"F\")*(P$2:P$338>2)))","v":82.035714285714263},{"$f":"SUMPRODUCT((($J$2:$J$338=\"F\")*(Q$2:Q$338)*(Q$2:Q$338>2))/SUMPRODUCT(($J$2:$J$338=\"F\")*(Q$2:Q$338>2)))","v":81.928571428571445},{"$f":"SUMPRODUCT((($J$2:$J$338=\"F\")*(R$2:R$338)*(R$2:R$338>2))/SUMPRODUCT(($J$2:$J$338=\"F\")*(R$2:R$338>2)))","v":82.392857142857125},{"$f":"SUMPRODUCT((($J$2:$J$338=\"F\")*(S$2:S$338)*(S$2:S$338>2))/SUMPRODUCT(($J$2:$J$338=\"F\")*(S$2:S$338>2)))","v":81.285714285714263},{"$f":"SUMPRODUCT((($J$2:$J$338=\"F\")*(T$2:T$338)*(T$2:T$338>2))/SUMPRODUCT(($J$2:$J$338=\"F\")*(T$2:T$338>2)))","v":81.91489361702132},{"$f":"SUMPRODUCT((($J$2:$J$338=\"F\")*(U$2:U$338)*(U$2:U$338>2))/SUMPRODUCT(($J$2:$J$338=\"F\")*(U$2:U$338>2)))","v":79.202127659574444},{"$f":"SUMPRODUCT((($J$2:$J$338=\"F\")*(V$2:V$338)*(V$2:V$338>2))/SUMPRODUCT(($J$2:$J$338=\"F\")*(V$2:V$338>2)))","v":80.964285714285722},{"$f":"SUMPRODUCT((($J$2:$J$338=\"F\")*(W$2:W$338)*(W$2:W$338>2))/SUMPRODUCT(($J$2:$J$338=\"F\")*(W$2:W$338>2)))","v":{"$error":"#DIV/0!"}},{"$f":"SUMPRODUCT((($J$2:$J$338=\"F\")*(X$2:X$338)*(X$2:X$338>2))/SUMPRODUCT(($J$2:$J$338=\"F\")*(X$2:X$338>2)))","v":{"$error":"#DIV/0!"}},{"$f":"SUMPRODUCT((($J$2:$J$338=\"F\")*(Y$2:Y$338)*(Y$2:Y$338>2))/SUMPRODUCT(($J$2:$J$338=\"F\")*(Y$2:Y$338>2)))","v":{"$error":"#DIV/0!"}},{"$f":"SUMPRODUCT((($J$2:$J$338=\"F\")*(Z$2:Z$338)*(Z$2:Z$338>2))/SUMPRODUCT(($J$2:$J$338=\"F\")*(Z$2:Z$338>2)))","v":{"$error":"#DIV/0!"}},{"$f":"SUMPRODUCT((($J$2:$J$338=\"F\")*(AA$2:AA$338)*(AA$2:AA$338>2))/SUMPRODUCT(($J$2:$J$338=\"F\")*(AA$2:AA$338>2)))","v":76.301369863013676},{"$f":"SUMPRODUCT((($J$2:$J$338=\"F\")*(AB$2:AB$338)*(AB$2:AB$338>2))/SUMPRODUCT(($J$2:$J$338=\"F\")*(AB$2:AB$338>2)))","v":78.767123287671112},{"$f":"SUMPRODUCT((($J$2:$J$338=\"F\")*(AC$2:AC$338)*(AC$2:AC$338>2))/SUMPRODUCT(($J$2:$J$338=\"F\")*(AC$2:AC$338>2)))","v":79.090909090909079},{"$f":"SUMPRODUCT((($J$2:$J$338=\"F\")*(AD$2:AD$338)*(AD$2:AD$338>2))/SUMPRODUCT(($J$2:$J$338=\"F\")*(AD$2:AD$338>2)))","v":78.557046979865689},{"$f":"SUMPRODUCT((($J$2:$J$338=\"F\")*(AE$2:AE$338)*(AE$2:AE$338>2))/SUMPRODUCT(($J$2:$J$338=\"F\")*(AE$2:AE$338>2)))","v":80.171232876712267},{"$f":"SUMPRODUCT((($J$2:$J$338=\"F\")*(AF$2:AF$338)*(AF$2:AF$338>2))/SUMPRODUCT(($J$2:$J$338=\"F\")*(AF$2:AF$338>2)))","v":79.897959183673478},{"$f":"SUMPRODUCT((($J$2:$J$338=\"F\")*(AG$2:AG$338)*(AG$2:AG$338>2))/SUMPRODUCT(($J$2:$J$338=\"F\")*(AG$2:AG$338>2)))","v":79.589041095890337},{"$f":"SUMPRODUCT((($J$2:$J$338=\"F\")*(AH$2:AH$338)*(AH$2:AH$338>2))/SUMPRODUCT(($J$2:$J$338=\"F\")*(AH$2:AH$338>2)))","v":80.264900662251605},{"$f":"SUMPRODUCT((($J$2:$J$338=\"F\")*(AI$2:AI$338)*(AI$2:AI$338>2))/SUMPRODUCT(($J$2:$J$338=\"F\")*(AI$2:AI$338>2)))","v":80.578231292517046},{"$f":"SUMPRODUCT((($J$2:$J$338=\"F\")*(AJ$2:AJ$338)*(AJ$2:AJ$338>2))/SUMPRODUCT(($J$2:$J$338=\"F\")*(AJ$2:AJ$338>2)))","v":81.8707482993197},{"$f":"SUMPRODUCT((($J$2:$J$338=\"F\")*(AK$2:AK$338)*(AK$2:AK$338>2))/SUMPRODUCT(($J$2:$J$338=\"F\")*(AK$2:AK$338>2)))","v":79.387755102040828},{"$f":"SUMPRODUCT((($J$2:$J$338=\"F\")*(AL$2:AL$338)*(AL$2:AL$338>2))/SUMPRODUCT(($J$2:$J$338=\"F\")*(AL$2:AL$338>2)))","v":80.655629139072801},{"$f":"SUMPRODUCT((($J$2:$J$338=\"F\")*(AM$2:AM$338)*(AM$2:AM$338>2))/SUMPRODUCT(($J$2:$J$338=\"F\")*(AM$2:AM$338>2)))","v":{"$error":"#DIV/0!"}},{"$f":"SUMPRODUCT((($J$2:$J$338=\"F\")*(AN$2:AN$338)*(AN$2:AN$338>2))/SUMPRODUCT(($J$2:$J$338=\"F\")*(AN$2:AN$338>2)))","v":{"$error":"#DIV/0!"}},{"$f":"SUMPRODUCT((($J$2:$J$338=\"F\")*(AO$2:AO$338)*(AO$2:AO$338>2))/SUMPRODUCT(($J$2:$J$338=\"F\")*(AO$2:AO$338>2)))","v":{"$error":"#DIV/0!"}},{"$f":"SUMPRODUCT((($J$2:$J$338=\"F\")*(AP$2:AP$338)*(AP$2:AP$338>2))/SUMPRODUCT(($J$2:$J$338=\"F\")*(AP$2:AP$338>2)))","v":{"$error":"#DIV/0!"}},{"$f":"SUMPRODUCT((($J$2:$J$338=\"F\")*(AQ$2:AQ$338)*(AQ$2:AQ$338>2))/SUMPRODUCT(($J$2:$J$338=\"F\")*(AQ$2:AQ$338>2)))","v":77.275641025641022},{"$f":"SUMPRODUCT((($J$2:$J$338=\"F\")*(AR$2:AR$338)*(AR$2:AR$338>2))/SUMPRODUCT(($J$2:$J$338=\"F\")*(AR$2:AR$338>2)))","v":78.878205128205124},{"$f":"SUMPRODUCT((($J$2:$J$338=\"F\")*(AS$2:AS$338)*(AS$2:AS$338>2))/SUMPRODUCT(($J$2:$J$338=\"F\")*(AS$2:AS$338>2)))","v":{"$error":"#DIV/0!"}},{"$f":"SUMPRODUCT((($J$2:$J$338=\"F\")*(AT$2:AT$338)*(AT$2:AT$338>2))/SUMPRODUCT(($J$2:$J$338=\"F\")*(AT$2:AT$338>2)))","v":80.769230769230845},{"$f":"SUMPRODUCT((($J$2:$J$338=\"F\")*(AU$2:AU$338)*(AU$2:AU$338>2))/SUMPRODUCT(($J$2:$J$338=\"F\")*(AU$2:AU$338>2)))","v":79.583333333333343},{"$f":"SUMPRODUCT((($J$2:$J$338=\"F\")*(AV$2:AV$338)*(AV$2:AV$338>2))/SUMPRODUCT(($J$2:$J$338=\"F\")*(AV$2:AV$338>2)))","v":78.814102564102583},{"$f":"SUMPRODUCT((($J$2:$J$338=\"F\")*(AW$2:AW$338)*(AW$2:AW$338>2))/SUMPRODUCT(($J$2:$J$338=\"F\")*(AW$2:AW$338>2)))","v":80.666666666666714},{"$f":"SUMPRODUCT((($J$2:$J$338=\"F\")*(AX$2:AX$338)*(AX$2:AX$338>2))/SUMPRODUCT(($J$2:$J$338=\"F\")*(AX$2:AX$338>2)))","v":78.621794871794904},{"$f":"SUMPRODUCT((($J$2:$J$338=\"F\")*(AY$2:AY$338)*(AY$2:AY$338>2))/SUMPRODUCT(($J$2:$J$338=\"F\")*(AY$2:AY$338>2)))","v":82.405063291139399},{"$f":"SUMPRODUCT((($J$2:$J$338=\"F\")*(AZ$2:AZ$338)*(AZ$2:AZ$338>2))/SUMPRODUCT(($J$2:$J$338=\"F\")*(AZ$2:AZ$338>2)))","v":79.905063291139371},{"$f":"SUMPRODUCT((($J$2:$J$338=\"F\")*(BA$2:BA$338)*(BA$2:BA$338>2))/SUMPRODUCT(($J$2:$J$338=\"F\")*(BA$2:BA$338>2)))","v":81.04430379746853},{"$f":"SUMPRODUCT((($J$2:$J$338=\"F\")*(BB$2:BB$338)*(BB$2:BB$338>2))/SUMPRODUCT(($J$2:$J$338=\"F\")*(BB$2:BB$338>2)))","v":78.291139240506453},{"$f":"SUMPRODUCT((($J$2:$J$338=\"F\")*(BC$2:BC$338)*(BC$2:BC$338>2))/SUMPRODUCT(($J$2:$J$338=\"F\")*(BC$2:BC$338>2)))","v":{"$error":"#DIV/0!"}},{"$f":"SUMPRODUCT((($J$2:$J$338=\"F\")*(BD$2:BD$338)*(BD$2:BD$338>2))/SUMPRODUCT(($J$2:$J$338=\"F\")*(BD$2:BD$338>2)))","v":{"$error":"#DIV/0!"}},{"$f":"SUMPRODUCT((($J$2:$J$338=\"F\")*(BE$2:BE$338)*(BE$2:BE$338>2))/SUMPRODUCT(($J$2:$J$338=\"F\")*(BE$2:BE$338>2)))","v":{"$error":"#DIV/0!"}},{"$f":"SUMPRODUCT((($J$2:$J$338=\"F\")*(BF$2:BF$338)*(BF$2:BF$338>2))/SUMPRODUCT(($J$2:$J$338=\"F\")*(BF$2:BF$338>2)))","v":{"$error":"#DIV/0!"}},{"$f":"SUMPRODUCT((($J$2:$J$338=\"F\")*(BG$2:BG$338)*(BG$2:BG$338>2))/SUMPRODUCT(($J$2:$J$338=\"F\")*(BG$2:BG$338>2)))","v":77.925531914893654},{"$f":"SUMPRODUCT((($J$2:$J$338=\"F\")*(BH$2:BH$338)*(BH$2:BH$338>2))/SUMPRODUCT(($J$2:$J$338=\"F\")*(BH$2:BH$338>2)))","v":75.287234042553237},{"$f":"SUMPRODUCT((($J$2:$J$338=\"F\")*(BI$2:BI$338)*(BI$2:BI$338>2))/SUMPRODUCT(($J$2:$J$338=\"F\")*(BI$2:BI$338>2)))","v":78.899999999999991},{"$f":"SUMPRODUCT((($J$2:$J$338=\"F\")*(BJ$2:BJ$338)*(BJ$2:BJ$338>2))/SUMPRODUCT(($J$2:$J$338=\"F\")*(BJ$2:BJ$338>2)))","v":78.979166666666657},{"$f":"SUMPRODUCT((($J$2:$J$338=\"F\")*(BK$2:BK$338)*(BK$2:BK$338>2))/SUMPRODUCT(($J$2:$J$338=\"F\")*(BK$2:BK$338>2)))","v":77.597560975609795},{"$f":"SUMPRODUCT((($J$2:$J$338=\"F\")*(BL$2:BL$338)*(BL$2:BL$338>2))/SUMPRODUCT(($J$2:$J$338=\"F\")*(BL$2:BL$338>2)))","v":75.475609756097583},{"$f":"SUMPRODUCT((($J$2:$J$338=\"F\")*(BM$2:BM$338)*(BM$2:BM$338>2))/SUMPRODUCT(($J$2:$J$338=\"F\")*(BM$2:BM$338>2)))","v":72.585365853658558},{"$f":"SUMPRODUCT((($J$2:$J$338=\"F\")*(BN$2:BN$338)*(BN$2:BN$338>2))/SUMPRODUCT(($J$2:$J$338=\"F\")*(BN$2:BN$338>2)))","v":74.390243902439053},{"$f":"SUMPRODUCT((($J$2:$J$338=\"F\")*(BO$2:BO$338)*(BO$2:BO$338>2))/SUMPRODUCT(($J$2:$J$338=\"F\")*(BO$2:BO$338>2)))","v":77.677083333333329},{"$f":"SUMPRODUCT((($J$2:$J$338=\"F\")*(BP$2:BP$338)*(BP$2:BP$338>2))/SUMPRODUCT(($J$2:$J$338=\"F\")*(BP$2:BP$338>2)))","v":77.677083333333357},{"$f":"SUMPRODUCT((($J$2:$J$338=\"F\")*(BQ$2:BQ$338)*(BQ$2:BQ$338>2))/SUMPRODUCT(($J$2:$J$338=\"F\")*(BQ$2:BQ$338>2)))","v":78.135416666666671},{"$f":"SUMPRODUCT((($J$2:$J$338=\"F\")*(BR$2:BR$338)*(BR$2:BR$338>2))/SUMPRODUCT(($J$2:$J$338=\"F\")*(BR$2:BR$338>2)))","v":79.177083333333343},{"$f":"SUMPRODUCT((($J$2:$J$338=\"F\")*(BS$2:BS$338)*(BS$2:BS$338>2))/SUMPRODUCT(($J$2:$J$338=\"F\")*(BS$2:BS$338>2)))","v":81.641025641025664},{"$f":"SUMPRODUCT((($J$2:$J$338=\"F\")*(BT$2:BT$338)*(BT$2:BT$338>2))/SUMPRODUCT(($J$2:$J$338=\"F\")*(BT$2:BT$338>2)))","v":83.910256410256451},{"$f":"SUMPRODUCT((($J$2:$J$338=\"F\")*(BU$2:BU$338)*(BU$2:BU$338>2))/SUMPRODUCT(($J$2:$J$338=\"F\")*(BU$2:BU$338>2)))","v":80.653846153846175},{"$f":"SUMPRODUCT((($J$2:$J$338=\"F\")*(BV$2:BV$338)*(BV$2:BV$338>2))/SUMPRODUCT(($J$2:$J$338=\"F\")*(BV$2:BV$338>2)))","v":83.782051282051313},{"$f":"SUMPRODUCT((($J$2:$J$338=\"F\")*(BW$2:BW$338)*(BW$2:BW$338>2))/SUMPRODUCT(($J$2:$J$338=\"F\")*(BW$2:BW$338>2)))","v":{"$error":"#DIV/0!"}},{"$f":"IF(L349=0,0,IF(M349=0,AVERAGE(M349,K349,N349),AVERAGE(K349:N349)))","v":{"$error":"#DIV/0!"}},{"$f":"IF(P349=0,0,IF(Q349=0,AVERAGE(Q349,O349,R349),AVERAGE(O349:R349)))","v":81.9375},{"$f":"IF(T349=0,0,IF(U349=0,AVERAGE(T349,S349,V349),AVERAGE(S349:V349)))","v":80.841755319148945},{"$f":"IF(AB349=0,0,IF(AC349=0,AVERAGE(AB349,AA349,AD349),AVERAGE(AA349:AD349)))","v":78.179112305364882},{"$f":"IF(AF349=0,0,IF(AG349=0,AVERAGE(AF349,AE349,AH349),AVERAGE(AE349:AH349)))","v":79.980783454631919},{"$f":"IF(AJ349=0,0,IF(AK349=0,AVERAGE(AJ349,AI349,AL349),AVERAGE(AI349:AL349)))","v":80.623090958237597},{"$f":"IF(AN349=0,0,IF(AO349=0,AVERAGE(AN349,AM349,AP349),AVERAGE(AM349:AP349)))","v":{"$error":"#DIV/0!"}},{"$f":"IF(AR349=0,0,IF(AS349=0,AVERAGE(AR349,AQ349,AT349),AVERAGE(AQ349:AT349)))","v":{"$error":"#DIV/0!"}},{"$f":"IF(AV349=0,0,IF(AW349=0,AVERAGE(AV349,AU349,AX349),AVERAGE(AU349:AX349)))","v":79.421474358974379},{"$f":"IF(AZ349=0,0,IF(BA349=0,AVERAGE(AZ349,AY349,BB349),AVERAGE(AY349:BB349)))","v":80.411392405063438},{"$f":"IF(BD349=0,0,IF(BE349=0,AVERAGE(BD349,BC349,BF349),AVERAGE(BC349:BF349)))","v":{"$error":"#DIV/0!"}},{"$f":"IF(BH349=0,0,IF(BI349=0,AVERAGE(BH349,BG349,BJ349,BM349),AVERAGE(BG349:BJ349)))","v":77.772983156028374},null,null,null,"0.900",{"$f":"COUNTIF(CN$2:CN$338,\"=0.900\")","v":0},null,null,null,null,9]
[null,null,null,null,null,null,null,null,null,null,{"$f":"K346/K348","v":1.0935251798561152},{"$f":"L346/L348","v":1.1007194244604317},{"$error":"#DIV/0!"},1.1223021582733812,1.1000000000000001,1.0857142857142856,1.0928571428571427,1.1214285714285714,1.1000000000000001,1.1914893617021276,1.1702127659574468,1.1285714285714286,{"$error":"#DIV/0!"},{"$error":"#DIV/0!"},{"$error":"#DIV/0!"},{"$error":"#DIV/0!"},1.1095890410958904,1.095890410958904,1,1.0939597315436242,1.1027397260273972,1.1088435374149659,1.1095890410958904,1.0794701986754967,1.1088435374149659,1.1088435374149659,1.1088435374149659,1.0860927152317881,{"$error":"#DIV/0!"},{"$error":"#DIV/0!"},{"$error":"#DIV/0!"},{"$error":"#DIV/0!"},1.1282051282051282,1.1282051282051282,{"$error":"#DIV/0!"},1.1282051282051282,1.1346153846153846,1.1346153846153846,1.1346153846153846,1.1346153846153846,1.120253164556962,1.120253164556962,1.120253164556962,1.120253164556962,{"$error":"#DIV/0!"},{"$error":"#DIV/0!"},{"$error":"#DIV/0!"},{"$error":"#DIV/0!"},1.1702127659574468,1.1702127659574468,0.8,1.1666666666666667,1.2073170731707317,1.2073170731707317,1.1951219512195121,1.2073170731707317,1.1875,1.1770833333333333,1.1666666666666667,1.1770833333333333,1.2564102564102564,1.2564102564102564,1.2435897435897436,1.2307692307692308,{"$f":"BW346/BW348","v":{"$error":"#DIV/0!"}},1.1007194244604317,1.0857142857142856,1.1914893617021276,1.095890410958904,1.1088435374149659,1.1088435374149659,{"$error":"#DIV/0!"},1.1282051282051282,1.1346153846153846,1.120253164556962,{"$f":"CH346/CH348","v":{"$error":"#DIV/0!"}},1.1702127659574468,null,null,null,"0.1000",{"$f":"COUNTIF(CN$2:CN$338,\"=1.000\")","v":0},null,null,null,null,10,null,"R gf"]
[null,null,null,null,null,null,null,null,null,null,{"$f":"SUM(($CT$2:$CT$338=\"J\")*(K$2:K$338>1)*1)","v":164},{"$f":"SUM(($CT$2:$CT$338=\"J\")*(L$2:L$338>1)*1)","v":164},{"$f":"SUM(($CT$2:$CT$338=\"J\")*(M$2:M$338>1)*1)","v":1},{"$f":"SUM(($CT$2:$CT$338=\"J\")*(N$2:N$338>1)*1)","v":165},{"$f":"SUM(($CT$2:$CT$338=\"J\")*(O$2:O$338>1)*1)","v":164},{"$f":"SUM(($CT$2:$CT$338=\"J\")*(P$2:P$338>1)*1)","v":163},{"$f":"SUM(($CT$2:$CT$338=\"J\")*(Q$2:Q$338>1)*1)","v":163},{"$f":"SUM(($CT$2:$CT$338=\"J\")*(R$2:R$338>1)*1)","v":166},{"$f":"SUM(($CT$2:$CT$338=\"J\")*(S$2:S$338>1)*1)","v":163},{"$f":"SUM(($CT$2:$CT$338=\"J\")*(T$2:T$338>1)*1)","v":108},{"$f":"SUM(($CT$2:$CT$338=\"J\")*(U$2:U$338>1)*1)","v":106},{"$f":"SUM(($CT$2:$CT$338=\"J\")*(V$2:V$338>1)*1)","v":166},{"$f":"SUM(($CT$2:$CT$338=\"J\")*(W$2:W$338>1)*1)","v":0},{"$f":"SUM(($CT$2:$CT$338=\"J\")*(X$2:X$338>1)*1)","v":0},{"$f":"SUM(($CT$2:$CT$338=\"J\")*(Y$2:Y$338>1)*1)","v":0},{"$f":"SUM(($CT$2:$CT$338=\"J\")*(Z$2:Z$338>1)*1)","v":0},{"$f":"SUM(($CT$2:$CT$338=\"J\")*(AA$2:AA$338>1)*1)","v":172},{"$f":"SUM(($CT$2:$CT$338=\"J\")*(AB$2:AB$338>1)*1)","v":172},{"$f":"SUM(($CT$2:$CT$338=\"J\")*(AC$2:AC$338>1)*1)","v":11},{"$f":"SUM(($CT$2:$CT$338=\"J\")*(AD$2:AD$338>1)*1)","v":175},{"$f":"SUM(($CT$2:$CT$338=\"J\")*(AE$2:AE$338>1)*1)","v":172},{"$f":"SUM(($CT$2:$CT$338=\"J\")*(AF$2:AF$338>1)*1)","v":172},{"$f":"SUM(($CT$2:$CT$338=\"J\")*(AG$2:AG$338>1)*1)","v":172},{"$f":"SUM(($CT$2:$CT$338=\"J\")*(AH$2:AH$338>1)*1)","v":175},{"$f":"SUM(($CT$2:$CT$338=\"J\")*(AI$2:AI$338>1)*1)","v":172},{"$f":"SUM(($CT$2:$CT$338=\"J\")*(AJ$2:AJ$338>1)*1)","v":172},{"$f":"SUM(($CT$2:$CT$338=\"J\")*(AK$2:AK$338>1)*1)","v":172},{"$f":"SUM(($CT$2:$CT$338=\"J\")*(AL$2:AL$338>1)*1)","v":175},{"$f":"SUM(($CT$2:$CT$338=\"J\")*(AM$2:AM$338>1)*1)","v":0},{"$f":"SUM(($CT$2:$CT$338=\"J\")*(AN$2:AN$338>1)*1)","v":0},{"$f":"SUM(($CT$2:$CT$338=\"J\")*(AO$2:AO$338>1)*1)","v":0},{"$f":"SUM(($CT$2:$CT$338=\"J\")*(AP$2:AP$338>1)*1)","v":0},{"$f":"SUM(($CT$2:$CT$338=\"J\")*(AQ$2:AQ$338>1)*1)","v":185},{"$f":"SUM(($CT$2:$CT$338=\"J\")*(AR$2:AR$338>1)*1)","v":185},{"$f":"SUM(($CT$2:$CT$338=\"J\")*(AS$2:AS$338>1)*1)","v":0},{"$f":"SUM(($CT$2:$CT$338=\"J\")*(AT$2:AT$338>1)*1)","v":185},{"$f":"SUM(($CT$2:$CT$338=\"J\")*(AU$2:AU$338>1)*1)","v":186},{"$f":"SUM(($CT$2:$CT$338=\"J\")*(AV$2:AV$338>1)*1)","v":186},{"$f":"SUM(($CT$2:$CT$338=\"J\")*(AW$2:AW$338>1)*1)","v":186},{"$f":"SUM(($CT$2:$CT$338=\"J\")*(AX$2:AX$338>1)*1)","v":186},{"$f":"SUM(($CT$2:$CT$338=\"J\")*(AY$2:AY$338>1)*1)","v":187},{"$f":"SUM(($CT$2:$CT$338=\"J\")*(AZ$2:AZ$338>1)*1)","v":187},{"$f":"SUM(($CT$2:$CT$338=\"J\")*(BA$2:BA$338>1)*1)","v":187},{"$f":"SUM(($CT$2:$CT$338=\"J\")*(BB$2:BB$338>1)*1)","v":187},{"$f":"SUM(($CT$2:$CT$338=\"J\")*(BC$2:BC$338>1)*1)","v":0},{"$f":"SUM(($CT$2:$CT$338=\"J\")*(BD$2:BD$338>1)*1)","v":0},{"$f":"SUM(($CT$2:$CT$338=\"J\")*(BE$2:BE$338>1)*1)","v":0},{"$f":"SUM(($CT$2:$CT$338=\"J\")*(BF$2:BF$338>1)*1)","v":0},{"$f":"SUM(($CT$2:$CT$338=\"J\")*(BG$2:BG$338>1)*1)","v":117},{"$f":"SUM(($CT$2:$CT$338=\"J\")*(BH$2:BH$338>1)*1)","v":117},{"$f":"SUM(($CT$2:$CT$338=\"J\")*(BI$2:BI$338>1)*1)","v":32},{"$f":"SUM(($CT$2:$CT$338=\"J\")*(BJ$2:BJ$338>1)*1)","v":118},{"$f":"SUM(($CT$2:$CT$338=\"J\")*(BK$2:BK$338>1)*1)","v":102},{"$f":"SUM(($CT$2:$CT$338=\"J\")*(BL$2:BL$338>1)*1)","v":102},{"$f":"SUM(($CT$2:$CT$338=\"J\")*(BM$2:BM$338>1)*1)","v":102},{"$f":"SUM(($CT$2:$CT$338=\"J\")*(BN$2:BN$338>1)*1)","v":102},{"$f":"SUM(($CT$2:$CT$338=\"J\")*(BO$2:BO$338>1)*1)","v":119},{"$f":"SUM(($CT$2:$CT$338=\"J\")*(BP$2:BP$338>1)*1)","v":119},{"$f":"SUM(($CT$2:$CT$338=\"J\")*(BQ$2:BQ$338>1)*1)","v":119},{"$f":"SUM(($CT$2:$CT$338=\"J\")*(BR$2:BR$338>1)*1)","v":119},{"$f":"SUM(($CT$2:$CT$338=\"J\")*(BS$2:BS$338>1)*1)","v":100},{"$f":"SUM(($CT$2:$CT$338=\"J\")*(BT$2:BT$338>1)*1)","v":100},{"$f":"SUM(($CT$2:$CT$338=\"J\")*(BU$2:BU$338>1)*1)","v":99},{"$f":"SUM(($CT$2:$CT$338=\"J\")*(BV$2:BV$338>1)*1)","v":98},{"$f":"SUM(($CT$2:$CT$338=\"J\")*(BW$2:BW$338>1)*1)","v":0},{"$f":"SUM(($CT$2:$CT$338=\"J\")*(BX$2:BX$338>1)*1)","v":164},{"$f":"SUM(($CT$2:$CT$338=\"J\")*(BY$2:BY$338>1)*1)","v":163},{"$f":"SUM(($CT$2:$CT$338=\"J\")*(BZ$2:BZ$338>1)*1)","v":108},{"$f":"SUM(($CT$2:$CT$338=\"J\")*(CA$2:CA$338>1)*1)","v":172},{"$f":"SUM(($CT$2:$CT$338=\"J\")*(CB$2:CB$338>1)*1)","v":172},{"$f":"SUM(($CT$2:$CT$338=\"J\")*(CC$2:CC$338>1)*1)","v":172},{"$f":"SUM(($CT$2:$CT$338=\"J\")*(CD$2:CD$338>1)*1)","v":0},{"$f":"SUM(($CT$2:$CT$338=\"J\")*(CE$2:CE$338>1)*1)","v":185},{"$f":"SUM(($CT$2:$CT$338=\"J\")*(CF$2:CF$338>1)*1)","v":186},{"$f":"SUM(($CT$2:$CT$338=\"J\")*(CG$2:CG$338>1)*1)","v":187},{"$f":"SUM(($CT$2:$CT$338=\"J\")*(CH$2:CH$338>1)*1)","v":0},{"$f":"SUM(($CT$2:$CT$338=\"J\")*(CI$2:CI$338>1)*1)","v":117},null,null,null,null,null,null,null,null,null,11,null,"j"]
[null,null,null,null,null,null,null,null,null,null,{"$f":"SUMPRODUCT((($CT$2:$CT$338=\"J\")*(K$2:K$338)*(K$2:K$338>2)))/SUMPRODUCT(($CT$2:$CT$338=\"J\")*(K$2:K$338>2))","v":77.83536585365853},{"$f":"SUMPRODUCT((($CT$2:$CT$338=\"J\")*(L$2:L$338)*(L$2:L$338>2)))/SUMPRODUCT(($CT$2:$CT$338=\"J\")*(L$2:L$338>2))","v":78.567073170731703},{"$f":"SUMPRODUCT((($CT$2:$CT$338=\"J\")*(M$2:M$338)*(M$2:M$338>2)))/SUMPRODUCT(($CT$2:$CT$338=\"J\")*(M$2:M$338>2))","v":80},{"$f":"SUMPRODUCT((($CT$2:$CT$338=\"J\")*(N$2:N$338)*(N$2:N$338>2)))/SUMPRODUCT(($CT$2:$CT$338=\"J\")*(N$2:N$338>2))","v":81.448484848484853},{"$f":"SUMPRODUCT((($CT$2:$CT$338=\"J\")*(O$2:O$338)*(O$2:O$338>2)))/SUMPRODUCT(($CT$2:$CT$338=\"J\")*(O$2:O$338>2))","v":79.66463414634147},{"$f":"SUMPRODUCT((($CT$2:$CT$338=\"J\")*(P$2:P$338)*(P$2:P$338>2)))/SUMPRODUCT(($CT$2:$CT$338=\"J\")*(P$2:P$338>2))","v":80.950920245398777},{"$f":"SUMPRODUCT((($CT$2:$CT$338=\"J\")*(Q$2:Q$338)*(Q$2:Q$338>2)))/SUMPRODUCT(($CT$2:$CT$338=\"J\")*(Q$2:Q$338>2))","v":81.012269938650306},{"$f":"SUMPRODUCT((($CT$2:$CT$338=\"J\")*(R$2:R$338)*(R$2:R$338>2)))/SUMPRODUCT(($CT$2:$CT$338=\"J\")*(R$2:R$338>2))","v":81.981927710843379},{"$f":"SUMPRODUCT((($CT$2:$CT$338=\"J\")*(S$2:S$338)*(S$2:S$338>2)))/SUMPRODUCT(($CT$2:$CT$338=\"J\")*(S$2:S$338>2))","v":79.447852760736197},{"$f":"SUMPRODUCT((($CT$2:$CT$338=\"J\")*(T$2:T$338)*(T$2:T$338>2)))/SUMPRODUCT(($CT$2:$CT$338=\"J\")*(T$2:T$338>2))","v":81.388888888888886},{"$f":"SUMPRODUCT((($CT$2:$CT$338=\"J\")*(U$2:U$338)*(U$2:U$338>2)))/SUMPRODUCT(($CT$2:$CT$338=\"J\")*(U$2:U$338>2))","v":78.679245283018872},{"$f":"SUMPRODUCT((($CT$2:$CT$338=\"J\")*(V$2:V$338)*(V$2:V$338>2)))/SUMPRODUCT(($CT$2:$CT$338=\"J\")*(V$2:V$338>2))","v":80.92771084337349},{"$f":"SUMPRODUCT((($CT$2:$CT$338=\"J\")*(W$2:W$338)*(W$2:W$338>2)))/SUMPRODUCT(($CT$2:$CT$338=\"J\")*(W$2:W$338>2))","v":{"$error":"#DIV/0!"}},{"$f":"SUMPRODUCT((($CT$2:$CT$338=\"J\")*(X$2:X$338)*(X$2:X$338>2)))/SUMPRODUCT(($CT$2:$CT$338=\"J\")*(X$2:X$338>2))","v":{"$error":"#DIV/0!"}},{"$f":"SUMPRODUCT((($CT$2:$CT$338=\"J\")*(Y$2:Y$338)*(Y$2:Y$338>2)))/SUMPRODUCT(($CT$2:$CT$338=\"J\")*(Y$2:Y$338>2))","v":{"$error":"#DIV/0!"}},{"$f":"SUMPRODUCT((($CT$2:$CT$338=\"J\")*(Z$2:Z$338)*(Z$2:Z$338>2)))/SUMPRODUCT(($CT$2:$CT$338=\"J\")*(Z$2:Z$338>2))","v":{"$error":"#DIV/0!"}},{"$f":"SUMPRODUCT((($CT$2:$CT$338=\"J\")*(AA$2:AA$338)*(AA$2:AA$338>2)))/SUMPRODUCT(($CT$2:$CT$338=\"J\")*(AA$2:AA$338>2))","v":74.418604651162795},{"$f":"SUMPRODUCT((($CT$2:$CT$338=\"J\")*(AB$2:AB$338)*(AB$2:AB$338>2)))/SUMPRODUCT(($CT$2:$CT$338=\"J\")*(AB$2:AB$338>2))","v":77.732558139534888},{"$f":"SUMPRODUCT((($CT$2:$CT$338=\"J\")*(AC$2:AC$338)*(AC$2:AC$338>2)))/SUMPRODUCT(($CT$2:$CT$338=\"J\")*(AC$2:AC$338>2))","v":78.63636363636364},{"$f":"SUMPRODUCT((($CT$2:$CT$338=\"J\")*(AD$2:AD$338)*(AD$2:AD$338>2)))/SUMPRODUCT(($CT$2:$CT$338=\"J\")*(AD$2:AD$338>2))","v":78.51428571428572},{"$f":"SUMPRODUCT((($CT$2:$CT$338=\"J\")*(AE$2:AE$338)*(AE$2:AE$338>2)))/SUMPRODUCT(($CT$2:$CT$338=\"J\")*(AE$2:AE$338>2))","v":77.936046511627907},{"$f":"SUMPRODUCT((($CT$2:$CT$338=\"J\")*(AF$2:AF$338)*(AF$2:AF$338>2)))/SUMPRODUCT(($CT$2:$CT$338=\"J\")*(AF$2:AF$338>2))","v":78.534883720930239},{"$f":"SUMPRODUCT((($CT$2:$CT$338=\"J\")*(AG$2:AG$338)*(AG$2:AG$338>2)))/SUMPRODUCT(($CT$2:$CT$338=\"J\")*(AG$2:AG$338>2))","v":79.156976744186053},{"$f":"SUMPRODUCT((($CT$2:$CT$338=\"J\")*(AH$2:AH$338)*(AH$2:AH$338>2)))/SUMPRODUCT(($CT$2:$CT$338=\"J\")*(AH$2:AH$338>2))","v":79.657142857142858},{"$f":"SUMPRODUCT((($CT$2:$CT$338=\"J\")*(AI$2:AI$338)*(AI$2:AI$338>2)))/SUMPRODUCT(($CT$2:$CT$338=\"J\")*(AI$2:AI$338>2))","v":78.54651162790698},{"$f":"SUMPRODUCT((($CT$2:$CT$338=\"J\")*(AJ$2:AJ$338)*(AJ$2:AJ$338>2)))/SUMPRODUCT(($CT$2:$CT$338=\"J\")*(AJ$2:AJ$338>2))","v":80.581395348837205},{"$f":"SUMPRODUCT((($CT$2:$CT$338=\"J\")*(AK$2:AK$338)*(AK$2:AK$338>2)))/SUMPRODUCT(($CT$2:$CT$338=\"J\")*(AK$2:AK$338>2))","v":78.313953488372093},{"$f":"SUMPRODUCT((($CT$2:$CT$338=\"J\")*(AL$2:AL$338)*(AL$2:AL$338>2)))/SUMPRODUCT(($CT$2:$CT$338=\"J\")*(AL$2:AL$338>2))","v":80.42285714285714},{"$f":"SUMPRODUCT((($CT$2:$CT$338=\"J\")*(AM$2:AM$338)*(AM$2:AM$338>2)))/SUMPRODUCT(($CT$2:$CT$338=\"J\")*(AM$2:AM$338>2))","v":{"$error":"#DIV/0!"}},{"$f":"SUMPRODUCT((($CT$2:$CT$338=\"J\")*(AN$2:AN$338)*(AN$2:AN$338>2)))/SUMPRODUCT(($CT$2:$CT$338=\"J\")*(AN$2:AN$338>2))","v":{"$error":"#DIV/0!"}},{"$f":"SUMPRODUCT((($CT$2:$CT$338=\"J\")*(AO$2:AO$338)*(AO$2:AO$338>2)))/SUMPRODUCT(($CT$2:$CT$338=\"J\")*(AO$2:AO$338>2))","v":{"$error":"#DIV/0!"}},{"$f":"SUMPRODUCT((($CT$2:$CT$338=\"J\")*(AP$2:AP$338)*(AP$2:AP$338>2)))/SUMPRODUCT(($CT$2:$CT$338=\"J\")*(AP$2:AP$338>2))","v":{"$error":"#DIV/0!"}},{"$f":"SUMPRODUCT((($CT$2:$CT$338=\"J\")*(AQ$2:AQ$338)*(AQ$2:AQ$338>2)))/SUMPRODUCT(($CT$2:$CT$338=\"J\")*(AQ$2:AQ$338>2))","v":75.129729729729732},{"$f":"SUMPRODUCT((($CT$2:$CT$338=\"J\")*(AR$2:AR$338)*(AR$2:AR$338>2)))/SUMPRODUCT(($CT$2:$CT$338=\"J\")*(AR$2:AR$338>2))","v":77.405405405405403},{"$f":"SUMPRODUCT((($CT$2:$CT$338=\"J\")*(AS$2:AS$338)*(AS$2:AS$338>2)))/SUMPRODUCT(($CT$2:$CT$338=\"J\")*(AS$2:AS$338>2))","v":{"$error":"#DIV/0!"}},{"$f":"SUMPRODUCT((($CT$2:$CT$338=\"J\")*(AT$2:AT$338)*(AT$2:AT$338>2)))/SUMPRODUCT(($CT$2:$CT$338=\"J\")*(AT$2:AT$338>2))","v":80.13513513513513},{"$f":"SUMPRODUCT((($CT$2:$CT$338=\"J\")*(AU$2:AU$338)*(AU$2:AU$338>2)))/SUMPRODUCT(($CT$2:$CT$338=\"J\")*(AU$2:AU$338>2))","v":77.268817204301072},{"$f":"SUMPRODUCT((($CT$2:$CT$338=\"J\")*(AV$2:AV$338)*(AV$2:AV$338>2)))/SUMPRODUCT(($CT$2:$CT$338=\"J\")*(AV$2:AV$338>2))","v":77.284946236559136},{"$f":"SUMPRODUCT((($CT$2:$CT$338=\"J\")*(AW$2:AW$338)*(AW$2:AW$338>2)))/SUMPRODUCT(($CT$2:$CT$338=\"J\")*(AW$2:AW$338>2))","v":78.623655913978496},{"$f":"SUMPRODUCT((($CT$2:$CT$338=\"J\")*(AX$2:AX$338)*(AX$2:AX$338>2)))/SUMPRODUCT(($CT$2:$CT$338=\"J\")*(AX$2:AX$338>2))","v":77.956989247311824},{"$f":"SUMPRODUCT((($CT$2:$CT$338=\"J\")*(AY$2:AY$338)*(AY$2:AY$338>2)))/SUMPRODUCT(($CT$2:$CT$338=\"J\")*(AY$2:AY$338>2))","v":79.919786096256686},{"$f":"SUMPRODUCT((($CT$2:$CT$338=\"J\")*(AZ$2:AZ$338)*(AZ$2:AZ$338>2)))/SUMPRODUCT(($CT$2:$CT$338=\"J\")*(AZ$2:AZ$338>2))","v":78.63636363636364},{"$f":"SUMPRODUCT((($CT$2:$CT$338=\"J\")*(BA$2:BA$338)*(BA$2:BA$338>2)))/SUMPRODUCT(($CT$2:$CT$338=\"J\")*(BA$2:BA$338>2))","v":78.502673796791441},{"$f":"SUMPRODUCT((($CT$2:$CT$338=\"J\")*(BB$2:BB$338)*(BB$2:BB$338>2)))/SUMPRODUCT(($CT$2:$CT$338=\"J\")*(BB$2:BB$338>2))","v":78.368983957219257},{"$f":"SUMPRODUCT((($CT$2:$CT$338=\"J\")*(BC$2:BC$338)*(BC$2:BC$338>2)))/SUMPRODUCT(($CT$2:$CT$338=\"J\")*(BC$2:BC$338>2))","v":{"$error":"#DIV/0!"}},{"$f":"SUMPRODUCT((($CT$2:$CT$338=\"J\")*(BD$2:BD$338)*(BD$2:BD$338>2)))/SUMPRODUCT(($CT$2:$CT$338=\"J\")*(BD$2:BD$338>2))","v":{"$error":"#DIV/0!"}},{"$f":"SUMPRODUCT((($CT$2:$CT$338=\"J\")*(BE$2:BE$338)*(BE$2:BE$338>2)))/SUMPRODUCT(($CT$2:$CT$338=\"J\")*(BE$2:BE$338>2))","v":{"$error":"#DIV/0!"}},{"$f":"SUMPRODUCT((($CT$2:$CT$338=\"J\")*(BF$2:BF$338)*(BF$2:BF$338>2)))/SUMPRODUCT(($CT$2:$CT$338=\"J\")*(BF$2:BF$338>2))","v":{"$error":"#DIV/0!"}},{"$f":"SUMPRODUCT((($CT$2:$CT$338=\"J\")*(BG$2:BG$338)*(BG$2:BG$338>2)))/SUMPRODUCT(($CT$2:$CT$338=\"J\")*(BG$2:BG$338>2))","v":76.367521367521363},{"$f":"SUMPRODUCT((($CT$2:$CT$338=\"J\")*(BH$2:BH$338)*(BH$2:BH$338>2)))/SUMPRODUCT(($CT$2:$CT$338=\"J\")*(BH$2:BH$338>2))","v":74.786324786324784},{"$f":"SUMPRODUCT((($CT$2:$CT$338=\"J\")*(BI$2:BI$338)*(BI$2:BI$338>2)))/SUMPRODUCT(($CT$2:$CT$338=\"J\")*(BI$2:BI$338>2))","v":77.3125},{"$f":"SUMPRODUCT((($CT$2:$CT$338=\"J\")*(BJ$2:BJ$338)*(BJ$2:BJ$338>2)))/SUMPRODUCT(($CT$2:$CT$338=\"J\")*(BJ$2:BJ$338>2))","v":79.432203389830505},{"$f":"SUMPRODUCT((($CT$2:$CT$338=\"J\")*(BK$2:BK$338)*(BK$2:BK$338>2)))/SUMPRODUCT(($CT$2:$CT$338=\"J\")*(BK$2:BK$338>2))","v":77.284313725490193},{"$f":"SUMPRODUCT((($CT$2:$CT$338=\"J\")*(BL$2:BL$338)*(BL$2:BL$338>2)))/SUMPRODUCT(($CT$2:$CT$338=\"J\")*(BL$2:BL$338>2))","v":74.67647058823529},{"$f":"SUMPRODUCT((($CT$2:$CT$338=\"J\")*(BM$2:BM$338)*(BM$2:BM$338>2)))/SUMPRODUCT(($CT$2:$CT$338=\"J\")*(BM$2:BM$338>2))","v":72.588235294117652},{"$f":"SUMPRODUCT((($CT$2:$CT$338=\"J\")*(BN$2:BN$338)*(BN$2:BN$338>2)))/SUMPRODUCT(($CT$2:$CT$338=\"J\")*(BN$2:BN$338>2))","v":74.941176470588232},{"$f":"SUMPRODUCT((($CT$2:$CT$338=\"J\")*(BO$2:BO$338)*(BO$2:BO$338>2)))/SUMPRODUCT(($CT$2:$CT$338=\"J\")*(BO$2:BO$338>2))","v":76.025210084033617},{"$f":"SUMPRODUCT((($CT$2:$CT$338=\"J\")*(BP$2:BP$338)*(BP$2:BP$338>2)))/SUMPRODUCT(($CT$2:$CT$338=\"J\")*(BP$2:BP$338>2))","v":76.378151260504197},{"$f":"SUMPRODUCT((($CT$2:$CT$338=\"J\")*(BQ$2:BQ$338)*(BQ$2:BQ$338>2)))/SUMPRODUCT(($CT$2:$CT$338=\"J\")*(BQ$2:BQ$338>2))","v":77.655462184873954},{"$f":"SUMPRODUCT((($CT$2:$CT$338=\"J\")*(BR$2:BR$338)*(BR$2:BR$338>2)))/SUMPRODUCT(($CT$2:$CT$338=\"J\")*(BR$2:BR$338>2))","v":78.621848739495803},{"$f":"SUMPRODUCT((($CT$2:$CT$338=\"J\")*(BS$2:BS$338)*(BS$2:BS$338>2)))/SUMPRODUCT(($CT$2:$CT$338=\"J\")*(BS$2:BS$338>2))","v":80.11},{"$f":"SUMPRODUCT((($CT$2:$CT$338=\"J\")*(BT$2:BT$338)*(BT$2:BT$338>2)))/SUMPRODUCT(($CT$2:$CT$338=\"J\")*(BT$2:BT$338>2))","v":80.11},{"$f":"SUMPRODUCT((($CT$2:$CT$338=\"J\")*(BU$2:BU$338)*(BU$2:BU$338>2)))/SUMPRODUCT(($CT$2:$CT$338=\"J\")*(BU$2:BU$338>2))","v":79.676767676767682},{"$f":"SUMPRODUCT((($CT$2:$CT$338=\"J\")*(BV$2:BV$338)*(BV$2:BV$338>2)))/SUMPRODUCT(($CT$2:$CT$338=\"J\")*(BV$2:BV$338>2))","v":82.959183673469383},{"$f":"SUMPRODUCT((($CT$2:$CT$338=\"J\")*(BW$2:BW$338)*(BW$2:BW$338>2)))/SUMPRODUCT(($CT$2:$CT$338=\"J\")*(BW$2:BW$338>2))","v":{"$error":"#DIV/0!"}},{"$f":"IF(L352=0,0,IF(M352=0,AVERAGE(M352,K352,N352),AVERAGE(K352:N352)))","v":79.462730968218764},{"$f":"IF(P352=0,0,IF(Q352=0,AVERAGE(Q352,O352,R352),AVERAGE(O352:R352)))","v":80.902438010308487},{"$f":"IF(T352=0,0,IF(U352=0,AVERAGE(T352,S352,V352),AVERAGE(S352:V352)))","v":80.110924444004354},{"$f":"IF(AB352=0,0,IF(AC352=0,AVERAGE(AB352,AA352,AD352),AVERAGE(AA352:AD352)))","v":77.325453035336764},{"$f":"IF(AF352=0,0,IF(AG352=0,AVERAGE(AF352,AE352,AH352),AVERAGE(AE352:AH352)))","v":78.821262458471764},{"$f":"IF(AJ352=0,0,IF(AK352=0,AVERAGE(AJ352,AI352,AL352),AVERAGE(AI352:AL352)))","v":79.466179401993358},{"$f":"IF(AN352=0,0,IF(AO352=0,AVERAGE(AN352,AM352,AP352),AVERAGE(AM352:AP352)))","v":{"$error":"#DIV/0!"}},{"$f":"IF(AR352=0,0,IF(AS352=0,AVERAGE(AR352,AQ352,AT352),AVERAGE(AQ352:AT352)))","v":{"$error":"#DIV/0!"}},{"$f":"IF(AV352=0,0,IF(AW352=0,AVERAGE(AV352,AU352,AX352),AVERAGE(AU352:AX352)))","v":77.783602150537632},{"$f":"IF(AZ352=0,0,IF(BA352=0,AVERAGE(AZ352,AY352,BB352),AVERAGE(AY352:BB352)))","v":78.856951871657756},{"$f":"IF(BD352=0,0,IF(BE352=0,AVERAGE(BD352,BC352,BF352),AVERAGE(BC352:BF352)))","v":{"$error":"#DIV/0!"}},{"$f":"IF(BH352=0,0,IF(BI352=0,AVERAGE(BH352,BG352,BJ352,BM352),AVERAGE(BG352:BJ352)))","v":76.974637385919152},null,null,null,null,null,null,null,null,null,12]
[null,null,null,null,null,null,null,null,null,null,{"$f":"SUM(($CT$2:$CT$338=\"V\")*(K$2:K$338>1)*1)","v":127},{"$f":"SUM(($CT$2:$CT$338=\"V\")*(L$2:L$338>1)*1)","v":128},{"$f":"SUM(($CT$2:$CT$338=\"V\")*(M$2:M$338>1)*1)","v":1},{"$f":"SUM(($CT$2:$CT$338=\"V\")*(N$2:N$338>1)*1)","v":130},{"$f":"SUM(($CT$2:$CT$338=\"V\")*(O$2:O$338>1)*1)","v":130},{"$f":"SUM(($CT$2:$CT$338=\"V\")*(P$2:P$338>1)*1)","v":129},{"$f":"SUM(($CT$2:$CT$338=\"V\")*(Q$2:Q$338>1)*1)","v":130},{"$f":"SUM(($CT$2:$CT$338=\"V\")*(R$2:R$338>1)*1)","v":131},{"$f":"SUM(($CT$2:$CT$338=\"V\")*(S$2:S$338>1)*1)","v":131},{"$f":"SUM(($CT$2:$CT$338=\"V\")*(T$2:T$338>1)*1)","v":98},{"$f":"SUM(($CT$2:$CT$338=\"V\")*(U$2:U$338>1)*1)","v":98},{"$f":"SUM(($CT$2:$CT$338=\"V\")*(V$2:V$338>1)*1)","v":132},{"$f":"SUM(($CT$2:$CT$338=\"V\")*(W$2:W$338>1)*1)","v":0},{"$f":"SUM(($CT$2:$CT$338=\"V\")*(X$2:X$338>1)*1)","v":0},{"$f":"SUM(($CT$2:$CT$338=\"V\")*(Y$2:Y$338>1)*1)","v":0},{"$f":"SUM(($CT$2:$CT$338=\"V\")*(Z$2:Z$338>1)*1)","v":0},{"$f":"SUM(($CT$2:$CT$338=\"V\")*(AA$2:AA$338>1)*1)","v":136},{"$f":"SUM(($CT$2:$CT$338=\"V\")*(AB$2:AB$338>1)*1)","v":134},{"$f":"SUM(($CT$2:$CT$338=\"V\")*(AC$2:AC$338>1)*1)","v":11},{"$f":"SUM(($CT$2:$CT$338=\"V\")*(AD$2:AD$338>1)*1)","v":137},{"$f":"SUM(($CT$2:$CT$338=\"V\")*(AE$2:AE$338>1)*1)","v":135},{"$f":"SUM(($CT$2:$CT$338=\"V\")*(AF$2:AF$338>1)*1)","v":138},{"$f":"SUM(($CT$2:$CT$338=\"V\")*(AG$2:AG$338>1)*1)","v":136},{"$f":"SUM(($CT$2:$CT$338=\"V\")*(AH$2:AH$338>1)*1)","v":139},{"$f":"SUM(($CT$2:$CT$338=\"V\")*(AI$2:AI$338>1)*1)","v":138},{"$f":"SUM(($CT$2:$CT$338=\"V\")*(AJ$2:AJ$338>1)*1)","v":138},{"$f":"SUM(($CT$2:$CT$338=\"V\")*(AK$2:AK$338>1)*1)","v":138},{"$f":"SUM(($CT$2:$CT$338=\"V\")*(AL$2:AL$338>1)*1)","v":140},{"$f":"SUM(($CT$2:$CT$338=\"V\")*(AM$2:AM$338>1)*1)","v":0},{"$f":"SUM(($CT$2:$CT$338=\"V\")*(AN$2:AN$338>1)*1)","v":0},{"$f":"SUM(($CT$2:$CT$338=\"V\")*(AO$2:AO$338>1)*1)","v":0},{"$f":"SUM(($CT$2:$CT$338=\"V\")*(AP$2:AP$338>1)*1)","v":0},{"$f":"SUM(($CT$2:$CT$338=\"V\")*(AQ$2:AQ$338>1)*1)","v":147},{"$f":"SUM(($CT$2:$CT$338=\"V\")*(AR$2:AR$338>1)*1)","v":147},{"$f":"SUM(($CT$2:$CT$338=\"V\")*(AS$2:AS$338>1)*1)","v":0},{"$f":"SUM(($CT$2:$CT$338=\"V\")*(AT$2:AT$338>1)*1)","v":147},{"$f":"SUM(($CT$2:$CT$338=\"V\")*(AU$2:AU$338>1)*1)","v":147},{"$f":"SUM(($CT$2:$CT$338=\"V\")*(AV$2:AV$338>1)*1)","v":147},{"$f":"SUM(($CT$2:$CT$338=\"V\")*(AW$2:AW$338>1)*1)","v":147},{"$f":"SUM(($CT$2:$CT$338=\"V\")*(AX$2:AX$338>1)*1)","v":147},{"$f":"SUM(($CT$2:$CT$338=\"V\")*(AY$2:AY$338>1)*1)","v":148},{"$f":"SUM(($CT$2:$CT$338=\"V\")*(AZ$2:AZ$338>1)*1)","v":148},{"$f":"SUM(($CT$2:$CT$338=\"V\")*(BA$2:BA$338>1)*1)","v":148},{"$f":"SUM(($CT$2:$CT$338=\"V\")*(BB$2:BB$338>1)*1)","v":148},{"$f":"SUM(($CT$2:$CT$338=\"V\")*(BC$2:BC$338>1)*1)","v":0},{"$f":"SUM(($CT$2:$CT$338=\"V\")*(BD$2:BD$338>1)*1)","v":0},{"$f":"SUM(($CT$2:$CT$338=\"V\")*(BE$2:BE$338>1)*1)","v":0},{"$f":"SUM(($CT$2:$CT$338=\"V\")*(BF$2:BF$338>1)*1)","v":0},{"$f":"SUM(($CT$2:$CT$338=\"V\")*(BG$2:BG$338>1)*1)","v":87},{"$f":"SUM(($CT$2:$CT$338=\"V\")*(BH$2:BH$338>1)*1)","v":87},{"$f":"SUM(($CT$2:$CT$338=\"V\")*(BI$2:BI$338>1)*1)","v":22},{"$f":"SUM(($CT$2:$CT$338=\"V\")*(BJ$2:BJ$338>1)*1)","v":90},{"$f":"SUM(($CT$2:$CT$338=\"V\")*(BK$2:BK$338>1)*1)","v":79},{"$f":"SUM(($CT$2:$CT$338=\"V\")*(BL$2:BL$338>1)*1)","v":79},{"$f":"SUM(($CT$2:$CT$338=\"V\")*(BM$2:BM$338>1)*1)","v":78},{"$f":"SUM(($CT$2:$CT$338=\"V\")*(BN$2:BN$338>1)*1)","v":79},{"$f":"SUM(($CT$2:$CT$338=\"V\")*(BO$2:BO$338>1)*1)","v":91},{"$f":"SUM(($CT$2:$CT$338=\"V\")*(BP$2:BP$338>1)*1)","v":90},{"$f":"SUM(($CT$2:$CT$338=\"V\")*(BQ$2:BQ$338>1)*1)","v":89},{"$f":"SUM(($CT$2:$CT$338=\"V\")*(BR$2:BR$338>1)*1)","v":90},{"$f":"SUM(($CT$2:$CT$338=\"V\")*(BS$2:BS$338>1)*1)","v":76},{"$f":"SUM(($CT$2:$CT$338=\"V\")*(BT$2:BT$338>1)*1)","v":76},{"$f":"SUM(($CT$2:$CT$338=\"V\")*(BU$2:BU$338>1)*1)","v":76},{"$f":"SUM(($CT$2:$CT$338=\"V\")*(BV$2:BV$338>1)*1)","v":76},{"$f":"SUM(($CT$2:$CT$338=\"V\")*(BW$2:BW$338>1)*1)","v":0},{"$f":"SUM(($CT$2:$CT$338=\"V\")*(BX$2:BX$338>1)*1)","v":128},{"$f":"SUM(($CT$2:$CT$338=\"V\")*(BY$2:BY$338>1)*1)","v":129},{"$f":"SUM(($CT$2:$CT$338=\"V\")*(BZ$2:BZ$338>1)*1)","v":98},{"$f":"SUM(($CT$2:$CT$338=\"V\")*(CA$2:CA$338>1)*1)","v":134},{"$f":"SUM(($CT$2:$CT$338=\"V\")*(CB$2:CB$338>1)*1)","v":138},{"$f":"SUM(($CT$2:$CT$338=\"V\")*(CC$2:CC$338>1)*1)","v":138},{"$f":"SUM(($CT$2:$CT$338=\"V\")*(CD$2:CD$338>1)*1)","v":0},{"$f":"SUM(($CT$2:$CT$338=\"V\")*(CE$2:CE$338>1)*1)","v":147},{"$f":"SUM(($CT$2:$CT$338=\"V\")*(CF$2:CF$338>1)*1)","v":147},{"$f":"SUM(($CT$2:$CT$338=\"V\")*(CG$2:CG$338>1)*1)","v":148},{"$f":"SUM(($CT$2:$CT$338=\"V\")*(CH$2:CH$338>1)*1)","v":0},{"$f":"SUM(($CT$2:$CT$338=\"V\")*(CI$2:CI$338>1)*1)","v":87},null,null,null,null,null,null,null,null,null,13,null,"v"]
[null,null,null,null,null,null,null,null,null,null,{"$f":"SUMPRODUCT((($CT$2:$CT$338=\"V\")*(K$2:K$338)*(K$2:K$338>2))/SUMPRODUCT(($CT$2:$CT$338=\"V\")*(K$2:K$338>2)))","v":77.858267716535394},{"$f":"SUMPRODUCT((($CT$2:$CT$338=\"V\")*(L$2:L$338)*(L$2:L$338>2))/SUMPRODUCT(($CT$2:$CT$338=\"V\")*(L$2:L$338>2)))","v":80.8984375},{"$f":"SUMPRODUCT((($CT$2:$CT$338=\"V\")*(M$2:M$338)*(M$2:M$338>2))/SUMPRODUCT(($CT$2:$CT$338=\"V\")*(M$2:M$338>2)))","v":95},{"$f":"SUMPRODUCT((($CT$2:$CT$338=\"V\")*(N$2:N$338)*(N$2:N$338>2))/SUMPRODUCT(($CT$2:$CT$338=\"V\")*(N$2:N$338>2)))","v":82.984615384615452},{"$f":"SUMPRODUCT((($CT$2:$CT$338=\"V\")*(O$2:O$338)*(O$2:O$338>2))/SUMPRODUCT(($CT$2:$CT$338=\"V\")*(O$2:O$338>2)))","v":79.723076923077002},{"$f":"SUMPRODUCT((($CT$2:$CT$338=\"V\")*(P$2:P$338)*(P$2:P$338>2))/SUMPRODUCT(($CT$2:$CT$338=\"V\")*(P$2:P$338>2)))","v":82.286821705426433},{"$f":"SUMPRODUCT((($CT$2:$CT$338=\"V\")*(Q$2:Q$338)*(Q$2:Q$338>2))/SUMPRODUCT(($CT$2:$CT$338=\"V\")*(Q$2:Q$338>2)))","v":83.584615384615432},{"$f":"SUMPRODUCT((($CT$2:$CT$338=\"V\")*(R$2:R$338)*(R$2:R$338>2))/SUMPRODUCT(($CT$2:$CT$338=\"V\")*(R$2:R$338>2)))","v":84.053435114503685},{"$f":"SUMPRODUCT((($CT$2:$CT$338=\"V\")*(S$2:S$338)*(S$2:S$338>2))/SUMPRODUCT(($CT$2:$CT$338=\"V\")*(S$2:S$338>2)))","v":79.770992366412145},{"$f":"SUMPRODUCT((($CT$2:$CT$338=\"V\")*(T$2:T$338)*(T$2:T$338>2))/SUMPRODUCT(($CT$2:$CT$338=\"V\")*(T$2:T$338>2)))","v":81.520408163265316},{"$f":"SUMPRODUCT((($CT$2:$CT$338=\"V\")*(U$2:U$338)*(U$2:U$338>2))/SUMPRODUCT(($CT$2:$CT$338=\"V\")*(U$2:U$338>2)))","v":80.428571428571445},{"$f":"SUMPRODUCT((($CT$2:$CT$338=\"V\")*(V$2:V$338)*(V$2:V$338>2))/SUMPRODUCT(($CT$2:$CT$338=\"V\")*(V$2:V$338>2)))","v":83.01515151515153},{"$f":"SUMPRODUCT((($CT$2:$CT$338=\"V\")*(W$2:W$338)*(W$2:W$338>2))/SUMPRODUCT(($CT$2:$CT$338=\"V\")*(W$2:W$338>2)))","v":{"$error":"#DIV/0!"}},{"$f":"SUMPRODUCT((($CT$2:$CT$338=\"V\")*(X$2:X$338)*(X$2:X$338>2))/SUMPRODUCT(($CT$2:$CT$338=\"V\")*(X$2:X$338>2)))","v":{"$error":"#DIV/0!"}},{"$f":"SUMPRODUCT((($CT$2:$CT$338=\"V\")*(Y$2:Y$338)*(Y$2:Y$338>2))/SUMPRODUCT(($CT$2:$CT$338=\"V\")*(Y$2:Y$338>2)))","v":{"$error":"#DIV/0!"}},{"$f":"SUMPRODUCT((($CT$2:$CT$338=\"V\")*(Z$2:Z$338)*(Z$2:Z$338>2))/SUMPRODUCT(($CT$2:$CT$338=\"V\")*(Z$2:Z$338>2)))","v":{"$error":"#DIV/0!"}},{"$f":"SUMPRODUCT((($CT$2:$CT$338=\"V\")*(AA$2:AA$338)*(AA$2:AA$338>2))/SUMPRODUCT(($CT$2:$CT$338=\"V\")*(AA$2:AA$338>2)))","v":74.97058823529413},{"$f":"SUMPRODUCT((($CT$2:$CT$338=\"V\")*(AB$2:AB$338)*(AB$2:AB$338>2))/SUMPRODUCT(($CT$2:$CT$338=\"V\")*(AB$2:AB$338>2)))","v":78.656716417910445},{"$f":"SUMPRODUCT((($CT$2:$CT$338=\"V\")*(AC$2:AC$338)*(AC$2:AC$338>2))/SUMPRODUCT(($CT$2:$CT$338=\"V\")*(AC$2:AC$338>2)))","v":76.818181818181827},{"$f":"SUMPRODUCT((($CT$2:$CT$338=\"V\")*(AD$2:AD$338)*(AD$2:AD$338>2))/SUMPRODUCT(($CT$2:$CT$338=\"V\")*(AD$2:AD$338>2)))","v":79.364963503649534},{"$f":"SUMPRODUCT((($CT$2:$CT$338=\"V\")*(AE$2:AE$338)*(AE$2:AE$338>2))/SUMPRODUCT(($CT$2:$CT$338=\"V\")*(AE$2:AE$338>2)))","v":78.333333333333343},{"$f":"SUMPRODUCT((($CT$2:$CT$338=\"V\")*(AF$2:AF$338)*(AF$2:AF$338>2))/SUMPRODUCT(($CT$2:$CT$338=\"V\")*(AF$2:AF$338>2)))","v":78.507246376811594},{"$f":"SUMPRODUCT((($CT$2:$CT$338=\"V\")*(AG$2:AG$338)*(AG$2:AG$338>2))/SUMPRODUCT(($CT$2:$CT$338=\"V\")*(AG$2:AG$338>2)))","v":79.080882352941174},{"$f":"SUMPRODUCT((($CT$2:$CT$338=\"V\")*(AH$2:AH$338)*(AH$2:AH$338>2))/SUMPRODUCT(($CT$2:$CT$338=\"V\")*(AH$2:AH$338>2)))","v":81.007194244604307},{"$f":"SUMPRODUCT((($CT$2:$CT$338=\"V\")*(AI$2:AI$338)*(AI$2:AI$338>2))/SUMPRODUCT(($CT$2:$CT$338=\"V\")*(AI$2:AI$338>2)))","v":79.311594202898505},{"$f":"SUMPRODUCT((($CT$2:$CT$338=\"V\")*(AJ$2:AJ$338)*(AJ$2:AJ$338>2))/SUMPRODUCT(($CT$2:$CT$338=\"V\")*(AJ$2:AJ$338>2)))","v":79.833333333333286},{"$f":"SUMPRODUCT((($CT$2:$CT$338=\"V\")*(AK$2:AK$338)*(AK$2:AK$338>2))/SUMPRODUCT(($CT$2:$CT$338=\"V\")*(AK$2:AK$338>2)))","v":79.384057971014499},{"$f":"SUMPRODUCT((($CT$2:$CT$338=\"V\")*(AL$2:AL$338)*(AL$2:AL$338>2))/SUMPRODUCT(($CT$2:$CT$338=\"V\")*(AL$2:AL$338>2)))","v":80.399999999999991},{"$f":"SUMPRODUCT((($CT$2:$CT$338=\"V\")*(AM$2:AM$338)*(AM$2:AM$338>2))/SUMPRODUCT(($CT$2:$CT$338=\"V\")*(AM$2:AM$338>2)))","v":{"$error":"#DIV/0!"}},{"$f":"SUMPRODUCT((($CT$2:$CT$338=\"V\")*(AN$2:AN$338)*(AN$2:AN$338>2))/SUMPRODUCT(($CT$2:$CT$338=\"V\")*(AN$2:AN$338>2)))","v":{"$error":"#DIV/0!"}},{"$f":"SUMPRODUCT((($CT$2:$CT$338=\"V\")*(AO$2:AO$338)*(AO$2:AO$338>2))/SUMPRODUCT(($CT$2:$CT$338=\"V\")*(AO$2:AO$338>2)))","v":{"$error":"#DIV/0!"}},{"$f":"SUMPRODUCT((($CT$2:$CT$338=\"V\")*(AP$2:AP$338)*(AP$2:AP$338>2))/SUMPRODUCT(($CT$2:$CT$338=\"V\")*(AP$2:AP$338>2)))","v":{"$error":"#DIV/0!"}},{"$f":"SUMPRODUCT((($CT$2:$CT$338=\"V\")*(AQ$2:AQ$338)*(AQ$2:AQ$338>2))/SUMPRODUCT(($CT$2:$CT$338=\"V\")*(AQ$2:AQ$338>2)))","v":74.183673469387742},{"$f":"SUMPRODUCT((($CT$2:$CT$338=\"V\")*(AR$2:AR$338)*(AR$2:AR$338>2))/SUMPRODUCT(($CT$2:$CT$338=\"V\")*(AR$2:AR$338>2)))","v":77.653061224489761},{"$f":"SUMPRODUCT((($CT$2:$CT$338=\"V\")*(AS$2:AS$338)*(AS$2:AS$338>2))/SUMPRODUCT(($CT$2:$CT$338=\"V\")*(AS$2:AS$338>2)))","v":{"$error":"#DIV/0!"}},{"$f":"SUMPRODUCT((($CT$2:$CT$338=\"V\")*(AT$2:AT$338)*(AT$2:AT$338>2))/SUMPRODUCT(($CT$2:$CT$338=\"V\")*(AT$2:AT$338>2)))","v":80.986394557823175},{"$f":"SUMPRODUCT((($CT$2:$CT$338=\"V\")*(AU$2:AU$338)*(AU$2:AU$338>2))/SUMPRODUCT(($CT$2:$CT$338=\"V\")*(AU$2:AU$338>2)))","v":77.34693877551021},{"$f":"SUMPRODUCT((($CT$2:$CT$338=\"V\")*(AV$2:AV$338)*(AV$2:AV$338>2))/SUMPRODUCT(($CT$2:$CT$338=\"V\")*(AV$2:AV$338>2)))","v":77.653061224489761},{"$f":"SUMPRODUCT((($CT$2:$CT$338=\"V\")*(AW$2:AW$338)*(AW$2:AW$338>2))/SUMPRODUCT(($CT$2:$CT$338=\"V\")*(AW$2:AW$338>2)))","v":81.428571428571416},{"$f":"SUMPRODUCT((($CT$2:$CT$338=\"V\")*(AX$2:AX$338)*(AX$2:AX$338>2))/SUMPRODUCT(($CT$2:$CT$338=\"V\")*(AX$2:AX$338>2)))","v":79.081632653061206},{"$f":"SUMPRODUCT((($CT$2:$CT$338=\"V\")*(AY$2:AY$338)*(AY$2:AY$338>2))/SUMPRODUCT(($CT$2:$CT$338=\"V\")*(AY$2:AY$338>2)))","v":79.628378378378358},{"$f":"SUMPRODUCT((($CT$2:$CT$338=\"V\")*(AZ$2:AZ$338)*(AZ$2:AZ$338>2))/SUMPRODUCT(($CT$2:$CT$338=\"V\")*(AZ$2:AZ$338>2)))","v":78.581081081081081},{"$f":"SUMPRODUCT((($CT$2:$CT$338=\"V\")*(BA$2:BA$338)*(BA$2:BA$338>2))/SUMPRODUCT(($CT$2:$CT$338=\"V\")*(BA$2:BA$338>2)))","v":81.148648648648702},{"$f":"SUMPRODUCT((($CT$2:$CT$338=\"V\")*(BB$2:BB$338)*(BB$2:BB$338>2))/SUMPRODUCT(($CT$2:$CT$338=\"V\")*(BB$2:BB$338>2)))","v":78.344594594594611},{"$f":"SUMPRODUCT((($CT$2:$CT$338=\"V\")*(BC$2:BC$338)*(BC$2:BC$338>2))/SUMPRODUCT(($CT$2:$CT$338=\"V\")*(BC$2:BC$338>2)))","v":{"$error":"#DIV/0!"}},{"$f":"SUMPRODUCT((($CT$2:$CT$338=\"V\")*(BD$2:BD$338)*(BD$2:BD$338>2))/SUMPRODUCT(($CT$2:$CT$338=\"V\")*(BD$2:BD$338>2)))","v":{"$error":"#DIV/0!"}},{"$f":"SUMPRODUCT((($CT$2:$CT$338=\"V\")*(BE$2:BE$338)*(BE$2:BE$338>2))/SUMPRODUCT(($CT$2:$CT$338=\"V\")*(BE$2:BE$338>2)))","v":{"$error":"#DIV/0!"}},{"$f":"SUMPRODUCT((($CT$2:$CT$338=\"V\")*(BF$2:BF$338)*(BF$2:BF$338>2))/SUMPRODUCT(($CT$2:$CT$338=\"V\")*(BF$2:BF$338>2)))","v":{"$error":"#DIV/0!"}},{"$f":"SUMPRODUCT((($CT$2:$CT$338=\"V\")*(BG$2:BG$338)*(BG$2:BG$338>2))/SUMPRODUCT(($CT$2:$CT$338=\"V\")*(BG$2:BG$338>2)))","v":75.045977011494259},{"$f":"SUMPRODUCT((($CT$2:$CT$338=\"V\")*(BH$2:BH$338)*(BH$2:BH$338>2))/SUMPRODUCT(($CT$2:$CT$338=\"V\")*(BH$2:BH$338>2)))","v":74.954022988505741},{"$f":"SUMPRODUCT((($CT$2:$CT$338=\"V\")*(BI$2:BI$338)*(BI$2:BI$338>2))/SUMPRODUCT(($CT$2:$CT$338=\"V\")*(BI$2:BI$338>2)))","v":75.772727272727266},{"$f":"SUMPRODUCT((($CT$2:$CT$338=\"V\")*(BJ$2:BJ$338)*(BJ$2:BJ$338>2))/SUMPRODUCT(($CT$2:$CT$338=\"V\")*(BJ$2:BJ$338>2)))","v":78.822222222222223},{"$f":"SUMPRODUCT((($CT$2:$CT$338=\"V\")*(BK$2:BK$338)*(BK$2:BK$338>2))/SUMPRODUCT(($CT$2:$CT$338=\"V\")*(BK$2:BK$338>2)))","v":73.860759493670869},{"$f":"SUMPRODUCT((($CT$2:$CT$338=\"V\")*(BL$2:BL$338)*(BL$2:BL$338>2))/SUMPRODUCT(($CT$2:$CT$338=\"V\")*(BL$2:BL$338>2)))","v":74.139240506329102},{"$f":"SUMPRODUCT((($CT$2:$CT$338=\"V\")*(BM$2:BM$338)*(BM$2:BM$338>2))/SUMPRODUCT(($CT$2:$CT$338=\"V\")*(BM$2:BM$338>2)))","v":73.974358974358978},{"$f":"SUMPRODUCT((($CT$2:$CT$338=\"V\")*(BN$2:BN$338)*(BN$2:BN$338>2))/SUMPRODUCT(($CT$2:$CT$338=\"V\")*(BN$2:BN$338>2)))","v":75.544303797468373},{"$f":"SUMPRODUCT((($CT$2:$CT$338=\"V\")*(BO$2:BO$338)*(BO$2:BO$338>2))/SUMPRODUCT(($CT$2:$CT$338=\"V\")*(BO$2:BO$338>2)))","v":74.395604395604366},{"$f":"SUMPRODUCT((($CT$2:$CT$338=\"V\")*(BP$2:BP$338)*(BP$2:BP$338>2))/SUMPRODUCT(($CT$2:$CT$338=\"V\")*(BP$2:BP$338>2)))","v":76.122222222222234},{"$f":"SUMPRODUCT((($CT$2:$CT$338=\"V\")*(BQ$2:BQ$338)*(BQ$2:BQ$338>2))/SUMPRODUCT(($CT$2:$CT$338=\"V\")*(BQ$2:BQ$338>2)))","v":78.853932584269685},{"$f":"SUMPRODUCT((($CT$2:$CT$338=\"V\")*(BR$2:BR$338)*(BR$2:BR$338>2))/SUMPRODUCT(($CT$2:$CT$338=\"V\")*(BR$2:BR$338>2)))","v":79.111111111111114},{"$f":"SUMPRODUCT((($CT$2:$CT$338=\"V\")*(BS$2:BS$338)*(BS$2:BS$338>2))/SUMPRODUCT(($CT$2:$CT$338=\"V\")*(BS$2:BS$338>2)))","v":77.631578947368439},{"$f":"SUMPRODUCT((($CT$2:$CT$338=\"V\")*(BT$2:BT$338)*(BT$2:BT$338>2))/SUMPRODUCT(($CT$2:$CT$338=\"V\")*(BT$2:BT$338>2)))","v":81.565789473684191},{"$f":"SUMPRODUCT((($CT$2:$CT$338=\"V\")*(BU$2:BU$338)*(BU$2:BU$338>2))/SUMPRODUCT(($CT$2:$CT$338=\"V\")*(BU$2:BU$338>2)))","v":82.473684210526358},{"$f":"SUMPRODUCT((($CT$2:$CT$338=\"V\")*(BV$2:BV$338)*(BV$2:BV$338>2))/SUMPRODUCT(($CT$2:$CT$338=\"V\")*(BV$2:BV$338>2)))","v":83.828947368421041},{"$f":"SUMPRODUCT((($CT$2:$CT$338=\"V\")*(BW$2:BW$338)*(BW$2:BW$338>2))/SUMPRODUCT(($CT$2:$CT$338=\"V\")*(BW$2:BW$338>2)))","v":{"$error":"#DIV/0!"}},{"$f":"IF(L354=0,0,IF(M354=0,AVERAGE(M354,K354,N354),AVERAGE(K354:N354)))","v":84.185330150287712},{"$f":"IF(P354=0,0,IF(Q354=0,AVERAGE(Q354,O354,R354),AVERAGE(O354:R354)))","v":82.411987281905638},{"$f":"IF(T354=0,0,IF(U354=0,AVERAGE(T354,S354,V354),AVERAGE(S354:V354)))","v":81.183780868350112},{"$f":"IF(AB354=0,0,IF(AC354=0,AVERAGE(AB354,AA354,AD354),AVERAGE(AA354:AD354)))","v":77.452612493758977},{"$f":"IF(AF354=0,0,IF(AG354=0,AVERAGE(AF354,AE354,AH354),AVERAGE(AE354:AH354)))","v":79.232164076922601},{"$f":"IF(AJ354=0,0,IF(AK354=0,AVERAGE(AJ354,AI354,AL354),AVERAGE(AI354:AL354)))","v":79.732246376811574},{"$f":"IF(AN354=0,0,IF(AO354=0,AVERAGE(AN354,AM354,AP354),AVERAGE(AM354:AP354)))","v":{"$error":"#DIV/0!"}},{"$f":"IF(AR354=0,0,IF(AS354=0,AVERAGE(AR354,AQ354,AT354),AVERAGE(AQ354:AT354)))","v":{"$error":"#DIV/0!"}},{"$f":"IF(AV354=0,0,IF(AW354=0,AVERAGE(AV354,AU354,AX354),AVERAGE(AU354:AX354)))","v":78.877551020408148},{"$f":"IF(AZ354=0,0,IF(BA354=0,AVERAGE(AZ354,AY354,BB354),AVERAGE(AY354:BB354)))","v":79.425675675675677},{"$f":"IF(BD354=0,0,IF(BE354=0,AVERAGE(BD354,BC354,BF354),AVERAGE(BC354:BF354)))","v":{"$error":"#DIV/0!"}},{"$f":"IF(BH354=0,0,IF(BI354=0,AVERAGE(BH354,BG354,BJ354,BM354),AVERAGE(BG354:BJ354)))","v":76.148737373737362},null,null,null,null,null,null,null,null,null,14]
[null,null,null,null,null,null,null,null,null,null,{"$f":"K351/K353","v":1.2913385826771653},{"$f":"L351/L353","v":1.28125},1,1.2692307692307692,1.2615384615384615,1.2635658914728682,1.2538461538461538,1.2671755725190839,1.2442748091603053,1.1020408163265305,1.0816326530612246,1.2575757575757576,{"$error":"#DIV/0!"},{"$error":"#DIV/0!"},{"$error":"#DIV/0!"},{"$error":"#DIV/0!"},1.2647058823529411,1.2835820895522387,1,1.2773722627737227,1.2740740740740741,1.2463768115942029,1.2647058823529411,1.2589928057553956,1.2463768115942029,1.2463768115942029,1.2463768115942029,1.25,{"$error":"#DIV/0!"},{"$error":"#DIV/0!"},{"$error":"#DIV/0!"},{"$error":"#DIV/0!"},1.2585034013605443,1.2585034013605443,{"$error":"#DIV/0!"},1.2585034013605443,1.2653061224489797,1.2653061224489797,1.2653061224489797,1.2653061224489797,1.2635135135135136,1.2635135135135136,1.2635135135135136,1.2635135135135136,{"$error":"#DIV/0!"},{"$error":"#DIV/0!"},{"$error":"#DIV/0!"},{"$error":"#DIV/0!"},1.3448275862068966,1.3448275862068966,1.4545454545454546,1.3111111111111111,1.2911392405063291,1.2911392405063291,1.3076923076923077,1.2911392405063291,1.3076923076923077,1.3222222222222222,1.3370786516853932,1.3222222222222222,1.3157894736842106,1.3157894736842106,1.3026315789473684,1.2894736842105263,{"$f":"BW351/BW353","v":{"$error":"#DIV/0!"}},1.28125,1.2635658914728682,1.1020408163265305,1.2835820895522387,1.2463768115942029,1.2463768115942029,{"$error":"#DIV/0!"},1.2585034013605443,1.2653061224489797,1.2635135135135136,{"$f":"CH351/CH353","v":{"$error":"#DIV/0!"}},1.3448275862068966,null,null,null,null,null,null,null,null,null,15,null,"R JV"]
[null,null,null,null,null,null,null,null,null,null,null,null,null,null,null,null,null,null,null,null,null,null,null,null,null,null,null,null,null,null,null,null,null,null,null,null,null,null,null,null,null,null,null,null,null,null,null,null,null,null,null,null,null,null,null,null,null,null,null,null,null,null,null,null,null,null,null,null,null,null,null,null,null,null,null,null,null,null,null,null,null,null,null,null,null,null,null,null,null,null,null,null,null,null,null,null,16]
[null,null,null,null,null,null,null,null,null,null,null,null,null,null,null,null,null,null,null,null,null,null,null,null,null,null,null,null,null,null,null,null,null,null,null,null,null,null,null,null,null,null,null,null,null,null,null,null,null,null,null,null,null,null,null,null,null,null,null,null,null,null,null,null,null,null,null,null,null,null,null,null,null,null,null,null,null,null,null,null,null,null,null,null,null,null,null,null,null,null,null,null,null,null,null,null,17]
[null,null,null,null,null,null,null,null,null,60,null,null,null,null,null,null,null,null,null,null,null,null,null,null,null,null,null,null,null,null,null,null,null,null,null,null,null,null,null,null,null,null,null,null,null,null,null,null,null,null,null,null,null,null,null,null,null,null,null,null,null,null,null,null,null,null,null,null,null,null,null,null,null,null,null,null,null,null,null,null,null,null,null,null,null,null,null,null,null,null,null,null,null,null,null,null,18,60]
[null,null,null,null,null,null,null,null,null,"60nb",{"$f":"SUM(($CO$2:$CO$338=\"60\")*(K$2:K$338>1)*1)","v":135},{"$f":"SUM(($CO$2:$CO$338=\"60\")*(L$2:L$338>1)*1)","v":137},{"$f":"SUM(($CO$2:$CO$338=\"60\")*(M$2:M$338>1)*1)","v":1},{"$f":"SUM(($CO$2:$CO$338=\"60\")*(N$2:N$338>1)*1)","v":138},{"$f":"SUM(($CO$2:$CO$338=\"60\")*(O$2:O$338>1)*1)","v":138},{"$f":"SUM(($CO$2:$CO$338=\"60\")*(P$2:P$338>1)*1)","v":137},{"$f":"SUM(($CO$2:$CO$338=\"60\")*(Q$2:Q$338>1)*1)","v":138},{"$f":"SUM(($CO$2:$CO$338=\"60\")*(R$2:R$338>1)*1)","v":139},{"$f":"SUM(($CO$2:$CO$338=\"60\")*(S$2:S$338>1)*1)","v":138},{"$f":"SUM(($CO$2:$CO$338=\"60\")*(T$2:T$338>1)*1)","v":138},{"$f":"SUM(($CO$2:$CO$338=\"60\")*(U$2:U$338>1)*1)","v":137},{"$f":"SUM(($CO$2:$CO$338=\"60\")*(V$2:V$338>1)*1)","v":139},{"$f":"SUM(($CO$2:$CO$338=\"60\")*(W$2:W$338>1)*1)","v":0},{"$f":"SUM(($CO$2:$CO$338=\"60\")*(X$2:X$338>1)*1)","v":0},{"$f":"SUM(($CO$2:$CO$338=\"60\")*(Y$2:Y$338>1)*1)","v":0},{"$f":"SUM(($CO$2:$CO$338=\"60\")*(Z$2:Z$338>1)*1)","v":0},{"$f":"SUM(($CO$2:$CO$338=\"60\")*(AA$2:AA$338>1)*1)","v":146},{"$f":"SUM(($CO$2:$CO$338=\"60\")*(AB$2:AB$338>1)*1)","v":145},{"$f":"SUM(($CO$2:$CO$338=\"60\")*(AC$2:AC$338>1)*1)","v":22},{"$f":"SUM(($CO$2:$CO$338=\"60\")*(AD$2:AD$338>1)*1)","v":148},{"$f":"SUM(($CO$2:$CO$338=\"60\")*(AE$2:AE$338>1)*1)","v":147},{"$f":"SUM(($CO$2:$CO$338=\"60\")*(AF$2:AF$338>1)*1)","v":148},{"$f":"SUM(($CO$2:$CO$338=\"60\")*(AG$2:AG$338>1)*1)","v":147},{"$f":"SUM(($CO$2:$CO$338=\"60\")*(AH$2:AH$338>1)*1)","v":150},{"$f":"SUM(($CO$2:$CO$338=\"60\")*(AI$2:AI$338>1)*1)","v":148},{"$f":"SUM(($CO$2:$CO$338=\"60\")*(AJ$2:AJ$338>1)*1)","v":148},{"$f":"SUM(($CO$2:$CO$338=\"60\")*(AK$2:AK$338>1)*1)","v":148},{"$f":"SUM(($CO$2:$CO$338=\"60\")*(AL$2:AL$338>1)*1)","v":150},{"$f":"SUM(($CO$2:$CO$338=\"60\")*(AM$2:AM$338>1)*1)","v":0},{"$f":"SUM(($CO$2:$CO$338=\"60\")*(AN$2:AN$338>1)*1)","v":0},{"$f":"SUM(($CO$2:$CO$338=\"60\")*(AO$2:AO$338>1)*1)","v":0},{"$f":"SUM(($CO$2:$CO$338=\"60\")*(AP$2:AP$338>1)*1)","v":0},{"$f":"SUM(($CO$2:$CO$338=\"60\")*(AQ$2:AQ$338>1)*1)","v":155},{"$f":"SUM(($CO$2:$CO$338=\"60\")*(AR$2:AR$338>1)*1)","v":155},{"$f":"SUM(($CO$2:$CO$338=\"60\")*(AS$2:AS$338>1)*1)","v":0},{"$f":"SUM(($CO$2:$CO$338=\"60\")*(AT$2:AT$338>1)*1)","v":155},{"$f":"SUM(($CO$2:$CO$338=\"60\")*(AU$2:AU$338>1)*1)","v":155},{"$f":"SUM(($CO$2:$CO$338=\"60\")*(AV$2:AV$338>1)*1)","v":155},{"$f":"SUM(($CO$2:$CO$338=\"60\")*(AW$2:AW$338>1)*1)","v":155},{"$f":"SUM(($CO$2:$CO$338=\"60\")*(AX$2:AX$338>1)*1)","v":155},{"$f":"SUM(($CO$2:$CO$338=\"60\")*(AY$2:AY$338>1)*1)","v":155},{"$f":"SUM(($CO$2:$CO$338=\"60\")*(AZ$2:AZ$338>1)*1)","v":155},{"$f":"SUM(($CO$2:$CO$338=\"60\")*(BA$2:BA$338>1)*1)","v":155},{"$f":"SUM(($CO$2:$CO$338=\"60\")*(BB$2:BB$338>1)*1)","v":155},{"$f":"SUM(($CO$2:$CO$338=\"60\")*(BC$2:BC$338>1)*1)","v":0},{"$f":"SUM(($CO$2:$CO$338=\"60\")*(BD$2:BD$338>1)*1)","v":0},{"$f":"SUM(($CO$2:$CO$338=\"60\")*(BE$2:BE$338>1)*1)","v":0},{"$f":"SUM(($CO$2:$CO$338=\"60\")*(BF$2:BF$338>1)*1)","v":0},{"$f":"SUM(($CO$2:$CO$338=\"60\")*(BG$2:BG$338>1)*1)","v":31},{"$f":"SUM(($CO$2:$CO$338=\"60\")*(BH$2:BH$338>1)*1)","v":31},{"$f":"SUM(($CO$2:$CO$338=\"60\")*(BI$2:BI$338>1)*1)","v":26},{"$f":"SUM(($CO$2:$CO$338=\"60\")*(BJ$2:BJ$338>1)*1)","v":35},{"$f":"SUM(($CO$2:$CO$338=\"60\")*(BK$2:BK$338>1)*1)","v":35},{"$f":"SUM(($CO$2:$CO$338=\"60\")*(BL$2:BL$338>1)*1)","v":35},{"$f":"SUM(($CO$2:$CO$338=\"60\")*(BM$2:BM$338>1)*1)","v":35},{"$f":"SUM(($CO$2:$CO$338=\"60\")*(BN$2:BN$338>1)*1)","v":35},{"$f":"SUM(($CO$2:$CO$338=\"60\")*(BO$2:BO$338>1)*1)","v":36},{"$f":"SUM(($CO$2:$CO$338=\"60\")*(BP$2:BP$338>1)*1)","v":35},{"$f":"SUM(($CO$2:$CO$338=\"60\")*(BQ$2:BQ$338>1)*1)","v":35},{"$f":"SUM(($CO$2:$CO$338=\"60\")*(BR$2:BR$338>1)*1)","v":35},{"$f":"SUM(($CO$2:$CO$338=\"60\")*(BS$2:BS$338>1)*1)","v":3},{"$f":"SUM(($CO$2:$CO$338=\"60\")*(BT$2:BT$338>1)*1)","v":3},{"$f":"SUM(($CO$2:$CO$338=\"60\")*(BU$2:BU$338>1)*1)","v":2},{"$f":"SUM(($CO$2:$CO$338=\"60\")*(BV$2:BV$338>1)*1)","v":2},{"$f":"SUM(($CO$2:$CO$338=\"60\")*(BW$2:BW$338>1)*1)","v":0},{"$f":"SUM(($CO$2:$CO$338=\"60\")*(BX$2:BX$338>1)*1)","v":137},{"$f":"SUM(($CO$2:$CO$338=\"60\")*(BY$2:BY$338>1)*1)","v":137},{"$f":"SUM(($CO$2:$CO$338=\"60\")*(BZ$2:BZ$338>1)*1)","v":138},{"$f":"SUM(($CO$2:$CO$338=\"60\")*(CA$2:CA$338>1)*1)","v":145},{"$f":"SUM(($CO$2:$CO$338=\"60\")*(CB$2:CB$338>1)*1)","v":148},{"$f":"SUM(($CO$2:$CO$338=\"60\")*(CC$2:CC$338>1)*1)","v":148},{"$f":"SUM(($CO$2:$CO$338=\"60\")*(CD$2:CD$338>1)*1)","v":0},{"$f":"SUM(($CO$2:$CO$338=\"60\")*(CE$2:CE$338>1)*1)","v":155},{"$f":"SUM(($CO$2:$CO$338=\"60\")*(CF$2:CF$338>1)*1)","v":155},{"$f":"SUM(($CO$2:$CO$338=\"60\")*(CG$2:CG$338>1)*1)","v":155},{"$f":"SUM(($CO$2:$CO$338=\"60\")*(CH$2:CH$338>1)*1)","v":0},{"$f":"SUM(($CO$2:$CO$338=\"60\")*(CI$2:CI$338>1)*1)","v":31},null,null,null,null,null,null,null,null,null,19,"60nb",null,{"$f":"#REF!","v":{"$error":"#REF!"}}]
[null,null,null,null,null,null,null,null,null,"60moy",{"$f":"SUMPRODUCT((($CO$2:$CO$338=\"60\")*(K$2:K$338))/SUMPRODUCT(($CO$2:$CO$338=\"60\")*(K$2:K$338>2)))","v":77.74074074074079},{"$f":"SUMPRODUCT((($CO$2:$CO$338=\"60\")*(L$2:L$338))/SUMPRODUCT(($CO$2:$CO$338=\"60\")*(L$2:L$338>2)))","v":79.197080291970721},{"$f":"SUMPRODUCT((($CO$2:$CO$338=\"60\")*(M$2:M$338))/SUMPRODUCT(($CO$2:$CO$338=\"60\")*(M$2:M$338>2)))","v":95},{"$f":"SUMPRODUCT((($CO$2:$CO$338=\"60\")*(N$2:N$338))/SUMPRODUCT(($CO$2:$CO$338=\"60\")*(N$2:N$338>2)))","v":80.985507246376827},{"$f":"SUMPRODUCT((($CO$2:$CO$338=\"60\")*(O$2:O$338))/SUMPRODUCT(($CO$2:$CO$338=\"60\")*(O$2:O$338>2)))","v":79.999999999999943},{"$f":"SUMPRODUCT((($CO$2:$CO$338=\"60\")*(P$2:P$338))/SUMPRODUCT(($CO$2:$CO$338=\"60\")*(P$2:P$338>2)))","v":80.5474452554744},{"$f":"SUMPRODUCT((($CO$2:$CO$338=\"60\")*(Q$2:Q$338))/SUMPRODUCT(($CO$2:$CO$338=\"60\")*(Q$2:Q$338>2)))","v":82.101449275362313},{"$f":"SUMPRODUCT((($CO$2:$CO$338=\"60\")*(R$2:R$338))/SUMPRODUCT(($CO$2:$CO$338=\"60\")*(R$2:R$338>2)))","v":82.935251798561055},{"$f":"SUMPRODUCT((($CO$2:$CO$338=\"60\")*(S$2:S$338))/SUMPRODUCT(($CO$2:$CO$338=\"60\")*(S$2:S$338>2)))","v":79.130434782608674},{"$f":"SUMPRODUCT((($CO$2:$CO$338=\"60\")*(T$2:T$338))/SUMPRODUCT(($CO$2:$CO$338=\"60\")*(T$2:T$338>2)))","v":80.942028985507221},{"$f":"SUMPRODUCT((($CO$2:$CO$338=\"60\")*(U$2:U$338))/SUMPRODUCT(($CO$2:$CO$338=\"60\")*(U$2:U$338>2)))","v":79.489051094890456},{"$f":"SUMPRODUCT((($CO$2:$CO$338=\"60\")*(V$2:V$338))/SUMPRODUCT(($CO$2:$CO$338=\"60\")*(V$2:V$338>2)))","v":82.309352517985545},{"$f":"SUMPRODUCT((($CO$2:$CO$338=\"60\")*(W$2:W$338))/SUMPRODUCT(($CO$2:$CO$338=\"60\")*(W$2:W$338>2)))","v":{"$error":"#DIV/0!"}},{"$f":"SUMPRODUCT((($CO$2:$CO$338=\"60\")*(X$2:X$338))/SUMPRODUCT(($CO$2:$CO$338=\"60\")*(X$2:X$338>2)))","v":{"$error":"#DIV/0!"}},{"$f":"SUMPRODUCT((($CO$2:$CO$338=\"60\")*(Y$2:Y$338))/SUMPRODUCT(($CO$2:$CO$338=\"60\")*(Y$2:Y$338>2)))","v":{"$error":"#DIV/0!"}},{"$f":"SUMPRODUCT((($CO$2:$CO$338=\"60\")*(Z$2:Z$338))/SUMPRODUCT(($CO$2:$CO$338=\"60\")*(Z$2:Z$338>2)))","v":{"$error":"#DIV/0!"}},{"$f":"SUMPRODUCT((($CO$2:$CO$338=\"60\")*(AA$2:AA$338))/SUMPRODUCT(($CO$2:$CO$338=\"60\")*(AA$2:AA$338>2)))","v":70.609589041095902},{"$f":"SUMPRODUCT((($CO$2:$CO$338=\"60\")*(AB$2:AB$338))/SUMPRODUCT(($CO$2:$CO$338=\"60\")*(AB$2:AB$338>2)))","v":77.413793103448228},{"$f":"SUMPRODUCT((($CO$2:$CO$338=\"60\")*(AC$2:AC$338))/SUMPRODUCT(($CO$2:$CO$338=\"60\")*(AC$2:AC$338>2)))","v":77.727272727272734},{"$f":"SUMPRODUCT((($CO$2:$CO$338=\"60\")*(AD$2:AD$338))/SUMPRODUCT(($CO$2:$CO$338=\"60\")*(AD$2:AD$338>2)))","v":76.108108108108112},{"$f":"SUMPRODUCT((($CO$2:$CO$338=\"60\")*(AE$2:AE$338))/SUMPRODUCT(($CO$2:$CO$338=\"60\")*(AE$2:AE$338>2)))","v":76.020408163265287},{"$f":"SUMPRODUCT((($CO$2:$CO$338=\"60\")*(AF$2:AF$338))/SUMPRODUCT(($CO$2:$CO$338=\"60\")*(AF$2:AF$338>2)))","v":76.756756756756772},{"$f":"SUMPRODUCT((($CO$2:$CO$338=\"60\")*(AG$2:AG$338))/SUMPRODUCT(($CO$2:$CO$338=\"60\")*(AG$2:AG$338>2)))","v":76.326530612244852},{"$f":"SUMPRODUCT((($CO$2:$CO$338=\"60\")*(AH$2:AH$338))/SUMPRODUCT(($CO$2:$CO$338=\"60\")*(AH$2:AH$338>2)))","v":79.400000000000034},{"$f":"SUMPRODUCT((($CO$2:$CO$338=\"60\")*(AI$2:AI$338))/SUMPRODUCT(($CO$2:$CO$338=\"60\")*(AI$2:AI$338>2)))","v":78.783783783783775},{"$f":"SUMPRODUCT((($CO$2:$CO$338=\"60\")*(AJ$2:AJ$338))/SUMPRODUCT(($CO$2:$CO$338=\"60\")*(AJ$2:AJ$338>2)))","v":78.79729729729732},{"$f":"SUMPRODUCT((($CO$2:$CO$338=\"60\")*(AK$2:AK$338))/SUMPRODUCT(($CO$2:$CO$338=\"60\")*(AK$2:AK$338>2)))","v":79.108108108108141},{"$f":"SUMPRODUCT((($CO$2:$CO$338=\"60\")*(AL$2:AL$338))/SUMPRODUCT(($CO$2:$CO$338=\"60\")*(AL$2:AL$338>2)))","v":77.959999999999994},{"$f":"SUMPRODUCT((($CO$2:$CO$338=\"60\")*(AM$2:AM$338))/SUMPRODUCT(($CO$2:$CO$338=\"60\")*(AM$2:AM$338>2)))","v":{"$error":"#DIV/0!"}},{"$f":"SUMPRODUCT((($CO$2:$CO$338=\"60\")*(AN$2:AN$338))/SUMPRODUCT(($CO$2:$CO$338=\"60\")*(AN$2:AN$338>2)))","v":{"$error":"#DIV/0!"}},{"$f":"SUMPRODUCT((($CO$2:$CO$338=\"60\")*(AO$2:AO$338))/SUMPRODUCT(($CO$2:$CO$338=\"60\")*(AO$2:AO$338>2)))","v":{"$error":"#DIV/0!"}},{"$f":"SUMPRODUCT((($CO$2:$CO$338=\"60\")*(AP$2:AP$338))/SUMPRODUCT(($CO$2:$CO$338=\"60\")*(AP$2:AP$338>2)))","v":{"$error":"#DIV/0!"}},{"$f":"SUMPRODUCT((($CO$2:$CO$338=\"60\")*(AQ$2:AQ$338))/SUMPRODUCT(($CO$2:$CO$338=\"60\")*(AQ$2:AQ$338>2)))","v":75.025806451612908},{"$f":"SUMPRODUCT((($CO$2:$CO$338=\"60\")*(AR$2:AR$338))/SUMPRODUCT(($CO$2:$CO$338=\"60\")*(AR$2:AR$338>2)))","v":75.354838709677395},{"$f":"SUMPRODUCT((($CO$2:$CO$338=\"60\")*(AS$2:AS$338))/SUMPRODUCT(($CO$2:$CO$338=\"60\")*(AS$2:AS$338>2)))","v":{"$error":"#DIV/0!"}},{"$f":"SUMPRODUCT((($CO$2:$CO$338=\"60\")*(AT$2:AT$338))/SUMPRODUCT(($CO$2:$CO$338=\"60\")*(AT$2:AT$338>2)))","v":81.096774193548299},{"$f":"SUMPRODUCT((($CO$2:$CO$338=\"60\")*(AU$2:AU$338))/SUMPRODUCT(($CO$2:$CO$338=\"60\")*(AU$2:AU$338>2)))","v":77.387096774193523},{"$f":"SUMPRODUCT((($CO$2:$CO$338=\"60\")*(AV$2:AV$338))/SUMPRODUCT(($CO$2:$CO$338=\"60\")*(AV$2:AV$338>2)))","v":76.838709677419331},{"$f":"SUMPRODUCT((($CO$2:$CO$338=\"60\")*(AW$2:AW$338))/SUMPRODUCT(($CO$2:$CO$338=\"60\")*(AW$2:AW$338>2)))","v":82.41935483870958},{"$f":"SUMPRODUCT((($CO$2:$CO$338=\"60\")*(AX$2:AX$338))/SUMPRODUCT(($CO$2:$CO$338=\"60\")*(AX$2:AX$338>2)))","v":76.806451612903217},{"$f":"SUMPRODUCT((($CO$2:$CO$338=\"60\")*(AY$2:AY$338))/SUMPRODUCT(($CO$2:$CO$338=\"60\")*(AY$2:AY$338>2)))","v":79.935483870967687},{"$f":"SUMPRODUCT((($CO$2:$CO$338=\"60\")*(AZ$2:AZ$338))/SUMPRODUCT(($CO$2:$CO$338=\"60\")*(AZ$2:AZ$338>2)))","v":78.70967741935479},{"$f":"SUMPRODUCT((($CO$2:$CO$338=\"60\")*(BA$2:BA$338))/SUMPRODUCT(($CO$2:$CO$338=\"60\")*(BA$2:BA$338>2)))","v":80.032258064516071},{"$f":"SUMPRODUCT((($CO$2:$CO$338=\"60\")*(BB$2:BB$338))/SUMPRODUCT(($CO$2:$CO$338=\"60\")*(BB$2:BB$338>2)))","v":77.677419354838662},{"$f":"SUMPRODUCT((($CO$2:$CO$338=\"60\")*(BC$2:BC$338))/SUMPRODUCT(($CO$2:$CO$338=\"60\")*(BC$2:BC$338>2)))","v":{"$error":"#DIV/0!"}},{"$f":"SUMPRODUCT((($CO$2:$CO$338=\"60\")*(BD$2:BD$338))/SUMPRODUCT(($CO$2:$CO$338=\"60\")*(BD$2:BD$338>2)))","v":{"$error":"#DIV/0!"}},{"$f":"SUMPRODUCT((($CO$2:$CO$338=\"60\")*(BE$2:BE$338))/SUMPRODUCT(($CO$2:$CO$338=\"60\")*(BE$2:BE$338>2)))","v":{"$error":"#DIV/0!"}},{"$f":"SUMPRODUCT((($CO$2:$CO$338=\"60\")*(BF$2:BF$338))/SUMPRODUCT(($CO$2:$CO$338=\"60\")*(BF$2:BF$338>2)))","v":{"$error":"#DIV/0!"}},{"$f":"SUMPRODUCT((($CO$2:$CO$338=\"60\")*(BG$2:BG$338))/SUMPRODUCT(($CO$2:$CO$338=\"60\")*(BG$2:BG$338>2)))","v":65.354838709677423},{"$f":"SUMPRODUCT((($CO$2:$CO$338=\"60\")*(BH$2:BH$338))/SUMPRODUCT(($CO$2:$CO$338=\"60\")*(BH$2:BH$338>2)))","v":65.161290322580641},{"$f":"SUMPRODUCT((($CO$2:$CO$338=\"60\")*(BI$2:BI$338))/SUMPRODUCT(($CO$2:$CO$338=\"60\")*(BI$2:BI$338>2)))","v":70.269230769230802},{"$f":"SUMPRODUCT((($CO$2:$CO$338=\"60\")*(BJ$2:BJ$338))/SUMPRODUCT(($CO$2:$CO$338=\"60\")*(BJ$2:BJ$338>2)))","v":75.257142857142867},{"$f":"SUMPRODUCT((($CO$2:$CO$338=\"60\")*(BK$2:BK$338))/SUMPRODUCT(($CO$2:$CO$338=\"60\")*(BK$2:BK$338>2)))","v":64.142857142857153},{"$f":"SUMPRODUCT((($CO$2:$CO$338=\"60\")*(BL$2:BL$338))/SUMPRODUCT(($CO$2:$CO$338=\"60\")*(BL$2:BL$338>2)))","v":65.514285714285734},{"$f":"SUMPRODUCT((($CO$2:$CO$338=\"60\")*(BM$2:BM$338))/SUMPRODUCT(($CO$2:$CO$338=\"60\")*(BM$2:BM$338>2)))","v":69.628571428571419},{"$f":"SUMPRODUCT((($CO$2:$CO$338=\"60\")*(BN$2:BN$338))/SUMPRODUCT(($CO$2:$CO$338=\"60\")*(BN$2:BN$338>2)))","v":70.914285714285711},{"$f":"SUMPRODUCT((($CO$2:$CO$338=\"60\")*(BO$2:BO$338))/SUMPRODUCT(($CO$2:$CO$338=\"60\")*(BO$2:BO$338>2)))","v":66.888888888888886},{"$f":"SUMPRODUCT((($CO$2:$CO$338=\"60\")*(BP$2:BP$338))/SUMPRODUCT(($CO$2:$CO$338=\"60\")*(BP$2:BP$338>2)))","v":64.857142857142861},{"$f":"SUMPRODUCT((($CO$2:$CO$338=\"60\")*(BQ$2:BQ$338))/SUMPRODUCT(($CO$2:$CO$338=\"60\")*(BQ$2:BQ$338>2)))","v":75.228571428571456},{"$f":"SUMPRODUCT((($CO$2:$CO$338=\"60\")*(BR$2:BR$338))/SUMPRODUCT(($CO$2:$CO$338=\"60\")*(BR$2:BR$338>2)))","v":69.342857142857156},{"$f":"SUMPRODUCT((($CO$2:$CO$338=\"60\")*(BS$2:BS$338))/SUMPRODUCT(($CO$2:$CO$338=\"60\")*(BS$2:BS$338>2)))","v":71.666666666666657},{"$f":"SUMPRODUCT((($CO$2:$CO$338=\"60\")*(BT$2:BT$338))/SUMPRODUCT(($CO$2:$CO$338=\"60\")*(BT$2:BT$338>2)))","v":67.666666666666671},{"$f":"SUMPRODUCT((($CO$2:$CO$338=\"60\")*(BU$2:BU$338))/SUMPRODUCT(($CO$2:$CO$338=\"60\")*(BU$2:BU$338>2)))","v":60},{"$f":"SUMPRODUCT((($CO$2:$CO$338=\"60\")*(BV$2:BV$338))/SUMPRODUCT(($CO$2:$CO$338=\"60\")*(BV$2:BV$338>2)))","v":54},{"$f":"SUMPRODUCT((($CO$2:$CO$338=\"60\")*(BW$2:BW$338))/SUMPRODUCT(($CO$2:$CO$338=\"60\")*(BW$2:BW$338>2)))","v":{"$error":"#DIV/0!"}},{"$f":"IF(L360=0,0,IF(M360=0,AVERAGE(M360,K360,N360),AVERAGE(K360:N360)))","v":83.230832069772077},{"$f":"IF(P360=0,0,IF(Q360=0,AVERAGE(Q360,O360,R360),AVERAGE(O360:R360)))","v":81.396036582349424},{"$f":"IF(T360=0,0,IF(U360=0,AVERAGE(T360,S360,V360),AVERAGE(S360:V360)))","v":80.467716845247963},{"$f":"IF(AB360=0,0,IF(AC360=0,AVERAGE(AB360,AA360,AD360),AVERAGE(AA360:AD360)))","v":75.464690744981255},{"$f":"IF(AF360=0,0,IF(AG360=0,AVERAGE(AF360,AE360,AH360),AVERAGE(AE360:AH360)))","v":77.125923883066747},{"$f":"IF(AJ360=0,0,IF(AK360=0,AVERAGE(AJ360,AI360,AL360),AVERAGE(AI360:AL360)))","v":78.6622972972973},{"$f":"IF(AN360=0,0,IF(AO360=0,AVERAGE(AN360,AM360,AP360),AVERAGE(AM360:AP360)))","v":{"$error":"#DIV/0!"}},{"$f":"IF(AR360=0,0,IF(AS360=0,AVERAGE(AR360,AQ360,AT360),AVERAGE(AQ360:AT360)))","v":{"$error":"#DIV/0!"}},{"$f":"IF(AV360=0,0,IF(AW360=0,AVERAGE(AV360,AU360,AX360),AVERAGE(AU360:AX360)))","v":78.36290322580642},{"$f":"IF(AZ360=0,0,IF(BA360=0,AVERAGE(AZ360,AY360,BB360),AVERAGE(AY360:BB360)))","v":79.088709677419303},{"$f":"IF(BD360=0,0,IF(BE360=0,AVERAGE(BD360,BC360,BF360),AVERAGE(BC360:BF360)))","v":{"$error":"#DIV/0!"}},{"$f":"IF(BH360=0,0,IF(BI360=0,AVERAGE(BH360,BG360,BJ360,BM360),AVERAGE(BG360:BJ360)))","v":69.010625664657937},null,null,null,null,null,null,null,null,null,20,"60moy",null,{"$f":"SUMPRODUCT(((#REF!>2)*($CO$2:$CO$339=\"60\")*(#REF!)*(#REF!>1))/SUMPRODUCT((#REF!>2)*($CO$2:$CO$339=\"60\")*(#REF!>2)))","v":{"$error":"#REF!"}}]
[null,null,null,null,null,null,null,null,null,"60taux",{"$f":"(SUM(($CO$2:$CO$338=\"60\")*(K$2:K$338>=60)*1))/K359*100","v":96.296296296296291},{"$f":"(SUM(($CO$2:$CO$338=\"60\")*(L$2:L$338>=60)*1))/L359*100","v":97.080291970802918},{"$f":"(SUM(($CO$2:$CO$338=\"60\")*(M$2:M$338>=60)*1))/M359*100","v":100},{"$f":"(SUM(($CO$2:$CO$338=\"60\")*(N$2:N$338>=60)*1))/N359*100","v":94.927536231884062},{"$f":"(SUM(($CO$2:$CO$338=\"60\")*(O$2:O$338>=60)*1))/O359*100","v":97.101449275362313},{"$f":"(SUM(($CO$2:$CO$338=\"60\")*(P$2:P$338>=60)*1))/P359*100","v":97.810218978102199},{"$f":"(SUM(($CO$2:$CO$338=\"60\")*(Q$2:Q$338>=60)*1))/Q359*100","v":95.652173913043484},{"$f":"(SUM(($CO$2:$CO$338=\"60\")*(R$2:R$338>=60)*1))/R359*100","v":97.841726618705039},{"$f":"(SUM(($CO$2:$CO$338=\"60\")*(S$2:S$338>=60)*1))/S359*100","v":97.826086956521735},{"$f":"(SUM(($CO$2:$CO$338=\"60\")*(T$2:T$338>=60)*1))/T359*100","v":100},{"$f":"(SUM(($CO$2:$CO$338=\"60\")*(U$2:U$338>=60)*1))/U359*100","v":95.620437956204384},{"$f":"(SUM(($CO$2:$CO$338=\"60\")*(V$2:V$338>=60)*1))/V359*100","v":97.841726618705039},{"$f":"(SUM(($CO$2:$CO$338=\"60\")*(W$2:W$338>=60)*1))/W359*100","v":{"$error":"#DIV/0!"}},{"$f":"(SUM(($CO$2:$CO$338=\"60\")*(X$2:X$338>=60)*1))/X359*100","v":{"$error":"#DIV/0!"}},{"$f":"(SUM(($CO$2:$CO$338=\"60\")*(Y$2:Y$338>=60)*1))/Y359*100","v":{"$error":"#DIV/0!"}},{"$f":"(SUM(($CO$2:$CO$338=\"60\")*(Z$2:Z$338>=60)*1))/Z359*100","v":{"$error":"#DIV/0!"}},{"$f":"(SUM(($CO$2:$CO$338=\"60\")*(AA$2:AA$338>=60)*1))/AA359*100","v":86.301369863013704},{"$f":"(SUM(($CO$2:$CO$338=\"60\")*(AB$2:AB$338>=60)*1))/AB359*100","v":93.103448275862064},{"$f":"(SUM(($CO$2:$CO$338=\"60\")*(AC$2:AC$338>=60)*1))/AC359*100","v":100},{"$f":"(SUM(($CO$2:$CO$338=\"60\")*(AD$2:AD$338>=60)*1))/AD359*100","v":89.189189189189193},{"$f":"(SUM(($CO$2:$CO$338=\"60\")*(AE$2:AE$338>=60)*1))/AE359*100","v":91.156462585034021},{"$f":"(SUM(($CO$2:$CO$338=\"60\")*(AF$2:AF$338>=60)*1))/AF359*100","v":93.243243243243242},{"$f":"(SUM(($CO$2:$CO$338=\"60\")*(AG$2:AG$338>=60)*1))/AG359*100","v":93.197278911564624},{"$f":"(SUM(($CO$2:$CO$338=\"60\")*(AH$2:AH$338>=60)*1))/AH359*100","v":93.333333333333329},{"$f":"(SUM(($CO$2:$CO$338=\"60\")*(AI$2:AI$338>=60)*1))/AI359*100","v":97.297297297297305},{"$f":"(SUM(($CO$2:$CO$338=\"60\")*(AJ$2:AJ$338>=60)*1))/AJ359*100","v":93.918918918918919},{"$f":"(SUM(($CO$2:$CO$338=\"60\")*(AK$2:AK$338>=60)*1))/AK359*100","v":93.918918918918919},{"$f":"(SUM(($CO$2:$CO$338=\"60\")*(AL$2:AL$338>=60)*1))/AL359*100","v":90.666666666666657},{"$f":"(SUM(($CO$2:$CO$338=\"60\")*(AM$2:AM$338>=60)*1))/AM359*100","v":{"$error":"#DIV/0!"}},{"$f":"(SUM(($CO$2:$CO$338=\"60\")*(AN$2:AN$338>=60)*1))/AN359*100","v":{"$error":"#DIV/0!"}},{"$f":"(SUM(($CO$2:$CO$338=\"60\")*(AO$2:AO$338>=60)*1))/AO359*100","v":{"$error":"#DIV/0!"}},{"$f":"(SUM(($CO$2:$CO$338=\"60\")*(AP$2:AP$338>=60)*1))/AP359*100","v":{"$error":"#DIV/0!"}},{"$f":"(SUM(($CO$2:$CO$338=\"60\")*(AQ$2:AQ$338>=60)*1))/AQ359*100","v":88.387096774193552},{"$f":"(SUM(($CO$2:$CO$338=\"60\")*(AR$2:AR$338>=60)*1))/AR359*100","v":89.677419354838705},{"$f":"(SUM(($CO$2:$CO$338=\"60\")*(AS$2:AS$338>=60)*1))/AS359*100","v":{"$error":"#DIV/0!"}},{"$f":"(SUM(($CO$2:$CO$338=\"60\")*(AT$2:AT$338>=60)*1))/AT359*100","v":94.193548387096769},{"$f":"(SUM(($CO$2:$CO$338=\"60\")*(AU$2:AU$338>=60)*1))/AU359*100","v":92.903225806451616},{"$f":"(SUM(($CO$2:$CO$338=\"60\")*(AV$2:AV$338>=60)*1))/AV359*100","v":91.612903225806448},{"$f":"(SUM(($CO$2:$CO$338=\"60\")*(AW$2:AW$338>=60)*1))/AW359*100","v":95.483870967741936},{"$f":"(SUM(($CO$2:$CO$338=\"60\")*(AX$2:AX$338>=60)*1))/AX359*100","v":90.967741935483872},{"$f":"(SUM(($CO$2:$CO$338=\"60\")*(AY$2:AY$338>=60)*1))/AY359*100","v":95.483870967741936},{"$f":"(SUM(($CO$2:$CO$338=\"60\")*(AZ$2:AZ$338>=60)*1))/AZ359*100","v":95.483870967741936},{"$f":"(SUM(($CO$2:$CO$338=\"60\")*(BA$2:BA$338>=60)*1))/BA359*100","v":92.903225806451616},{"$f":"(SUM(($CO$2:$CO$338=\"60\")*(BB$2:BB$338>=60)*1))/BB359*100","v":90.967741935483872},{"$f":"(SUM(($CO$2:$CO$338=\"60\")*(BC$2:BC$338>=60)*1))/BC359*100","v":{"$error":"#DIV/0!"}},{"$f":"(SUM(($CO$2:$CO$338=\"60\")*(BD$2:BD$338>=60)*1))/BD359*100","v":{"$error":"#DIV/0!"}},{"$f":"(SUM(($CO$2:$CO$338=\"60\")*(BE$2:BE$338>=60)*1))/BE359*100","v":{"$error":"#DIV/0!"}},{"$f":"(SUM(($CO$2:$CO$338=\"60\")*(BF$2:BF$338>=60)*1))/BF359*100","v":{"$error":"#DIV/0!"}},{"$f":"(SUM(($CO$2:$CO$338=\"60\")*(BG$2:BG$338>=60)*1))/BG359*100","v":70.967741935483872},{"$f":"(SUM(($CO$2:$CO$338=\"60\")*(BH$2:BH$338>=60)*1))/BH359*100","v":54.838709677419352},{"$f":"(SUM(($CO$2:$CO$338=\"60\")*(BI$2:BI$338>=60)*1))/BI359*100","v":73.076923076923066},{"$f":"(SUM(($CO$2:$CO$338=\"60\")*(BJ$2:BJ$338>=60)*1))/BJ359*100","v":80},{"$f":"(SUM(($CO$2:$CO$338=\"60\")*(BK$2:BK$338>=60)*1))/BK359*100","v":60},{"$f":"(SUM(($CO$2:$CO$338=\"60\")*(BL$2:BL$338>=60)*1))/BL359*100","v":77.142857142857153},{"$f":"(SUM(($CO$2:$CO$338=\"60\")*(BM$2:BM$338>=60)*1))/BM359*100","v":80},{"$f":"(SUM(($CO$2:$CO$338=\"60\")*(BN$2:BN$338>=60)*1))/BN359*100","v":82.857142857142861},{"$f":"(SUM(($CO$2:$CO$338=\"60\")*(BO$2:BO$338>=60)*1))/BO359*100","v":77.777777777777786},{"$f":"(SUM(($CO$2:$CO$338=\"60\")*(BP$2:BP$338>=60)*1))/BP359*100","v":65.714285714285708},{"$f":"(SUM(($CO$2:$CO$338=\"60\")*(BQ$2:BQ$338>=60)*1))/BQ359*100","v":85.714285714285708},{"$f":"(SUM(($CO$2:$CO$338=\"60\")*(BR$2:BR$338>=60)*1))/BR359*100","v":74.285714285714292},{"$f":"(SUM(($CO$2:$CO$338=\"60\")*(BS$2:BS$338>=60)*1))/BS359*100","v":100},{"$f":"(SUM(($CO$2:$CO$338=\"60\")*(BT$2:BT$338>=60)*1))/BT359*100","v":66.666666666666657},{"$f":"(SUM(($CO$2:$CO$338=\"60\")*(BU$2:BU$338>=60)*1))/BU359*100","v":50},{"$f":"(SUM(($CO$2:$CO$338=\"60\")*(BV$2:BV$338>=60)*1))/BV359*100","v":50},{"$f":"(SUM(($CO$2:$CO$338=\"60\")*(BW$2:BW$338>=60)*1))/BW359*100","v":{"$error":"#DIV/0!"}},{"$f":"IF(L361=0,0,IF(M361=0,AVERAGE(M361,K361,N361),AVERAGE(K361:N361)))","v":97.076031124745825},{"$f":"IF(P361=0,0,IF(Q361=0,AVERAGE(Q361,O361,R361),AVERAGE(O361:R361)))","v":97.101392196303252},{"$f":"IF(T361=0,0,IF(U361=0,AVERAGE(T361,S361,V361),AVERAGE(S361:V361)))","v":97.822062882857793},{"$f":"IF(AB361=0,0,IF(AC361=0,AVERAGE(AB361,AA361,AD361),AVERAGE(AA361:AD361)))","v":92.148501832016251},{"$f":"IF(AF361=0,0,IF(AG361=0,AVERAGE(AF361,AE361,AH361),AVERAGE(AE361:AH361)))","v":92.732579518293804},{"$f":"IF(AJ361=0,0,IF(AK361=0,AVERAGE(AJ361,AI361,AL361),AVERAGE(AI361:AL361)))","v":93.950450450450461},{"$f":"IF(AN361=0,0,IF(AO361=0,AVERAGE(AN361,AM361,AP361),AVERAGE(AM361:AP361)))","v":{"$error":"#DIV/0!"}},{"$f":"IF(AR361=0,0,IF(AS361=0,AVERAGE(AR361,AQ361,AT361),AVERAGE(AQ361:AT361)))","v":{"$error":"#DIV/0!"}},{"$f":"IF(AV361=0,0,IF(AW361=0,AVERAGE(AV361,AU361,AX361),AVERAGE(AU361:AX361)))","v":92.741935483870975},{"$f":"IF(AZ361=0,0,IF(BA361=0,AVERAGE(AZ361,AY361,BB361),AVERAGE(AY361:BB361)))","v":93.709677419354847},{"$f":"IF(BD361=0,0,IF(BE361=0,AVERAGE(BD361,BC361,BF361),AVERAGE(BC361:BF361)))","v":{"$error":"#DIV/0!"}},{"$f":"IF(BH361=0,0,IF(BI361=0,AVERAGE(BH361,BG361,BJ361,BM361),AVERAGE(BG361:BJ361)))","v":69.720843672456567},null,null,null,null,null,null,null,null,null,21,"60taux",null,{"$f":"(SUM(($CO$2:$CO$339=\"60\")*(CV$2:CV$339>=60)*1))/CV359*100","v":{"$error":"#REF!"}}]
[null,null,null,null,null,null,null,null,null,"60avas",{"$f":"K364-K365","v":-3.138998682476938},{"$f":"L364-L365","v":-2.2016197783460996},{"$error":"#DIV/0!"},2.2608695652173907,-4.2037815126050475,-0.77931769722816568,0.78571428571427759,1.3084886128363848,-3.3592436974790445,-0.26260504201681556,0.70788912579958208,2.7815734989647609,{"$error":"#DIV/0!"},{"$error":"#DIV/0!"},{"$error":"#DIV/0!"},{"$error":"#DIV/0!"},-4.3972602739726199,-2.311643835616394,-2.7272727272727053,0.48949771689495947,-5.0203628285819377,-3.5135135135134874,-2.0908922621251094,-0.56573563422885798,-4.1891891891892072,-4.1621621621621756,-2.864864864864856,-1.6299590820139116,{"$error":"#DIV/0!"},{"$error":"#DIV/0!"},{"$error":"#DIV/0!"},{"$error":"#DIV/0!"},-5.626373626373649,-4.1983016983017052,{"$error":"#DIV/0!"},-1.6916416916416921,-4.6761571761572185,-4.0884115884116312,-1.2570762570762923,-1.7007992007992527,-6.7091242091242407,-4.6287046287046394,-2.774725274725327,-2.1636696636697081,{"$error":"#DIV/0!"},{"$error":"#DIV/0!"},{"$error":"#DIV/0!"},{"$error":"#DIV/0!"},-4.4791666666666714,-0.97916666666665719,-7.5875000000000057,-1.5588235294117823,-4.7549019607843235,-1.058823529411768,-3.4673202614379051,0.97712418300655202,-0.76780185758514108,-2.3366013071895466,-3.9019607843137152,-6.0816993464052302,{"$error":"#DIV/0!"},{"$error":"#DIV/0!"},{"$error":"#DIV/0!"},{"$error":"#DIV/0!"},{"$f":"BW364-BW365","v":{"$error":"#DIV/0!"}},{"$error":"#DIV/0!"},-0.72222407782062703,-3.3096528682875714E-2,-2.2366697799916864,-2.7976260596123552,-3.2115438245575518,{"$error":"#DIV/0!"},{"$error":"#DIV/0!"},-2.9306110556110951,-4.0690559440559895,{"$f":"CH364-CH365","v":{"$error":"#DIV/0!"}},-3.6511642156862791,null,null,null,null,null,null,null,null,null,22,"60avas",null,{"$f":"CV364-CV365","v":{"$error":"#REF!"}}]
[null,null,null,null,null,null,null,null,null,"60avaa",{"$f":"K366-K367","v":-0.30048608042424974},{"$f":"L366-L367","v":-1.9467037671232958},{"$error":"#DIV/0!"},-2.383140147523747,-0.58166491043205326,-2.3448202054794507,-3.2982086406744315,-2.5755500207555002,-0.4805057955743024,-1.1275026343519983,-3.1677350427350035,-1.8343711083437029,{"$error":"#DIV/0!"},{"$error":"#DIV/0!"},{"$error":"#DIV/0!"},{"$error":"#DIV/0!"},-2.4317022482524493,-2.3830072880705728,1.8181818181817988,-4.0840243228302882,-0.15357408786302074,-1.8675472390386858,-1.499441548771415,-2.1846484165324256,2.935241240139419E-2,0.54338653458086128,-1.7523390203631664,-0.55716586151366698,{"$error":"#DIV/0!"},{"$error":"#DIV/0!"},{"$error":"#DIV/0!"},{"$error":"#DIV/0!"},-0.47216633132130426,-0.64470154258890489,{"$error":"#DIV/0!"},-2.0045271629779506,-0.40325285043597603,-0.245640509725078,-0.99346076458763832,-1.0848423876593785,-0.24899396378280869,-0.69164989939646659,-3.1891348088531828,-1.2969483568075333,{"$error":"#DIV/0!"},{"$error":"#DIV/0!"},{"$error":"#DIV/0!"},{"$error":"#DIV/0!"},1.6772727272727224,-4.5409090909091034,4.2484848484848641,4.9523809523809348,7.3809523809523938,2.2857142857142918,-1.0952380952381304,1.0476190476190368,4.2666666666666515,-0.59523809523810201,-1.5238095238095326,-2.404761904761898,{"$error":"#DIV/0!"},{"$error":"#DIV/0!"},{"$error":"#DIV/0!"},{"$error":"#DIV/0!"},{"$f":"BW366-BW367","v":{"$error":"#DIV/0!"}},{"$error":"#DIV/0!"},-2.2000609443353625,-1.6525286452512375,-1.7701380102428743,-1.4263028230513868,-0.43419148372363736,{"$error":"#DIV/0!"},{"$error":"#DIV/0!"},-0.68179912810201415,-1.3566817572100121,{"$f":"CH366-CH367","v":{"$error":"#DIV/0!"}},1.5843073593073598,null,null,null,null,null,null,null,null,null,23,"60avaa",null,{"$f":"CV366-CV367","v":{"$error":"#REF!"}}]
[null,null,null,null,null,null,null,null,null,"60m",{"$f":"SUMPRODUCT((($CO$2:$CO$338=\"60\")*(K$2:K$338)*($J$2:$J$338=\"M\"))/SUMPRODUCT(($CO$2:$CO$338=\"60\")*(K$2:K$338>2)*($J$2:$J$338=\"M\")))","v":76.136363636363626},{"$f":"SUMPRODUCT((($CO$2:$CO$338=\"60\")*(L$2:L$338)*($J$2:$J$338=\"M\"))/SUMPRODUCT(($CO$2:$CO$338=\"60\")*(L$2:L$338>2)*($J$2:$J$338=\"M\")))","v":78.088235294117652},{"$f":"SUMPRODUCT((($CO$2:$CO$338=\"60\")*(M$2:M$338)*($J$2:$J$338=\"M\"))/SUMPRODUCT(($CO$2:$CO$338=\"60\")*(M$2:M$338>2)*($J$2:$J$338=\"M\")))","v":95},{"$f":"SUMPRODUCT((($CO$2:$CO$338=\"60\")*(N$2:N$338)*($J$2:$J$338=\"M\"))/SUMPRODUCT(($CO$2:$CO$338=\"60\")*(N$2:N$338>2)*($J$2:$J$338=\"M\")))","v":82.115942028985486},{"$f":"SUMPRODUCT((($CO$2:$CO$338=\"60\")*(O$2:O$338)*($J$2:$J$338=\"M\"))/SUMPRODUCT(($CO$2:$CO$338=\"60\")*(O$2:O$338>2)*($J$2:$J$338=\"M\")))","v":77.867647058823522},{"$f":"SUMPRODUCT((($CO$2:$CO$338=\"60\")*(P$2:P$338)*($J$2:$J$338=\"M\"))/SUMPRODUCT(($CO$2:$CO$338=\"60\")*(P$2:P$338>2)*($J$2:$J$338=\"M\")))","v":80.149253731343279},{"$f":"SUMPRODUCT((($CO$2:$CO$338=\"60\")*(Q$2:Q$338)*($J$2:$J$338=\"M\"))/SUMPRODUCT(($CO$2:$CO$338=\"60\")*(Q$2:Q$338>2)*($J$2:$J$338=\"M\")))","v":82.499999999999986},{"$f":"SUMPRODUCT((($CO$2:$CO$338=\"60\")*(R$2:R$338)*($J$2:$J$338=\"M\"))/SUMPRODUCT(($CO$2:$CO$338=\"60\")*(R$2:R$338>2)*($J$2:$J$338=\"M\")))","v":83.594202898550691},{"$f":"SUMPRODUCT((($CO$2:$CO$338=\"60\")*(S$2:S$338)*($J$2:$J$338=\"M\"))/SUMPRODUCT(($CO$2:$CO$338=\"60\")*(S$2:S$338>2)*($J$2:$J$338=\"M\")))","v":77.426470588235262},{"$f":"SUMPRODUCT((($CO$2:$CO$338=\"60\")*(T$2:T$338)*($J$2:$J$338=\"M\"))/SUMPRODUCT(($CO$2:$CO$338=\"60\")*(T$2:T$338>2)*($J$2:$J$338=\"M\")))","v":80.808823529411768},{"$f":"SUMPRODUCT((($CO$2:$CO$338=\"60\")*(U$2:U$338)*($J$2:$J$338=\"M\"))/SUMPRODUCT(($CO$2:$CO$338=\"60\")*(U$2:U$338>2)*($J$2:$J$338=\"M\")))","v":79.850746268656707},{"$f":"SUMPRODUCT((($CO$2:$CO$338=\"60\")*(V$2:V$338)*($J$2:$J$338=\"M\"))/SUMPRODUCT(($CO$2:$CO$338=\"60\")*(V$2:V$338>2)*($J$2:$J$338=\"M\")))","v":83.710144927536192},{"$f":"SUMPRODUCT((($CO$2:$CO$338=\"60\")*(W$2:W$338)*($J$2:$J$338=\"M\"))/SUMPRODUCT(($CO$2:$CO$338=\"60\")*(W$2:W$338>2)*($J$2:$J$338=\"M\")))","v":{"$error":"#DIV/0!"}},{"$f":"SUMPRODUCT((($CO$2:$CO$338=\"60\")*(X$2:X$338)*($J$2:$J$338=\"M\"))/SUMPRODUCT(($CO$2:$CO$338=\"60\")*(X$2:X$338>2)*($J$2:$J$338=\"M\")))","v":{"$error":"#DIV/0!"}},{"$f":"SUMPRODUCT((($CO$2:$CO$338=\"60\")*(Y$2:Y$338)*($J$2:$J$338=\"M\"))/SUMPRODUCT(($CO$2:$CO$338=\"60\")*(Y$2:Y$338>2)*($J$2:$J$338=\"M\")))","v":{"$error":"#DIV/0!"}},{"$f":"SUMPRODUCT((($CO$2:$CO$338=\"60\")*(Z$2:Z$338)*($J$2:$J$338=\"M\"))/SUMPRODUCT(($CO$2:$CO$338=\"60\")*(Z$2:Z$338>2)*($J$2:$J$338=\"M\")))","v":{"$error":"#DIV/0!"}},{"$f":"SUMPRODUCT((($CO$2:$CO$338=\"60\")*(AA$2:AA$338)*($J$2:$J$338=\"M\"))/SUMPRODUCT(($CO$2:$CO$338=\"60\")*(AA$2:AA$338>2)*($J$2:$J$338=\"M\")))","v":68.410958904109592},{"$f":"SUMPRODUCT((($CO$2:$CO$338=\"60\")*(AB$2:AB$338)*($J$2:$J$338=\"M\"))/SUMPRODUCT(($CO$2:$CO$338=\"60\")*(AB$2:AB$338>2)*($J$2:$J$338=\"M\")))","v":76.250000000000028},{"$f":"SUMPRODUCT((($CO$2:$CO$338=\"60\")*(AC$2:AC$338)*($J$2:$J$338=\"M\"))/SUMPRODUCT(($CO$2:$CO$338=\"60\")*(AC$2:AC$338>2)*($J$2:$J$338=\"M\")))","v":76.363636363636374},{"$f":"SUMPRODUCT((($CO$2:$CO$338=\"60\")*(AD$2:AD$338)*($J$2:$J$338=\"M\"))/SUMPRODUCT(($CO$2:$CO$338=\"60\")*(AD$2:AD$338>2)*($J$2:$J$338=\"M\")))","v":76.356164383561634},{"$f":"SUMPRODUCT((($CO$2:$CO$338=\"60\")*(AE$2:AE$338)*($J$2:$J$338=\"M\"))/SUMPRODUCT(($CO$2:$CO$338=\"60\")*(AE$2:AE$338>2)*($J$2:$J$338=\"M\")))","v":73.493150684931521},{"$f":"SUMPRODUCT((($CO$2:$CO$338=\"60\")*(AF$2:AF$338)*($J$2:$J$338=\"M\"))/SUMPRODUCT(($CO$2:$CO$338=\"60\")*(AF$2:AF$338>2)*($J$2:$J$338=\"M\")))","v":74.999999999999986},{"$f":"SUMPRODUCT((($CO$2:$CO$338=\"60\")*(AG$2:AG$338)*($J$2:$J$338=\"M\"))/SUMPRODUCT(($CO$2:$CO$338=\"60\")*(AG$2:AG$338>2)*($J$2:$J$338=\"M\")))","v":75.273972602739732},{"$f":"SUMPRODUCT((($CO$2:$CO$338=\"60\")*(AH$2:AH$338)*($J$2:$J$338=\"M\"))/SUMPRODUCT(($CO$2:$CO$338=\"60\")*(AH$2:AH$338>2)*($J$2:$J$338=\"M\")))","v":79.109589041095873},{"$f":"SUMPRODUCT((($CO$2:$CO$338=\"60\")*(AI$2:AI$338)*($J$2:$J$338=\"M\"))/SUMPRODUCT(($CO$2:$CO$338=\"60\")*(AI$2:AI$338>2)*($J$2:$J$338=\"M\")))","v":76.68918918918915},{"$f":"SUMPRODUCT((($CO$2:$CO$338=\"60\")*(AJ$2:AJ$338)*($J$2:$J$338=\"M\"))/SUMPRODUCT(($CO$2:$CO$338=\"60\")*(AJ$2:AJ$338>2)*($J$2:$J$338=\"M\")))","v":76.716216216216182},{"$f":"SUMPRODUCT((($CO$2:$CO$338=\"60\")*(AK$2:AK$338)*($J$2:$J$338=\"M\"))/SUMPRODUCT(($CO$2:$CO$338=\"60\")*(AK$2:AK$338>2)*($J$2:$J$338=\"M\")))","v":77.675675675675649},{"$f":"SUMPRODUCT((($CO$2:$CO$338=\"60\")*(AL$2:AL$338)*($J$2:$J$338=\"M\"))/SUMPRODUCT(($CO$2:$CO$338=\"60\")*(AL$2:AL$338>2)*($J$2:$J$338=\"M\")))","v":77.123287671232873},{"$f":"SUMPRODUCT((($CO$2:$CO$338=\"60\")*(AM$2:AM$338)*($J$2:$J$338=\"M\"))/SUMPRODUCT(($CO$2:$CO$338=\"60\")*(AM$2:AM$338>2)*($J$2:$J$338=\"M\")))","v":{"$error":"#DIV/0!"}},{"$f":"SUMPRODUCT((($CO$2:$CO$338=\"60\")*(AN$2:AN$338)*($J$2:$J$338=\"M\"))/SUMPRODUCT(($CO$2:$CO$338=\"60\")*(AN$2:AN$338>2)*($J$2:$J$338=\"M\")))","v":{"$error":"#DIV/0!"}},{"$f":"SUMPRODUCT((($CO$2:$CO$338=\"60\")*(AO$2:AO$338)*($J$2:$J$338=\"M\"))/SUMPRODUCT(($CO$2:$CO$338=\"60\")*(AO$2:AO$338>2)*($J$2:$J$338=\"M\")))","v":{"$error":"#DIV/0!"}},{"$f":"SUMPRODUCT((($CO$2:$CO$338=\"60\")*(AP$2:AP$338)*($J$2:$J$338=\"M\"))/SUMPRODUCT(($CO$2:$CO$338=\"60\")*(AP$2:AP$338>2)*($J$2:$J$338=\"M\")))","v":{"$error":"#DIV/0!"}},{"$f":"SUMPRODUCT((($CO$2:$CO$338=\"60\")*(AQ$2:AQ$338)*($J$2:$J$338=\"M\"))/SUMPRODUCT(($CO$2:$CO$338=\"60\")*(AQ$2:AQ$338>2)*($J$2:$J$338=\"M\")))","v":72.230769230769212},{"$f":"SUMPRODUCT((($CO$2:$CO$338=\"60\")*(AR$2:AR$338)*($J$2:$J$338=\"M\"))/SUMPRODUCT(($CO$2:$CO$338=\"60\")*(AR$2:AR$338>2)*($J$2:$J$338=\"M\")))","v":73.269230769230774},{"$f":"SUMPRODUCT((($CO$2:$CO$338=\"60\")*(AS$2:AS$338)*($J$2:$J$338=\"M\"))/SUMPRODUCT(($CO$2:$CO$338=\"60\")*(AS$2:AS$338>2)*($J$2:$J$338=\"M\")))","v":{"$error":"#DIV/0!"}},{"$f":"SUMPRODUCT((($CO$2:$CO$338=\"60\")*(AT$2:AT$338)*($J$2:$J$338=\"M\"))/SUMPRODUCT(($CO$2:$CO$338=\"60\")*(AT$2:AT$338>2)*($J$2:$J$338=\"M\")))","v":80.256410256410291},{"$f":"SUMPRODUCT((($CO$2:$CO$338=\"60\")*(AU$2:AU$338)*($J$2:$J$338=\"M\"))/SUMPRODUCT(($CO$2:$CO$338=\"60\")*(AU$2:AU$338>2)*($J$2:$J$338=\"M\")))","v":75.064102564102541},{"$f":"SUMPRODUCT((($CO$2:$CO$338=\"60\")*(AV$2:AV$338)*($J$2:$J$338=\"M\"))/SUMPRODUCT(($CO$2:$CO$338=\"60\")*(AV$2:AV$338>2)*($J$2:$J$338=\"M\")))","v":74.807692307692292},{"$f":"SUMPRODUCT((($CO$2:$CO$338=\"60\")*(AW$2:AW$338)*($J$2:$J$338=\"M\"))/SUMPRODUCT(($CO$2:$CO$338=\"60\")*(AW$2:AW$338>2)*($J$2:$J$338=\"M\")))","v":81.794871794871781},{"$f":"SUMPRODUCT((($CO$2:$CO$338=\"60\")*(AX$2:AX$338)*($J$2:$J$338=\"M\"))/SUMPRODUCT(($CO$2:$CO$338=\"60\")*(AX$2:AX$338>2)*($J$2:$J$338=\"M\")))","v":75.961538461538439},{"$f":"SUMPRODUCT((($CO$2:$CO$338=\"60\")*(AY$2:AY$338)*($J$2:$J$338=\"M\"))/SUMPRODUCT(($CO$2:$CO$338=\"60\")*(AY$2:AY$338>2)*($J$2:$J$338=\"M\")))","v":76.602564102564088},{"$f":"SUMPRODUCT((($CO$2:$CO$338=\"60\")*(AZ$2:AZ$338)*($J$2:$J$338=\"M\"))/SUMPRODUCT(($CO$2:$CO$338=\"60\")*(AZ$2:AZ$338>2)*($J$2:$J$338=\"M\")))","v":76.410256410256409},{"$f":"SUMPRODUCT((($CO$2:$CO$338=\"60\")*(BA$2:BA$338)*($J$2:$J$338=\"M\"))/SUMPRODUCT(($CO$2:$CO$338=\"60\")*(BA$2:BA$338>2)*($J$2:$J$338=\"M\")))","v":78.653846153846132},{"$f":"SUMPRODUCT((($CO$2:$CO$338=\"60\")*(BB$2:BB$338)*($J$2:$J$338=\"M\"))/SUMPRODUCT(($CO$2:$CO$338=\"60\")*(BB$2:BB$338>2)*($J$2:$J$338=\"M\")))","v":76.602564102564116},{"$f":"SUMPRODUCT((($CO$2:$CO$338=\"60\")*(BC$2:BC$338)*($J$2:$J$338=\"M\"))/SUMPRODUCT(($CO$2:$CO$338=\"60\")*(BC$2:BC$338>2)*($J$2:$J$338=\"M\")))","v":{"$error":"#DIV/0!"}},{"$f":"SUMPRODUCT((($CO$2:$CO$338=\"60\")*(BD$2:BD$338)*($J$2:$J$338=\"M\"))/SUMPRODUCT(($CO$2:$CO$338=\"60\")*(BD$2:BD$338>2)*($J$2:$J$338=\"M\")))","v":{"$error":"#DIV/0!"}},{"$f":"SUMPRODUCT((($CO$2:$CO$338=\"60\")*(BE$2:BE$338)*($J$2:$J$338=\"M\"))/SUMPRODUCT(($CO$2:$CO$338=\"60\")*(BE$2:BE$338>2)*($J$2:$J$338=\"M\")))","v":{"$error":"#DIV/0!"}},{"$f":"SUMPRODUCT((($CO$2:$CO$338=\"60\")*(BF$2:BF$338)*($J$2:$J$338=\"M\"))/SUMPRODUCT(($CO$2:$CO$338=\"60\")*(BF$2:BF$338>2)*($J$2:$J$338=\"M\")))","v":{"$error":"#DIV/0!"}},{"$f":"SUMPRODUCT((($CO$2:$CO$338=\"60\")*(BG$2:BG$338)*($J$2:$J$338=\"M\"))/SUMPRODUCT(($CO$2:$CO$338=\"60\")*(BG$2:BG$338>2)*($J$2:$J$338=\"M\")))","v":63.1875},{"$f":"SUMPRODUCT((($CO$2:$CO$338=\"60\")*(BH$2:BH$338)*($J$2:$J$338=\"M\"))/SUMPRODUCT(($CO$2:$CO$338=\"60\")*(BH$2:BH$338>2)*($J$2:$J$338=\"M\")))","v":64.6875},{"$f":"SUMPRODUCT((($CO$2:$CO$338=\"60\")*(BI$2:BI$338)*($J$2:$J$338=\"M\"))/SUMPRODUCT(($CO$2:$CO$338=\"60\")*(BI$2:BI$338>2)*($J$2:$J$338=\"M\")))","v":65.599999999999994},{"$f":"SUMPRODUCT((($CO$2:$CO$338=\"60\")*(BJ$2:BJ$338)*($J$2:$J$338=\"M\"))/SUMPRODUCT(($CO$2:$CO$338=\"60\")*(BJ$2:BJ$338>2)*($J$2:$J$338=\"M\")))","v":74.499999999999986},{"$f":"SUMPRODUCT((($CO$2:$CO$338=\"60\")*(BK$2:BK$338)*($J$2:$J$338=\"M\"))/SUMPRODUCT(($CO$2:$CO$338=\"60\")*(BK$2:BK$338>2)*($J$2:$J$338=\"M\")))","v":61.833333333333329},{"$f":"SUMPRODUCT((($CO$2:$CO$338=\"60\")*(BL$2:BL$338)*($J$2:$J$338=\"M\"))/SUMPRODUCT(($CO$2:$CO$338=\"60\")*(BL$2:BL$338>2)*($J$2:$J$338=\"M\")))","v":65},{"$f":"SUMPRODUCT((($CO$2:$CO$338=\"60\")*(BM$2:BM$338)*($J$2:$J$338=\"M\"))/SUMPRODUCT(($CO$2:$CO$338=\"60\")*(BM$2:BM$338>2)*($J$2:$J$338=\"M\")))","v":67.944444444444443},{"$f":"SUMPRODUCT((($CO$2:$CO$338=\"60\")*(BN$2:BN$338)*($J$2:$J$338=\"M\"))/SUMPRODUCT(($CO$2:$CO$338=\"60\")*(BN$2:BN$338>2)*($J$2:$J$338=\"M\")))","v":71.3888888888889},{"$f":"SUMPRODUCT((($CO$2:$CO$338=\"60\")*(BO$2:BO$338)*($J$2:$J$338=\"M\"))/SUMPRODUCT(($CO$2:$CO$338=\"60\")*(BO$2:BO$338>2)*($J$2:$J$338=\"M\")))","v":66.526315789473685},{"$f":"SUMPRODUCT((($CO$2:$CO$338=\"60\")*(BP$2:BP$338)*($J$2:$J$338=\"M\"))/SUMPRODUCT(($CO$2:$CO$338=\"60\")*(BP$2:BP$338>2)*($J$2:$J$338=\"M\")))","v":63.722222222222221},{"$f":"SUMPRODUCT((($CO$2:$CO$338=\"60\")*(BQ$2:BQ$338)*($J$2:$J$338=\"M\"))/SUMPRODUCT(($CO$2:$CO$338=\"60\")*(BQ$2:BQ$338>2)*($J$2:$J$338=\"M\")))","v":73.333333333333329},{"$f":"SUMPRODUCT((($CO$2:$CO$338=\"60\")*(BR$2:BR$338)*($J$2:$J$338=\"M\"))/SUMPRODUCT(($CO$2:$CO$338=\"60\")*(BR$2:BR$338>2)*($J$2:$J$338=\"M\")))","v":66.388888888888886},{"$f":"SUMPRODUCT((($CO$2:$CO$338=\"60\")*(BS$2:BS$338)*($J$2:$J$338=\"M\"))/SUMPRODUCT(($CO$2:$CO$338=\"60\")*(BS$2:BS$338>2)*($J$2:$J$338=\"M\")))","v":71.666666666666657},{"$f":"SUMPRODUCT((($CO$2:$CO$338=\"60\")*(BT$2:BT$338)*($J$2:$J$338=\"M\"))/SUMPRODUCT(($CO$2:$CO$338=\"60\")*(BT$2:BT$338>2)*($J$2:$J$338=\"M\")))","v":67.666666666666671},{"$f":"SUMPRODUCT((($CO$2:$CO$338=\"60\")*(BU$2:BU$338)*($J$2:$J$338=\"M\"))/SUMPRODUCT(($CO$2:$CO$338=\"60\")*(BU$2:BU$338>2)*($J$2:$J$338=\"M\")))","v":60},{"$f":"SUMPRODUCT((($CO$2:$CO$338=\"60\")*(BV$2:BV$338)*($J$2:$J$338=\"M\"))/SUMPRODUCT(($CO$2:$CO$338=\"60\")*(BV$2:BV$338>2)*($J$2:$J$338=\"M\")))","v":54},{"$f":"SUMPRODUCT((($CO$2:$CO$338=\"60\")*(BW$2:BW$338)*($J$2:$J$338=\"M\"))/SUMPRODUCT(($CO$2:$CO$338=\"60\")*(BW$2:BW$338>2)*($J$2:$J$338=\"M\")))","v":{"$error":"#DIV/0!"}},{"$f":"IF(L364=0,0,IF(M364=0,AVERAGE(M364,K364,N364),AVERAGE(K364:N364)))","v":82.835135239866688},{"$f":"IF(P364=0,0,IF(Q364=0,AVERAGE(Q364,O364,R364),AVERAGE(O364:R364)))","v":81.027775922179373},{"$f":"IF(T364=0,0,IF(U364=0,AVERAGE(T364,S364,V364),AVERAGE(S364:V364)))","v":80.449046328459985},{"$f":"IF(AB364=0,0,IF(AC364=0,AVERAGE(AB364,AA364,AD364),AVERAGE(AA364:AD364)))","v":74.34518991282691},{"$f":"IF(AF364=0,0,IF(AG364=0,AVERAGE(AF364,AE364,AH364),AVERAGE(AE364:AH364)))","v":75.719178082191775},{"$f":"IF(AJ364=0,0,IF(AK364=0,AVERAGE(AJ364,AI364,AL364),AVERAGE(AI364:AL364)))","v":77.051092188078457},{"$f":"IF(AN364=0,0,IF(AO364=0,AVERAGE(AN364,AM364,AP364),AVERAGE(AM364:AP364)))","v":{"$error":"#DIV/0!"}},{"$f":"IF(AR364=0,0,IF(AS364=0,AVERAGE(AR364,AQ364,AT364),AVERAGE(AQ364:AT364)))","v":{"$error":"#DIV/0!"}},{"$f":"IF(AV364=0,0,IF(AW364=0,AVERAGE(AV364,AU364,AX364),AVERAGE(AU364:AX364)))","v":76.90705128205127},{"$f":"IF(AZ364=0,0,IF(BA364=0,AVERAGE(AZ364,AY364,BB364),AVERAGE(AY364:BB364)))","v":77.067307692307679},{"$f":"IF(BD364=0,0,IF(BE364=0,AVERAGE(BD364,BC364,BF364),AVERAGE(BC364:BF364)))","v":{"$error":"#DIV/0!"}},{"$f":"IF(BH364=0,0,IF(BI364=0,AVERAGE(BH364,BG364,BJ364,BM364),AVERAGE(BG364:BJ364)))","v":66.993749999999991},null,null,null,null,null,null,null,null,null,24,"60m",null,{"$f":"SUMPRODUCT(((#REF!>2)*($CO$2:$CO$339=\"60\")*(#REF!)*(#REF!=\"M\"))/SUMPRODUCT((#REF!>2)*($CO$2:$CO$339=\"60\")*(#REF!>2)*(#REF!=\"M\")))","v":{"$error":"#REF!"}}]
[null,null,null,null,null,null,null,null,null,"60f",{"$f":"SUMPRODUCT((($CO$2:$CO$338=\"60\")*(K$2:K$338)*($J$2:$J$338=\"F\"))/SUMPRODUCT(($CO$2:$CO$338=\"60\")*(K$2:K$338>2)*($J$2:$J$338=\"F\")))","v":79.275362318840564},{"$f":"SUMPRODUCT((($CO$2:$CO$338=\"60\")*(L$2:L$338)*($J$2:$J$338=\"F\"))/SUMPRODUCT(($CO$2:$CO$338=\"60\")*(L$2:L$338>2)*($J$2:$J$338=\"F\")))","v":80.289855072463752},{"$f":"SUMPRODUCT((($CO$2:$CO$338=\"60\")*(M$2:M$338)*($J$2:$J$338=\"F\"))/SUMPRODUCT(($CO$2:$CO$338=\"60\")*(M$2:M$338>2)*($J$2:$J$338=\"F\")))","v":{"$error":"#DIV/0!"}},{"$f":"SUMPRODUCT((($CO$2:$CO$338=\"60\")*(N$2:N$338)*($J$2:$J$338=\"F\"))/SUMPRODUCT(($CO$2:$CO$338=\"60\")*(N$2:N$338>2)*($J$2:$J$338=\"F\")))","v":79.855072463768096},{"$f":"SUMPRODUCT((($CO$2:$CO$338=\"60\")*(O$2:O$338)*($J$2:$J$338=\"F\"))/SUMPRODUCT(($CO$2:$CO$338=\"60\")*(O$2:O$338>2)*($J$2:$J$338=\"F\")))","v":82.071428571428569},{"$f":"SUMPRODUCT((($CO$2:$CO$338=\"60\")*(P$2:P$338)*($J$2:$J$338=\"F\"))/SUMPRODUCT(($CO$2:$CO$338=\"60\")*(P$2:P$338>2)*($J$2:$J$338=\"F\")))","v":80.928571428571445},{"$f":"SUMPRODUCT((($CO$2:$CO$338=\"60\")*(Q$2:Q$338)*($J$2:$J$338=\"F\"))/SUMPRODUCT(($CO$2:$CO$338=\"60\")*(Q$2:Q$338>2)*($J$2:$J$338=\"F\")))","v":81.714285714285708},{"$f":"SUMPRODUCT((($CO$2:$CO$338=\"60\")*(R$2:R$338)*($J$2:$J$338=\"F\"))/SUMPRODUCT(($CO$2:$CO$338=\"60\")*(R$2:R$338>2)*($J$2:$J$338=\"F\")))","v":82.285714285714306},{"$f":"SUMPRODUCT((($CO$2:$CO$338=\"60\")*(S$2:S$338)*($J$2:$J$338=\"F\"))/SUMPRODUCT(($CO$2:$CO$338=\"60\")*(S$2:S$338>2)*($J$2:$J$338=\"F\")))","v":80.785714285714306},{"$f":"SUMPRODUCT((($CO$2:$CO$338=\"60\")*(T$2:T$338)*($J$2:$J$338=\"F\"))/SUMPRODUCT(($CO$2:$CO$338=\"60\")*(T$2:T$338>2)*($J$2:$J$338=\"F\")))","v":81.071428571428584},{"$f":"SUMPRODUCT((($CO$2:$CO$338=\"60\")*(U$2:U$338)*($J$2:$J$338=\"F\"))/SUMPRODUCT(($CO$2:$CO$338=\"60\")*(U$2:U$338>2)*($J$2:$J$338=\"F\")))","v":79.142857142857125},{"$f":"SUMPRODUCT((($CO$2:$CO$338=\"60\")*(V$2:V$338)*($J$2:$J$338=\"F\"))/SUMPRODUCT(($CO$2:$CO$338=\"60\")*(V$2:V$338>2)*($J$2:$J$338=\"F\")))","v":80.928571428571431},{"$f":"SUMPRODUCT((($CO$2:$CO$338=\"60\")*(W$2:W$338)*($J$2:$J$338=\"F\"))/SUMPRODUCT(($CO$2:$CO$338=\"60\")*(W$2:W$338>2)*($J$2:$J$338=\"F\")))","v":{"$error":"#DIV/0!"}},{"$f":"SUMPRODUCT((($CO$2:$CO$338=\"60\")*(X$2:X$338)*($J$2:$J$338=\"F\"))/SUMPRODUCT(($CO$2:$CO$338=\"60\")*(X$2:X$338>2)*($J$2:$J$338=\"F\")))","v":{"$error":"#DIV/0!"}},{"$f":"SUMPRODUCT((($CO$2:$CO$338=\"60\")*(Y$2:Y$338)*($J$2:$J$338=\"F\"))/SUMPRODUCT(($CO$2:$CO$338=\"60\")*(Y$2:Y$338>2)*($J$2:$J$338=\"F\")))","v":{"$error":"#DIV/0!"}},{"$f":"SUMPRODUCT((($CO$2:$CO$338=\"60\")*(Z$2:Z$338)*($J$2:$J$338=\"F\"))/SUMPRODUCT(($CO$2:$CO$338=\"60\")*(Z$2:Z$338>2)*($J$2:$J$338=\"F\")))","v":{"$error":"#DIV/0!"}},{"$f":"SUMPRODUCT((($CO$2:$CO$338=\"60\")*(AA$2:AA$338)*($J$2:$J$338=\"F\"))/SUMPRODUCT(($CO$2:$CO$338=\"60\")*(AA$2:AA$338>2)*($J$2:$J$338=\"F\")))","v":72.808219178082211},{"$f":"SUMPRODUCT((($CO$2:$CO$338=\"60\")*(AB$2:AB$338)*($J$2:$J$338=\"F\"))/SUMPRODUCT(($CO$2:$CO$338=\"60\")*(AB$2:AB$338>2)*($J$2:$J$338=\"F\")))","v":78.561643835616422},{"$f":"SUMPRODUCT((($CO$2:$CO$338=\"60\")*(AC$2:AC$338)*($J$2:$J$338=\"F\"))/SUMPRODUCT(($CO$2:$CO$338=\"60\")*(AC$2:AC$338>2)*($J$2:$J$338=\"F\")))","v":79.090909090909079},{"$f":"SUMPRODUCT((($CO$2:$CO$338=\"60\")*(AD$2:AD$338)*($J$2:$J$338=\"F\"))/SUMPRODUCT(($CO$2:$CO$338=\"60\")*(AD$2:AD$338>2)*($J$2:$J$338=\"F\")))","v":75.866666666666674},{"$f":"SUMPRODUCT((($CO$2:$CO$338=\"60\")*(AE$2:AE$338)*($J$2:$J$338=\"F\"))/SUMPRODUCT(($CO$2:$CO$338=\"60\")*(AE$2:AE$338>2)*($J$2:$J$338=\"F\")))","v":78.513513513513459},{"$f":"SUMPRODUCT((($CO$2:$CO$338=\"60\")*(AF$2:AF$338)*($J$2:$J$338=\"F\"))/SUMPRODUCT(($CO$2:$CO$338=\"60\")*(AF$2:AF$338>2)*($J$2:$J$338=\"F\")))","v":78.513513513513473},{"$f":"SUMPRODUCT((($CO$2:$CO$338=\"60\")*(AG$2:AG$338)*($J$2:$J$338=\"F\"))/SUMPRODUCT(($CO$2:$CO$338=\"60\")*(AG$2:AG$338>2)*($J$2:$J$338=\"F\")))","v":77.364864864864842},{"$f":"SUMPRODUCT((($CO$2:$CO$338=\"60\")*(AH$2:AH$338)*($J$2:$J$338=\"F\"))/SUMPRODUCT(($CO$2:$CO$338=\"60\")*(AH$2:AH$338>2)*($J$2:$J$338=\"F\")))","v":79.675324675324731},{"$f":"SUMPRODUCT((($CO$2:$CO$338=\"60\")*(AI$2:AI$338)*($J$2:$J$338=\"F\"))/SUMPRODUCT(($CO$2:$CO$338=\"60\")*(AI$2:AI$338>2)*($J$2:$J$338=\"F\")))","v":80.878378378378358},{"$f":"SUMPRODUCT((($CO$2:$CO$338=\"60\")*(AJ$2:AJ$338)*($J$2:$J$338=\"F\"))/SUMPRODUCT(($CO$2:$CO$338=\"60\")*(AJ$2:AJ$338>2)*($J$2:$J$338=\"F\")))","v":80.878378378378358},{"$f":"SUMPRODUCT((($CO$2:$CO$338=\"60\")*(AK$2:AK$338)*($J$2:$J$338=\"F\"))/SUMPRODUCT(($CO$2:$CO$338=\"60\")*(AK$2:AK$338>2)*($J$2:$J$338=\"F\")))","v":80.540540540540505},{"$f":"SUMPRODUCT((($CO$2:$CO$338=\"60\")*(AL$2:AL$338)*($J$2:$J$338=\"F\"))/SUMPRODUCT(($CO$2:$CO$338=\"60\")*(AL$2:AL$338>2)*($J$2:$J$338=\"F\")))","v":78.753246753246785},{"$f":"SUMPRODUCT((($CO$2:$CO$338=\"60\")*(AM$2:AM$338)*($J$2:$J$338=\"F\"))/SUMPRODUCT(($CO$2:$CO$338=\"60\")*(AM$2:AM$338>2)*($J$2:$J$338=\"F\")))","v":{"$error":"#DIV/0!"}},{"$f":"SUMPRODUCT((($CO$2:$CO$338=\"60\")*(AN$2:AN$338)*($J$2:$J$338=\"F\"))/SUMPRODUCT(($CO$2:$CO$338=\"60\")*(AN$2:AN$338>2)*($J$2:$J$338=\"F\")))","v":{"$error":"#DIV/0!"}},{"$f":"SUMPRODUCT((($CO$2:$CO$338=\"60\")*(AO$2:AO$338)*($J$2:$J$338=\"F\"))/SUMPRODUCT(($CO$2:$CO$338=\"60\")*(AO$2:AO$338>2)*($J$2:$J$338=\"F\")))","v":{"$error":"#DIV/0!"}},{"$f":"SUMPRODUCT((($CO$2:$CO$338=\"60\")*(AP$2:AP$338)*($J$2:$J$338=\"F\"))/SUMPRODUCT(($CO$2:$CO$338=\"60\")*(AP$2:AP$338>2)*($J$2:$J$338=\"F\")))","v":{"$error":"#DIV/0!"}},{"$f":"SUMPRODUCT((($CO$2:$CO$338=\"60\")*(AQ$2:AQ$338)*($J$2:$J$338=\"F\"))/SUMPRODUCT(($CO$2:$CO$338=\"60\")*(AQ$2:AQ$338>2)*($J$2:$J$338=\"F\")))","v":77.857142857142861},{"$f":"SUMPRODUCT((($CO$2:$CO$338=\"60\")*(AR$2:AR$338)*($J$2:$J$338=\"F\"))/SUMPRODUCT(($CO$2:$CO$338=\"60\")*(AR$2:AR$338>2)*($J$2:$J$338=\"F\")))","v":77.467532467532479},{"$f":"SUMPRODUCT((($CO$2:$CO$338=\"60\")*(AS$2:AS$338)*($J$2:$J$338=\"F\"))/SUMPRODUCT(($CO$2:$CO$338=\"60\")*(AS$2:AS$338>2)*($J$2:$J$338=\"F\")))","v":{"$error":"#DIV/0!"}},{"$f":"SUMPRODUCT((($CO$2:$CO$338=\"60\")*(AT$2:AT$338)*($J$2:$J$338=\"F\"))/SUMPRODUCT(($CO$2:$CO$338=\"60\")*(AT$2:AT$338>2)*($J$2:$J$338=\"F\")))","v":81.948051948051983},{"$f":"SUMPRODUCT((($CO$2:$CO$338=\"60\")*(AU$2:AU$338)*($J$2:$J$338=\"F\"))/SUMPRODUCT(($CO$2:$CO$338=\"60\")*(AU$2:AU$338>2)*($J$2:$J$338=\"F\")))","v":79.740259740259759},{"$f":"SUMPRODUCT((($CO$2:$CO$338=\"60\")*(AV$2:AV$338)*($J$2:$J$338=\"F\"))/SUMPRODUCT(($CO$2:$CO$338=\"60\")*(AV$2:AV$338>2)*($J$2:$J$338=\"F\")))","v":78.896103896103924},{"$f":"SUMPRODUCT((($CO$2:$CO$338=\"60\")*(AW$2:AW$338)*($J$2:$J$338=\"F\"))/SUMPRODUCT(($CO$2:$CO$338=\"60\")*(AW$2:AW$338>2)*($J$2:$J$338=\"F\")))","v":83.051948051948074},{"$f":"SUMPRODUCT((($CO$2:$CO$338=\"60\")*(AX$2:AX$338)*($J$2:$J$338=\"F\"))/SUMPRODUCT(($CO$2:$CO$338=\"60\")*(AX$2:AX$338>2)*($J$2:$J$338=\"F\")))","v":77.662337662337691},{"$f":"SUMPRODUCT((($CO$2:$CO$338=\"60\")*(AY$2:AY$338)*($J$2:$J$338=\"F\"))/SUMPRODUCT(($CO$2:$CO$338=\"60\")*(AY$2:AY$338>2)*($J$2:$J$338=\"F\")))","v":83.311688311688329},{"$f":"SUMPRODUCT((($CO$2:$CO$338=\"60\")*(AZ$2:AZ$338)*($J$2:$J$338=\"F\"))/SUMPRODUCT(($CO$2:$CO$338=\"60\")*(AZ$2:AZ$338>2)*($J$2:$J$338=\"F\")))","v":81.038961038961048},{"$f":"SUMPRODUCT((($CO$2:$CO$338=\"60\")*(BA$2:BA$338)*($J$2:$J$338=\"F\"))/SUMPRODUCT(($CO$2:$CO$338=\"60\")*(BA$2:BA$338>2)*($J$2:$J$338=\"F\")))","v":81.428571428571459},{"$f":"SUMPRODUCT((($CO$2:$CO$338=\"60\")*(BB$2:BB$338)*($J$2:$J$338=\"F\"))/SUMPRODUCT(($CO$2:$CO$338=\"60\")*(BB$2:BB$338>2)*($J$2:$J$338=\"F\")))","v":78.766233766233825},{"$f":"SUMPRODUCT((($CO$2:$CO$338=\"60\")*(BC$2:BC$338)*($J$2:$J$338=\"F\"))/SUMPRODUCT(($CO$2:$CO$338=\"60\")*(BC$2:BC$338>2)*($J$2:$J$338=\"F\")))","v":{"$error":"#DIV/0!"}},{"$f":"SUMPRODUCT((($CO$2:$CO$338=\"60\")*(BD$2:BD$338)*($J$2:$J$338=\"F\"))/SUMPRODUCT(($CO$2:$CO$338=\"60\")*(BD$2:BD$338>2)*($J$2:$J$338=\"F\")))","v":{"$error":"#DIV/0!"}},{"$f":"SUMPRODUCT((($CO$2:$CO$338=\"60\")*(BE$2:BE$338)*($J$2:$J$338=\"F\"))/SUMPRODUCT(($CO$2:$CO$338=\"60\")*(BE$2:BE$338>2)*($J$2:$J$338=\"F\")))","v":{"$error":"#DIV/0!"}},{"$f":"SUMPRODUCT((($CO$2:$CO$338=\"60\")*(BF$2:BF$338)*($J$2:$J$338=\"F\"))/SUMPRODUCT(($CO$2:$CO$338=\"60\")*(BF$2:BF$338>2)*($J$2:$J$338=\"F\")))","v":{"$error":"#DIV/0!"}},{"$f":"SUMPRODUCT((($CO$2:$CO$338=\"60\")*(BG$2:BG$338)*($J$2:$J$338=\"F\"))/SUMPRODUCT(($CO$2:$CO$338=\"60\")*(BG$2:BG$338>2)*($J$2:$J$338=\"F\")))","v":67.666666666666671},{"$f":"SUMPRODUCT((($CO$2:$CO$338=\"60\")*(BH$2:BH$338)*($J$2:$J$338=\"F\"))/SUMPRODUCT(($CO$2:$CO$338=\"60\")*(BH$2:BH$338>2)*($J$2:$J$338=\"F\")))","v":65.666666666666657},{"$f":"SUMPRODUCT((($CO$2:$CO$338=\"60\")*(BI$2:BI$338)*($J$2:$J$338=\"F\"))/SUMPRODUCT(($CO$2:$CO$338=\"60\")*(BI$2:BI$338>2)*($J$2:$J$338=\"F\")))","v":73.1875},{"$f":"SUMPRODUCT((($CO$2:$CO$338=\"60\")*(BJ$2:BJ$338)*($J$2:$J$338=\"F\"))/SUMPRODUCT(($CO$2:$CO$338=\"60\")*(BJ$2:BJ$338>2)*($J$2:$J$338=\"F\")))","v":76.058823529411768},{"$f":"SUMPRODUCT((($CO$2:$CO$338=\"60\")*(BK$2:BK$338)*($J$2:$J$338=\"F\"))/SUMPRODUCT(($CO$2:$CO$338=\"60\")*(BK$2:BK$338>2)*($J$2:$J$338=\"F\")))","v":66.588235294117652},{"$f":"SUMPRODUCT((($CO$2:$CO$338=\"60\")*(BL$2:BL$338)*($J$2:$J$338=\"F\"))/SUMPRODUCT(($CO$2:$CO$338=\"60\")*(BL$2:BL$338>2)*($J$2:$J$338=\"F\")))","v":66.058823529411768},{"$f":"SUMPRODUCT((($CO$2:$CO$338=\"60\")*(BM$2:BM$338)*($J$2:$J$338=\"F\"))/SUMPRODUCT(($CO$2:$CO$338=\"60\")*(BM$2:BM$338>2)*($J$2:$J$338=\"F\")))","v":71.411764705882348},{"$f":"SUMPRODUCT((($CO$2:$CO$338=\"60\")*(BN$2:BN$338)*($J$2:$J$338=\"F\"))/SUMPRODUCT(($CO$2:$CO$338=\"60\")*(BN$2:BN$338>2)*($J$2:$J$338=\"F\")))","v":70.411764705882348},{"$f":"SUMPRODUCT((($CO$2:$CO$338=\"60\")*(BO$2:BO$338)*($J$2:$J$338=\"F\"))/SUMPRODUCT(($CO$2:$CO$338=\"60\")*(BO$2:BO$338>2)*($J$2:$J$338=\"F\")))","v":67.294117647058826},{"$f":"SUMPRODUCT((($CO$2:$CO$338=\"60\")*(BP$2:BP$338)*($J$2:$J$338=\"F\"))/SUMPRODUCT(($CO$2:$CO$338=\"60\")*(BP$2:BP$338>2)*($J$2:$J$338=\"F\")))","v":66.058823529411768},{"$f":"SUMPRODUCT((($CO$2:$CO$338=\"60\")*(BQ$2:BQ$338)*($J$2:$J$338=\"F\"))/SUMPRODUCT(($CO$2:$CO$338=\"60\")*(BQ$2:BQ$338>2)*($J$2:$J$338=\"F\")))","v":77.235294117647044},{"$f":"SUMPRODUCT((($CO$2:$CO$338=\"60\")*(BR$2:BR$338)*($J$2:$J$338=\"F\"))/SUMPRODUCT(($CO$2:$CO$338=\"60\")*(BR$2:BR$338>2)*($J$2:$J$338=\"F\")))","v":72.470588235294116},{"$f":"SUMPRODUCT((($CO$2:$CO$338=\"60\")*(BS$2:BS$338)*($J$2:$J$338=\"F\"))/SUMPRODUCT(($CO$2:$CO$338=\"60\")*(BS$2:BS$338>2)*($J$2:$J$338=\"F\")))","v":{"$error":"#DIV/0!"}},{"$f":"SUMPRODUCT((($CO$2:$CO$338=\"60\")*(BT$2:BT$338)*($J$2:$J$338=\"F\"))/SUMPRODUCT(($CO$2:$CO$338=\"60\")*(BT$2:BT$338>2)*($J$2:$J$338=\"F\")))","v":{"$error":"#DIV/0!"}},{"$f":"SUMPRODUCT((($CO$2:$CO$338=\"60\")*(BU$2:BU$338)*($J$2:$J$338=\"F\"))/SUMPRODUCT(($CO$2:$CO$338=\"60\")*(BU$2:BU$338>2)*($J$2:$J$338=\"F\")))","v":{"$error":"#DIV/0!"}},{"$f":"SUMPRODUCT((($CO$2:$CO$338=\"60\")*(BV$2:BV$338)*($J$2:$J$338=\"F\"))/SUMPRODUCT(($CO$2:$CO$338=\"60\")*(BV$2:BV$338>2)*($J$2:$J$338=\"F\")))","v":{"$error":"#DIV/0!"}},{"$f":"SUMPRODUCT((($CO$2:$CO$338=\"60\")*(BW$2:BW$338)*($J$2:$J$338=\"F\"))/SUMPRODUCT(($CO$2:$CO$338=\"60\")*(BW$2:BW$338>2)*($J$2:$J$338=\"F\")))","v":{"$error":"#DIV/0!"}},{"$error":"#DIV/0!"},81.75,80.482142857142861,76.581859692818597,78.51680414180413,80.262636012636008,{"$error":"#DIV/0!"},{"$error":"#DIV/0!"},79.837662337662366,81.136363636363669,{"$error":"#DIV/0!"},70.644914215686271,null,null,null,null,null,null,null,null,null,25,"60f",null,{"$f":"SUMPRODUCT(((#REF!>2)*($CO$2:$CO$339=\"60\")*(#REF!)*(#REF!=\"F\"))/SUMPRODUCT((#REF!>2)*($CO$2:$CO$339=\"60\")*(#REF!>2)*(#REF!=\"F\")))","v":{"$error":"#REF!"}}]
[null,null,null,null,null,null,null,null,null,"60j",{"$f":"SUMPRODUCT((($CO$2:$CO$338=\"60\")*(K$2:K$338)*($CT$2:$CT$338=\"J\"))/SUMPRODUCT(($CO$2:$CO$338=\"60\")*(K$2:K$338>2)*($CT$2:$CT$338=\"J\")))","v":77.602739726027394},{"$f":"SUMPRODUCT((($CO$2:$CO$338=\"60\")*(L$2:L$338)*($CT$2:$CT$338=\"J\"))/SUMPRODUCT(($CO$2:$CO$338=\"60\")*(L$2:L$338>2)*($CT$2:$CT$338=\"J\")))","v":78.287671232876704},{"$f":"SUMPRODUCT((($CO$2:$CO$338=\"60\")*(M$2:M$338)*($CT$2:$CT$338=\"J\"))/SUMPRODUCT(($CO$2:$CO$338=\"60\")*(M$2:M$338>2)*($CT$2:$CT$338=\"J\")))","v":{"$error":"#DIV/0!"}},{"$f":"SUMPRODUCT((($CO$2:$CO$338=\"60\")*(N$2:N$338)*($CT$2:$CT$338=\"J\"))/SUMPRODUCT(($CO$2:$CO$338=\"60\")*(N$2:N$338>2)*($CT$2:$CT$338=\"J\")))","v":79.863013698630112},{"$f":"SUMPRODUCT((($CO$2:$CO$338=\"60\")*(O$2:O$338)*($CT$2:$CT$338=\"J\"))/SUMPRODUCT(($CO$2:$CO$338=\"60\")*(O$2:O$338>2)*($CT$2:$CT$338=\"J\")))","v":79.726027397260296},{"$f":"SUMPRODUCT((($CO$2:$CO$338=\"60\")*(P$2:P$338)*($CT$2:$CT$338=\"J\"))/SUMPRODUCT(($CO$2:$CO$338=\"60\")*(P$2:P$338>2)*($CT$2:$CT$338=\"J\")))","v":79.452054794520549},{"$f":"SUMPRODUCT((($CO$2:$CO$338=\"60\")*(Q$2:Q$338)*($CT$2:$CT$338=\"J\"))/SUMPRODUCT(($CO$2:$CO$338=\"60\")*(Q$2:Q$338>2)*($CT$2:$CT$338=\"J\")))","v":80.547945205479436},{"$f":"SUMPRODUCT((($CO$2:$CO$338=\"60\")*(R$2:R$338)*($CT$2:$CT$338=\"J\"))/SUMPRODUCT(($CO$2:$CO$338=\"60\")*(R$2:R$338>2)*($CT$2:$CT$338=\"J\")))","v":81.712328767123267},{"$f":"SUMPRODUCT((($CO$2:$CO$338=\"60\")*(S$2:S$338)*($CT$2:$CT$338=\"J\"))/SUMPRODUCT(($CO$2:$CO$338=\"60\")*(S$2:S$338>2)*($CT$2:$CT$338=\"J\")))","v":78.904109589041084},{"$f":"SUMPRODUCT((($CO$2:$CO$338=\"60\")*(T$2:T$338)*($CT$2:$CT$338=\"J\"))/SUMPRODUCT(($CO$2:$CO$338=\"60\")*(T$2:T$338>2)*($CT$2:$CT$338=\"J\")))","v":80.410958904109592},{"$f":"SUMPRODUCT((($CO$2:$CO$338=\"60\")*(U$2:U$338)*($CT$2:$CT$338=\"J\"))/SUMPRODUCT(($CO$2:$CO$338=\"60\")*(U$2:U$338>2)*($CT$2:$CT$338=\"J\")))","v":77.986111111111157},{"$f":"SUMPRODUCT((($CO$2:$CO$338=\"60\")*(V$2:V$338)*($CT$2:$CT$338=\"J\"))/SUMPRODUCT(($CO$2:$CO$338=\"60\")*(V$2:V$338>2)*($CT$2:$CT$338=\"J\")))","v":81.438356164383535},{"$f":"SUMPRODUCT((($CO$2:$CO$338=\"60\")*(W$2:W$338)*($CT$2:$CT$338=\"J\"))/SUMPRODUCT(($CO$2:$CO$338=\"60\")*(W$2:W$338>2)*($CT$2:$CT$338=\"J\")))","v":{"$error":"#DIV/0!"}},{"$f":"SUMPRODUCT((($CO$2:$CO$338=\"60\")*(X$2:X$338)*($CT$2:$CT$338=\"J\"))/SUMPRODUCT(($CO$2:$CO$338=\"60\")*(X$2:X$338>2)*($CT$2:$CT$338=\"J\")))","v":{"$error":"#DIV/0!"}},{"$f":"SUMPRODUCT((($CO$2:$CO$338=\"60\")*(Y$2:Y$338)*($CT$2:$CT$338=\"J\"))/SUMPRODUCT(($CO$2:$CO$338=\"60\")*(Y$2:Y$338>2)*($CT$2:$CT$338=\"J\")))","v":{"$error":"#DIV/0!"}},{"$f":"SUMPRODUCT((($CO$2:$CO$338=\"60\")*(Z$2:Z$338)*($CT$2:$CT$338=\"J\"))/SUMPRODUCT(($CO$2:$CO$338=\"60\")*(Z$2:Z$338>2)*($CT$2:$CT$338=\"J\")))","v":{"$error":"#DIV/0!"}},{"$f":"SUMPRODUCT((($CO$2:$CO$338=\"60\")*(AA$2:AA$338)*($CT$2:$CT$338=\"J\"))/SUMPRODUCT(($CO$2:$CO$338=\"60\")*(AA$2:AA$338>2)*($CT$2:$CT$338=\"J\")))","v":69.493670886075918},{"$f":"SUMPRODUCT((($CO$2:$CO$338=\"60\")*(AB$2:AB$338)*($CT$2:$CT$338=\"J\"))/SUMPRODUCT(($CO$2:$CO$338=\"60\")*(AB$2:AB$338>2)*($CT$2:$CT$338=\"J\")))","v":76.329113924050645},{"$f":"SUMPRODUCT((($CO$2:$CO$338=\"60\")*(AC$2:AC$338)*($CT$2:$CT$338=\"J\"))/SUMPRODUCT(($CO$2:$CO$338=\"60\")*(AC$2:AC$338>2)*($CT$2:$CT$338=\"J\")))","v":78.636363636363626},{"$f":"SUMPRODUCT((($CO$2:$CO$338=\"60\")*(AD$2:AD$338)*($CT$2:$CT$338=\"J\"))/SUMPRODUCT(($CO$2:$CO$338=\"60\")*(AD$2:AD$338>2)*($CT$2:$CT$338=\"J\")))","v":74.259259259259238},{"$f":"SUMPRODUCT((($CO$2:$CO$338=\"60\")*(AE$2:AE$338)*($CT$2:$CT$338=\"J\"))/SUMPRODUCT(($CO$2:$CO$338=\"60\")*(AE$2:AE$338>2)*($CT$2:$CT$338=\"J\")))","v":75.949367088607588},{"$f":"SUMPRODUCT((($CO$2:$CO$338=\"60\")*(AF$2:AF$338)*($CT$2:$CT$338=\"J\"))/SUMPRODUCT(($CO$2:$CO$338=\"60\")*(AF$2:AF$338>2)*($CT$2:$CT$338=\"J\")))","v":75.886075949367097},{"$f":"SUMPRODUCT((($CO$2:$CO$338=\"60\")*(AG$2:AG$338)*($CT$2:$CT$338=\"J\"))/SUMPRODUCT(($CO$2:$CO$338=\"60\")*(AG$2:AG$338>2)*($CT$2:$CT$338=\"J\")))","v":75.632911392405077},{"$f":"SUMPRODUCT((($CO$2:$CO$338=\"60\")*(AH$2:AH$338)*($CT$2:$CT$338=\"J\"))/SUMPRODUCT(($CO$2:$CO$338=\"60\")*(AH$2:AH$338>2)*($CT$2:$CT$338=\"J\")))","v":78.395061728395063},{"$f":"SUMPRODUCT((($CO$2:$CO$338=\"60\")*(AI$2:AI$338)*($CT$2:$CT$338=\"J\"))/SUMPRODUCT(($CO$2:$CO$338=\"60\")*(AI$2:AI$338>2)*($CT$2:$CT$338=\"J\")))","v":78.797468354430421},{"$f":"SUMPRODUCT((($CO$2:$CO$338=\"60\")*(AJ$2:AJ$338)*($CT$2:$CT$338=\"J\"))/SUMPRODUCT(($CO$2:$CO$338=\"60\")*(AJ$2:AJ$338>2)*($CT$2:$CT$338=\"J\")))","v":79.050632911392455},{"$f":"SUMPRODUCT((($CO$2:$CO$338=\"60\")*(AK$2:AK$338)*($CT$2:$CT$338=\"J\"))/SUMPRODUCT(($CO$2:$CO$338=\"60\")*(AK$2:AK$338>2)*($CT$2:$CT$338=\"J\")))","v":78.291139240506354},{"$f":"SUMPRODUCT((($CO$2:$CO$338=\"60\")*(AL$2:AL$338)*($CT$2:$CT$338=\"J\"))/SUMPRODUCT(($CO$2:$CO$338=\"60\")*(AL$2:AL$338>2)*($CT$2:$CT$338=\"J\")))","v":77.703703703703709},{"$f":"SUMPRODUCT((($CO$2:$CO$338=\"60\")*(AM$2:AM$338)*($CT$2:$CT$338=\"J\"))/SUMPRODUCT(($CO$2:$CO$338=\"60\")*(AM$2:AM$338>2)*($CT$2:$CT$338=\"J\")))","v":{"$error":"#DIV/0!"}},{"$f":"SUMPRODUCT((($CO$2:$CO$338=\"60\")*(AN$2:AN$338)*($CT$2:$CT$338=\"J\"))/SUMPRODUCT(($CO$2:$CO$338=\"60\")*(AN$2:AN$338>2)*($CT$2:$CT$338=\"J\")))","v":{"$error":"#DIV/0!"}},{"$f":"SUMPRODUCT((($CO$2:$CO$338=\"60\")*(AO$2:AO$338)*($CT$2:$CT$338=\"J\"))/SUMPRODUCT(($CO$2:$CO$338=\"60\")*(AO$2:AO$338>2)*($CT$2:$CT$338=\"J\")))","v":{"$error":"#DIV/0!"}},{"$f":"SUMPRODUCT((($CO$2:$CO$338=\"60\")*(AP$2:AP$338)*($CT$2:$CT$338=\"J\"))/SUMPRODUCT(($CO$2:$CO$338=\"60\")*(AP$2:AP$338>2)*($CT$2:$CT$338=\"J\")))","v":{"$error":"#DIV/0!"}},{"$f":"SUMPRODUCT((($CO$2:$CO$338=\"60\")*(AQ$2:AQ$338)*($CT$2:$CT$338=\"J\"))/SUMPRODUCT(($CO$2:$CO$338=\"60\")*(AQ$2:AQ$338>2)*($CT$2:$CT$338=\"J\")))","v":74.809523809523739},{"$f":"SUMPRODUCT((($CO$2:$CO$338=\"60\")*(AR$2:AR$338)*($CT$2:$CT$338=\"J\"))/SUMPRODUCT(($CO$2:$CO$338=\"60\")*(AR$2:AR$338>2)*($CT$2:$CT$338=\"J\")))","v":75.059523809523768},{"$f":"SUMPRODUCT((($CO$2:$CO$338=\"60\")*(AS$2:AS$338)*($CT$2:$CT$338=\"J\"))/SUMPRODUCT(($CO$2:$CO$338=\"60\")*(AS$2:AS$338>2)*($CT$2:$CT$338=\"J\")))","v":{"$error":"#DIV/0!"}},{"$f":"SUMPRODUCT((($CO$2:$CO$338=\"60\")*(AT$2:AT$338)*($CT$2:$CT$338=\"J\"))/SUMPRODUCT(($CO$2:$CO$338=\"60\")*(AT$2:AT$338>2)*($CT$2:$CT$338=\"J\")))","v":80.178571428571345},{"$f":"SUMPRODUCT((($CO$2:$CO$338=\"60\")*(AU$2:AU$338)*($CT$2:$CT$338=\"J\"))/SUMPRODUCT(($CO$2:$CO$338=\"60\")*(AU$2:AU$338>2)*($CT$2:$CT$338=\"J\")))","v":77.202380952380906},{"$f":"SUMPRODUCT((($CO$2:$CO$338=\"60\")*(AV$2:AV$338)*($CT$2:$CT$338=\"J\"))/SUMPRODUCT(($CO$2:$CO$338=\"60\")*(AV$2:AV$338>2)*($CT$2:$CT$338=\"J\")))","v":76.726190476190411},{"$f":"SUMPRODUCT((($CO$2:$CO$338=\"60\")*(AW$2:AW$338)*($CT$2:$CT$338=\"J\"))/SUMPRODUCT(($CO$2:$CO$338=\"60\")*(AW$2:AW$338>2)*($CT$2:$CT$338=\"J\")))","v":81.964285714285623},{"$f":"SUMPRODUCT((($CO$2:$CO$338=\"60\")*(AX$2:AX$338)*($CT$2:$CT$338=\"J\"))/SUMPRODUCT(($CO$2:$CO$338=\"60\")*(AX$2:AX$338>2)*($CT$2:$CT$338=\"J\")))","v":76.309523809523753},{"$f":"SUMPRODUCT((($CO$2:$CO$338=\"60\")*(AY$2:AY$338)*($CT$2:$CT$338=\"J\"))/SUMPRODUCT(($CO$2:$CO$338=\"60\")*(AY$2:AY$338>2)*($CT$2:$CT$338=\"J\")))","v":79.82142857142847},{"$f":"SUMPRODUCT((($CO$2:$CO$338=\"60\")*(AZ$2:AZ$338)*($CT$2:$CT$338=\"J\"))/SUMPRODUCT(($CO$2:$CO$338=\"60\")*(AZ$2:AZ$338>2)*($CT$2:$CT$338=\"J\")))","v":78.392857142857054},{"$f":"SUMPRODUCT((($CO$2:$CO$338=\"60\")*(BA$2:BA$338)*($CT$2:$CT$338=\"J\"))/SUMPRODUCT(($CO$2:$CO$338=\"60\")*(BA$2:BA$338>2)*($CT$2:$CT$338=\"J\")))","v":78.571428571428498},{"$f":"SUMPRODUCT((($CO$2:$CO$338=\"60\")*(BB$2:BB$338)*($CT$2:$CT$338=\"J\"))/SUMPRODUCT(($CO$2:$CO$338=\"60\")*(BB$2:BB$338>2)*($CT$2:$CT$338=\"J\")))","v":77.0833333333333},{"$f":"SUMPRODUCT((($CO$2:$CO$338=\"60\")*(BC$2:BC$338)*($CT$2:$CT$338=\"J\"))/SUMPRODUCT(($CO$2:$CO$338=\"60\")*(BC$2:BC$338>2)*($CT$2:$CT$338=\"J\")))","v":{"$error":"#DIV/0!"}},{"$f":"SUMPRODUCT((($CO$2:$CO$338=\"60\")*(BD$2:BD$338)*($CT$2:$CT$338=\"J\"))/SUMPRODUCT(($CO$2:$CO$338=\"60\")*(BD$2:BD$338>2)*($CT$2:$CT$338=\"J\")))","v":{"$error":"#DIV/0!"}},{"$f":"SUMPRODUCT((($CO$2:$CO$338=\"60\")*(BE$2:BE$338)*($CT$2:$CT$338=\"J\"))/SUMPRODUCT(($CO$2:$CO$338=\"60\")*(BE$2:BE$338>2)*($CT$2:$CT$338=\"J\")))","v":{"$error":"#DIV/0!"}},{"$f":"SUMPRODUCT((($CO$2:$CO$338=\"60\")*(BF$2:BF$338)*($CT$2:$CT$338=\"J\"))/SUMPRODUCT(($CO$2:$CO$338=\"60\")*(BF$2:BF$338>2)*($CT$2:$CT$338=\"J\")))","v":{"$error":"#DIV/0!"}},{"$f":"SUMPRODUCT((($CO$2:$CO$338=\"60\")*(BG$2:BG$338)*($CT$2:$CT$338=\"J\"))/SUMPRODUCT(($CO$2:$CO$338=\"60\")*(BG$2:BG$338>2)*($CT$2:$CT$338=\"J\")))","v":65.949999999999989},{"$f":"SUMPRODUCT((($CO$2:$CO$338=\"60\")*(BH$2:BH$338)*($CT$2:$CT$338=\"J\"))/SUMPRODUCT(($CO$2:$CO$338=\"60\")*(BH$2:BH$338>2)*($CT$2:$CT$338=\"J\")))","v":63.54999999999999},{"$f":"SUMPRODUCT((($CO$2:$CO$338=\"60\")*(BI$2:BI$338)*($CT$2:$CT$338=\"J\"))/SUMPRODUCT(($CO$2:$CO$338=\"60\")*(BI$2:BI$338>2)*($CT$2:$CT$338=\"J\")))","v":72.066666666666677},{"$f":"SUMPRODUCT((($CO$2:$CO$338=\"60\")*(BJ$2:BJ$338)*($CT$2:$CT$338=\"J\"))/SUMPRODUCT(($CO$2:$CO$338=\"60\")*(BJ$2:BJ$338>2)*($CT$2:$CT$338=\"J\")))","v":77.238095238095227},{"$f":"SUMPRODUCT((($CO$2:$CO$338=\"60\")*(BK$2:BK$338)*($CT$2:$CT$338=\"J\"))/SUMPRODUCT(($CO$2:$CO$338=\"60\")*(BK$2:BK$338>2)*($CT$2:$CT$338=\"J\")))","v":67.095238095238102},{"$f":"SUMPRODUCT((($CO$2:$CO$338=\"60\")*(BL$2:BL$338)*($CT$2:$CT$338=\"J\"))/SUMPRODUCT(($CO$2:$CO$338=\"60\")*(BL$2:BL$338>2)*($CT$2:$CT$338=\"J\")))","v":66.428571428571431},{"$f":"SUMPRODUCT((($CO$2:$CO$338=\"60\")*(BM$2:BM$338)*($CT$2:$CT$338=\"J\"))/SUMPRODUCT(($CO$2:$CO$338=\"60\")*(BM$2:BM$338>2)*($CT$2:$CT$338=\"J\")))","v":69.190476190476176},{"$f":"SUMPRODUCT((($CO$2:$CO$338=\"60\")*(BN$2:BN$338)*($CT$2:$CT$338=\"J\"))/SUMPRODUCT(($CO$2:$CO$338=\"60\")*(BN$2:BN$338>2)*($CT$2:$CT$338=\"J\")))","v":71.333333333333343},{"$f":"SUMPRODUCT((($CO$2:$CO$338=\"60\")*(BO$2:BO$338)*($CT$2:$CT$338=\"J\"))/SUMPRODUCT(($CO$2:$CO$338=\"60\")*(BO$2:BO$338>2)*($CT$2:$CT$338=\"J\")))","v":68.666666666666657},{"$f":"SUMPRODUCT((($CO$2:$CO$338=\"60\")*(BP$2:BP$338)*($CT$2:$CT$338=\"J\"))/SUMPRODUCT(($CO$2:$CO$338=\"60\")*(BP$2:BP$338>2)*($CT$2:$CT$338=\"J\")))","v":64.61904761904762},{"$f":"SUMPRODUCT((($CO$2:$CO$338=\"60\")*(BQ$2:BQ$338)*($CT$2:$CT$338=\"J\"))/SUMPRODUCT(($CO$2:$CO$338=\"60\")*(BQ$2:BQ$338>2)*($CT$2:$CT$338=\"J\")))","v":74.619047619047635},{"$f":"SUMPRODUCT((($CO$2:$CO$338=\"60\")*(BR$2:BR$338)*($CT$2:$CT$338=\"J\"))/SUMPRODUCT(($CO$2:$CO$338=\"60\")*(BR$2:BR$338>2)*($CT$2:$CT$338=\"J\")))","v":68.38095238095238},{"$f":"SUMPRODUCT((($CO$2:$CO$338=\"60\")*(BS$2:BS$338)*($CT$2:$CT$338=\"J\"))/SUMPRODUCT(($CO$2:$CO$338=\"60\")*(BS$2:BS$338>2)*($CT$2:$CT$338=\"J\")))","v":71.666666666666657},{"$f":"SUMPRODUCT((($CO$2:$CO$338=\"60\")*(BT$2:BT$338)*($CT$2:$CT$338=\"J\"))/SUMPRODUCT(($CO$2:$CO$338=\"60\")*(BT$2:BT$338>2)*($CT$2:$CT$338=\"J\")))","v":67.666666666666671},{"$f":"SUMPRODUCT((($CO$2:$CO$338=\"60\")*(BU$2:BU$338)*($CT$2:$CT$338=\"J\"))/SUMPRODUCT(($CO$2:$CO$338=\"60\")*(BU$2:BU$338>2)*($CT$2:$CT$338=\"J\")))","v":60},{"$f":"SUMPRODUCT((($CO$2:$CO$338=\"60\")*(BV$2:BV$338)*($CT$2:$CT$338=\"J\"))/SUMPRODUCT(($CO$2:$CO$338=\"60\")*(BV$2:BV$338>2)*($CT$2:$CT$338=\"J\")))","v":54},{"$f":"SUMPRODUCT((($CO$2:$CO$338=\"60\")*(BW$2:BW$338)*($CT$2:$CT$338=\"J\"))/SUMPRODUCT(($CO$2:$CO$338=\"60\")*(BW$2:BW$338>2)*($CT$2:$CT$338=\"J\")))","v":{"$error":"#DIV/0!"}},{"$error":"#DIV/0!"},80.359589041095887,79.684883942161349,74.679601926437357,76.46585403969371,78.460736052508238,{"$error":"#DIV/0!"},{"$error":"#DIV/0!"},78.05059523809517,78.467261904761827,{"$error":"#DIV/0!"},69.701190476190476,null,null,null,null,null,null,null,null,null,26,"60j",null,{"$f":"SUMPRODUCT(((#REF!>2)*($CO$2:$CO$339=\"60\")*(#REF!)*($CT$2:$CT$339=\"J\"))/SUMPRODUCT((#REF!>2)*($CO$2:$CO$339=\"60\")*(#REF!>2)*($CT$2:$CT$339=\"J\")))","v":{"$error":"#REF!"}}]
[null,null,null,null,null,null,null,null,null,"60v",{"$f":"SUMPRODUCT((($CO$2:$CO$338=\"60\")*(K$2:K$338)*($CT$2:$CT$338=\"V\"))/SUMPRODUCT(($CO$2:$CO$338=\"60\")*(K$2:K$338>2)*($CT$2:$CT$338=\"V\")))","v":77.903225806451644},{"$f":"SUMPRODUCT((($CO$2:$CO$338=\"60\")*(L$2:L$338)*($CT$2:$CT$338=\"V\"))/SUMPRODUCT(($CO$2:$CO$338=\"60\")*(L$2:L$338>2)*($CT$2:$CT$338=\"V\")))","v":80.234375},{"$f":"SUMPRODUCT((($CO$2:$CO$338=\"60\")*(M$2:M$338)*($CT$2:$CT$338=\"V\"))/SUMPRODUCT(($CO$2:$CO$338=\"60\")*(M$2:M$338>2)*($CT$2:$CT$338=\"V\")))","v":95},{"$f":"SUMPRODUCT((($CO$2:$CO$338=\"60\")*(N$2:N$338)*($CT$2:$CT$338=\"V\"))/SUMPRODUCT(($CO$2:$CO$338=\"60\")*(N$2:N$338>2)*($CT$2:$CT$338=\"V\")))","v":82.246153846153859},{"$f":"SUMPRODUCT((($CO$2:$CO$338=\"60\")*(O$2:O$338)*($CT$2:$CT$338=\"V\"))/SUMPRODUCT(($CO$2:$CO$338=\"60\")*(O$2:O$338>2)*($CT$2:$CT$338=\"V\")))","v":80.307692307692349},{"$f":"SUMPRODUCT((($CO$2:$CO$338=\"60\")*(P$2:P$338)*($CT$2:$CT$338=\"V\"))/SUMPRODUCT(($CO$2:$CO$338=\"60\")*(P$2:P$338>2)*($CT$2:$CT$338=\"V\")))","v":81.796875},{"$f":"SUMPRODUCT((($CO$2:$CO$338=\"60\")*(Q$2:Q$338)*($CT$2:$CT$338=\"V\"))/SUMPRODUCT(($CO$2:$CO$338=\"60\")*(Q$2:Q$338>2)*($CT$2:$CT$338=\"V\")))","v":83.846153846153868},{"$f":"SUMPRODUCT((($CO$2:$CO$338=\"60\")*(R$2:R$338)*($CT$2:$CT$338=\"V\"))/SUMPRODUCT(($CO$2:$CO$338=\"60\")*(R$2:R$338>2)*($CT$2:$CT$338=\"V\")))","v":84.287878787878768},{"$f":"SUMPRODUCT((($CO$2:$CO$338=\"60\")*(S$2:S$338)*($CT$2:$CT$338=\"V\"))/SUMPRODUCT(($CO$2:$CO$338=\"60\")*(S$2:S$338>2)*($CT$2:$CT$338=\"V\")))","v":79.384615384615387},{"$f":"SUMPRODUCT((($CO$2:$CO$338=\"60\")*(T$2:T$338)*($CT$2:$CT$338=\"V\"))/SUMPRODUCT(($CO$2:$CO$338=\"60\")*(T$2:T$338>2)*($CT$2:$CT$338=\"V\")))","v":81.53846153846159},{"$f":"SUMPRODUCT((($CO$2:$CO$338=\"60\")*(U$2:U$338)*($CT$2:$CT$338=\"V\"))/SUMPRODUCT(($CO$2:$CO$338=\"60\")*(U$2:U$338>2)*($CT$2:$CT$338=\"V\")))","v":81.15384615384616},{"$f":"SUMPRODUCT((($CO$2:$CO$338=\"60\")*(V$2:V$338)*($CT$2:$CT$338=\"V\"))/SUMPRODUCT(($CO$2:$CO$338=\"60\")*(V$2:V$338>2)*($CT$2:$CT$338=\"V\")))","v":83.272727272727238},{"$f":"SUMPRODUCT((($CO$2:$CO$338=\"60\")*(W$2:W$338)*($CT$2:$CT$338=\"V\"))/SUMPRODUCT(($CO$2:$CO$338=\"60\")*(W$2:W$338>2)*($CT$2:$CT$338=\"V\")))","v":{"$error":"#DIV/0!"}},{"$f":"SUMPRODUCT((($CO$2:$CO$338=\"60\")*(X$2:X$338)*($CT$2:$CT$338=\"V\"))/SUMPRODUCT(($CO$2:$CO$338=\"60\")*(X$2:X$338>2)*($CT$2:$CT$338=\"V\")))","v":{"$error":"#DIV/0!"}},{"$f":"SUMPRODUCT((($CO$2:$CO$338=\"60\")*(Y$2:Y$338)*($CT$2:$CT$338=\"V\"))/SUMPRODUCT(($CO$2:$CO$338=\"60\")*(Y$2:Y$338>2)*($CT$2:$CT$338=\"V\")))","v":{"$error":"#DIV/0!"}},{"$f":"SUMPRODUCT((($CO$2:$CO$338=\"60\")*(Z$2:Z$338)*($CT$2:$CT$338=\"V\"))/SUMPRODUCT(($CO$2:$CO$338=\"60\")*(Z$2:Z$338>2)*($CT$2:$CT$338=\"V\")))","v":{"$error":"#DIV/0!"}},{"$f":"SUMPRODUCT((($CO$2:$CO$338=\"60\")*(AA$2:AA$338)*($CT$2:$CT$338=\"V\"))/SUMPRODUCT(($CO$2:$CO$338=\"60\")*(AA$2:AA$338>2)*($CT$2:$CT$338=\"V\")))","v":71.925373134328368},{"$f":"SUMPRODUCT((($CO$2:$CO$338=\"60\")*(AB$2:AB$338)*($CT$2:$CT$338=\"V\"))/SUMPRODUCT(($CO$2:$CO$338=\"60\")*(AB$2:AB$338>2)*($CT$2:$CT$338=\"V\")))","v":78.712121212121218},{"$f":"SUMPRODUCT((($CO$2:$CO$338=\"60\")*(AC$2:AC$338)*($CT$2:$CT$338=\"V\"))/SUMPRODUCT(($CO$2:$CO$338=\"60\")*(AC$2:AC$338>2)*($CT$2:$CT$338=\"V\")))","v":76.818181818181827},{"$f":"SUMPRODUCT((($CO$2:$CO$338=\"60\")*(AD$2:AD$338)*($CT$2:$CT$338=\"V\"))/SUMPRODUCT(($CO$2:$CO$338=\"60\")*(AD$2:AD$338>2)*($CT$2:$CT$338=\"V\")))","v":78.343283582089526},{"$f":"SUMPRODUCT((($CO$2:$CO$338=\"60\")*(AE$2:AE$338)*($CT$2:$CT$338=\"V\"))/SUMPRODUCT(($CO$2:$CO$338=\"60\")*(AE$2:AE$338>2)*($CT$2:$CT$338=\"V\")))","v":76.102941176470608},{"$f":"SUMPRODUCT((($CO$2:$CO$338=\"60\")*(AF$2:AF$338)*($CT$2:$CT$338=\"V\"))/SUMPRODUCT(($CO$2:$CO$338=\"60\")*(AF$2:AF$338>2)*($CT$2:$CT$338=\"V\")))","v":77.753623188405783},{"$f":"SUMPRODUCT((($CO$2:$CO$338=\"60\")*(AG$2:AG$338)*($CT$2:$CT$338=\"V\"))/SUMPRODUCT(($CO$2:$CO$338=\"60\")*(AG$2:AG$338>2)*($CT$2:$CT$338=\"V\")))","v":77.132352941176492},{"$f":"SUMPRODUCT((($CO$2:$CO$338=\"60\")*(AH$2:AH$338)*($CT$2:$CT$338=\"V\"))/SUMPRODUCT(($CO$2:$CO$338=\"60\")*(AH$2:AH$338>2)*($CT$2:$CT$338=\"V\")))","v":80.579710144927489},{"$f":"SUMPRODUCT((($CO$2:$CO$338=\"60\")*(AI$2:AI$338)*($CT$2:$CT$338=\"V\"))/SUMPRODUCT(($CO$2:$CO$338=\"60\")*(AI$2:AI$338>2)*($CT$2:$CT$338=\"V\")))","v":78.768115942029027},{"$f":"SUMPRODUCT((($CO$2:$CO$338=\"60\")*(AJ$2:AJ$338)*($CT$2:$CT$338=\"V\"))/SUMPRODUCT(($CO$2:$CO$338=\"60\")*(AJ$2:AJ$338>2)*($CT$2:$CT$338=\"V\")))","v":78.507246376811594},{"$f":"SUMPRODUCT((($CO$2:$CO$338=\"60\")*(AK$2:AK$338)*($CT$2:$CT$338=\"V\"))/SUMPRODUCT(($CO$2:$CO$338=\"60\")*(AK$2:AK$338>2)*($CT$2:$CT$338=\"V\")))","v":80.04347826086952},{"$f":"SUMPRODUCT((($CO$2:$CO$338=\"60\")*(AL$2:AL$338)*($CT$2:$CT$338=\"V\"))/SUMPRODUCT(($CO$2:$CO$338=\"60\")*(AL$2:AL$338>2)*($CT$2:$CT$338=\"V\")))","v":78.260869565217376},{"$f":"SUMPRODUCT((($CO$2:$CO$338=\"60\")*(AM$2:AM$338)*($CT$2:$CT$338=\"V\"))/SUMPRODUCT(($CO$2:$CO$338=\"60\")*(AM$2:AM$338>2)*($CT$2:$CT$338=\"V\")))","v":{"$error":"#DIV/0!"}},{"$f":"SUMPRODUCT((($CO$2:$CO$338=\"60\")*(AN$2:AN$338)*($CT$2:$CT$338=\"V\"))/SUMPRODUCT(($CO$2:$CO$338=\"60\")*(AN$2:AN$338>2)*($CT$2:$CT$338=\"V\")))","v":{"$error":"#DIV/0!"}},{"$f":"SUMPRODUCT((($CO$2:$CO$338=\"60\")*(AO$2:AO$338)*($CT$2:$CT$338=\"V\"))/SUMPRODUCT(($CO$2:$CO$338=\"60\")*(AO$2:AO$338>2)*($CT$2:$CT$338=\"V\")))","v":{"$error":"#DIV/0!"}},{"$f":"SUMPRODUCT((($CO$2:$CO$338=\"60\")*(AP$2:AP$338)*($CT$2:$CT$338=\"V\"))/SUMPRODUCT(($CO$2:$CO$338=\"60\")*(AP$2:AP$338>2)*($CT$2:$CT$338=\"V\")))","v":{"$error":"#DIV/0!"}},{"$f":"SUMPRODUCT((($CO$2:$CO$338=\"60\")*(AQ$2:AQ$338)*($CT$2:$CT$338=\"V\"))/SUMPRODUCT(($CO$2:$CO$338=\"60\")*(AQ$2:AQ$338>2)*($CT$2:$CT$338=\"V\")))","v":75.281690140845043},{"$f":"SUMPRODUCT((($CO$2:$CO$338=\"60\")*(AR$2:AR$338)*($CT$2:$CT$338=\"V\"))/SUMPRODUCT(($CO$2:$CO$338=\"60\")*(AR$2:AR$338>2)*($CT$2:$CT$338=\"V\")))","v":75.704225352112672},{"$f":"SUMPRODUCT((($CO$2:$CO$338=\"60\")*(AS$2:AS$338)*($CT$2:$CT$338=\"V\"))/SUMPRODUCT(($CO$2:$CO$338=\"60\")*(AS$2:AS$338>2)*($CT$2:$CT$338=\"V\")))","v":{"$error":"#DIV/0!"}},{"$f":"SUMPRODUCT((($CO$2:$CO$338=\"60\")*(AT$2:AT$338)*($CT$2:$CT$338=\"V\"))/SUMPRODUCT(($CO$2:$CO$338=\"60\")*(AT$2:AT$338>2)*($CT$2:$CT$338=\"V\")))","v":82.183098591549296},{"$f":"SUMPRODUCT((($CO$2:$CO$338=\"60\")*(AU$2:AU$338)*($CT$2:$CT$338=\"V\"))/SUMPRODUCT(($CO$2:$CO$338=\"60\")*(AU$2:AU$338>2)*($CT$2:$CT$338=\"V\")))","v":77.605633802816882},{"$f":"SUMPRODUCT((($CO$2:$CO$338=\"60\")*(AV$2:AV$338)*($CT$2:$CT$338=\"V\"))/SUMPRODUCT(($CO$2:$CO$338=\"60\")*(AV$2:AV$338>2)*($CT$2:$CT$338=\"V\")))","v":76.971830985915489},{"$f":"SUMPRODUCT((($CO$2:$CO$338=\"60\")*(AW$2:AW$338)*($CT$2:$CT$338=\"V\"))/SUMPRODUCT(($CO$2:$CO$338=\"60\")*(AW$2:AW$338>2)*($CT$2:$CT$338=\"V\")))","v":82.957746478873261},{"$f":"SUMPRODUCT((($CO$2:$CO$338=\"60\")*(AX$2:AX$338)*($CT$2:$CT$338=\"V\"))/SUMPRODUCT(($CO$2:$CO$338=\"60\")*(AX$2:AX$338>2)*($CT$2:$CT$338=\"V\")))","v":77.394366197183132},{"$f":"SUMPRODUCT((($CO$2:$CO$338=\"60\")*(AY$2:AY$338)*($CT$2:$CT$338=\"V\"))/SUMPRODUCT(($CO$2:$CO$338=\"60\")*(AY$2:AY$338>2)*($CT$2:$CT$338=\"V\")))","v":80.070422535211279},{"$f":"SUMPRODUCT((($CO$2:$CO$338=\"60\")*(AZ$2:AZ$338)*($CT$2:$CT$338=\"V\"))/SUMPRODUCT(($CO$2:$CO$338=\"60\")*(AZ$2:AZ$338>2)*($CT$2:$CT$338=\"V\")))","v":79.08450704225352},{"$f":"SUMPRODUCT((($CO$2:$CO$338=\"60\")*(BA$2:BA$338)*($CT$2:$CT$338=\"V\"))/SUMPRODUCT(($CO$2:$CO$338=\"60\")*(BA$2:BA$338>2)*($CT$2:$CT$338=\"V\")))","v":81.760563380281681},{"$f":"SUMPRODUCT((($CO$2:$CO$338=\"60\")*(BB$2:BB$338)*($CT$2:$CT$338=\"V\"))/SUMPRODUCT(($CO$2:$CO$338=\"60\")*(BB$2:BB$338>2)*($CT$2:$CT$338=\"V\")))","v":78.380281690140833},{"$f":"SUMPRODUCT((($CO$2:$CO$338=\"60\")*(BC$2:BC$338)*($CT$2:$CT$338=\"V\"))/SUMPRODUCT(($CO$2:$CO$338=\"60\")*(BC$2:BC$338>2)*($CT$2:$CT$338=\"V\")))","v":{"$error":"#DIV/0!"}},{"$f":"SUMPRODUCT((($CO$2:$CO$338=\"60\")*(BD$2:BD$338)*($CT$2:$CT$338=\"V\"))/SUMPRODUCT(($CO$2:$CO$338=\"60\")*(BD$2:BD$338>2)*($CT$2:$CT$338=\"V\")))","v":{"$error":"#DIV/0!"}},{"$f":"SUMPRODUCT((($CO$2:$CO$338=\"60\")*(BE$2:BE$338)*($CT$2:$CT$338=\"V\"))/SUMPRODUCT(($CO$2:$CO$338=\"60\")*(BE$2:BE$338>2)*($CT$2:$CT$338=\"V\")))","v":{"$error":"#DIV/0!"}},{"$f":"SUMPRODUCT((($CO$2:$CO$338=\"60\")*(BF$2:BF$338)*($CT$2:$CT$338=\"V\"))/SUMPRODUCT(($CO$2:$CO$338=\"60\")*(BF$2:BF$338>2)*($CT$2:$CT$338=\"V\")))","v":{"$error":"#DIV/0!"}},{"$f":"SUMPRODUCT((($CO$2:$CO$338=\"60\")*(BG$2:BG$338)*($CT$2:$CT$338=\"V\"))/SUMPRODUCT(($CO$2:$CO$338=\"60\")*(BG$2:BG$338>2)*($CT$2:$CT$338=\"V\")))","v":64.272727272727266},{"$f":"SUMPRODUCT((($CO$2:$CO$338=\"60\")*(BH$2:BH$338)*($CT$2:$CT$338=\"V\"))/SUMPRODUCT(($CO$2:$CO$338=\"60\")*(BH$2:BH$338>2)*($CT$2:$CT$338=\"V\")))","v":68.090909090909093},{"$f":"SUMPRODUCT((($CO$2:$CO$338=\"60\")*(BI$2:BI$338)*($CT$2:$CT$338=\"V\"))/SUMPRODUCT(($CO$2:$CO$338=\"60\")*(BI$2:BI$338>2)*($CT$2:$CT$338=\"V\")))","v":67.818181818181813},{"$f":"SUMPRODUCT((($CO$2:$CO$338=\"60\")*(BJ$2:BJ$338)*($CT$2:$CT$338=\"V\"))/SUMPRODUCT(($CO$2:$CO$338=\"60\")*(BJ$2:BJ$338>2)*($CT$2:$CT$338=\"V\")))","v":72.285714285714292},{"$f":"SUMPRODUCT((($CO$2:$CO$338=\"60\")*(BK$2:BK$338)*($CT$2:$CT$338=\"V\"))/SUMPRODUCT(($CO$2:$CO$338=\"60\")*(BK$2:BK$338>2)*($CT$2:$CT$338=\"V\")))","v":59.714285714285708},{"$f":"SUMPRODUCT((($CO$2:$CO$338=\"60\")*(BL$2:BL$338)*($CT$2:$CT$338=\"V\"))/SUMPRODUCT(($CO$2:$CO$338=\"60\")*(BL$2:BL$338>2)*($CT$2:$CT$338=\"V\")))","v":64.142857142857139},{"$f":"SUMPRODUCT((($CO$2:$CO$338=\"60\")*(BM$2:BM$338)*($CT$2:$CT$338=\"V\"))/SUMPRODUCT(($CO$2:$CO$338=\"60\")*(BM$2:BM$338>2)*($CT$2:$CT$338=\"V\")))","v":70.285714285714306},{"$f":"SUMPRODUCT((($CO$2:$CO$338=\"60\")*(BN$2:BN$338)*($CT$2:$CT$338=\"V\"))/SUMPRODUCT(($CO$2:$CO$338=\"60\")*(BN$2:BN$338>2)*($CT$2:$CT$338=\"V\")))","v":70.285714285714306},{"$f":"SUMPRODUCT((($CO$2:$CO$338=\"60\")*(BO$2:BO$338)*($CT$2:$CT$338=\"V\"))/SUMPRODUCT(($CO$2:$CO$338=\"60\")*(BO$2:BO$338>2)*($CT$2:$CT$338=\"V\")))","v":64.400000000000006},{"$f":"SUMPRODUCT((($CO$2:$CO$338=\"60\")*(BP$2:BP$338)*($CT$2:$CT$338=\"V\"))/SUMPRODUCT(($CO$2:$CO$338=\"60\")*(BP$2:BP$338>2)*($CT$2:$CT$338=\"V\")))","v":65.214285714285722},{"$f":"SUMPRODUCT((($CO$2:$CO$338=\"60\")*(BQ$2:BQ$338)*($CT$2:$CT$338=\"V\"))/SUMPRODUCT(($CO$2:$CO$338=\"60\")*(BQ$2:BQ$338>2)*($CT$2:$CT$338=\"V\")))","v":76.142857142857167},{"$f":"SUMPRODUCT((($CO$2:$CO$338=\"60\")*(BR$2:BR$338)*($CT$2:$CT$338=\"V\"))/SUMPRODUCT(($CO$2:$CO$338=\"60\")*(BR$2:BR$338>2)*($CT$2:$CT$338=\"V\")))","v":70.785714285714278},{"$f":"SUMPRODUCT((($CO$2:$CO$338=\"60\")*(BS$2:BS$338)*($CT$2:$CT$338=\"V\"))/SUMPRODUCT(($CO$2:$CO$338=\"60\")*(BS$2:BS$338>2)*($CT$2:$CT$338=\"V\")))","v":{"$error":"#DIV/0!"}},{"$f":"SUMPRODUCT((($CO$2:$CO$338=\"60\")*(BT$2:BT$338)*($CT$2:$CT$338=\"V\"))/SUMPRODUCT(($CO$2:$CO$338=\"60\")*(BT$2:BT$338>2)*($CT$2:$CT$338=\"V\")))","v":{"$error":"#DIV/0!"}},{"$f":"SUMPRODUCT((($CO$2:$CO$338=\"60\")*(BU$2:BU$338)*($CT$2:$CT$338=\"V\"))/SUMPRODUCT(($CO$2:$CO$338=\"60\")*(BU$2:BU$338>2)*($CT$2:$CT$338=\"V\")))","v":{"$error":"#DIV/0!"}},{"$f":"SUMPRODUCT((($CO$2:$CO$338=\"60\")*(BV$2:BV$338)*($CT$2:$CT$338=\"V\"))/SUMPRODUCT(($CO$2:$CO$338=\"60\")*(BV$2:BV$338>2)*($CT$2:$CT$338=\"V\")))","v":{"$error":"#DIV/0!"}},{"$f":"SUMPRODUCT((($CO$2:$CO$338=\"60\")*(BW$2:BW$338)*($CT$2:$CT$338=\"V\"))/SUMPRODUCT(($CO$2:$CO$338=\"60\")*(BW$2:BW$338>2)*($CT$2:$CT$338=\"V\")))","v":{"$error":"#DIV/0!"}},83.845938663151372,82.55964998543125,81.337412587412587,76.449739936680231,77.892156862745097,78.894927536231876,{"$error":"#DIV/0!"},{"$error":"#DIV/0!"},78.732394366197184,79.823943661971839,{"$error":"#DIV/0!"},68.116883116883116,null,null,null,null,null,null,null,null,null,27,"60v",null,{"$f":"SUMPRODUCT(((#REF!>2)*($CO$2:$CO$339=\"60\")*(#REF!)*($CT$2:$CT$339=\"V\"))/SUMPRODUCT((#REF!>2)*($CO$2:$CO$339=\"60\")*(#REF!>2)*($CT$2:$CT$339=\"V\")))","v":{"$error":"#REF!"}}]
[null,null,null,null,null,null,null,null,null,"60vsdoub",{"$f":"SUMPRODUCT((($CO$2:$CO$338=\"60\")*(K$2:K$338)*($CT$2:$CT$338=\"V\")*($F$2:$F$338=0))/SUMPRODUCT(($CO$2:$CO$338=\"60\")*(K$2:K$338>2)*($CT$2:$CT$338=\"V\")*($F$2:$F$338=0)))","v":77.903225806451644},{"$f":"SUMPRODUCT((($CO$2:$CO$338=\"60\")*(L$2:L$338)*($CT$2:$CT$338=\"V\")*($F$2:$F$338=0))/SUMPRODUCT(($CO$2:$CO$338=\"60\")*(L$2:L$338>2)*($CT$2:$CT$338=\"V\")*($F$2:$F$338=0)))","v":80.234375},{"$f":"SUMPRODUCT((($CO$2:$CO$338=\"60\")*(M$2:M$338)*($CT$2:$CT$338=\"V\")*($F$2:$F$338=0))/SUMPRODUCT(($CO$2:$CO$338=\"60\")*(M$2:M$338>2)*($CT$2:$CT$338=\"V\")*($F$2:$F$338=0)))","v":95},{"$f":"SUMPRODUCT((($CO$2:$CO$338=\"60\")*(N$2:N$338)*($CT$2:$CT$338=\"V\")*($F$2:$F$338=0))/SUMPRODUCT(($CO$2:$CO$338=\"60\")*(N$2:N$338>2)*($CT$2:$CT$338=\"V\")*($F$2:$F$338=0)))","v":82.246153846153859},{"$f":"SUMPRODUCT((($CO$2:$CO$338=\"60\")*(O$2:O$338)*($CT$2:$CT$338=\"V\")*($F$2:$F$338=0))/SUMPRODUCT(($CO$2:$CO$338=\"60\")*(O$2:O$338>2)*($CT$2:$CT$338=\"V\")*($F$2:$F$338=0)))","v":80.307692307692349},{"$f":"SUMPRODUCT((($CO$2:$CO$338=\"60\")*(P$2:P$338)*($CT$2:$CT$338=\"V\")*($F$2:$F$338=0))/SUMPRODUCT(($CO$2:$CO$338=\"60\")*(P$2:P$338>2)*($CT$2:$CT$338=\"V\")*($F$2:$F$338=0)))","v":81.796875},{"$f":"SUMPRODUCT((($CO$2:$CO$338=\"60\")*(Q$2:Q$338)*($CT$2:$CT$338=\"V\")*($F$2:$F$338=0))/SUMPRODUCT(($CO$2:$CO$338=\"60\")*(Q$2:Q$338>2)*($CT$2:$CT$338=\"V\")*($F$2:$F$338=0)))","v":83.846153846153868},{"$f":"SUMPRODUCT((($CO$2:$CO$338=\"60\")*(R$2:R$338)*($CT$2:$CT$338=\"V\")*($F$2:$F$338=0))/SUMPRODUCT(($CO$2:$CO$338=\"60\")*(R$2:R$338>2)*($CT$2:$CT$338=\"V\")*($F$2:$F$338=0)))","v":84.287878787878768},{"$f":"SUMPRODUCT((($CO$2:$CO$338=\"60\")*(S$2:S$338)*($CT$2:$CT$338=\"V\")*($F$2:$F$338=0))/SUMPRODUCT(($CO$2:$CO$338=\"60\")*(S$2:S$338>2)*($CT$2:$CT$338=\"V\")*($F$2:$F$338=0)))","v":79.384615384615387},{"$f":"SUMPRODUCT((($CO$2:$CO$338=\"60\")*(T$2:T$338)*($CT$2:$CT$338=\"V\")*($F$2:$F$338=0))/SUMPRODUCT(($CO$2:$CO$338=\"60\")*(T$2:T$338>2)*($CT$2:$CT$338=\"V\")*($F$2:$F$338=0)))","v":81.53846153846159},{"$f":"SUMPRODUCT((($CO$2:$CO$338=\"60\")*(U$2:U$338)*($CT$2:$CT$338=\"V\")*($F$2:$F$338=0))/SUMPRODUCT(($CO$2:$CO$338=\"60\")*(U$2:U$338>2)*($CT$2:$CT$338=\"V\")*($F$2:$F$338=0)))","v":81.15384615384616},{"$f":"SUMPRODUCT((($CO$2:$CO$338=\"60\")*(V$2:V$338)*($CT$2:$CT$338=\"V\")*($F$2:$F$338=0))/SUMPRODUCT(($CO$2:$CO$338=\"60\")*(V$2:V$338>2)*($CT$2:$CT$338=\"V\")*($F$2:$F$338=0)))","v":83.272727272727238},{"$f":"SUMPRODUCT((($CO$2:$CO$338=\"60\")*(W$2:W$338)*($CT$2:$CT$338=\"V\")*($F$2:$F$338=0))/SUMPRODUCT(($CO$2:$CO$338=\"60\")*(W$2:W$338>2)*($CT$2:$CT$338=\"V\")*($F$2:$F$338=0)))","v":{"$error":"#DIV/0!"}},{"$f":"SUMPRODUCT((($CO$2:$CO$338=\"60\")*(X$2:X$338)*($CT$2:$CT$338=\"V\")*($F$2:$F$338=0))/SUMPRODUCT(($CO$2:$CO$338=\"60\")*(X$2:X$338>2)*($CT$2:$CT$338=\"V\")*($F$2:$F$338=0)))","v":{"$error":"#DIV/0!"}},{"$f":"SUMPRODUCT((($CO$2:$CO$338=\"60\")*(Y$2:Y$338)*($CT$2:$CT$338=\"V\")*($F$2:$F$338=0))/SUMPRODUCT(($CO$2:$CO$338=\"60\")*(Y$2:Y$338>2)*($CT$2:$CT$338=\"V\")*($F$2:$F$338=0)))","v":{"$error":"#DIV/0!"}},{"$f":"SUMPRODUCT((($CO$2:$CO$338=\"60\")*(Z$2:Z$338)*($CT$2:$CT$338=\"V\")*($F$2:$F$338=0))/SUMPRODUCT(($CO$2:$CO$338=\"60\")*(Z$2:Z$338>2)*($CT$2:$CT$338=\"V\")*($F$2:$F$338=0)))","v":{"$error":"#DIV/0!"}},{"$f":"SUMPRODUCT((($CO$2:$CO$338=\"60\")*(AA$2:AA$338)*($CT$2:$CT$338=\"V\")*($F$2:$F$338=0))/SUMPRODUCT(($CO$2:$CO$338=\"60\")*(AA$2:AA$338>2)*($CT$2:$CT$338=\"V\")*($F$2:$F$338=0)))","v":71.925373134328368},{"$f":"SUMPRODUCT((($CO$2:$CO$338=\"60\")*(AB$2:AB$338)*($CT$2:$CT$338=\"V\")*($F$2:$F$338=0))/SUMPRODUCT(($CO$2:$CO$338=\"60\")*(AB$2:AB$338>2)*($CT$2:$CT$338=\"V\")*($F$2:$F$338=0)))","v":78.712121212121218},{"$f":"SUMPRODUCT((($CO$2:$CO$338=\"60\")*(AC$2:AC$338)*($CT$2:$CT$338=\"V\")*($F$2:$F$338=0))/SUMPRODUCT(($CO$2:$CO$338=\"60\")*(AC$2:AC$338>2)*($CT$2:$CT$338=\"V\")*($F$2:$F$338=0)))","v":76.818181818181827},{"$f":"SUMPRODUCT((($CO$2:$CO$338=\"60\")*(AD$2:AD$338)*($CT$2:$CT$338=\"V\")*($F$2:$F$338=0))/SUMPRODUCT(($CO$2:$CO$338=\"60\")*(AD$2:AD$338>2)*($CT$2:$CT$338=\"V\")*($F$2:$F$338=0)))","v":78.343283582089526},{"$f":"SUMPRODUCT((($CO$2:$CO$338=\"60\")*(AE$2:AE$338)*($CT$2:$CT$338=\"V\")*($F$2:$F$338=0))/SUMPRODUCT(($CO$2:$CO$338=\"60\")*(AE$2:AE$338>2)*($CT$2:$CT$338=\"V\")*($F$2:$F$338=0)))","v":76.102941176470608},{"$f":"SUMPRODUCT((($CO$2:$CO$338=\"60\")*(AF$2:AF$338)*($CT$2:$CT$338=\"V\")*($F$2:$F$338=0))/SUMPRODUCT(($CO$2:$CO$338=\"60\")*(AF$2:AF$338>2)*($CT$2:$CT$338=\"V\")*($F$2:$F$338=0)))","v":77.753623188405783},{"$f":"SUMPRODUCT((($CO$2:$CO$338=\"60\")*(AG$2:AG$338)*($CT$2:$CT$338=\"V\")*($F$2:$F$338=0))/SUMPRODUCT(($CO$2:$CO$338=\"60\")*(AG$2:AG$338>2)*($CT$2:$CT$338=\"V\")*($F$2:$F$338=0)))","v":77.132352941176492},{"$f":"SUMPRODUCT((($CO$2:$CO$338=\"60\")*(AH$2:AH$338)*($CT$2:$CT$338=\"V\")*($F$2:$F$338=0))/SUMPRODUCT(($CO$2:$CO$338=\"60\")*(AH$2:AH$338>2)*($CT$2:$CT$338=\"V\")*($F$2:$F$338=0)))","v":80.579710144927489},{"$f":"SUMPRODUCT((($CO$2:$CO$338=\"60\")*(AI$2:AI$338)*($CT$2:$CT$338=\"V\")*($F$2:$F$338=0))/SUMPRODUCT(($CO$2:$CO$338=\"60\")*(AI$2:AI$338>2)*($CT$2:$CT$338=\"V\")*($F$2:$F$338=0)))","v":78.768115942029027},{"$f":"SUMPRODUCT((($CO$2:$CO$338=\"60\")*(AJ$2:AJ$338)*($CT$2:$CT$338=\"V\")*($F$2:$F$338=0))/SUMPRODUCT(($CO$2:$CO$338=\"60\")*(AJ$2:AJ$338>2)*($CT$2:$CT$338=\"V\")*($F$2:$F$338=0)))","v":78.507246376811594},{"$f":"SUMPRODUCT((($CO$2:$CO$338=\"60\")*(AK$2:AK$338)*($CT$2:$CT$338=\"V\")*($F$2:$F$338=0))/SUMPRODUCT(($CO$2:$CO$338=\"60\")*(AK$2:AK$338>2)*($CT$2:$CT$338=\"V\")*($F$2:$F$338=0)))","v":80.04347826086952},{"$f":"SUMPRODUCT((($CO$2:$CO$338=\"60\")*(AL$2:AL$338)*($CT$2:$CT$338=\"V\")*($F$2:$F$338=0))/SUMPRODUCT(($CO$2:$CO$338=\"60\")*(AL$2:AL$338>2)*($CT$2:$CT$338=\"V\")*($F$2:$F$338=0)))","v":78.260869565217376},{"$f":"SUMPRODUCT((($CO$2:$CO$338=\"60\")*(AM$2:AM$338)*($CT$2:$CT$338=\"V\")*($F$2:$F$338=0))/SUMPRODUCT(($CO$2:$CO$338=\"60\")*(AM$2:AM$338>2)*($CT$2:$CT$338=\"V\")*($F$2:$F$338=0)))","v":{"$error":"#DIV/0!"}},{"$f":"SUMPRODUCT((($CO$2:$CO$338=\"60\")*(AN$2:AN$338)*($CT$2:$CT$338=\"V\")*($F$2:$F$338=0))/SUMPRODUCT(($CO$2:$CO$338=\"60\")*(AN$2:AN$338>2)*($CT$2:$CT$338=\"V\")*($F$2:$F$338=0)))","v":{"$error":"#DIV/0!"}},{"$f":"SUMPRODUCT((($CO$2:$CO$338=\"60\")*(AO$2:AO$338)*($CT$2:$CT$338=\"V\")*($F$2:$F$338=0))/SUMPRODUCT(($CO$2:$CO$338=\"60\")*(AO$2:AO$338>2)*($CT$2:$CT$338=\"V\")*($F$2:$F$338=0)))","v":{"$error":"#DIV/0!"}},{"$f":"SUMPRODUCT((($CO$2:$CO$338=\"60\")*(AP$2:AP$338)*($CT$2:$CT$338=\"V\")*($F$2:$F$338=0))/SUMPRODUCT(($CO$2:$CO$338=\"60\")*(AP$2:AP$338>2)*($CT$2:$CT$338=\"V\")*($F$2:$F$338=0)))","v":{"$error":"#DIV/0!"}},{"$f":"SUMPRODUCT((($CO$2:$CO$338=\"60\")*(AQ$2:AQ$338)*($CT$2:$CT$338=\"V\")*($F$2:$F$338=0))/SUMPRODUCT(($CO$2:$CO$338=\"60\")*(AQ$2:AQ$338>2)*($CT$2:$CT$338=\"V\")*($F$2:$F$338=0)))","v":75.281690140845043},{"$f":"SUMPRODUCT((($CO$2:$CO$338=\"60\")*(AR$2:AR$338)*($CT$2:$CT$338=\"V\")*($F$2:$F$338=0))/SUMPRODUCT(($CO$2:$CO$338=\"60\")*(AR$2:AR$338>2)*($CT$2:$CT$338=\"V\")*($F$2:$F$338=0)))","v":75.704225352112672},{"$f":"SUMPRODUCT((($CO$2:$CO$338=\"60\")*(AS$2:AS$338)*($CT$2:$CT$338=\"V\")*($F$2:$F$338=0))/SUMPRODUCT(($CO$2:$CO$338=\"60\")*(AS$2:AS$338>2)*($CT$2:$CT$338=\"V\")*($F$2:$F$338=0)))","v":{"$error":"#DIV/0!"}},{"$f":"SUMPRODUCT((($CO$2:$CO$338=\"60\")*(AT$2:AT$338)*($CT$2:$CT$338=\"V\")*($F$2:$F$338=0))/SUMPRODUCT(($CO$2:$CO$338=\"60\")*(AT$2:AT$338>2)*($CT$2:$CT$338=\"V\")*($F$2:$F$338=0)))","v":82.183098591549296},{"$f":"SUMPRODUCT((($CO$2:$CO$338=\"60\")*(AU$2:AU$338)*($CT$2:$CT$338=\"V\")*($F$2:$F$338=0))/SUMPRODUCT(($CO$2:$CO$338=\"60\")*(AU$2:AU$338>2)*($CT$2:$CT$338=\"V\")*($F$2:$F$338=0)))","v":77.605633802816882},{"$f":"SUMPRODUCT((($CO$2:$CO$338=\"60\")*(AV$2:AV$338)*($CT$2:$CT$338=\"V\")*($F$2:$F$338=0))/SUMPRODUCT(($CO$2:$CO$338=\"60\")*(AV$2:AV$338>2)*($CT$2:$CT$338=\"V\")*($F$2:$F$338=0)))","v":76.971830985915489},{"$f":"SUMPRODUCT((($CO$2:$CO$338=\"60\")*(AW$2:AW$338)*($CT$2:$CT$338=\"V\")*($F$2:$F$338=0))/SUMPRODUCT(($CO$2:$CO$338=\"60\")*(AW$2:AW$338>2)*($CT$2:$CT$338=\"V\")*($F$2:$F$338=0)))","v":82.957746478873261},{"$f":"SUMPRODUCT((($CO$2:$CO$338=\"60\")*(AX$2:AX$338)*($CT$2:$CT$338=\"V\")*($F$2:$F$338=0))/SUMPRODUCT(($CO$2:$CO$338=\"60\")*(AX$2:AX$338>2)*($CT$2:$CT$338=\"V\")*($F$2:$F$338=0)))","v":77.394366197183132},{"$f":"SUMPRODUCT((($CO$2:$CO$338=\"60\")*(AY$2:AY$338)*($CT$2:$CT$338=\"V\")*($F$2:$F$338=0))/SUMPRODUCT(($CO$2:$CO$338=\"60\")*(AY$2:AY$338>2)*($CT$2:$CT$338=\"V\")*($F$2:$F$338=0)))","v":80.070422535211279},{"$f":"SUMPRODUCT((($CO$2:$CO$338=\"60\")*(AZ$2:AZ$338)*($CT$2:$CT$338=\"V\")*($F$2:$F$338=0))/SUMPRODUCT(($CO$2:$CO$338=\"60\")*(AZ$2:AZ$338>2)*($CT$2:$CT$338=\"V\")*($F$2:$F$338=0)))","v":79.08450704225352},{"$f":"SUMPRODUCT((($CO$2:$CO$338=\"60\")*(BA$2:BA$338)*($CT$2:$CT$338=\"V\")*($F$2:$F$338=0))/SUMPRODUCT(($CO$2:$CO$338=\"60\")*(BA$2:BA$338>2)*($CT$2:$CT$338=\"V\")*($F$2:$F$338=0)))","v":81.760563380281681},{"$f":"SUMPRODUCT((($CO$2:$CO$338=\"60\")*(BB$2:BB$338)*($CT$2:$CT$338=\"V\")*($F$2:$F$338=0))/SUMPRODUCT(($CO$2:$CO$338=\"60\")*(BB$2:BB$338>2)*($CT$2:$CT$338=\"V\")*($F$2:$F$338=0)))","v":78.380281690140833},{"$f":"SUMPRODUCT((($CO$2:$CO$338=\"60\")*(BC$2:BC$338)*($CT$2:$CT$338=\"V\")*($F$2:$F$338=0))/SUMPRODUCT(($CO$2:$CO$338=\"60\")*(BC$2:BC$338>2)*($CT$2:$CT$338=\"V\")*($F$2:$F$338=0)))","v":{"$error":"#DIV/0!"}},{"$f":"SUMPRODUCT((($CO$2:$CO$338=\"60\")*(BD$2:BD$338)*($CT$2:$CT$338=\"V\")*($F$2:$F$338=0))/SUMPRODUCT(($CO$2:$CO$338=\"60\")*(BD$2:BD$338>2)*($CT$2:$CT$338=\"V\")*($F$2:$F$338=0)))","v":{"$error":"#DIV/0!"}},{"$f":"SUMPRODUCT((($CO$2:$CO$338=\"60\")*(BE$2:BE$338)*($CT$2:$CT$338=\"V\")*($F$2:$F$338=0))/SUMPRODUCT(($CO$2:$CO$338=\"60\")*(BE$2:BE$338>2)*($CT$2:$CT$338=\"V\")*($F$2:$F$338=0)))","v":{"$error":"#DIV/0!"}},{"$f":"SUMPRODUCT((($CO$2:$CO$338=\"60\")*(BF$2:BF$338)*($CT$2:$CT$338=\"V\")*($F$2:$F$338=0))/SUMPRODUCT(($CO$2:$CO$338=\"60\")*(BF$2:BF$338>2)*($CT$2:$CT$338=\"V\")*($F$2:$F$338=0)))","v":{"$error":"#DIV/0!"}},{"$f":"SUMPRODUCT((($CO$2:$CO$338=\"60\")*(BG$2:BG$338)*($CT$2:$CT$338=\"V\")*($F$2:$F$338=0))/SUMPRODUCT(($CO$2:$CO$338=\"60\")*(BG$2:BG$338>2)*($CT$2:$CT$338=\"V\")*($F$2:$F$338=0)))","v":64.272727272727266},{"$f":"SUMPRODUCT((($CO$2:$CO$338=\"60\")*(BH$2:BH$338)*($CT$2:$CT$338=\"V\")*($F$2:$F$338=0))/SUMPRODUCT(($CO$2:$CO$338=\"60\")*(BH$2:BH$338>2)*($CT$2:$CT$338=\"V\")*($F$2:$F$338=0)))","v":68.090909090909093},{"$f":"SUMPRODUCT((($CO$2:$CO$338=\"60\")*(BI$2:BI$338)*($CT$2:$CT$338=\"V\")*($F$2:$F$338=0))/SUMPRODUCT(($CO$2:$CO$338=\"60\")*(BI$2:BI$338>2)*($CT$2:$CT$338=\"V\")*($F$2:$F$338=0)))","v":67.818181818181813},{"$f":"SUMPRODUCT((($CO$2:$CO$338=\"60\")*(BJ$2:BJ$338)*($CT$2:$CT$338=\"V\")*($F$2:$F$338=0))/SUMPRODUCT(($CO$2:$CO$338=\"60\")*(BJ$2:BJ$338>2)*($CT$2:$CT$338=\"V\")*($F$2:$F$338=0)))","v":72.285714285714292},{"$f":"SUMPRODUCT((($CO$2:$CO$338=\"60\")*(BK$2:BK$338)*($CT$2:$CT$338=\"V\")*($F$2:$F$338=0))/SUMPRODUCT(($CO$2:$CO$338=\"60\")*(BK$2:BK$338>2)*($CT$2:$CT$338=\"V\")*($F$2:$F$338=0)))","v":59.714285714285708},{"$f":"SUMPRODUCT((($CO$2:$CO$338=\"60\")*(BL$2:BL$338)*($CT$2:$CT$338=\"V\")*($F$2:$F$338=0))/SUMPRODUCT(($CO$2:$CO$338=\"60\")*(BL$2:BL$338>2)*($CT$2:$CT$338=\"V\")*($F$2:$F$338=0)))","v":64.142857142857139},{"$f":"SUMPRODUCT((($CO$2:$CO$338=\"60\")*(BM$2:BM$338)*($CT$2:$CT$338=\"V\")*($F$2:$F$338=0))/SUMPRODUCT(($CO$2:$CO$338=\"60\")*(BM$2:BM$338>2)*($CT$2:$CT$338=\"V\")*($F$2:$F$338=0)))","v":70.285714285714306},{"$f":"SUMPRODUCT((($CO$2:$CO$338=\"60\")*(BN$2:BN$338)*($CT$2:$CT$338=\"V\")*($F$2:$F$338=0))/SUMPRODUCT(($CO$2:$CO$338=\"60\")*(BN$2:BN$338>2)*($CT$2:$CT$338=\"V\")*($F$2:$F$338=0)))","v":70.285714285714306},{"$f":"SUMPRODUCT((($CO$2:$CO$338=\"60\")*(BO$2:BO$338)*($CT$2:$CT$338=\"V\")*($F$2:$F$338=0))/SUMPRODUCT(($CO$2:$CO$338=\"60\")*(BO$2:BO$338>2)*($CT$2:$CT$338=\"V\")*($F$2:$F$338=0)))","v":64.400000000000006},{"$f":"SUMPRODUCT((($CO$2:$CO$338=\"60\")*(BP$2:BP$338)*($CT$2:$CT$338=\"V\")*($F$2:$F$338=0))/SUMPRODUCT(($CO$2:$CO$338=\"60\")*(BP$2:BP$338>2)*($CT$2:$CT$338=\"V\")*($F$2:$F$338=0)))","v":65.214285714285722},{"$f":"SUMPRODUCT((($CO$2:$CO$338=\"60\")*(BQ$2:BQ$338)*($CT$2:$CT$338=\"V\")*($F$2:$F$338=0))/SUMPRODUCT(($CO$2:$CO$338=\"60\")*(BQ$2:BQ$338>2)*($CT$2:$CT$338=\"V\")*($F$2:$F$338=0)))","v":76.142857142857167},{"$f":"SUMPRODUCT((($CO$2:$CO$338=\"60\")*(BR$2:BR$338)*($CT$2:$CT$338=\"V\")*($F$2:$F$338=0))/SUMPRODUCT(($CO$2:$CO$338=\"60\")*(BR$2:BR$338>2)*($CT$2:$CT$338=\"V\")*($F$2:$F$338=0)))","v":70.785714285714278},{"$f":"SUMPRODUCT((($CO$2:$CO$338=\"60\")*(BS$2:BS$338)*($CT$2:$CT$338=\"V\")*($F$2:$F$338=0))/SUMPRODUCT(($CO$2:$CO$338=\"60\")*(BS$2:BS$338>2)*($CT$2:$CT$338=\"V\")*($F$2:$F$338=0)))","v":{"$error":"#DIV/0!"}},{"$f":"SUMPRODUCT((($CO$2:$CO$338=\"60\")*(BT$2:BT$338)*($CT$2:$CT$338=\"V\")*($F$2:$F$338=0))/SUMPRODUCT(($CO$2:$CO$338=\"60\")*(BT$2:BT$338>2)*($CT$2:$CT$338=\"V\")*($F$2:$F$338=0)))","v":{"$error":"#DIV/0!"}},{"$f":"SUMPRODUCT((($CO$2:$CO$338=\"60\")*(BU$2:BU$338)*($CT$2:$CT$338=\"V\")*($F$2:$F$338=0))/SUMPRODUCT(($CO$2:$CO$338=\"60\")*(BU$2:BU$338>2)*($CT$2:$CT$338=\"V\")*($F$2:$F$338=0)))","v":{"$error":"#DIV/0!"}},{"$f":"SUMPRODUCT((($CO$2:$CO$338=\"60\")*(BV$2:BV$338)*($CT$2:$CT$338=\"V\")*($F$2:$F$338=0))/SUMPRODUCT(($CO$2:$CO$338=\"60\")*(BV$2:BV$338>2)*($CT$2:$CT$338=\"V\")*($F$2:$F$338=0)))","v":{"$error":"#DIV/0!"}},{"$f":"SUMPRODUCT((($CO$2:$CO$338=\"60\")*(BW$2:BW$338)*($CT$2:$CT$338=\"V\")*($F$2:$F$338=0))/SUMPRODUCT(($CO$2:$CO$338=\"60\")*(BW$2:BW$338>2)*($CT$2:$CT$338=\"V\")*($F$2:$F$338=0)))","v":{"$error":"#DIV/0!"}},83.845938663151372,82.55964998543125,81.337412587412587,76.449739936680231,77.892156862745097,78.894927536231876,{"$error":"#DIV/0!"},{"$error":"#DIV/0!"},78.732394366197184,79.823943661971839,{"$error":"#DIV/0!"},68.116883116883116,null,null,null,null,8,null,null,null,null,28,"60vsdoub","V S DOUBL",{"$f":"SUMPRODUCT(((#REF!>2)*($CO$2:$CO$339=\"60\")*(#REF!)*($CT$2:$CT$339=\"V\")*($F$2:$F$339=0))/SUMPRODUCT((#REF!>2)*($CO$2:$CO$339=\"60\")*(#REF!>2)*($CT$2:$CT$339=\"V\")*($F$2:$F$339=0)))","v":{"$error":"#REF!"}}]
[null,null,null,null,null,null,null,null,null,50,null,null,null,null,null,null,null,null,null,null,null,null,null,null,null,null,null,null,null,null,null,null,null,null,null,null,null,null,null,null,null,null,null,null,null,null,null,null,null,null,null,null,null,null,null,null,null,null,null,null,null,null,null,null,null,null,null,null,null,null,null,null,null,null,null,null,null,null,null,null,null,null,null,null,null,null,null,null,null,null,null,8,null,null,null,null,29,50]
[null,null,null,null,null,null,null,null,null,"50nb",{"$f":"SUM(($CO$2:$CO$338=\"50\")*(K$2:K$338>1)*1)","v":156},{"$f":"SUM(($CO$2:$CO$338=\"50\")*(L$2:L$338>1)*1)","v":155},{"$f":"SUM(($CO$2:$CO$338=\"50\")*(M$2:M$338>1)*1)","v":1},{"$f":"SUM(($CO$2:$CO$338=\"50\")*(N$2:N$338>1)*1)","v":157},{"$f":"SUM(($CO$2:$CO$338=\"50\")*(O$2:O$338>1)*1)","v":156},{"$f":"SUM(($CO$2:$CO$338=\"50\")*(P$2:P$338>1)*1)","v":155},{"$f":"SUM(($CO$2:$CO$338=\"50\")*(Q$2:Q$338>1)*1)","v":155},{"$f":"SUM(($CO$2:$CO$338=\"50\")*(R$2:R$338>1)*1)","v":158},{"$f":"SUM(($CO$2:$CO$338=\"50\")*(S$2:S$338>1)*1)","v":156},{"$f":"SUM(($CO$2:$CO$338=\"50\")*(T$2:T$338>1)*1)","v":68},{"$f":"SUM(($CO$2:$CO$338=\"50\")*(U$2:U$338>1)*1)","v":67},{"$f":"SUM(($CO$2:$CO$338=\"50\")*(V$2:V$338>1)*1)","v":159},{"$f":"SUM(($CO$2:$CO$338=\"50\")*(W$2:W$338>1)*1)","v":0},{"$f":"SUM(($CO$2:$CO$338=\"50\")*(X$2:X$338>1)*1)","v":0},{"$f":"SUM(($CO$2:$CO$338=\"50\")*(Y$2:Y$338>1)*1)","v":0},{"$f":"SUM(($CO$2:$CO$338=\"50\")*(Z$2:Z$338>1)*1)","v":0},{"$f":"SUM(($CO$2:$CO$338=\"50\")*(AA$2:AA$338>1)*1)","v":162},{"$f":"SUM(($CO$2:$CO$338=\"50\")*(AB$2:AB$338>1)*1)","v":161},{"$f":"SUM(($CO$2:$CO$338=\"50\")*(AC$2:AC$338>1)*1)","v":0},{"$f":"SUM(($CO$2:$CO$338=\"50\")*(AD$2:AD$338>1)*1)","v":164},{"$f":"SUM(($CO$2:$CO$338=\"50\")*(AE$2:AE$338>1)*1)","v":160},{"$f":"SUM(($CO$2:$CO$338=\"50\")*(AF$2:AF$338>1)*1)","v":162},{"$f":"SUM(($CO$2:$CO$338=\"50\")*(AG$2:AG$338>1)*1)","v":161},{"$f":"SUM(($CO$2:$CO$338=\"50\")*(AH$2:AH$338>1)*1)","v":164},{"$f":"SUM(($CO$2:$CO$338=\"50\")*(AI$2:AI$338>1)*1)","v":162},{"$f":"SUM(($CO$2:$CO$338=\"50\")*(AJ$2:AJ$338>1)*1)","v":162},{"$f":"SUM(($CO$2:$CO$338=\"50\")*(AK$2:AK$338>1)*1)","v":162},{"$f":"SUM(($CO$2:$CO$338=\"50\")*(AL$2:AL$338>1)*1)","v":165},{"$f":"SUM(($CO$2:$CO$338=\"50\")*(AM$2:AM$338>1)*1)","v":0},{"$f":"SUM(($CO$2:$CO$338=\"50\")*(AN$2:AN$338>1)*1)","v":0},{"$f":"SUM(($CO$2:$CO$338=\"50\")*(AO$2:AO$338>1)*1)","v":0},{"$f":"SUM(($CO$2:$CO$338=\"50\")*(AP$2:AP$338>1)*1)","v":0},{"$f":"SUM(($CO$2:$CO$338=\"50\")*(AQ$2:AQ$338>1)*1)","v":177},{"$f":"SUM(($CO$2:$CO$338=\"50\")*(AR$2:AR$338>1)*1)","v":177},{"$f":"SUM(($CO$2:$CO$338=\"50\")*(AS$2:AS$338>1)*1)","v":0},{"$f":"SUM(($CO$2:$CO$338=\"50\")*(AT$2:AT$338>1)*1)","v":177},{"$f":"SUM(($CO$2:$CO$338=\"50\")*(AU$2:AU$338>1)*1)","v":178},{"$f":"SUM(($CO$2:$CO$338=\"50\")*(AV$2:AV$338>1)*1)","v":178},{"$f":"SUM(($CO$2:$CO$338=\"50\")*(AW$2:AW$338>1)*1)","v":178},{"$f":"SUM(($CO$2:$CO$338=\"50\")*(AX$2:AX$338>1)*1)","v":178},{"$f":"SUM(($CO$2:$CO$338=\"50\")*(AY$2:AY$338>1)*1)","v":180},{"$f":"SUM(($CO$2:$CO$338=\"50\")*(AZ$2:AZ$338>1)*1)","v":180},{"$f":"SUM(($CO$2:$CO$338=\"50\")*(BA$2:BA$338>1)*1)","v":180},{"$f":"SUM(($CO$2:$CO$338=\"50\")*(BB$2:BB$338>1)*1)","v":180},{"$f":"SUM(($CO$2:$CO$338=\"50\")*(BC$2:BC$338>1)*1)","v":0},{"$f":"SUM(($CO$2:$CO$338=\"50\")*(BD$2:BD$338>1)*1)","v":0},{"$f":"SUM(($CO$2:$CO$338=\"50\")*(BE$2:BE$338>1)*1)","v":0},{"$f":"SUM(($CO$2:$CO$338=\"50\")*(BF$2:BF$338>1)*1)","v":0},{"$f":"SUM(($CO$2:$CO$338=\"50\")*(BG$2:BG$338>1)*1)","v":173},{"$f":"SUM(($CO$2:$CO$338=\"50\")*(BH$2:BH$338>1)*1)","v":173},{"$f":"SUM(($CO$2:$CO$338=\"50\")*(BI$2:BI$338>1)*1)","v":28},{"$f":"SUM(($CO$2:$CO$338=\"50\")*(BJ$2:BJ$338>1)*1)","v":173},{"$f":"SUM(($CO$2:$CO$338=\"50\")*(BK$2:BK$338>1)*1)","v":146},{"$f":"SUM(($CO$2:$CO$338=\"50\")*(BL$2:BL$338>1)*1)","v":146},{"$f":"SUM(($CO$2:$CO$338=\"50\")*(BM$2:BM$338>1)*1)","v":145},{"$f":"SUM(($CO$2:$CO$338=\"50\")*(BN$2:BN$338>1)*1)","v":146},{"$f":"SUM(($CO$2:$CO$338=\"50\")*(BO$2:BO$338>1)*1)","v":174},{"$f":"SUM(($CO$2:$CO$338=\"50\")*(BP$2:BP$338>1)*1)","v":174},{"$f":"SUM(($CO$2:$CO$338=\"50\")*(BQ$2:BQ$338>1)*1)","v":173},{"$f":"SUM(($CO$2:$CO$338=\"50\")*(BR$2:BR$338>1)*1)","v":174},{"$f":"SUM(($CO$2:$CO$338=\"50\")*(BS$2:BS$338>1)*1)","v":173},{"$f":"SUM(($CO$2:$CO$338=\"50\")*(BT$2:BT$338>1)*1)","v":173},{"$f":"SUM(($CO$2:$CO$338=\"50\")*(BU$2:BU$338>1)*1)","v":173},{"$f":"SUM(($CO$2:$CO$338=\"50\")*(BV$2:BV$338>1)*1)","v":172},{"$f":"SUM(($CO$2:$CO$338=\"50\")*(BW$2:BW$338>1)*1)","v":0},{"$f":"SUM(($CO$2:$CO$338=\"50\")*(BX$2:BX$338>1)*1)","v":155},{"$f":"SUM(($CO$2:$CO$338=\"50\")*(BY$2:BY$338>1)*1)","v":155},{"$f":"SUM(($CO$2:$CO$338=\"50\")*(BZ$2:BZ$338>1)*1)","v":68},{"$f":"SUM(($CO$2:$CO$338=\"50\")*(CA$2:CA$338>1)*1)","v":161},{"$f":"SUM(($CO$2:$CO$338=\"50\")*(CB$2:CB$338>1)*1)","v":162},{"$f":"SUM(($CO$2:$CO$338=\"50\")*(CC$2:CC$338>1)*1)","v":162},{"$f":"SUM(($CO$2:$CO$338=\"50\")*(CD$2:CD$338>1)*1)","v":0},{"$f":"SUM(($CO$2:$CO$338=\"50\")*(CE$2:CE$338>1)*1)","v":177},{"$f":"SUM(($CO$2:$CO$338=\"50\")*(CF$2:CF$338>1)*1)","v":178},{"$f":"SUM(($CO$2:$CO$338=\"50\")*(CG$2:CG$338>1)*1)","v":180},{"$f":"SUM(($CO$2:$CO$338=\"50\")*(CH$2:CH$338>1)*1)","v":0},{"$f":"SUM(($CO$2:$CO$338=\"50\")*(CI$2:CI$338>1)*1)","v":173},null,null,null,null,8,null,null,null,null,30,"50nb",null,{"$f":"#REF!","v":{"$error":"#REF!"}}]
[null,null,null,null,null,null,null,null,null,"50moy",{"$f":"SUMPRODUCT((($CO$2:$CO$338=\"50\")*(K$2:K$338))/SUMPRODUCT(($CO$2:$CO$338=\"50\")*(K$2:K$338>2))\n)","v":77.935897435897402},{"$f":"SUMPRODUCT((($CO$2:$CO$338=\"50\")*(L$2:L$338))/SUMPRODUCT(($CO$2:$CO$338=\"50\")*(L$2:L$338>2))\n)","v":79.935483870967687},{"$f":"SUMPRODUCT((($CO$2:$CO$338=\"50\")*(M$2:M$338))/SUMPRODUCT(($CO$2:$CO$338=\"50\")*(M$2:M$338>2))\n)","v":80},{"$f":"SUMPRODUCT((($CO$2:$CO$338=\"50\")*(N$2:N$338))/SUMPRODUCT(($CO$2:$CO$338=\"50\")*(N$2:N$338>2))\n)","v":83.127388535031869},{"$f":"SUMPRODUCT((($CO$2:$CO$338=\"50\")*(O$2:O$338))/SUMPRODUCT(($CO$2:$CO$338=\"50\")*(O$2:O$338>2))\n)","v":79.416666666666671},{"$f":"SUMPRODUCT((($CO$2:$CO$338=\"50\")*(P$2:P$338))/SUMPRODUCT(($CO$2:$CO$338=\"50\")*(P$2:P$338>2))\n)","v":82.419354838709566},{"$f":"SUMPRODUCT((($CO$2:$CO$338=\"50\")*(Q$2:Q$338))/SUMPRODUCT(($CO$2:$CO$338=\"50\")*(Q$2:Q$338>2))\n)","v":82.199999999999918},{"$f":"SUMPRODUCT((($CO$2:$CO$338=\"50\")*(R$2:R$338))/SUMPRODUCT(($CO$2:$CO$338=\"50\")*(R$2:R$338>2))\n)","v":82.860759493671011},{"$f":"SUMPRODUCT((($CO$2:$CO$338=\"50\")*(S$2:S$338))/SUMPRODUCT(($CO$2:$CO$338=\"50\")*(S$2:S$338>2))\n)","v":79.999999999999986},{"$f":"SUMPRODUCT((($CO$2:$CO$338=\"50\")*(T$2:T$338))/SUMPRODUCT(($CO$2:$CO$338=\"50\")*(T$2:T$338>2))\n)","v":82.485294117647058},{"$f":"SUMPRODUCT((($CO$2:$CO$338=\"50\")*(U$2:U$338))/SUMPRODUCT(($CO$2:$CO$338=\"50\")*(U$2:U$338>2))\n)","v":79.582089552238813},{"$f":"SUMPRODUCT((($CO$2:$CO$338=\"50\")*(V$2:V$338))/SUMPRODUCT(($CO$2:$CO$338=\"50\")*(V$2:V$338>2))\n)","v":81.452830188679243},{"$f":"SUMPRODUCT((($CO$2:$CO$338=\"50\")*(W$2:W$338))/SUMPRODUCT(($CO$2:$CO$338=\"50\")*(W$2:W$338>2))\n)","v":{"$error":"#DIV/0!"}},{"$f":"SUMPRODUCT((($CO$2:$CO$338=\"50\")*(X$2:X$338))/SUMPRODUCT(($CO$2:$CO$338=\"50\")*(X$2:X$338>2))\n)","v":{"$error":"#DIV/0!"}},{"$f":"SUMPRODUCT((($CO$2:$CO$338=\"50\")*(Y$2:Y$338))/SUMPRODUCT(($CO$2:$CO$338=\"50\")*(Y$2:Y$338>2))\n)","v":{"$error":"#DIV/0!"}},{"$f":"SUMPRODUCT((($CO$2:$CO$338=\"50\")*(Z$2:Z$338))/SUMPRODUCT(($CO$2:$CO$338=\"50\")*(Z$2:Z$338>2))\n)","v":{"$error":"#DIV/0!"}},{"$f":"SUMPRODUCT((($CO$2:$CO$338=\"50\")*(AA$2:AA$338))/SUMPRODUCT(($CO$2:$CO$338=\"50\")*(AA$2:AA$338>2))\n)","v":78.31481481481481},{"$f":"SUMPRODUCT((($CO$2:$CO$338=\"50\")*(AB$2:AB$338))/SUMPRODUCT(($CO$2:$CO$338=\"50\")*(AB$2:AB$338>2))\n)","v":78.788819875776454},{"$f":"SUMPRODUCT((($CO$2:$CO$338=\"50\")*(AC$2:AC$338))/SUMPRODUCT(($CO$2:$CO$338=\"50\")*(AC$2:AC$338>2))\n)","v":{"$error":"#DIV/0!"}},{"$f":"SUMPRODUCT((($CO$2:$CO$338=\"50\")*(AD$2:AD$338))/SUMPRODUCT(($CO$2:$CO$338=\"50\")*(AD$2:AD$338>2))\n)","v":81.396341463414473},{"$f":"SUMPRODUCT((($CO$2:$CO$338=\"50\")*(AE$2:AE$338))/SUMPRODUCT(($CO$2:$CO$338=\"50\")*(AE$2:AE$338>2))\n)","v":80.03125},{"$f":"SUMPRODUCT((($CO$2:$CO$338=\"50\")*(AF$2:AF$338))/SUMPRODUCT(($CO$2:$CO$338=\"50\")*(AF$2:AF$338>2))\n)","v":80.135802469135754},{"$f":"SUMPRODUCT((($CO$2:$CO$338=\"50\")*(AG$2:AG$338))/SUMPRODUCT(($CO$2:$CO$338=\"50\")*(AG$2:AG$338>2))\n)","v":81.677018633540428},{"$f":"SUMPRODUCT((($CO$2:$CO$338=\"50\")*(AH$2:AH$338))/SUMPRODUCT(($CO$2:$CO$338=\"50\")*(AH$2:AH$338>2))\n)","v":81.036585365853526},{"$f":"SUMPRODUCT((($CO$2:$CO$338=\"50\")*(AI$2:AI$338))/SUMPRODUCT(($CO$2:$CO$338=\"50\")*(AI$2:AI$338>2))\n)","v":78.981481481481509},{"$f":"SUMPRODUCT((($CO$2:$CO$338=\"50\")*(AJ$2:AJ$338))/SUMPRODUCT(($CO$2:$CO$338=\"50\")*(AJ$2:AJ$338>2))\n)","v":81.574074074074076},{"$f":"SUMPRODUCT((($CO$2:$CO$338=\"50\")*(AK$2:AK$338))/SUMPRODUCT(($CO$2:$CO$338=\"50\")*(AK$2:AK$338>2))\n)","v":78.5},{"$f":"SUMPRODUCT((($CO$2:$CO$338=\"50\")*(AL$2:AL$338))/SUMPRODUCT(($CO$2:$CO$338=\"50\")*(AL$2:AL$338>2))\n)","v":82.642424242424283},{"$f":"SUMPRODUCT((($CO$2:$CO$338=\"50\")*(AM$2:AM$338))/SUMPRODUCT(($CO$2:$CO$338=\"50\")*(AM$2:AM$338>2))\n)","v":{"$error":"#DIV/0!"}},{"$f":"SUMPRODUCT((($CO$2:$CO$338=\"50\")*(AN$2:AN$338))/SUMPRODUCT(($CO$2:$CO$338=\"50\")*(AN$2:AN$338>2))\n)","v":{"$error":"#DIV/0!"}},{"$f":"SUMPRODUCT((($CO$2:$CO$338=\"50\")*(AO$2:AO$338))/SUMPRODUCT(($CO$2:$CO$338=\"50\")*(AO$2:AO$338>2))\n)","v":{"$error":"#DIV/0!"}},{"$f":"SUMPRODUCT((($CO$2:$CO$338=\"50\")*(AP$2:AP$338))/SUMPRODUCT(($CO$2:$CO$338=\"50\")*(AP$2:AP$338>2))\n)","v":{"$error":"#DIV/0!"}},{"$f":"SUMPRODUCT((($CO$2:$CO$338=\"50\")*(AQ$2:AQ$338))/SUMPRODUCT(($CO$2:$CO$338=\"50\")*(AQ$2:AQ$338>2))\n)","v":74.435028248587543},{"$f":"SUMPRODUCT((($CO$2:$CO$338=\"50\")*(AR$2:AR$338))/SUMPRODUCT(($CO$2:$CO$338=\"50\")*(AR$2:AR$338>2))\n)","v":79.406779661016941},{"$f":"SUMPRODUCT((($CO$2:$CO$338=\"50\")*(AS$2:AS$338))/SUMPRODUCT(($CO$2:$CO$338=\"50\")*(AS$2:AS$338>2))\n)","v":{"$error":"#DIV/0!"}},{"$f":"SUMPRODUCT((($CO$2:$CO$338=\"50\")*(AT$2:AT$338))/SUMPRODUCT(($CO$2:$CO$338=\"50\")*(AT$2:AT$338>2))\n)","v":79.999999999999929},{"$f":"SUMPRODUCT((($CO$2:$CO$338=\"50\")*(AU$2:AU$338))/SUMPRODUCT(($CO$2:$CO$338=\"50\")*(AU$2:AU$338>2))\n)","v":77.230337078651758},{"$f":"SUMPRODUCT((($CO$2:$CO$338=\"50\")*(AV$2:AV$338))/SUMPRODUCT(($CO$2:$CO$338=\"50\")*(AV$2:AV$338>2))\n)","v":77.977528089887699},{"$f":"SUMPRODUCT((($CO$2:$CO$338=\"50\")*(AW$2:AW$338))/SUMPRODUCT(($CO$2:$CO$338=\"50\")*(AW$2:AW$338>2))\n)","v":77.634831460674121},{"$f":"SUMPRODUCT((($CO$2:$CO$338=\"50\")*(AX$2:AX$338))/SUMPRODUCT(($CO$2:$CO$338=\"50\")*(AX$2:AX$338>2))\n)","v":79.887640449438223},{"$f":"SUMPRODUCT((($CO$2:$CO$338=\"50\")*(AY$2:AY$338))/SUMPRODUCT(($CO$2:$CO$338=\"50\")*(AY$2:AY$338>2))\n)","v":79.666666666666671},{"$f":"SUMPRODUCT((($CO$2:$CO$338=\"50\")*(AZ$2:AZ$338))/SUMPRODUCT(($CO$2:$CO$338=\"50\")*(AZ$2:AZ$338>2))\n)","v":78.527777777777743},{"$f":"SUMPRODUCT((($CO$2:$CO$338=\"50\")*(BA$2:BA$338))/SUMPRODUCT(($CO$2:$CO$338=\"50\")*(BA$2:BA$338>2))\n)","v":79.361111111111128},{"$f":"SUMPRODUCT((($CO$2:$CO$338=\"50\")*(BB$2:BB$338))/SUMPRODUCT(($CO$2:$CO$338=\"50\")*(BB$2:BB$338>2))\n)","v":78.944444444444414},{"$f":"SUMPRODUCT((($CO$2:$CO$338=\"50\")*(BC$2:BC$338))/SUMPRODUCT(($CO$2:$CO$338=\"50\")*(BC$2:BC$338>2))\n)","v":{"$error":"#DIV/0!"}},{"$f":"SUMPRODUCT((($CO$2:$CO$338=\"50\")*(BD$2:BD$338))/SUMPRODUCT(($CO$2:$CO$338=\"50\")*(BD$2:BD$338>2))\n)","v":{"$error":"#DIV/0!"}},{"$f":"SUMPRODUCT((($CO$2:$CO$338=\"50\")*(BE$2:BE$338))/SUMPRODUCT(($CO$2:$CO$338=\"50\")*(BE$2:BE$338>2))\n)","v":{"$error":"#DIV/0!"}},{"$f":"SUMPRODUCT((($CO$2:$CO$338=\"50\")*(BF$2:BF$338))/SUMPRODUCT(($CO$2:$CO$338=\"50\")*(BF$2:BF$338>2))\n)","v":{"$error":"#DIV/0!"}},{"$f":"SUMPRODUCT((($CO$2:$CO$338=\"50\")*(BG$2:BG$338))/SUMPRODUCT(($CO$2:$CO$338=\"50\")*(BG$2:BG$338>2))\n)","v":77.676300578034628},{"$f":"SUMPRODUCT((($CO$2:$CO$338=\"50\")*(BH$2:BH$338))/SUMPRODUCT(($CO$2:$CO$338=\"50\")*(BH$2:BH$338>2))\n)","v":76.595375722543366},{"$f":"SUMPRODUCT((($CO$2:$CO$338=\"50\")*(BI$2:BI$338))/SUMPRODUCT(($CO$2:$CO$338=\"50\")*(BI$2:BI$338>2))\n)","v":82.642857142857139},{"$f":"SUMPRODUCT((($CO$2:$CO$338=\"50\")*(BJ$2:BJ$338))/SUMPRODUCT(($CO$2:$CO$338=\"50\")*(BJ$2:BJ$338>2))\n)","v":79.959537572254405},{"$f":"SUMPRODUCT((($CO$2:$CO$338=\"50\")*(BK$2:BK$338))/SUMPRODUCT(($CO$2:$CO$338=\"50\")*(BK$2:BK$338>2))\n)","v":78.582191780821873},{"$f":"SUMPRODUCT((($CO$2:$CO$338=\"50\")*(BL$2:BL$338))/SUMPRODUCT(($CO$2:$CO$338=\"50\")*(BL$2:BL$338>2))\n)","v":76.582191780821844},{"$f":"SUMPRODUCT((($CO$2:$CO$338=\"50\")*(BM$2:BM$338))/SUMPRODUCT(($CO$2:$CO$338=\"50\")*(BM$2:BM$338>2))\n)","v":74.048275862068934},{"$f":"SUMPRODUCT((($CO$2:$CO$338=\"50\")*(BN$2:BN$338))/SUMPRODUCT(($CO$2:$CO$338=\"50\")*(BN$2:BN$338>2))\n)","v":76.232876712328732},{"$f":"SUMPRODUCT((($CO$2:$CO$338=\"50\")*(BO$2:BO$338))/SUMPRODUCT(($CO$2:$CO$338=\"50\")*(BO$2:BO$338>2))\n)","v":77.063218390804607},{"$f":"SUMPRODUCT((($CO$2:$CO$338=\"50\")*(BP$2:BP$338))/SUMPRODUCT(($CO$2:$CO$338=\"50\")*(BP$2:BP$338>2))\n)","v":78.563218390804593},{"$f":"SUMPRODUCT((($CO$2:$CO$338=\"50\")*(BQ$2:BQ$338))/SUMPRODUCT(($CO$2:$CO$338=\"50\")*(BQ$2:BQ$338>2))\n)","v":78.763005780346816},{"$f":"SUMPRODUCT((($CO$2:$CO$338=\"50\")*(BR$2:BR$338))/SUMPRODUCT(($CO$2:$CO$338=\"50\")*(BR$2:BR$338>2))\n)","v":80.74137931034484},{"$f":"SUMPRODUCT((($CO$2:$CO$338=\"50\")*(BS$2:BS$338))/SUMPRODUCT(($CO$2:$CO$338=\"50\")*(BS$2:BS$338>2))\n)","v":79.167630057803464},{"$f":"SUMPRODUCT((($CO$2:$CO$338=\"50\")*(BT$2:BT$338))/SUMPRODUCT(($CO$2:$CO$338=\"50\")*(BT$2:BT$338>2))\n)","v":80.965317919075048},{"$f":"SUMPRODUCT((($CO$2:$CO$338=\"50\")*(BU$2:BU$338))/SUMPRODUCT(($CO$2:$CO$338=\"50\")*(BU$2:BU$338>2))\n)","v":81.132947976878611},{"$f":"SUMPRODUCT((($CO$2:$CO$338=\"50\")*(BV$2:BV$338))/SUMPRODUCT(($CO$2:$CO$338=\"50\")*(BV$2:BV$338>2))\n)","v":83.680232558139551},{"$f":"SUMPRODUCT((($CO$2:$CO$338=\"50\")*(BW$2:BW$338))/SUMPRODUCT(($CO$2:$CO$338=\"50\")*(BW$2:BW$338>2))\n)","v":{"$error":"#DIV/0!"}},{"$f":"IF(L371=0,0,IF(M371=0,AVERAGE(M371,K371,N371),AVERAGE(K371:N371)))","v":80.249692460474236},{"$f":"IF(P371=0,0,IF(Q371=0,AVERAGE(Q371,O371,R371),AVERAGE(O371:R371)))","v":81.724195249761792},{"$f":"IF(T371=0,0,IF(U371=0,AVERAGE(T371,S371,V371),AVERAGE(S371:V371)))","v":80.880053464641279},{"$f":"IF(AB371=0,0,IF(AC371=0,AVERAGE(AB371,AA371,AD371),AVERAGE(AA371:AD371)))","v":{"$error":"#DIV/0!"}},{"$f":"IF(AF371=0,0,IF(AG371=0,AVERAGE(AF371,AE371,AH371),AVERAGE(AE371:AH371)))","v":80.720164117132427},{"$f":"IF(AJ371=0,0,IF(AK371=0,AVERAGE(AJ371,AI371,AL371),AVERAGE(AI371:AL371)))","v":80.424494949494971},{"$f":"IF(AN371=0,0,IF(AO371=0,AVERAGE(AN371,AM371,AP371),AVERAGE(AM371:AP371)))","v":{"$error":"#DIV/0!"}},{"$f":"IF(AR371=0,0,IF(AS371=0,AVERAGE(AR371,AQ371,AT371),AVERAGE(AQ371:AT371)))","v":{"$error":"#DIV/0!"}},{"$f":"IF(AV371=0,0,IF(AW371=0,AVERAGE(AV371,AU371,AX371),AVERAGE(AU371:AX371)))","v":78.182584269662954},{"$f":"IF(AZ371=0,0,IF(BA371=0,AVERAGE(AZ371,AY371,BB371),AVERAGE(AY371:BB371)))","v":79.124999999999986},{"$f":"IF(BD371=0,0,IF(BE371=0,AVERAGE(BD371,BC371,BF371),AVERAGE(BC371:BF371)))","v":{"$error":"#DIV/0!"}},{"$f":"IF(BH371=0,0,IF(BI371=0,AVERAGE(BH371,BG371,BJ371,BM371),AVERAGE(BG371:BJ371)))","v":79.218517753922384},null,null,null,null,0,null,null,null,null,31,"50moy",null,{"$f":"SUMPRODUCT(((#REF!>2)*($CO$2:$CO$339=\"50\")*(#REF!))/SUMPRODUCT((#REF!>2)*($CO$2:$CO$339=\"50\")*(#REF!>2)))","v":{"$error":"#REF!"}}]
[null,null,null,null,null,null,null,null,null,"50taux",{"$f":"(SUM(($CO$2:$CO$338=\"50\")*(K$2:K$338>=60)*1))/K370*100","v":96.794871794871796},{"$f":"(SUM(($CO$2:$CO$338=\"50\")*(L$2:L$338>=60)*1))/L370*100","v":98.064516129032256},{"$f":"(SUM(($CO$2:$CO$338=\"50\")*(M$2:M$338>=60)*1))/M370*100","v":100},{"$f":"(SUM(($CO$2:$CO$338=\"50\")*(N$2:N$338>=60)*1))/N370*100","v":98.726114649681534},{"$f":"(SUM(($CO$2:$CO$338=\"50\")*(O$2:O$338>=60)*1))/O370*100","v":96.794871794871796},{"$f":"(SUM(($CO$2:$CO$338=\"50\")*(P$2:P$338>=60)*1))/P370*100","v":99.354838709677423},{"$f":"(SUM(($CO$2:$CO$338=\"50\")*(Q$2:Q$338>=60)*1))/Q370*100","v":98.064516129032256},{"$f":"(SUM(($CO$2:$CO$338=\"50\")*(R$2:R$338>=60)*1))/R370*100","v":97.468354430379748},{"$f":"(SUM(($CO$2:$CO$338=\"50\")*(S$2:S$338>=60)*1))/S370*100","v":96.794871794871796},{"$f":"(SUM(($CO$2:$CO$338=\"50\")*(T$2:T$338>=60)*1))/T370*100","v":100},{"$f":"(SUM(($CO$2:$CO$338=\"50\")*(U$2:U$338>=60)*1))/U370*100","v":98.507462686567166},{"$f":"(SUM(($CO$2:$CO$338=\"50\")*(V$2:V$338>=60)*1))/V370*100","v":97.484276729559753},{"$f":"(SUM(($CO$2:$CO$338=\"50\")*(W$2:W$338>=60)*1))/W370*100","v":{"$error":"#DIV/0!"}},{"$f":"(SUM(($CO$2:$CO$338=\"50\")*(X$2:X$338>=60)*1))/X370*100","v":{"$error":"#DIV/0!"}},{"$f":"(SUM(($CO$2:$CO$338=\"50\")*(Y$2:Y$338>=60)*1))/Y370*100","v":{"$error":"#DIV/0!"}},{"$f":"(SUM(($CO$2:$CO$338=\"50\")*(Z$2:Z$338>=60)*1))/Z370*100","v":{"$error":"#DIV/0!"}},{"$f":"(SUM(($CO$2:$CO$338=\"50\")*(AA$2:AA$338>=60)*1))/AA370*100","v":96.296296296296291},{"$f":"(SUM(($CO$2:$CO$338=\"50\")*(AB$2:AB$338>=60)*1))/AB370*100","v":95.652173913043484},{"$f":"(SUM(($CO$2:$CO$338=\"50\")*(AC$2:AC$338>=60)*1))/AC370*100","v":{"$error":"#DIV/0!"}},{"$f":"(SUM(($CO$2:$CO$338=\"50\")*(AD$2:AD$338>=60)*1))/AD370*100","v":98.170731707317074},{"$f":"(SUM(($CO$2:$CO$338=\"50\")*(AE$2:AE$338>=60)*1))/AE370*100","v":97.5},{"$f":"(SUM(($CO$2:$CO$338=\"50\")*(AF$2:AF$338>=60)*1))/AF370*100","v":97.53086419753086},{"$f":"(SUM(($CO$2:$CO$338=\"50\")*(AG$2:AG$338>=60)*1))/AG370*100","v":98.136645962732914},{"$f":"(SUM(($CO$2:$CO$338=\"50\")*(AH$2:AH$338>=60)*1))/AH370*100","v":95.731707317073173},{"$f":"(SUM(($CO$2:$CO$338=\"50\")*(AI$2:AI$338>=60)*1))/AI370*100","v":95.679012345679013},{"$f":"(SUM(($CO$2:$CO$338=\"50\")*(AJ$2:AJ$338>=60)*1))/AJ370*100","v":96.913580246913583},{"$f":"(SUM(($CO$2:$CO$338=\"50\")*(AK$2:AK$338>=60)*1))/AK370*100","v":95.679012345679013},{"$f":"(SUM(($CO$2:$CO$338=\"50\")*(AL$2:AL$338>=60)*1))/AL370*100","v":96.969696969696969},{"$f":"(SUM(($CO$2:$CO$338=\"50\")*(AM$2:AM$338>=60)*1))/AM370*100","v":{"$error":"#DIV/0!"}},{"$f":"(SUM(($CO$2:$CO$338=\"50\")*(AN$2:AN$338>=60)*1))/AN370*100","v":{"$error":"#DIV/0!"}},{"$f":"(SUM(($CO$2:$CO$338=\"50\")*(AO$2:AO$338>=60)*1))/AO370*100","v":{"$error":"#DIV/0!"}},{"$f":"(SUM(($CO$2:$CO$338=\"50\")*(AP$2:AP$338>=60)*1))/AP370*100","v":{"$error":"#DIV/0!"}},{"$f":"(SUM(($CO$2:$CO$338=\"50\")*(AQ$2:AQ$338>=60)*1))/AQ370*100","v":90.395480225988706},{"$f":"(SUM(($CO$2:$CO$338=\"50\")*(AR$2:AR$338>=60)*1))/AR370*100","v":94.915254237288138},{"$f":"(SUM(($CO$2:$CO$338=\"50\")*(AS$2:AS$338>=60)*1))/AS370*100","v":{"$error":"#DIV/0!"}},{"$f":"(SUM(($CO$2:$CO$338=\"50\")*(AT$2:AT$338>=60)*1))/AT370*100","v":90.960451977401121},{"$f":"(SUM(($CO$2:$CO$338=\"50\")*(AU$2:AU$338>=60)*1))/AU370*100","v":94.382022471910105},{"$f":"(SUM(($CO$2:$CO$338=\"50\")*(AV$2:AV$338>=60)*1))/AV370*100","v":96.629213483146074},{"$f":"(SUM(($CO$2:$CO$338=\"50\")*(AW$2:AW$338>=60)*1))/AW370*100","v":88.202247191011239},{"$f":"(SUM(($CO$2:$CO$338=\"50\")*(AX$2:AX$338>=60)*1))/AX370*100","v":92.696629213483149},{"$f":"(SUM(($CO$2:$CO$338=\"50\")*(AY$2:AY$338>=60)*1))/AY370*100","v":96.666666666666671},{"$f":"(SUM(($CO$2:$CO$338=\"50\")*(AZ$2:AZ$338>=60)*1))/AZ370*100","v":95.555555555555557},{"$f":"(SUM(($CO$2:$CO$338=\"50\")*(BA$2:BA$338>=60)*1))/BA370*100","v":90.555555555555557},{"$f":"(SUM(($CO$2:$CO$338=\"50\")*(BB$2:BB$338>=60)*1))/BB370*100","v":92.777777777777786},{"$f":"(SUM(($CO$2:$CO$338=\"50\")*(BC$2:BC$338>=60)*1))/BC370*100","v":{"$error":"#DIV/0!"}},{"$f":"(SUM(($CO$2:$CO$338=\"50\")*(BD$2:BD$338>=60)*1))/BD370*100","v":{"$error":"#DIV/0!"}},{"$f":"(SUM(($CO$2:$CO$338=\"50\")*(BE$2:BE$338>=60)*1))/BE370*100","v":{"$error":"#DIV/0!"}},{"$f":"(SUM(($CO$2:$CO$338=\"50\")*(BF$2:BF$338>=60)*1))/BF370*100","v":{"$error":"#DIV/0!"}},{"$f":"(SUM(($CO$2:$CO$338=\"50\")*(BG$2:BG$338>=60)*1))/BG370*100","v":93.641618497109818},{"$f":"(SUM(($CO$2:$CO$338=\"50\")*(BH$2:BH$338>=60)*1))/BH370*100","v":93.063583815028906},{"$f":"(SUM(($CO$2:$CO$338=\"50\")*(BI$2:BI$338>=60)*1))/BI370*100","v":100},{"$f":"(SUM(($CO$2:$CO$338=\"50\")*(BJ$2:BJ$338>=60)*1))/BJ370*100","v":91.907514450867055},{"$f":"(SUM(($CO$2:$CO$338=\"50\")*(BK$2:BK$338>=60)*1))/BK370*100","v":93.150684931506845},{"$f":"(SUM(($CO$2:$CO$338=\"50\")*(BL$2:BL$338>=60)*1))/BL370*100","v":93.835616438356169},{"$f":"(SUM(($CO$2:$CO$338=\"50\")*(BM$2:BM$338>=60)*1))/BM370*100","v":84.827586206896555},{"$f":"(SUM(($CO$2:$CO$338=\"50\")*(BN$2:BN$338>=60)*1))/BN370*100","v":92.465753424657535},{"$f":"(SUM(($CO$2:$CO$338=\"50\")*(BO$2:BO$338>=60)*1))/BO370*100","v":93.103448275862064},{"$f":"(SUM(($CO$2:$CO$338=\"50\")*(BP$2:BP$338>=60)*1))/BP370*100","v":95.402298850574709},{"$f":"(SUM(($CO$2:$CO$338=\"50\")*(BQ$2:BQ$338>=60)*1))/BQ370*100","v":90.751445086705203},{"$f":"(SUM(($CO$2:$CO$338=\"50\")*(BR$2:BR$338>=60)*1))/BR370*100","v":95.977011494252878},{"$f":"(SUM(($CO$2:$CO$338=\"50\")*(BS$2:BS$338>=60)*1))/BS370*100","v":94.797687861271669},{"$f":"(SUM(($CO$2:$CO$338=\"50\")*(BT$2:BT$338>=60)*1))/BT370*100","v":94.797687861271669},{"$f":"(SUM(($CO$2:$CO$338=\"50\")*(BU$2:BU$338>=60)*1))/BU370*100","v":91.329479768786129},{"$f":"(SUM(($CO$2:$CO$338=\"50\")*(BV$2:BV$338>=60)*1))/BV370*100","v":94.186046511627907},{"$f":"(SUM(($CO$2:$CO$338=\"50\")*(BW$2:BW$338>=60)*1))/BW370*100","v":{"$error":"#DIV/0!"}},98.396375643396397,97.920645265990302,98.196652802749668,{"$error":"#DIV/0!"},97.224804369334237,96.310325476992148,{"$error":"#DIV/0!"},{"$error":"#DIV/0!"},92.977528089887642,93.888888888888886,{"$error":"#DIV/0!"},94.653179190751445,null,null,null,null,8,null,null,null,null,32,"50taux",null,{"$f":"(SUM(($CO$2:$CO$339=\"50\")*(CV$2:CV$339>=60)*1))/CV370*100","v":{"$error":"#REF!"}}]
[null,null,null,null,null,null,null,null,null,"50avas",{"$f":"K375-K376","v":-0.76411960132885781},{"$f":"L375-L376","v":-0.89915966386558921},{"$error":"#DIV/0!"},0.22988505747125032,-2.3538205980065641,-1.3193277310924145,0.10420168067228985,0.64772727272726627,-3.2392026578072404,-2.9204545454545467,0.32267441860469148,0.80898876404495468,{"$error":"#DIV/0!"},{"$error":"#DIV/0!"},{"$error":"#DIV/0!"},{"$error":"#DIV/0!"},-2.6933969524395565,-0.33623910336237373,{"$error":"#DIV/0!"},0.20510510510511892,-3.3522727272727337,-2.1215945821147528,-0.35814606741577393,0.28828828828821429,-2.3526242881329296,-2.3710943512389662,0.51115899645994034,1.3216513216462999E-2,{"$error":"#DIV/0!"},{"$error":"#DIV/0!"},{"$error":"#DIV/0!"},{"$error":"#DIV/0!"},-4.106819943167153,-1.5286747610436464,{"$error":"#DIV/0!"},0.68586928442256578,-3.9556322720880104,-1.3604398414525036,-1.2710650811917077,0.59455312619860479,-3.4118967452301234,-0.54433221099893103,-2.3961840628507645,2.0089786756452526,{"$error":"#DIV/0!"},{"$error":"#DIV/0!"},{"$error":"#DIV/0!"},{"$error":"#DIV/0!"},-4.043630487476392,-0.9543495825477919,-5.5714285714285836,0.64772421222733101,-3.415194681861351,-2.4446343779677591,2.0951923076922867,1.4457739791072868,-5.2166555629580671,-2.9561625582944515,0.79854565041749481,0.22185209860097643,-4.5041835357625502,-5.3628879892037986,0.87246963562751034,-0.18630660120024345,{"$f":"BW375-BW376","v":{"$error":"#DIV/0!"}},{"$error":"#DIV/0!"},-0.73030484392485562,-1.256998505153021,{"$error":"#DIV/0!"},-1.385931272128758,-1.0498357824238695,{"$error":"#DIV/0!"},{"$error":"#DIV/0!"},-1.498146017133422,-1.0858585858586309,{"$f":"CH375-CH376","v":{"$error":"#DIV/0!"}},-2.4804211073063556,null,null,null,null,null,null,null,null,null,33,"50avas",null,{"$f":"CV375-CV376","v":{"$error":"#REF!"}}]
[null,null,null,null,null,null,null,null,null,"50avaa",{"$f":"K377-K378","v":0.20659340659335612},{"$f":"L377-L378","v":-2.7712912087912542},{"$error":"#DIV/0!"},-1.0165551839464797,0.47692307692302904,-0.60256410256415904,-1.9341880341880682,-1.6218362282878758,-0.26262626262635536,1.9437229437229462,1.1470588235293917,-2.2306940371456392,{"$error":"#DIV/0!"},{"$error":"#DIV/0!"},{"$error":"#DIV/0!"},{"$error":"#DIV/0!"},0.67461430575035308,0.3217900063250454,{"$error":"#DIV/0!"},1.8379939209726928,-0.97335901139463488,1.5240766713416747,1.1211258697026665,-0.68389057750756876,-1.5217391304347956,0.7223001402525,-0.39130434782610735,0.28708420737189044,{"$error":"#DIV/0!"},{"$error":"#DIV/0!"},{"$error":"#DIV/0!"},{"$error":"#DIV/0!"},2.2381448671182937,-0.11724856696193342,{"$error":"#DIV/0!"},0.23058884835846527,0.21826625386989917,-0.54437564499485802,-4.1274509803921546,-1.3441692466461461,0.77922077922076483,0.71806833942753201,-2.1378136426680072,1.1057874164670096,{"$error":"#DIV/0!"},{"$error":"#DIV/0!"},{"$error":"#DIV/0!"},{"$error":"#DIV/0!"},1.9102007596310244,1.1557243624524602,-1.7860962566844876,-0.11909929462831315,3.0182336182335945,0.52250712250710762,-1.3121141975308461,-0.80037986704654429,1.2336197636949606,0.7663802363050678,-1.0538775510203635,0.17158968850695544,2.7395550732499885,-1.0709441128595074,-2.3912099837223764,-0.26644736842106909,{"$f":"BW377-BW378","v":{"$error":"#DIV/0!"}},{"$error":"#DIV/0!"},-0.92041632202926849,0.14936536687008584,{"$error":"#DIV/0!"},0.24698823803552727,-0.22591478265911746,{"$error":"#DIV/0!"},{"$error":"#DIV/0!"},-1.4494324045408149,0.11631572311182481,{"$f":"CH377-CH378","v":{"$error":"#DIV/0!"}},0.29018239269267099,null,null,null,null,{"$f":"(SUM(CN368:CN372))/4","v":8},null,null,null,null,34,"50avaa",null,{"$f":"CV377-CV378","v":{"$error":"#REF!"}}]
[null,null,null,null,null,null,null,null,null,"50m",{"$f":"SUMPRODUCT((($CO$2:$CO$338=\"50\")*(K$2:K$338)*($J$2:$J$338=\"M\"))/SUMPRODUCT(($CO$2:$CO$338=\"50\")*(K$2:K$338>2)*($J$2:$J$338=\"M\")))","v":77.593023255814003},{"$f":"SUMPRODUCT((($CO$2:$CO$338=\"50\")*(L$2:L$338)*($J$2:$J$338=\"M\"))/SUMPRODUCT(($CO$2:$CO$338=\"50\")*(L$2:L$338>2)*($J$2:$J$338=\"M\")))","v":79.529411764705856},{"$f":"SUMPRODUCT((($CO$2:$CO$338=\"50\")*(M$2:M$338)*($J$2:$J$338=\"M\"))/SUMPRODUCT(($CO$2:$CO$338=\"50\")*(M$2:M$338>2)*($J$2:$J$338=\"M\")))","v":80},{"$f":"SUMPRODUCT((($CO$2:$CO$338=\"50\")*(N$2:N$338)*($J$2:$J$338=\"M\"))/SUMPRODUCT(($CO$2:$CO$338=\"50\")*(N$2:N$338>2)*($J$2:$J$338=\"M\")))","v":83.22988505747125},{"$f":"SUMPRODUCT((($CO$2:$CO$338=\"50\")*(O$2:O$338)*($J$2:$J$338=\"M\"))/SUMPRODUCT(($CO$2:$CO$338=\"50\")*(O$2:O$338>2)*($J$2:$J$338=\"M\")))","v":78.36046511627913},{"$f":"SUMPRODUCT((($CO$2:$CO$338=\"50\")*(P$2:P$338)*($J$2:$J$338=\"M\"))/SUMPRODUCT(($CO$2:$CO$338=\"50\")*(P$2:P$338>2)*($J$2:$J$338=\"M\")))","v":81.823529411764724},{"$f":"SUMPRODUCT((($CO$2:$CO$338=\"50\")*(Q$2:Q$338)*($J$2:$J$338=\"M\"))/SUMPRODUCT(($CO$2:$CO$338=\"50\")*(Q$2:Q$338>2)*($J$2:$J$338=\"M\")))","v":82.247058823529429},{"$f":"SUMPRODUCT((($CO$2:$CO$338=\"50\")*(R$2:R$338)*($J$2:$J$338=\"M\"))/SUMPRODUCT(($CO$2:$CO$338=\"50\")*(R$2:R$338>2)*($J$2:$J$338=\"M\")))","v":83.147727272727252},{"$f":"SUMPRODUCT((($CO$2:$CO$338=\"50\")*(S$2:S$338)*($J$2:$J$338=\"M\"))/SUMPRODUCT(($CO$2:$CO$338=\"50\")*(S$2:S$338>2)*($J$2:$J$338=\"M\")))","v":78.546511627907037},{"$f":"SUMPRODUCT((($CO$2:$CO$338=\"50\")*(T$2:T$338)*($J$2:$J$338=\"M\"))/SUMPRODUCT(($CO$2:$CO$338=\"50\")*(T$2:T$338>2)*($J$2:$J$338=\"M\")))","v":81.454545454545467},{"$f":"SUMPRODUCT((($CO$2:$CO$338=\"50\")*(U$2:U$338)*($J$2:$J$338=\"M\"))/SUMPRODUCT(($CO$2:$CO$338=\"50\")*(U$2:U$338>2)*($J$2:$J$338=\"M\")))","v":79.697674418604691},{"$f":"SUMPRODUCT((($CO$2:$CO$338=\"50\")*(V$2:V$338)*($J$2:$J$338=\"M\"))/SUMPRODUCT(($CO$2:$CO$338=\"50\")*(V$2:V$338>2)*($J$2:$J$338=\"M\")))","v":81.808988764044969},{"$f":"SUMPRODUCT((($CO$2:$CO$338=\"50\")*(W$2:W$338)*($J$2:$J$338=\"M\"))/SUMPRODUCT(($CO$2:$CO$338=\"50\")*(W$2:W$338>2)*($J$2:$J$338=\"M\")))","v":{"$error":"#DIV/0!"}},{"$f":"SUMPRODUCT((($CO$2:$CO$338=\"50\")*(X$2:X$338)*($J$2:$J$338=\"M\"))/SUMPRODUCT(($CO$2:$CO$338=\"50\")*(X$2:X$338>2)*($J$2:$J$338=\"M\")))","v":{"$error":"#DIV/0!"}},{"$f":"SUMPRODUCT((($CO$2:$CO$338=\"50\")*(Y$2:Y$338)*($J$2:$J$338=\"M\"))/SUMPRODUCT(($CO$2:$CO$338=\"50\")*(Y$2:Y$338>2)*($J$2:$J$338=\"M\")))","v":{"$error":"#DIV/0!"}},{"$f":"SUMPRODUCT((($CO$2:$CO$338=\"50\")*(Z$2:Z$338)*($J$2:$J$338=\"M\"))/SUMPRODUCT(($CO$2:$CO$338=\"50\")*(Z$2:Z$338>2)*($J$2:$J$338=\"M\")))","v":{"$error":"#DIV/0!"}},{"$f":"SUMPRODUCT((($CO$2:$CO$338=\"50\")*(AA$2:AA$338)*($J$2:$J$338=\"M\"))/SUMPRODUCT(($CO$2:$CO$338=\"50\")*(AA$2:AA$338>2)*($J$2:$J$338=\"M\")))","v":77.101123595505598},{"$f":"SUMPRODUCT((($CO$2:$CO$338=\"50\")*(AB$2:AB$338)*($J$2:$J$338=\"M\"))/SUMPRODUCT(($CO$2:$CO$338=\"50\")*(AB$2:AB$338>2)*($J$2:$J$338=\"M\")))","v":78.636363636363612},{"$f":"SUMPRODUCT((($CO$2:$CO$338=\"50\")*(AC$2:AC$338)*($J$2:$J$338=\"M\"))/SUMPRODUCT(($CO$2:$CO$338=\"50\")*(AC$2:AC$338>2)*($J$2:$J$338=\"M\")))","v":{"$error":"#DIV/0!"}},{"$f":"SUMPRODUCT((($CO$2:$CO$338=\"50\")*(AD$2:AD$338)*($J$2:$J$338=\"M\"))/SUMPRODUCT(($CO$2:$CO$338=\"50\")*(AD$2:AD$338>2)*($J$2:$J$338=\"M\")))","v":81.488888888888852},{"$f":"SUMPRODUCT((($CO$2:$CO$338=\"50\")*(AE$2:AE$338)*($J$2:$J$338=\"M\"))/SUMPRODUCT(($CO$2:$CO$338=\"50\")*(AE$2:AE$338>2)*($J$2:$J$338=\"M\")))","v":78.522727272727309},{"$f":"SUMPRODUCT((($CO$2:$CO$338=\"50\")*(AF$2:AF$338)*($J$2:$J$338=\"M\"))/SUMPRODUCT(($CO$2:$CO$338=\"50\")*(AF$2:AF$338>2)*($J$2:$J$338=\"M\")))","v":79.179775280898937},{"$f":"SUMPRODUCT((($CO$2:$CO$338=\"50\")*(AG$2:AG$338)*($J$2:$J$338=\"M\"))/SUMPRODUCT(($CO$2:$CO$338=\"50\")*(AG$2:AG$338>2)*($J$2:$J$338=\"M\")))","v":81.516853932584297},{"$f":"SUMPRODUCT((($CO$2:$CO$338=\"50\")*(AH$2:AH$338)*($J$2:$J$338=\"M\"))/SUMPRODUCT(($CO$2:$CO$338=\"50\")*(AH$2:AH$338>2)*($J$2:$J$338=\"M\")))","v":81.166666666666615},{"$f":"SUMPRODUCT((($CO$2:$CO$338=\"50\")*(AI$2:AI$338)*($J$2:$J$338=\"M\"))/SUMPRODUCT(($CO$2:$CO$338=\"50\")*(AI$2:AI$338>2)*($J$2:$J$338=\"M\")))","v":77.921348314606746},{"$f":"SUMPRODUCT((($CO$2:$CO$338=\"50\")*(AJ$2:AJ$338)*($J$2:$J$338=\"M\"))/SUMPRODUCT(($CO$2:$CO$338=\"50\")*(AJ$2:AJ$338>2)*($J$2:$J$338=\"M\")))","v":80.505617977528118},{"$f":"SUMPRODUCT((($CO$2:$CO$338=\"50\")*(AK$2:AK$338)*($J$2:$J$338=\"M\"))/SUMPRODUCT(($CO$2:$CO$338=\"50\")*(AK$2:AK$338>2)*($J$2:$J$338=\"M\")))","v":78.730337078651687},{"$f":"SUMPRODUCT((($CO$2:$CO$338=\"50\")*(AL$2:AL$338)*($J$2:$J$338=\"M\"))/SUMPRODUCT(($CO$2:$CO$338=\"50\")*(AL$2:AL$338>2)*($J$2:$J$338=\"M\")))","v":82.648351648351607},{"$f":"SUMPRODUCT((($CO$2:$CO$338=\"50\")*(AM$2:AM$338)*($J$2:$J$338=\"M\"))/SUMPRODUCT(($CO$2:$CO$338=\"50\")*(AM$2:AM$338>2)*($J$2:$J$338=\"M\")))","v":{"$error":"#DIV/0!"}},{"$f":"SUMPRODUCT((($CO$2:$CO$338=\"50\")*(AN$2:AN$338)*($J$2:$J$338=\"M\"))/SUMPRODUCT(($CO$2:$CO$338=\"50\")*(AN$2:AN$338>2)*($J$2:$J$338=\"M\")))","v":{"$error":"#DIV/0!"}},{"$f":"SUMPRODUCT((($CO$2:$CO$338=\"50\")*(AO$2:AO$338)*($J$2:$J$338=\"M\"))/SUMPRODUCT(($CO$2:$CO$338=\"50\")*(AO$2:AO$338>2)*($J$2:$J$338=\"M\")))","v":{"$error":"#DIV/0!"}},{"$f":"SUMPRODUCT((($CO$2:$CO$338=\"50\")*(AP$2:AP$338)*($J$2:$J$338=\"M\"))/SUMPRODUCT(($CO$2:$CO$338=\"50\")*(AP$2:AP$338>2)*($J$2:$J$338=\"M\")))","v":{"$error":"#DIV/0!"}},{"$f":"SUMPRODUCT((($CO$2:$CO$338=\"50\")*(AQ$2:AQ$338)*($J$2:$J$338=\"M\"))/SUMPRODUCT(($CO$2:$CO$338=\"50\")*(AQ$2:AQ$338>2)*($J$2:$J$338=\"M\")))","v":72.602040816326507},{"$f":"SUMPRODUCT((($CO$2:$CO$338=\"50\")*(AR$2:AR$338)*($J$2:$J$338=\"M\"))/SUMPRODUCT(($CO$2:$CO$338=\"50\")*(AR$2:AR$338>2)*($J$2:$J$338=\"M\")))","v":78.724489795918402},{"$f":"SUMPRODUCT((($CO$2:$CO$338=\"50\")*(AS$2:AS$338)*($J$2:$J$338=\"M\"))/SUMPRODUCT(($CO$2:$CO$338=\"50\")*(AS$2:AS$338>2)*($J$2:$J$338=\"M\")))","v":{"$error":"#DIV/0!"}},{"$f":"SUMPRODUCT((($CO$2:$CO$338=\"50\")*(AT$2:AT$338)*($J$2:$J$338=\"M\"))/SUMPRODUCT(($CO$2:$CO$338=\"50\")*(AT$2:AT$338>2)*($J$2:$J$338=\"M\")))","v":80.306122448979593},{"$f":"SUMPRODUCT((($CO$2:$CO$338=\"50\")*(AU$2:AU$338)*($J$2:$J$338=\"M\"))/SUMPRODUCT(($CO$2:$CO$338=\"50\")*(AU$2:AU$338>2)*($J$2:$J$338=\"M\")))","v":75.474747474747446},{"$f":"SUMPRODUCT((($CO$2:$CO$338=\"50\")*(AV$2:AV$338)*($J$2:$J$338=\"M\"))/SUMPRODUCT(($CO$2:$CO$338=\"50\")*(AV$2:AV$338>2)*($J$2:$J$338=\"M\")))","v":77.373737373737384},{"$f":"SUMPRODUCT((($CO$2:$CO$338=\"50\")*(AW$2:AW$338)*($J$2:$J$338=\"M\"))/SUMPRODUCT(($CO$2:$CO$338=\"50\")*(AW$2:AW$338>2)*($J$2:$J$338=\"M\")))","v":77.070707070707059},{"$f":"SUMPRODUCT((($CO$2:$CO$338=\"50\")*(AX$2:AX$338)*($J$2:$J$338=\"M\"))/SUMPRODUCT(($CO$2:$CO$338=\"50\")*(AX$2:AX$338>2)*($J$2:$J$338=\"M\")))","v":80.151515151515085},{"$f":"SUMPRODUCT((($CO$2:$CO$338=\"50\")*(AY$2:AY$338)*($J$2:$J$338=\"M\"))/SUMPRODUCT(($CO$2:$CO$338=\"50\")*(AY$2:AY$338>2)*($J$2:$J$338=\"M\")))","v":78.131313131313092},{"$f":"SUMPRODUCT((($CO$2:$CO$338=\"50\")*(AZ$2:AZ$338)*($J$2:$J$338=\"M\"))/SUMPRODUCT(($CO$2:$CO$338=\"50\")*(AZ$2:AZ$338>2)*($J$2:$J$338=\"M\")))","v":78.282828282828248},{"$f":"SUMPRODUCT((($CO$2:$CO$338=\"50\")*(BA$2:BA$338)*($J$2:$J$338=\"M\"))/SUMPRODUCT(($CO$2:$CO$338=\"50\")*(BA$2:BA$338>2)*($J$2:$J$338=\"M\")))","v":78.282828282828262},{"$f":"SUMPRODUCT((($CO$2:$CO$338=\"50\")*(BB$2:BB$338)*($J$2:$J$338=\"M\"))/SUMPRODUCT(($CO$2:$CO$338=\"50\")*(BB$2:BB$338>2)*($J$2:$J$338=\"M\")))","v":79.848484848484773},{"$f":"SUMPRODUCT((($CO$2:$CO$338=\"50\")*(BC$2:BC$338)*($J$2:$J$338=\"M\"))/SUMPRODUCT(($CO$2:$CO$338=\"50\")*(BC$2:BC$338>2)*($J$2:$J$338=\"M\")))","v":{"$error":"#DIV/0!"}},{"$f":"SUMPRODUCT((($CO$2:$CO$338=\"50\")*(BD$2:BD$338)*($J$2:$J$338=\"M\"))/SUMPRODUCT(($CO$2:$CO$338=\"50\")*(BD$2:BD$338>2)*($J$2:$J$338=\"M\")))","v":{"$error":"#DIV/0!"}},{"$f":"SUMPRODUCT((($CO$2:$CO$338=\"50\")*(BE$2:BE$338)*($J$2:$J$338=\"M\"))/SUMPRODUCT(($CO$2:$CO$338=\"50\")*(BE$2:BE$338>2)*($J$2:$J$338=\"M\")))","v":{"$error":"#DIV/0!"}},{"$f":"SUMPRODUCT((($CO$2:$CO$338=\"50\")*(BF$2:BF$338)*($J$2:$J$338=\"M\"))/SUMPRODUCT(($CO$2:$CO$338=\"50\")*(BF$2:BF$338>2)*($J$2:$J$338=\"M\")))","v":{"$error":"#DIV/0!"}},{"$f":"SUMPRODUCT((($CO$2:$CO$338=\"50\")*(BG$2:BG$338)*($J$2:$J$338=\"M\"))/SUMPRODUCT(($CO$2:$CO$338=\"50\")*(BG$2:BG$338>2)*($J$2:$J$338=\"M\")))","v":75.829787234042584},{"$f":"SUMPRODUCT((($CO$2:$CO$338=\"50\")*(BH$2:BH$338)*($J$2:$J$338=\"M\"))/SUMPRODUCT(($CO$2:$CO$338=\"50\")*(BH$2:BH$338>2)*($J$2:$J$338=\"M\")))","v":76.159574468085111},{"$f":"SUMPRODUCT((($CO$2:$CO$338=\"50\")*(BI$2:BI$338)*($J$2:$J$338=\"M\"))/SUMPRODUCT(($CO$2:$CO$338=\"50\")*(BI$2:BI$338>2)*($J$2:$J$338=\"M\")))","v":79.857142857142847},{"$f":"SUMPRODUCT((($CO$2:$CO$338=\"50\")*(BJ$2:BJ$338)*($J$2:$J$338=\"M\"))/SUMPRODUCT(($CO$2:$CO$338=\"50\")*(BJ$2:BJ$338>2)*($J$2:$J$338=\"M\")))","v":80.255319148936167},{"$f":"SUMPRODUCT((($CO$2:$CO$338=\"50\")*(BK$2:BK$338)*($J$2:$J$338=\"M\"))/SUMPRODUCT(($CO$2:$CO$338=\"50\")*(BK$2:BK$338>2)*($J$2:$J$338=\"M\")))","v":77.061728395061721},{"$f":"SUMPRODUCT((($CO$2:$CO$338=\"50\")*(BL$2:BL$338)*($J$2:$J$338=\"M\"))/SUMPRODUCT(($CO$2:$CO$338=\"50\")*(BL$2:BL$338>2)*($J$2:$J$338=\"M\")))","v":75.493827160493808},{"$f":"SUMPRODUCT((($CO$2:$CO$338=\"50\")*(BM$2:BM$338)*($J$2:$J$338=\"M\"))/SUMPRODUCT(($CO$2:$CO$338=\"50\")*(BM$2:BM$338>2)*($J$2:$J$338=\"M\")))","v":74.987500000000011},{"$f":"SUMPRODUCT((($CO$2:$CO$338=\"50\")*(BN$2:BN$338)*($J$2:$J$338=\"M\"))/SUMPRODUCT(($CO$2:$CO$338=\"50\")*(BN$2:BN$338>2)*($J$2:$J$338=\"M\")))","v":76.876543209876544},{"$f":"SUMPRODUCT((($CO$2:$CO$338=\"50\")*(BO$2:BO$338)*($J$2:$J$338=\"M\"))/SUMPRODUCT(($CO$2:$CO$338=\"50\")*(BO$2:BO$338>2)*($J$2:$J$338=\"M\")))","v":74.694736842105257},{"$f":"SUMPRODUCT((($CO$2:$CO$338=\"50\")*(BP$2:BP$338)*($J$2:$J$338=\"M\"))/SUMPRODUCT(($CO$2:$CO$338=\"50\")*(BP$2:BP$338>2)*($J$2:$J$338=\"M\")))","v":77.221052631578956},{"$f":"SUMPRODUCT((($CO$2:$CO$338=\"50\")*(BQ$2:BQ$338)*($J$2:$J$338=\"M\"))/SUMPRODUCT(($CO$2:$CO$338=\"50\")*(BQ$2:BQ$338>2)*($J$2:$J$338=\"M\")))","v":79.12765957446814},{"$f":"SUMPRODUCT((($CO$2:$CO$338=\"50\")*(BR$2:BR$338)*($J$2:$J$338=\"M\"))/SUMPRODUCT(($CO$2:$CO$338=\"50\")*(BR$2:BR$338>2)*($J$2:$J$338=\"M\")))","v":80.842105263157933},{"$f":"SUMPRODUCT((($CO$2:$CO$338=\"50\")*(BS$2:BS$338)*($J$2:$J$338=\"M\"))/SUMPRODUCT(($CO$2:$CO$338=\"50\")*(BS$2:BS$338>2)*($J$2:$J$338=\"M\")))","v":77.136842105263113},{"$f":"SUMPRODUCT((($CO$2:$CO$338=\"50\")*(BT$2:BT$338)*($J$2:$J$338=\"M\"))/SUMPRODUCT(($CO$2:$CO$338=\"50\")*(BT$2:BT$338>2)*($J$2:$J$338=\"M\")))","v":78.547368421052653},{"$f":"SUMPRODUCT((($CO$2:$CO$338=\"50\")*(BU$2:BU$338)*($J$2:$J$338=\"M\"))/SUMPRODUCT(($CO$2:$CO$338=\"50\")*(BU$2:BU$338>2)*($J$2:$J$338=\"M\")))","v":81.526315789473685},{"$f":"SUMPRODUCT((($CO$2:$CO$338=\"50\")*(BV$2:BV$338)*($J$2:$J$338=\"M\"))/SUMPRODUCT(($CO$2:$CO$338=\"50\")*(BV$2:BV$338>2)*($J$2:$J$338=\"M\")))","v":83.59574468085107},{"$f":"SUMPRODUCT((($CO$2:$CO$338=\"50\")*(BW$2:BW$338)*($J$2:$J$338=\"M\"))/SUMPRODUCT(($CO$2:$CO$338=\"50\")*(BW$2:BW$338>2)*($J$2:$J$338=\"M\")))","v":{"$error":"#DIV/0!"}},{"$f":"IF(L375=0,0,IF(M375=0,AVERAGE(M375,K375,N375),AVERAGE(K375:N375)))","v":80.088080019497767},{"$f":"IF(P375=0,0,IF(Q375=0,AVERAGE(Q375,O375,R375),AVERAGE(O375:R375)))","v":81.39469515607513},{"$f":"IF(T375=0,0,IF(U375=0,AVERAGE(T375,S375,V375),AVERAGE(S375:V375)))","v":80.376930066275548},{"$f":"IF(AB375=0,0,IF(AC375=0,AVERAGE(AB375,AA375,AD375),AVERAGE(AA375:AD375)))","v":{"$error":"#DIV/0!"}},{"$f":"IF(AF375=0,0,IF(AG375=0,AVERAGE(AF375,AE375,AH375),AVERAGE(AE375:AH375)))","v":80.096505788219289},{"$f":"IF(AJ375=0,0,IF(AK375=0,AVERAGE(AJ375,AI375,AL375),AVERAGE(AI375:AL375)))","v":79.951413754784539},{"$f":"IF(AN375=0,0,IF(AO375=0,AVERAGE(AN375,AM375,AP375),AVERAGE(AM375:AP375)))","v":{"$error":"#DIV/0!"}},{"$f":"IF(AR375=0,0,IF(AS375=0,AVERAGE(AR375,AQ375,AT375),AVERAGE(AQ375:AT375)))","v":{"$error":"#DIV/0!"}},{"$f":"IF(AV375=0,0,IF(AW375=0,AVERAGE(AV375,AU375,AX375),AVERAGE(AU375:AX375)))","v":77.517676767676733},{"$f":"IF(AZ375=0,0,IF(BA375=0,AVERAGE(AZ375,AY375,BB375),AVERAGE(AY375:BB375)))","v":78.636363636363598},{"$f":"IF(BD375=0,0,IF(BE375=0,AVERAGE(BD375,BC375,BF375),AVERAGE(BC375:BF375)))","v":{"$error":"#DIV/0!"}},{"$f":"IF(BH375=0,0,IF(BI375=0,AVERAGE(BH375,BG375,BJ375,BM375),AVERAGE(BG375:BJ375)))","v":78.025455927051681},null,null,null,null,null,null,null,null,null,35,"50m",null,{"$f":"SUMPRODUCT(((#REF!>2)*($CO$2:$CO$339=\"50\")*(#REF!)*(#REF!=\"M\"))/SUMPRODUCT((#REF!>2)*($CO$2:$CO$339=\"50\")*(#REF!>2)*(#REF!=\"M\")))","v":{"$error":"#REF!"}}]
[null,null,null,null,null,null,null,null,null,"50f",{"$f":"SUMPRODUCT((($CO$2:$CO$338=\"50\")*(K$2:K$338)*($J$2:$J$338=\"F\"))/SUMPRODUCT(($CO$2:$CO$338=\"50\")*(K$2:K$338>2)*($J$2:$J$338=\"F\")))","v":78.357142857142861},{"$f":"SUMPRODUCT((($CO$2:$CO$338=\"50\")*(L$2:L$338)*($J$2:$J$338=\"F\"))/SUMPRODUCT(($CO$2:$CO$338=\"50\")*(L$2:L$338>2)*($J$2:$J$338=\"F\")))","v":80.428571428571445},{"$f":"SUMPRODUCT((($CO$2:$CO$338=\"50\")*(M$2:M$338)*($J$2:$J$338=\"F\"))/SUMPRODUCT(($CO$2:$CO$338=\"50\")*(M$2:M$338>2)*($J$2:$J$338=\"F\")))","v":{"$error":"#DIV/0!"}},{"$f":"SUMPRODUCT((($CO$2:$CO$338=\"50\")*(N$2:N$338)*($J$2:$J$338=\"F\"))/SUMPRODUCT(($CO$2:$CO$338=\"50\")*(N$2:N$338>2)*($J$2:$J$338=\"F\")))","v":83},{"$f":"SUMPRODUCT((($CO$2:$CO$338=\"50\")*(O$2:O$338)*($J$2:$J$338=\"F\"))/SUMPRODUCT(($CO$2:$CO$338=\"50\")*(O$2:O$338>2)*($J$2:$J$338=\"F\")))","v":80.714285714285694},{"$f":"SUMPRODUCT((($CO$2:$CO$338=\"50\")*(P$2:P$338)*($J$2:$J$338=\"F\"))/SUMPRODUCT(($CO$2:$CO$338=\"50\")*(P$2:P$338>2)*($J$2:$J$338=\"F\")))","v":83.142857142857139},{"$f":"SUMPRODUCT((($CO$2:$CO$338=\"50\")*(Q$2:Q$338)*($J$2:$J$338=\"F\"))/SUMPRODUCT(($CO$2:$CO$338=\"50\")*(Q$2:Q$338>2)*($J$2:$J$338=\"F\")))","v":82.142857142857139},{"$f":"SUMPRODUCT((($CO$2:$CO$338=\"50\")*(R$2:R$338)*($J$2:$J$338=\"F\"))/SUMPRODUCT(($CO$2:$CO$338=\"50\")*(R$2:R$338>2)*($J$2:$J$338=\"F\")))","v":82.499999999999986},{"$f":"SUMPRODUCT((($CO$2:$CO$338=\"50\")*(S$2:S$338)*($J$2:$J$338=\"F\"))/SUMPRODUCT(($CO$2:$CO$338=\"50\")*(S$2:S$338>2)*($J$2:$J$338=\"F\")))","v":81.785714285714278},{"$f":"SUMPRODUCT((($CO$2:$CO$338=\"50\")*(T$2:T$338)*($J$2:$J$338=\"F\"))/SUMPRODUCT(($CO$2:$CO$338=\"50\")*(T$2:T$338>2)*($J$2:$J$338=\"F\")))","v":84.375000000000014},{"$f":"SUMPRODUCT((($CO$2:$CO$338=\"50\")*(U$2:U$338)*($J$2:$J$338=\"F\"))/SUMPRODUCT(($CO$2:$CO$338=\"50\")*(U$2:U$338>2)*($J$2:$J$338=\"F\")))","v":79.375},{"$f":"SUMPRODUCT((($CO$2:$CO$338=\"50\")*(V$2:V$338)*($J$2:$J$338=\"F\"))/SUMPRODUCT(($CO$2:$CO$338=\"50\")*(V$2:V$338>2)*($J$2:$J$338=\"F\")))","v":81.000000000000014},{"$f":"SUMPRODUCT((($CO$2:$CO$338=\"50\")*(W$2:W$338)*($J$2:$J$338=\"F\"))/SUMPRODUCT(($CO$2:$CO$338=\"50\")*(W$2:W$338>2)*($J$2:$J$338=\"F\")))","v":{"$error":"#DIV/0!"}},{"$f":"SUMPRODUCT((($CO$2:$CO$338=\"50\")*(X$2:X$338)*($J$2:$J$338=\"F\"))/SUMPRODUCT(($CO$2:$CO$338=\"50\")*(X$2:X$338>2)*($J$2:$J$338=\"F\")))","v":{"$error":"#DIV/0!"}},{"$f":"SUMPRODUCT((($CO$2:$CO$338=\"50\")*(Y$2:Y$338)*($J$2:$J$338=\"F\"))/SUMPRODUCT(($CO$2:$CO$338=\"50\")*(Y$2:Y$338>2)*($J$2:$J$338=\"F\")))","v":{"$error":"#DIV/0!"}},{"$f":"SUMPRODUCT((($CO$2:$CO$338=\"50\")*(Z$2:Z$338)*($J$2:$J$338=\"F\"))/SUMPRODUCT(($CO$2:$CO$338=\"50\")*(Z$2:Z$338>2)*($J$2:$J$338=\"F\")))","v":{"$error":"#DIV/0!"}},{"$f":"SUMPRODUCT((($CO$2:$CO$338=\"50\")*(AA$2:AA$338)*($J$2:$J$338=\"F\"))/SUMPRODUCT(($CO$2:$CO$338=\"50\")*(AA$2:AA$338>2)*($J$2:$J$338=\"F\")))","v":79.794520547945154},{"$f":"SUMPRODUCT((($CO$2:$CO$338=\"50\")*(AB$2:AB$338)*($J$2:$J$338=\"F\"))/SUMPRODUCT(($CO$2:$CO$338=\"50\")*(AB$2:AB$338>2)*($J$2:$J$338=\"F\")))","v":78.972602739725986},{"$f":"SUMPRODUCT((($CO$2:$CO$338=\"50\")*(AC$2:AC$338)*($J$2:$J$338=\"F\"))/SUMPRODUCT(($CO$2:$CO$338=\"50\")*(AC$2:AC$338>2)*($J$2:$J$338=\"F\")))","v":{"$error":"#DIV/0!"}},{"$f":"SUMPRODUCT((($CO$2:$CO$338=\"50\")*(AD$2:AD$338)*($J$2:$J$338=\"F\"))/SUMPRODUCT(($CO$2:$CO$338=\"50\")*(AD$2:AD$338>2)*($J$2:$J$338=\"F\")))","v":81.283783783783733},{"$f":"SUMPRODUCT((($CO$2:$CO$338=\"50\")*(AE$2:AE$338)*($J$2:$J$338=\"F\"))/SUMPRODUCT(($CO$2:$CO$338=\"50\")*(AE$2:AE$338>2)*($J$2:$J$338=\"F\")))","v":81.875000000000043},{"$f":"SUMPRODUCT((($CO$2:$CO$338=\"50\")*(AF$2:AF$338)*($J$2:$J$338=\"F\"))/SUMPRODUCT(($CO$2:$CO$338=\"50\")*(AF$2:AF$338>2)*($J$2:$J$338=\"F\")))","v":81.30136986301369},{"$f":"SUMPRODUCT((($CO$2:$CO$338=\"50\")*(AG$2:AG$338)*($J$2:$J$338=\"F\"))/SUMPRODUCT(($CO$2:$CO$338=\"50\")*(AG$2:AG$338>2)*($J$2:$J$338=\"F\")))","v":81.875000000000071},{"$f":"SUMPRODUCT((($CO$2:$CO$338=\"50\")*(AH$2:AH$338)*($J$2:$J$338=\"F\"))/SUMPRODUCT(($CO$2:$CO$338=\"50\")*(AH$2:AH$338>2)*($J$2:$J$338=\"F\")))","v":80.8783783783784},{"$f":"SUMPRODUCT((($CO$2:$CO$338=\"50\")*(AI$2:AI$338)*($J$2:$J$338=\"F\"))/SUMPRODUCT(($CO$2:$CO$338=\"50\")*(AI$2:AI$338>2)*($J$2:$J$338=\"F\")))","v":80.273972602739676},{"$f":"SUMPRODUCT((($CO$2:$CO$338=\"50\")*(AJ$2:AJ$338)*($J$2:$J$338=\"F\"))/SUMPRODUCT(($CO$2:$CO$338=\"50\")*(AJ$2:AJ$338>2)*($J$2:$J$338=\"F\")))","v":82.876712328767084},{"$f":"SUMPRODUCT((($CO$2:$CO$338=\"50\")*(AK$2:AK$338)*($J$2:$J$338=\"F\"))/SUMPRODUCT(($CO$2:$CO$338=\"50\")*(AK$2:AK$338>2)*($J$2:$J$338=\"F\")))","v":78.219178082191746},{"$f":"SUMPRODUCT((($CO$2:$CO$338=\"50\")*(AL$2:AL$338)*($J$2:$J$338=\"F\"))/SUMPRODUCT(($CO$2:$CO$338=\"50\")*(AL$2:AL$338>2)*($J$2:$J$338=\"F\")))","v":82.635135135135144},{"$f":"SUMPRODUCT((($CO$2:$CO$338=\"50\")*(AM$2:AM$338)*($J$2:$J$338=\"F\"))/SUMPRODUCT(($CO$2:$CO$338=\"50\")*(AM$2:AM$338>2)*($J$2:$J$338=\"F\")))","v":{"$error":"#DIV/0!"}},{"$f":"SUMPRODUCT((($CO$2:$CO$338=\"50\")*(AN$2:AN$338)*($J$2:$J$338=\"F\"))/SUMPRODUCT(($CO$2:$CO$338=\"50\")*(AN$2:AN$338>2)*($J$2:$J$338=\"F\")))","v":{"$error":"#DIV/0!"}},{"$f":"SUMPRODUCT((($CO$2:$CO$338=\"50\")*(AO$2:AO$338)*($J$2:$J$338=\"F\"))/SUMPRODUCT(($CO$2:$CO$338=\"50\")*(AO$2:AO$338>2)*($J$2:$J$338=\"F\")))","v":{"$error":"#DIV/0!"}},{"$f":"SUMPRODUCT((($CO$2:$CO$338=\"50\")*(AP$2:AP$338)*($J$2:$J$338=\"F\"))/SUMPRODUCT(($CO$2:$CO$338=\"50\")*(AP$2:AP$338>2)*($J$2:$J$338=\"F\")))","v":{"$error":"#DIV/0!"}},{"$f":"SUMPRODUCT((($CO$2:$CO$338=\"50\")*(AQ$2:AQ$338)*($J$2:$J$338=\"F\"))/SUMPRODUCT(($CO$2:$CO$338=\"50\")*(AQ$2:AQ$338>2)*($J$2:$J$338=\"F\")))","v":76.70886075949366},{"$f":"SUMPRODUCT((($CO$2:$CO$338=\"50\")*(AR$2:AR$338)*($J$2:$J$338=\"F\"))/SUMPRODUCT(($CO$2:$CO$338=\"50\")*(AR$2:AR$338>2)*($J$2:$J$338=\"F\")))","v":80.253164556962048},{"$f":"SUMPRODUCT((($CO$2:$CO$338=\"50\")*(AS$2:AS$338)*($J$2:$J$338=\"F\"))/SUMPRODUCT(($CO$2:$CO$338=\"50\")*(AS$2:AS$338>2)*($J$2:$J$338=\"F\")))","v":{"$error":"#DIV/0!"}},{"$f":"SUMPRODUCT((($CO$2:$CO$338=\"50\")*(AT$2:AT$338)*($J$2:$J$338=\"F\"))/SUMPRODUCT(($CO$2:$CO$338=\"50\")*(AT$2:AT$338>2)*($J$2:$J$338=\"F\")))","v":79.620253164557028},{"$f":"SUMPRODUCT((($CO$2:$CO$338=\"50\")*(AU$2:AU$338)*($J$2:$J$338=\"F\"))/SUMPRODUCT(($CO$2:$CO$338=\"50\")*(AU$2:AU$338>2)*($J$2:$J$338=\"F\")))","v":79.430379746835456},{"$f":"SUMPRODUCT((($CO$2:$CO$338=\"50\")*(AV$2:AV$338)*($J$2:$J$338=\"F\"))/SUMPRODUCT(($CO$2:$CO$338=\"50\")*(AV$2:AV$338>2)*($J$2:$J$338=\"F\")))","v":78.734177215189888},{"$f":"SUMPRODUCT((($CO$2:$CO$338=\"50\")*(AW$2:AW$338)*($J$2:$J$338=\"F\"))/SUMPRODUCT(($CO$2:$CO$338=\"50\")*(AW$2:AW$338>2)*($J$2:$J$338=\"F\")))","v":78.341772151898766},{"$f":"SUMPRODUCT((($CO$2:$CO$338=\"50\")*(AX$2:AX$338)*($J$2:$J$338=\"F\"))/SUMPRODUCT(($CO$2:$CO$338=\"50\")*(AX$2:AX$338>2)*($J$2:$J$338=\"F\")))","v":79.55696202531648},{"$f":"SUMPRODUCT((($CO$2:$CO$338=\"50\")*(AY$2:AY$338)*($J$2:$J$338=\"F\"))/SUMPRODUCT(($CO$2:$CO$338=\"50\")*(AY$2:AY$338>2)*($J$2:$J$338=\"F\")))","v":81.543209876543216},{"$f":"SUMPRODUCT((($CO$2:$CO$338=\"50\")*(AZ$2:AZ$338)*($J$2:$J$338=\"F\"))/SUMPRODUCT(($CO$2:$CO$338=\"50\")*(AZ$2:AZ$338>2)*($J$2:$J$338=\"F\")))","v":78.827160493827179},{"$f":"SUMPRODUCT((($CO$2:$CO$338=\"50\")*(BA$2:BA$338)*($J$2:$J$338=\"F\"))/SUMPRODUCT(($CO$2:$CO$338=\"50\")*(BA$2:BA$338>2)*($J$2:$J$338=\"F\")))","v":80.679012345679027},{"$f":"SUMPRODUCT((($CO$2:$CO$338=\"50\")*(BB$2:BB$338)*($J$2:$J$338=\"F\"))/SUMPRODUCT(($CO$2:$CO$338=\"50\")*(BB$2:BB$338>2)*($J$2:$J$338=\"F\")))","v":77.839506172839521},{"$f":"SUMPRODUCT((($CO$2:$CO$338=\"50\")*(BC$2:BC$338)*($J$2:$J$338=\"F\"))/SUMPRODUCT(($CO$2:$CO$338=\"50\")*(BC$2:BC$338>2)*($J$2:$J$338=\"F\")))","v":{"$error":"#DIV/0!"}},{"$f":"SUMPRODUCT((($CO$2:$CO$338=\"50\")*(BD$2:BD$338)*($J$2:$J$338=\"F\"))/SUMPRODUCT(($CO$2:$CO$338=\"50\")*(BD$2:BD$338>2)*($J$2:$J$338=\"F\")))","v":{"$error":"#DIV/0!"}},{"$f":"SUMPRODUCT((($CO$2:$CO$338=\"50\")*(BE$2:BE$338)*($J$2:$J$338=\"F\"))/SUMPRODUCT(($CO$2:$CO$338=\"50\")*(BE$2:BE$338>2)*($J$2:$J$338=\"F\")))","v":{"$error":"#DIV/0!"}},{"$f":"SUMPRODUCT((($CO$2:$CO$338=\"50\")*(BF$2:BF$338)*($J$2:$J$338=\"F\"))/SUMPRODUCT(($CO$2:$CO$338=\"50\")*(BF$2:BF$338>2)*($J$2:$J$338=\"F\")))","v":{"$error":"#DIV/0!"}},{"$f":"SUMPRODUCT((($CO$2:$CO$338=\"50\")*(BG$2:BG$338)*($J$2:$J$338=\"F\"))/SUMPRODUCT(($CO$2:$CO$338=\"50\")*(BG$2:BG$338>2)*($J$2:$J$338=\"F\")))","v":79.873417721518976},{"$f":"SUMPRODUCT((($CO$2:$CO$338=\"50\")*(BH$2:BH$338)*($J$2:$J$338=\"F\"))/SUMPRODUCT(($CO$2:$CO$338=\"50\")*(BH$2:BH$338>2)*($J$2:$J$338=\"F\")))","v":77.113924050632903},{"$f":"SUMPRODUCT((($CO$2:$CO$338=\"50\")*(BI$2:BI$338)*($J$2:$J$338=\"F\"))/SUMPRODUCT(($CO$2:$CO$338=\"50\")*(BI$2:BI$338>2)*($J$2:$J$338=\"F\")))","v":85.428571428571431},{"$f":"SUMPRODUCT((($CO$2:$CO$338=\"50\")*(BJ$2:BJ$338)*($J$2:$J$338=\"F\"))/SUMPRODUCT(($CO$2:$CO$338=\"50\")*(BJ$2:BJ$338>2)*($J$2:$J$338=\"F\")))","v":79.607594936708836},{"$f":"SUMPRODUCT((($CO$2:$CO$338=\"50\")*(BK$2:BK$338)*($J$2:$J$338=\"F\"))/SUMPRODUCT(($CO$2:$CO$338=\"50\")*(BK$2:BK$338>2)*($J$2:$J$338=\"F\")))","v":80.476923076923072},{"$f":"SUMPRODUCT((($CO$2:$CO$338=\"50\")*(BL$2:BL$338)*($J$2:$J$338=\"F\"))/SUMPRODUCT(($CO$2:$CO$338=\"50\")*(BL$2:BL$338>2)*($J$2:$J$338=\"F\")))","v":77.938461538461567},{"$f":"SUMPRODUCT((($CO$2:$CO$338=\"50\")*(BM$2:BM$338)*($J$2:$J$338=\"F\"))/SUMPRODUCT(($CO$2:$CO$338=\"50\")*(BM$2:BM$338>2)*($J$2:$J$338=\"F\")))","v":72.892307692307725},{"$f":"SUMPRODUCT((($CO$2:$CO$338=\"50\")*(BN$2:BN$338)*($J$2:$J$338=\"F\"))/SUMPRODUCT(($CO$2:$CO$338=\"50\")*(BN$2:BN$338>2)*($J$2:$J$338=\"F\")))","v":75.430769230769258},{"$f":"SUMPRODUCT((($CO$2:$CO$338=\"50\")*(BO$2:BO$338)*($J$2:$J$338=\"F\"))/SUMPRODUCT(($CO$2:$CO$338=\"50\")*(BO$2:BO$338>2)*($J$2:$J$338=\"F\")))","v":79.911392405063324},{"$f":"SUMPRODUCT((($CO$2:$CO$338=\"50\")*(BP$2:BP$338)*($J$2:$J$338=\"F\"))/SUMPRODUCT(($CO$2:$CO$338=\"50\")*(BP$2:BP$338>2)*($J$2:$J$338=\"F\")))","v":80.177215189873408},{"$f":"SUMPRODUCT((($CO$2:$CO$338=\"50\")*(BQ$2:BQ$338)*($J$2:$J$338=\"F\"))/SUMPRODUCT(($CO$2:$CO$338=\"50\")*(BQ$2:BQ$338>2)*($J$2:$J$338=\"F\")))","v":78.329113924050645},{"$f":"SUMPRODUCT((($CO$2:$CO$338=\"50\")*(BR$2:BR$338)*($J$2:$J$338=\"F\"))/SUMPRODUCT(($CO$2:$CO$338=\"50\")*(BR$2:BR$338>2)*($J$2:$J$338=\"F\")))","v":80.620253164556956},{"$f":"SUMPRODUCT((($CO$2:$CO$338=\"50\")*(BS$2:BS$338)*($J$2:$J$338=\"F\"))/SUMPRODUCT(($CO$2:$CO$338=\"50\")*(BS$2:BS$338>2)*($J$2:$J$338=\"F\")))","v":81.641025641025664},{"$f":"SUMPRODUCT((($CO$2:$CO$338=\"50\")*(BT$2:BT$338)*($J$2:$J$338=\"F\"))/SUMPRODUCT(($CO$2:$CO$338=\"50\")*(BT$2:BT$338>2)*($J$2:$J$338=\"F\")))","v":83.910256410256451},{"$f":"SUMPRODUCT((($CO$2:$CO$338=\"50\")*(BU$2:BU$338)*($J$2:$J$338=\"F\"))/SUMPRODUCT(($CO$2:$CO$338=\"50\")*(BU$2:BU$338>2)*($J$2:$J$338=\"F\")))","v":80.653846153846175},{"$f":"SUMPRODUCT((($CO$2:$CO$338=\"50\")*(BV$2:BV$338)*($J$2:$J$338=\"F\"))/SUMPRODUCT(($CO$2:$CO$338=\"50\")*(BV$2:BV$338>2)*($J$2:$J$338=\"F\")))","v":83.782051282051313},{"$f":"SUMPRODUCT((($CO$2:$CO$338=\"50\")*(BW$2:BW$338)*($J$2:$J$338=\"F\"))/SUMPRODUCT(($CO$2:$CO$338=\"50\")*(BW$2:BW$338>2)*($J$2:$J$338=\"F\")))","v":{"$error":"#DIV/0!"}},{"$error":"#DIV/0!"},82.124999999999986,81.633928571428569,{"$error":"#DIV/0!"},81.482437060348047,81.001249537208409,{"$error":"#DIV/0!"},{"$error":"#DIV/0!"},79.015822784810155,79.722222222222229,{"$error":"#DIV/0!"},80.505877034358036,null,null,null,null,null,null,null,null,null,36,"50f",null,{"$f":"SUMPRODUCT(((#REF!>2)*($CO$2:$CO$339=\"50\")*(#REF!)*(#REF!=\"F\"))/SUMPRODUCT((#REF!>2)*($CO$2:$CO$339=\"50\")*(#REF!>2)*(#REF!=\"F\")))","v":{"$error":"#REF!"}}]
[null,null,null,null,null,null,null,null,null,"50j",{"$f":"SUMPRODUCT((($CO$2:$CO$338=\"50\")*(K$2:K$338)*($CT$2:$CT$338=\"J\"))/SUMPRODUCT(($CO$2:$CO$338=\"50\")*(K$2:K$338>2)*($CT$2:$CT$338=\"J\")))","v":78.021978021977958},{"$f":"SUMPRODUCT((($CO$2:$CO$338=\"50\")*(L$2:L$338)*($CT$2:$CT$338=\"J\"))/SUMPRODUCT(($CO$2:$CO$338=\"50\")*(L$2:L$338>2)*($CT$2:$CT$338=\"J\")))","v":78.791208791208746},{"$f":"SUMPRODUCT((($CO$2:$CO$338=\"50\")*(M$2:M$338)*($CT$2:$CT$338=\"J\"))/SUMPRODUCT(($CO$2:$CO$338=\"50\")*(M$2:M$338>2)*($CT$2:$CT$338=\"J\")))","v":80},{"$f":"SUMPRODUCT((($CO$2:$CO$338=\"50\")*(N$2:N$338)*($CT$2:$CT$338=\"J\"))/SUMPRODUCT(($CO$2:$CO$338=\"50\")*(N$2:N$338>2)*($CT$2:$CT$338=\"J\")))","v":82.70652173913048},{"$f":"SUMPRODUCT((($CO$2:$CO$338=\"50\")*(O$2:O$338)*($CT$2:$CT$338=\"J\"))/SUMPRODUCT(($CO$2:$CO$338=\"50\")*(O$2:O$338>2)*($CT$2:$CT$338=\"J\")))","v":79.615384615384556},{"$f":"SUMPRODUCT((($CO$2:$CO$338=\"50\")*(P$2:P$338)*($CT$2:$CT$338=\"J\"))/SUMPRODUCT(($CO$2:$CO$338=\"50\")*(P$2:P$338>2)*($CT$2:$CT$338=\"J\")))","v":82.166666666666629},{"$f":"SUMPRODUCT((($CO$2:$CO$338=\"50\")*(Q$2:Q$338)*($CT$2:$CT$338=\"J\"))/SUMPRODUCT(($CO$2:$CO$338=\"50\")*(Q$2:Q$338>2)*($CT$2:$CT$338=\"J\")))","v":81.388888888888857},{"$f":"SUMPRODUCT((($CO$2:$CO$338=\"50\")*(R$2:R$338)*($CT$2:$CT$338=\"J\"))/SUMPRODUCT(($CO$2:$CO$338=\"50\")*(R$2:R$338>2)*($CT$2:$CT$338=\"J\")))","v":82.193548387096754},{"$f":"SUMPRODUCT((($CO$2:$CO$338=\"50\")*(S$2:S$338)*($CT$2:$CT$338=\"J\"))/SUMPRODUCT(($CO$2:$CO$338=\"50\")*(S$2:S$338>2)*($CT$2:$CT$338=\"J\")))","v":79.8888888888888},{"$f":"SUMPRODUCT((($CO$2:$CO$338=\"50\")*(T$2:T$338)*($CT$2:$CT$338=\"J\"))/SUMPRODUCT(($CO$2:$CO$338=\"50\")*(T$2:T$338>2)*($CT$2:$CT$338=\"J\")))","v":83.428571428571431},{"$f":"SUMPRODUCT((($CO$2:$CO$338=\"50\")*(U$2:U$338)*($CT$2:$CT$338=\"J\"))/SUMPRODUCT(($CO$2:$CO$338=\"50\")*(U$2:U$338>2)*($CT$2:$CT$338=\"J\")))","v":80.147058823529406},{"$f":"SUMPRODUCT((($CO$2:$CO$338=\"50\")*(V$2:V$338)*($CT$2:$CT$338=\"J\"))/SUMPRODUCT(($CO$2:$CO$338=\"50\")*(V$2:V$338>2)*($CT$2:$CT$338=\"J\")))","v":80.526881720430097},{"$f":"SUMPRODUCT((($CO$2:$CO$338=\"50\")*(W$2:W$338)*($CT$2:$CT$338=\"J\"))/SUMPRODUCT(($CO$2:$CO$338=\"50\")*(W$2:W$338>2)*($CT$2:$CT$338=\"J\")))","v":{"$error":"#DIV/0!"}},{"$f":"SUMPRODUCT((($CO$2:$CO$338=\"50\")*(X$2:X$338)*($CT$2:$CT$338=\"J\"))/SUMPRODUCT(($CO$2:$CO$338=\"50\")*(X$2:X$338>2)*($CT$2:$CT$338=\"J\")))","v":{"$error":"#DIV/0!"}},{"$f":"SUMPRODUCT((($CO$2:$CO$338=\"50\")*(Y$2:Y$338)*($CT$2:$CT$338=\"J\"))/SUMPRODUCT(($CO$2:$CO$338=\"50\")*(Y$2:Y$338>2)*($CT$2:$CT$338=\"J\")))","v":{"$error":"#DIV/0!"}},{"$f":"SUMPRODUCT((($CO$2:$CO$338=\"50\")*(Z$2:Z$338)*($CT$2:$CT$338=\"J\"))/SUMPRODUCT(($CO$2:$CO$338=\"50\")*(Z$2:Z$338>2)*($CT$2:$CT$338=\"J\")))","v":{"$error":"#DIV/0!"}},{"$f":"SUMPRODUCT((($CO$2:$CO$338=\"50\")*(AA$2:AA$338)*($CT$2:$CT$338=\"J\"))/SUMPRODUCT(($CO$2:$CO$338=\"50\")*(AA$2:AA$338>2)*($CT$2:$CT$338=\"J\")))","v":78.602150537634387},{"$f":"SUMPRODUCT((($CO$2:$CO$338=\"50\")*(AB$2:AB$338)*($CT$2:$CT$338=\"J\"))/SUMPRODUCT(($CO$2:$CO$338=\"50\")*(AB$2:AB$338>2)*($CT$2:$CT$338=\"J\")))","v":78.924731182795639},{"$f":"SUMPRODUCT((($CO$2:$CO$338=\"50\")*(AC$2:AC$338)*($CT$2:$CT$338=\"J\"))/SUMPRODUCT(($CO$2:$CO$338=\"50\")*(AC$2:AC$338>2)*($CT$2:$CT$338=\"J\")))","v":{"$error":"#DIV/0!"}},{"$f":"SUMPRODUCT((($CO$2:$CO$338=\"50\")*(AD$2:AD$338)*($CT$2:$CT$338=\"J\"))/SUMPRODUCT(($CO$2:$CO$338=\"50\")*(AD$2:AD$338>2)*($CT$2:$CT$338=\"J\")))","v":82.180851063829834},{"$f":"SUMPRODUCT((($CO$2:$CO$338=\"50\")*(AE$2:AE$338)*($CT$2:$CT$338=\"J\"))/SUMPRODUCT(($CO$2:$CO$338=\"50\")*(AE$2:AE$338>2)*($CT$2:$CT$338=\"J\")))","v":79.623655913978482},{"$f":"SUMPRODUCT((($CO$2:$CO$338=\"50\")*(AF$2:AF$338)*($CT$2:$CT$338=\"J\"))/SUMPRODUCT(($CO$2:$CO$338=\"50\")*(AF$2:AF$338>2)*($CT$2:$CT$338=\"J\")))","v":80.78494623655908},{"$f":"SUMPRODUCT((($CO$2:$CO$338=\"50\")*(AG$2:AG$338)*($CT$2:$CT$338=\"J\"))/SUMPRODUCT(($CO$2:$CO$338=\"50\")*(AG$2:AG$338>2)*($CT$2:$CT$338=\"J\")))","v":82.150537634408551},{"$f":"SUMPRODUCT((($CO$2:$CO$338=\"50\")*(AH$2:AH$338)*($CT$2:$CT$338=\"J\"))/SUMPRODUCT(($CO$2:$CO$338=\"50\")*(AH$2:AH$338>2)*($CT$2:$CT$338=\"J\")))","v":80.744680851063862},{"$f":"SUMPRODUCT((($CO$2:$CO$338=\"50\")*(AI$2:AI$338)*($CT$2:$CT$338=\"J\"))/SUMPRODUCT(($CO$2:$CO$338=\"50\")*(AI$2:AI$338>2)*($CT$2:$CT$338=\"J\")))","v":78.3333333333333},{"$f":"SUMPRODUCT((($CO$2:$CO$338=\"50\")*(AJ$2:AJ$338)*($CT$2:$CT$338=\"J\"))/SUMPRODUCT(($CO$2:$CO$338=\"50\")*(AJ$2:AJ$338>2)*($CT$2:$CT$338=\"J\")))","v":81.881720430107535},{"$f":"SUMPRODUCT((($CO$2:$CO$338=\"50\")*(AK$2:AK$338)*($CT$2:$CT$338=\"J\"))/SUMPRODUCT(($CO$2:$CO$338=\"50\")*(AK$2:AK$338>2)*($CT$2:$CT$338=\"J\")))","v":78.3333333333333},{"$f":"SUMPRODUCT((($CO$2:$CO$338=\"50\")*(AL$2:AL$338)*($CT$2:$CT$338=\"J\"))/SUMPRODUCT(($CO$2:$CO$338=\"50\")*(AL$2:AL$338>2)*($CT$2:$CT$338=\"J\")))","v":82.765957446808528},{"$f":"SUMPRODUCT((($CO$2:$CO$338=\"50\")*(AM$2:AM$338)*($CT$2:$CT$338=\"J\"))/SUMPRODUCT(($CO$2:$CO$338=\"50\")*(AM$2:AM$338>2)*($CT$2:$CT$338=\"J\")))","v":{"$error":"#DIV/0!"}},{"$f":"SUMPRODUCT((($CO$2:$CO$338=\"50\")*(AN$2:AN$338)*($CT$2:$CT$338=\"J\"))/SUMPRODUCT(($CO$2:$CO$338=\"50\")*(AN$2:AN$338>2)*($CT$2:$CT$338=\"J\")))","v":{"$error":"#DIV/0!"}},{"$f":"SUMPRODUCT((($CO$2:$CO$338=\"50\")*(AO$2:AO$338)*($CT$2:$CT$338=\"J\"))/SUMPRODUCT(($CO$2:$CO$338=\"50\")*(AO$2:AO$338>2)*($CT$2:$CT$338=\"J\")))","v":{"$error":"#DIV/0!"}},{"$f":"SUMPRODUCT((($CO$2:$CO$338=\"50\")*(AP$2:AP$338)*($CT$2:$CT$338=\"J\"))/SUMPRODUCT(($CO$2:$CO$338=\"50\")*(AP$2:AP$338>2)*($CT$2:$CT$338=\"J\")))","v":{"$error":"#DIV/0!"}},{"$f":"SUMPRODUCT((($CO$2:$CO$338=\"50\")*(AQ$2:AQ$338)*($CT$2:$CT$338=\"J\"))/SUMPRODUCT(($CO$2:$CO$338=\"50\")*(AQ$2:AQ$338>2)*($CT$2:$CT$338=\"J\")))","v":75.396039603960432},{"$f":"SUMPRODUCT((($CO$2:$CO$338=\"50\")*(AR$2:AR$338)*($CT$2:$CT$338=\"J\"))/SUMPRODUCT(($CO$2:$CO$338=\"50\")*(AR$2:AR$338>2)*($CT$2:$CT$338=\"J\")))","v":79.356435643564396},{"$f":"SUMPRODUCT((($CO$2:$CO$338=\"50\")*(AS$2:AS$338)*($CT$2:$CT$338=\"J\"))/SUMPRODUCT(($CO$2:$CO$338=\"50\")*(AS$2:AS$338>2)*($CT$2:$CT$338=\"J\")))","v":{"$error":"#DIV/0!"}},{"$f":"SUMPRODUCT((($CO$2:$CO$338=\"50\")*(AT$2:AT$338)*($CT$2:$CT$338=\"J\"))/SUMPRODUCT(($CO$2:$CO$338=\"50\")*(AT$2:AT$338>2)*($CT$2:$CT$338=\"J\")))","v":80.099009900990069},{"$f":"SUMPRODUCT((($CO$2:$CO$338=\"50\")*(AU$2:AU$338)*($CT$2:$CT$338=\"J\"))/SUMPRODUCT(($CO$2:$CO$338=\"50\")*(AU$2:AU$338>2)*($CT$2:$CT$338=\"J\")))","v":77.323529411764653},{"$f":"SUMPRODUCT((($CO$2:$CO$338=\"50\")*(AV$2:AV$338)*($CT$2:$CT$338=\"J\"))/SUMPRODUCT(($CO$2:$CO$338=\"50\")*(AV$2:AV$338>2)*($CT$2:$CT$338=\"J\")))","v":77.745098039215677},{"$f":"SUMPRODUCT((($CO$2:$CO$338=\"50\")*(AW$2:AW$338)*($CT$2:$CT$338=\"J\"))/SUMPRODUCT(($CO$2:$CO$338=\"50\")*(AW$2:AW$338>2)*($CT$2:$CT$338=\"J\")))","v":75.872549019607845},{"$f":"SUMPRODUCT((($CO$2:$CO$338=\"50\")*(AX$2:AX$338)*($CT$2:$CT$338=\"J\"))/SUMPRODUCT(($CO$2:$CO$338=\"50\")*(AX$2:AX$338>2)*($CT$2:$CT$338=\"J\")))","v":79.313725490196006},{"$f":"SUMPRODUCT((($CO$2:$CO$338=\"50\")*(AY$2:AY$338)*($CT$2:$CT$338=\"J\"))/SUMPRODUCT(($CO$2:$CO$338=\"50\")*(AY$2:AY$338>2)*($CT$2:$CT$338=\"J\")))","v":80.000000000000028},{"$f":"SUMPRODUCT((($CO$2:$CO$338=\"50\")*(AZ$2:AZ$338)*($CT$2:$CT$338=\"J\"))/SUMPRODUCT(($CO$2:$CO$338=\"50\")*(AZ$2:AZ$338>2)*($CT$2:$CT$338=\"J\")))","v":78.834951456310691},{"$f":"SUMPRODUCT((($CO$2:$CO$338=\"50\")*(BA$2:BA$338)*($CT$2:$CT$338=\"J\"))/SUMPRODUCT(($CO$2:$CO$338=\"50\")*(BA$2:BA$338>2)*($CT$2:$CT$338=\"J\")))","v":78.446601941747574},{"$f":"SUMPRODUCT((($CO$2:$CO$338=\"50\")*(BB$2:BB$338)*($CT$2:$CT$338=\"J\"))/SUMPRODUCT(($CO$2:$CO$338=\"50\")*(BB$2:BB$338>2)*($CT$2:$CT$338=\"J\")))","v":79.417475728155338},{"$f":"SUMPRODUCT((($CO$2:$CO$338=\"50\")*(BC$2:BC$338)*($CT$2:$CT$338=\"J\"))/SUMPRODUCT(($CO$2:$CO$338=\"50\")*(BC$2:BC$338>2)*($CT$2:$CT$338=\"J\")))","v":{"$error":"#DIV/0!"}},{"$f":"SUMPRODUCT((($CO$2:$CO$338=\"50\")*(BD$2:BD$338)*($CT$2:$CT$338=\"J\"))/SUMPRODUCT(($CO$2:$CO$338=\"50\")*(BD$2:BD$338>2)*($CT$2:$CT$338=\"J\")))","v":{"$error":"#DIV/0!"}},{"$f":"SUMPRODUCT((($CO$2:$CO$338=\"50\")*(BE$2:BE$338)*($CT$2:$CT$338=\"J\"))/SUMPRODUCT(($CO$2:$CO$338=\"50\")*(BE$2:BE$338>2)*($CT$2:$CT$338=\"J\")))","v":{"$error":"#DIV/0!"}},{"$f":"SUMPRODUCT((($CO$2:$CO$338=\"50\")*(BF$2:BF$338)*($CT$2:$CT$338=\"J\"))/SUMPRODUCT(($CO$2:$CO$338=\"50\")*(BF$2:BF$338>2)*($CT$2:$CT$338=\"J\")))","v":{"$error":"#DIV/0!"}},{"$f":"SUMPRODUCT((($CO$2:$CO$338=\"50\")*(BG$2:BG$338)*($CT$2:$CT$338=\"J\"))/SUMPRODUCT(($CO$2:$CO$338=\"50\")*(BG$2:BG$338>2)*($CT$2:$CT$338=\"J\")))","v":78.515463917525722},{"$f":"SUMPRODUCT((($CO$2:$CO$338=\"50\")*(BH$2:BH$338)*($CT$2:$CT$338=\"J\"))/SUMPRODUCT(($CO$2:$CO$338=\"50\")*(BH$2:BH$338>2)*($CT$2:$CT$338=\"J\")))","v":77.103092783505076},{"$f":"SUMPRODUCT((($CO$2:$CO$338=\"50\")*(BI$2:BI$338)*($CT$2:$CT$338=\"J\"))/SUMPRODUCT(($CO$2:$CO$338=\"50\")*(BI$2:BI$338>2)*($CT$2:$CT$338=\"J\")))","v":81.941176470588246},{"$f":"SUMPRODUCT((($CO$2:$CO$338=\"50\")*(BJ$2:BJ$338)*($CT$2:$CT$338=\"J\"))/SUMPRODUCT(($CO$2:$CO$338=\"50\")*(BJ$2:BJ$338>2)*($CT$2:$CT$338=\"J\")))","v":79.907216494845329},{"$f":"SUMPRODUCT((($CO$2:$CO$338=\"50\")*(BK$2:BK$338)*($CT$2:$CT$338=\"J\"))/SUMPRODUCT(($CO$2:$CO$338=\"50\")*(BK$2:BK$338>2)*($CT$2:$CT$338=\"J\")))","v":79.925925925925924},{"$f":"SUMPRODUCT((($CO$2:$CO$338=\"50\")*(BL$2:BL$338)*($CT$2:$CT$338=\"J\"))/SUMPRODUCT(($CO$2:$CO$338=\"50\")*(BL$2:BL$338>2)*($CT$2:$CT$338=\"J\")))","v":76.81481481481481},{"$f":"SUMPRODUCT((($CO$2:$CO$338=\"50\")*(BM$2:BM$338)*($CT$2:$CT$338=\"J\"))/SUMPRODUCT(($CO$2:$CO$338=\"50\")*(BM$2:BM$338>2)*($CT$2:$CT$338=\"J\")))","v":73.469135802469154},{"$f":"SUMPRODUCT((($CO$2:$CO$338=\"50\")*(BN$2:BN$338)*($CT$2:$CT$338=\"J\"))/SUMPRODUCT(($CO$2:$CO$338=\"50\")*(BN$2:BN$338>2)*($CT$2:$CT$338=\"J\")))","v":75.876543209876559},{"$f":"SUMPRODUCT((($CO$2:$CO$338=\"50\")*(BO$2:BO$338)*($CT$2:$CT$338=\"J\"))/SUMPRODUCT(($CO$2:$CO$338=\"50\")*(BO$2:BO$338>2)*($CT$2:$CT$338=\"J\")))","v":77.602040816326507},{"$f":"SUMPRODUCT((($CO$2:$CO$338=\"50\")*(BP$2:BP$338)*($CT$2:$CT$338=\"J\"))/SUMPRODUCT(($CO$2:$CO$338=\"50\")*(BP$2:BP$338>2)*($CT$2:$CT$338=\"J\")))","v":78.89795918367345},{"$f":"SUMPRODUCT((($CO$2:$CO$338=\"50\")*(BQ$2:BQ$338)*($CT$2:$CT$338=\"J\"))/SUMPRODUCT(($CO$2:$CO$338=\"50\")*(BQ$2:BQ$338>2)*($CT$2:$CT$338=\"J\")))","v":78.306122448979607},{"$f":"SUMPRODUCT((($CO$2:$CO$338=\"50\")*(BR$2:BR$338)*($CT$2:$CT$338=\"J\"))/SUMPRODUCT(($CO$2:$CO$338=\"50\")*(BR$2:BR$338>2)*($CT$2:$CT$338=\"J\")))","v":80.81632653061223},{"$f":"SUMPRODUCT((($CO$2:$CO$338=\"50\")*(BS$2:BS$338)*($CT$2:$CT$338=\"J\"))/SUMPRODUCT(($CO$2:$CO$338=\"50\")*(BS$2:BS$338>2)*($CT$2:$CT$338=\"J\")))","v":80.371134020618427},{"$f":"SUMPRODUCT((($CO$2:$CO$338=\"50\")*(BT$2:BT$338)*($CT$2:$CT$338=\"J\"))/SUMPRODUCT(($CO$2:$CO$338=\"50\")*(BT$2:BT$338>2)*($CT$2:$CT$338=\"J\")))","v":80.494845360824684},{"$f":"SUMPRODUCT((($CO$2:$CO$338=\"50\")*(BU$2:BU$338)*($CT$2:$CT$338=\"J\"))/SUMPRODUCT(($CO$2:$CO$338=\"50\")*(BU$2:BU$338>2)*($CT$2:$CT$338=\"J\")))","v":80.082474226803981},{"$f":"SUMPRODUCT((($CO$2:$CO$338=\"50\")*(BV$2:BV$338)*($CT$2:$CT$338=\"J\"))/SUMPRODUCT(($CO$2:$CO$338=\"50\")*(BV$2:BV$338>2)*($CT$2:$CT$338=\"J\")))","v":83.562499999999972},{"$f":"SUMPRODUCT((($CO$2:$CO$338=\"50\")*(BW$2:BW$338)*($CT$2:$CT$338=\"J\"))/SUMPRODUCT(($CO$2:$CO$338=\"50\")*(BW$2:BW$338>2)*($CT$2:$CT$338=\"J\")))","v":{"$error":"#DIV/0!"}},79.879927138079296,81.341122139509196,80.99785021535493,{"$error":"#DIV/0!"},80.82595515900249,80.328586135895677,{"$error":"#DIV/0!"},{"$error":"#DIV/0!"},77.563725490196049,79.174757281553411,{"$error":"#DIV/0!"},79.36673741661609,null,null,null,null,null,null,null,null,null,37,"50j",null,{"$f":"SUMPRODUCT(((#REF!>2)*($CO$2:$CO$339=\"50\")*(#REF!)*($CT$2:$CT$339=\"J\"))/SUMPRODUCT((#REF!>2)*($CO$2:$CO$339=\"50\")*(#REF!>2)*($CT$2:$CT$339=\"J\")))","v":{"$error":"#REF!"}}]
[null,null,null,null,null,null,null,null,null,"50v",{"$f":"SUMPRODUCT((($CO$2:$CO$338=\"50\")*(K$2:K$338)*($CT$2:$CT$338=\"V\"))/SUMPRODUCT(($CO$2:$CO$338=\"50\")*(K$2:K$338>2)*($CT$2:$CT$338=\"V\")))","v":77.815384615384602},{"$f":"SUMPRODUCT((($CO$2:$CO$338=\"50\")*(L$2:L$338)*($CT$2:$CT$338=\"V\"))/SUMPRODUCT(($CO$2:$CO$338=\"50\")*(L$2:L$338>2)*($CT$2:$CT$338=\"V\")))","v":81.5625},{"$f":"SUMPRODUCT((($CO$2:$CO$338=\"50\")*(M$2:M$338)*($CT$2:$CT$338=\"V\"))/SUMPRODUCT(($CO$2:$CO$338=\"50\")*(M$2:M$338>2)*($CT$2:$CT$338=\"V\")))","v":{"$error":"#DIV/0!"}},{"$f":"SUMPRODUCT((($CO$2:$CO$338=\"50\")*(N$2:N$338)*($CT$2:$CT$338=\"V\"))/SUMPRODUCT(($CO$2:$CO$338=\"50\")*(N$2:N$338>2)*($CT$2:$CT$338=\"V\")))","v":83.72307692307696},{"$f":"SUMPRODUCT((($CO$2:$CO$338=\"50\")*(O$2:O$338)*($CT$2:$CT$338=\"V\"))/SUMPRODUCT(($CO$2:$CO$338=\"50\")*(O$2:O$338>2)*($CT$2:$CT$338=\"V\")))","v":79.138461538461527},{"$f":"SUMPRODUCT((($CO$2:$CO$338=\"50\")*(P$2:P$338)*($CT$2:$CT$338=\"V\"))/SUMPRODUCT(($CO$2:$CO$338=\"50\")*(P$2:P$338>2)*($CT$2:$CT$338=\"V\")))","v":82.769230769230788},{"$f":"SUMPRODUCT((($CO$2:$CO$338=\"50\")*(Q$2:Q$338)*($CT$2:$CT$338=\"V\"))/SUMPRODUCT(($CO$2:$CO$338=\"50\")*(Q$2:Q$338>2)*($CT$2:$CT$338=\"V\")))","v":83.323076923076925},{"$f":"SUMPRODUCT((($CO$2:$CO$338=\"50\")*(R$2:R$338)*($CT$2:$CT$338=\"V\"))/SUMPRODUCT(($CO$2:$CO$338=\"50\")*(R$2:R$338>2)*($CT$2:$CT$338=\"V\")))","v":83.81538461538463},{"$f":"SUMPRODUCT((($CO$2:$CO$338=\"50\")*(S$2:S$338)*($CT$2:$CT$338=\"V\"))/SUMPRODUCT(($CO$2:$CO$338=\"50\")*(S$2:S$338>2)*($CT$2:$CT$338=\"V\")))","v":80.151515151515156},{"$f":"SUMPRODUCT((($CO$2:$CO$338=\"50\")*(T$2:T$338)*($CT$2:$CT$338=\"V\"))/SUMPRODUCT(($CO$2:$CO$338=\"50\")*(T$2:T$338>2)*($CT$2:$CT$338=\"V\")))","v":81.484848484848484},{"$f":"SUMPRODUCT((($CO$2:$CO$338=\"50\")*(U$2:U$338)*($CT$2:$CT$338=\"V\"))/SUMPRODUCT(($CO$2:$CO$338=\"50\")*(U$2:U$338>2)*($CT$2:$CT$338=\"V\")))","v":79.000000000000014},{"$f":"SUMPRODUCT((($CO$2:$CO$338=\"50\")*(V$2:V$338)*($CT$2:$CT$338=\"V\"))/SUMPRODUCT(($CO$2:$CO$338=\"50\")*(V$2:V$338>2)*($CT$2:$CT$338=\"V\")))","v":82.757575757575736},{"$f":"SUMPRODUCT((($CO$2:$CO$338=\"50\")*(W$2:W$338)*($CT$2:$CT$338=\"V\"))/SUMPRODUCT(($CO$2:$CO$338=\"50\")*(W$2:W$338>2)*($CT$2:$CT$338=\"V\")))","v":{"$error":"#DIV/0!"}},{"$f":"SUMPRODUCT((($CO$2:$CO$338=\"50\")*(X$2:X$338)*($CT$2:$CT$338=\"V\"))/SUMPRODUCT(($CO$2:$CO$338=\"50\")*(X$2:X$338>2)*($CT$2:$CT$338=\"V\")))","v":{"$error":"#DIV/0!"}},{"$f":"SUMPRODUCT((($CO$2:$CO$338=\"50\")*(Y$2:Y$338)*($CT$2:$CT$338=\"V\"))/SUMPRODUCT(($CO$2:$CO$338=\"50\")*(Y$2:Y$338>2)*($CT$2:$CT$338=\"V\")))","v":{"$error":"#DIV/0!"}},{"$f":"SUMPRODUCT((($CO$2:$CO$338=\"50\")*(Z$2:Z$338)*($CT$2:$CT$338=\"V\"))/SUMPRODUCT(($CO$2:$CO$338=\"50\")*(Z$2:Z$338>2)*($CT$2:$CT$338=\"V\")))","v":{"$error":"#DIV/0!"}},{"$f":"SUMPRODUCT((($CO$2:$CO$338=\"50\")*(AA$2:AA$338)*($CT$2:$CT$338=\"V\"))/SUMPRODUCT(($CO$2:$CO$338=\"50\")*(AA$2:AA$338>2)*($CT$2:$CT$338=\"V\")))","v":77.927536231884034},{"$f":"SUMPRODUCT((($CO$2:$CO$338=\"50\")*(AB$2:AB$338)*($CT$2:$CT$338=\"V\"))/SUMPRODUCT(($CO$2:$CO$338=\"50\")*(AB$2:AB$338>2)*($CT$2:$CT$338=\"V\")))","v":78.602941176470594},{"$f":"SUMPRODUCT((($CO$2:$CO$338=\"50\")*(AC$2:AC$338)*($CT$2:$CT$338=\"V\"))/SUMPRODUCT(($CO$2:$CO$338=\"50\")*(AC$2:AC$338>2)*($CT$2:$CT$338=\"V\")))","v":{"$error":"#DIV/0!"}},{"$f":"SUMPRODUCT((($CO$2:$CO$338=\"50\")*(AD$2:AD$338)*($CT$2:$CT$338=\"V\"))/SUMPRODUCT(($CO$2:$CO$338=\"50\")*(AD$2:AD$338>2)*($CT$2:$CT$338=\"V\")))","v":80.342857142857142},{"$f":"SUMPRODUCT((($CO$2:$CO$338=\"50\")*(AE$2:AE$338)*($CT$2:$CT$338=\"V\"))/SUMPRODUCT(($CO$2:$CO$338=\"50\")*(AE$2:AE$338>2)*($CT$2:$CT$338=\"V\")))","v":80.597014925373117},{"$f":"SUMPRODUCT((($CO$2:$CO$338=\"50\")*(AF$2:AF$338)*($CT$2:$CT$338=\"V\"))/SUMPRODUCT(($CO$2:$CO$338=\"50\")*(AF$2:AF$338>2)*($CT$2:$CT$338=\"V\")))","v":79.260869565217405},{"$f":"SUMPRODUCT((($CO$2:$CO$338=\"50\")*(AG$2:AG$338)*($CT$2:$CT$338=\"V\"))/SUMPRODUCT(($CO$2:$CO$338=\"50\")*(AG$2:AG$338>2)*($CT$2:$CT$338=\"V\")))","v":81.029411764705884},{"$f":"SUMPRODUCT((($CO$2:$CO$338=\"50\")*(AH$2:AH$338)*($CT$2:$CT$338=\"V\"))/SUMPRODUCT(($CO$2:$CO$338=\"50\")*(AH$2:AH$338>2)*($CT$2:$CT$338=\"V\")))","v":81.428571428571431},{"$f":"SUMPRODUCT((($CO$2:$CO$338=\"50\")*(AI$2:AI$338)*($CT$2:$CT$338=\"V\"))/SUMPRODUCT(($CO$2:$CO$338=\"50\")*(AI$2:AI$338>2)*($CT$2:$CT$338=\"V\")))","v":79.855072463768096},{"$f":"SUMPRODUCT((($CO$2:$CO$338=\"50\")*(AJ$2:AJ$338)*($CT$2:$CT$338=\"V\"))/SUMPRODUCT(($CO$2:$CO$338=\"50\")*(AJ$2:AJ$338>2)*($CT$2:$CT$338=\"V\")))","v":81.159420289855035},{"$f":"SUMPRODUCT((($CO$2:$CO$338=\"50\")*(AK$2:AK$338)*($CT$2:$CT$338=\"V\"))/SUMPRODUCT(($CO$2:$CO$338=\"50\")*(AK$2:AK$338>2)*($CT$2:$CT$338=\"V\")))","v":78.724637681159408},{"$f":"SUMPRODUCT((($CO$2:$CO$338=\"50\")*(AL$2:AL$338)*($CT$2:$CT$338=\"V\"))/SUMPRODUCT(($CO$2:$CO$338=\"50\")*(AL$2:AL$338>2)*($CT$2:$CT$338=\"V\")))","v":82.478873239436638},{"$f":"SUMPRODUCT((($CO$2:$CO$338=\"50\")*(AM$2:AM$338)*($CT$2:$CT$338=\"V\"))/SUMPRODUCT(($CO$2:$CO$338=\"50\")*(AM$2:AM$338>2)*($CT$2:$CT$338=\"V\")))","v":{"$error":"#DIV/0!"}},{"$f":"SUMPRODUCT((($CO$2:$CO$338=\"50\")*(AN$2:AN$338)*($CT$2:$CT$338=\"V\"))/SUMPRODUCT(($CO$2:$CO$338=\"50\")*(AN$2:AN$338>2)*($CT$2:$CT$338=\"V\")))","v":{"$error":"#DIV/0!"}},{"$f":"SUMPRODUCT((($CO$2:$CO$338=\"50\")*(AO$2:AO$338)*($CT$2:$CT$338=\"V\"))/SUMPRODUCT(($CO$2:$CO$338=\"50\")*(AO$2:AO$338>2)*($CT$2:$CT$338=\"V\")))","v":{"$error":"#DIV/0!"}},{"$f":"SUMPRODUCT((($CO$2:$CO$338=\"50\")*(AP$2:AP$338)*($CT$2:$CT$338=\"V\"))/SUMPRODUCT(($CO$2:$CO$338=\"50\")*(AP$2:AP$338>2)*($CT$2:$CT$338=\"V\")))","v":{"$error":"#DIV/0!"}},{"$f":"SUMPRODUCT((($CO$2:$CO$338=\"50\")*(AQ$2:AQ$338)*($CT$2:$CT$338=\"V\"))/SUMPRODUCT(($CO$2:$CO$338=\"50\")*(AQ$2:AQ$338>2)*($CT$2:$CT$338=\"V\")))","v":73.157894736842138},{"$f":"SUMPRODUCT((($CO$2:$CO$338=\"50\")*(AR$2:AR$338)*($CT$2:$CT$338=\"V\"))/SUMPRODUCT(($CO$2:$CO$338=\"50\")*(AR$2:AR$338>2)*($CT$2:$CT$338=\"V\")))","v":79.473684210526329},{"$f":"SUMPRODUCT((($CO$2:$CO$338=\"50\")*(AS$2:AS$338)*($CT$2:$CT$338=\"V\"))/SUMPRODUCT(($CO$2:$CO$338=\"50\")*(AS$2:AS$338>2)*($CT$2:$CT$338=\"V\")))","v":{"$error":"#DIV/0!"}},{"$f":"SUMPRODUCT((($CO$2:$CO$338=\"50\")*(AT$2:AT$338)*($CT$2:$CT$338=\"V\"))/SUMPRODUCT(($CO$2:$CO$338=\"50\")*(AT$2:AT$338>2)*($CT$2:$CT$338=\"V\")))","v":79.868421052631604},{"$f":"SUMPRODUCT((($CO$2:$CO$338=\"50\")*(AU$2:AU$338)*($CT$2:$CT$338=\"V\"))/SUMPRODUCT(($CO$2:$CO$338=\"50\")*(AU$2:AU$338>2)*($CT$2:$CT$338=\"V\")))","v":77.105263157894754},{"$f":"SUMPRODUCT((($CO$2:$CO$338=\"50\")*(AV$2:AV$338)*($CT$2:$CT$338=\"V\"))/SUMPRODUCT(($CO$2:$CO$338=\"50\")*(AV$2:AV$338>2)*($CT$2:$CT$338=\"V\")))","v":78.289473684210535},{"$f":"SUMPRODUCT((($CO$2:$CO$338=\"50\")*(AW$2:AW$338)*($CT$2:$CT$338=\"V\"))/SUMPRODUCT(($CO$2:$CO$338=\"50\")*(AW$2:AW$338>2)*($CT$2:$CT$338=\"V\")))","v":80},{"$f":"SUMPRODUCT((($CO$2:$CO$338=\"50\")*(AX$2:AX$338)*($CT$2:$CT$338=\"V\"))/SUMPRODUCT(($CO$2:$CO$338=\"50\")*(AX$2:AX$338>2)*($CT$2:$CT$338=\"V\")))","v":80.657894736842152},{"$f":"SUMPRODUCT((($CO$2:$CO$338=\"50\")*(AY$2:AY$338)*($CT$2:$CT$338=\"V\"))/SUMPRODUCT(($CO$2:$CO$338=\"50\")*(AY$2:AY$338>2)*($CT$2:$CT$338=\"V\")))","v":79.220779220779264},{"$f":"SUMPRODUCT((($CO$2:$CO$338=\"50\")*(AZ$2:AZ$338)*($CT$2:$CT$338=\"V\"))/SUMPRODUCT(($CO$2:$CO$338=\"50\")*(AZ$2:AZ$338>2)*($CT$2:$CT$338=\"V\")))","v":78.116883116883159},{"$f":"SUMPRODUCT((($CO$2:$CO$338=\"50\")*(BA$2:BA$338)*($CT$2:$CT$338=\"V\"))/SUMPRODUCT(($CO$2:$CO$338=\"50\")*(BA$2:BA$338>2)*($CT$2:$CT$338=\"V\")))","v":80.584415584415581},{"$f":"SUMPRODUCT((($CO$2:$CO$338=\"50\")*(BB$2:BB$338)*($CT$2:$CT$338=\"V\"))/SUMPRODUCT(($CO$2:$CO$338=\"50\")*(BB$2:BB$338>2)*($CT$2:$CT$338=\"V\")))","v":78.311688311688329},{"$f":"SUMPRODUCT((($CO$2:$CO$338=\"50\")*(BC$2:BC$338)*($CT$2:$CT$338=\"V\"))/SUMPRODUCT(($CO$2:$CO$338=\"50\")*(BC$2:BC$338>2)*($CT$2:$CT$338=\"V\")))","v":{"$error":"#DIV/0!"}},{"$f":"SUMPRODUCT((($CO$2:$CO$338=\"50\")*(BD$2:BD$338)*($CT$2:$CT$338=\"V\"))/SUMPRODUCT(($CO$2:$CO$338=\"50\")*(BD$2:BD$338>2)*($CT$2:$CT$338=\"V\")))","v":{"$error":"#DIV/0!"}},{"$f":"SUMPRODUCT((($CO$2:$CO$338=\"50\")*(BE$2:BE$338)*($CT$2:$CT$338=\"V\"))/SUMPRODUCT(($CO$2:$CO$338=\"50\")*(BE$2:BE$338>2)*($CT$2:$CT$338=\"V\")))","v":{"$error":"#DIV/0!"}},{"$f":"SUMPRODUCT((($CO$2:$CO$338=\"50\")*(BF$2:BF$338)*($CT$2:$CT$338=\"V\"))/SUMPRODUCT(($CO$2:$CO$338=\"50\")*(BF$2:BF$338>2)*($CT$2:$CT$338=\"V\")))","v":{"$error":"#DIV/0!"}},{"$f":"SUMPRODUCT((($CO$2:$CO$338=\"50\")*(BG$2:BG$338)*($CT$2:$CT$338=\"V\"))/SUMPRODUCT(($CO$2:$CO$338=\"50\")*(BG$2:BG$338>2)*($CT$2:$CT$338=\"V\")))","v":76.605263157894697},{"$f":"SUMPRODUCT((($CO$2:$CO$338=\"50\")*(BH$2:BH$338)*($CT$2:$CT$338=\"V\"))/SUMPRODUCT(($CO$2:$CO$338=\"50\")*(BH$2:BH$338>2)*($CT$2:$CT$338=\"V\")))","v":75.947368421052616},{"$f":"SUMPRODUCT((($CO$2:$CO$338=\"50\")*(BI$2:BI$338)*($CT$2:$CT$338=\"V\"))/SUMPRODUCT(($CO$2:$CO$338=\"50\")*(BI$2:BI$338>2)*($CT$2:$CT$338=\"V\")))","v":83.727272727272734},{"$f":"SUMPRODUCT((($CO$2:$CO$338=\"50\")*(BJ$2:BJ$338)*($CT$2:$CT$338=\"V\"))/SUMPRODUCT(($CO$2:$CO$338=\"50\")*(BJ$2:BJ$338>2)*($CT$2:$CT$338=\"V\")))","v":80.026315789473642},{"$f":"SUMPRODUCT((($CO$2:$CO$338=\"50\")*(BK$2:BK$338)*($CT$2:$CT$338=\"V\"))/SUMPRODUCT(($CO$2:$CO$338=\"50\")*(BK$2:BK$338>2)*($CT$2:$CT$338=\"V\")))","v":76.907692307692329},{"$f":"SUMPRODUCT((($CO$2:$CO$338=\"50\")*(BL$2:BL$338)*($CT$2:$CT$338=\"V\"))/SUMPRODUCT(($CO$2:$CO$338=\"50\")*(BL$2:BL$338>2)*($CT$2:$CT$338=\"V\")))","v":76.292307692307702},{"$f":"SUMPRODUCT((($CO$2:$CO$338=\"50\")*(BM$2:BM$338)*($CT$2:$CT$338=\"V\"))/SUMPRODUCT(($CO$2:$CO$338=\"50\")*(BM$2:BM$338>2)*($CT$2:$CT$338=\"V\")))","v":74.78125},{"$f":"SUMPRODUCT((($CO$2:$CO$338=\"50\")*(BN$2:BN$338)*($CT$2:$CT$338=\"V\"))/SUMPRODUCT(($CO$2:$CO$338=\"50\")*(BN$2:BN$338>2)*($CT$2:$CT$338=\"V\")))","v":76.676923076923103},{"$f":"SUMPRODUCT((($CO$2:$CO$338=\"50\")*(BO$2:BO$338)*($CT$2:$CT$338=\"V\"))/SUMPRODUCT(($CO$2:$CO$338=\"50\")*(BO$2:BO$338>2)*($CT$2:$CT$338=\"V\")))","v":76.368421052631547},{"$f":"SUMPRODUCT((($CO$2:$CO$338=\"50\")*(BP$2:BP$338)*($CT$2:$CT$338=\"V\"))/SUMPRODUCT(($CO$2:$CO$338=\"50\")*(BP$2:BP$338>2)*($CT$2:$CT$338=\"V\")))","v":78.131578947368382},{"$f":"SUMPRODUCT((($CO$2:$CO$338=\"50\")*(BQ$2:BQ$338)*($CT$2:$CT$338=\"V\"))/SUMPRODUCT(($CO$2:$CO$338=\"50\")*(BQ$2:BQ$338>2)*($CT$2:$CT$338=\"V\")))","v":79.359999999999971},{"$f":"SUMPRODUCT((($CO$2:$CO$338=\"50\")*(BR$2:BR$338)*($CT$2:$CT$338=\"V\"))/SUMPRODUCT(($CO$2:$CO$338=\"50\")*(BR$2:BR$338>2)*($CT$2:$CT$338=\"V\")))","v":80.644736842105274},{"$f":"SUMPRODUCT((($CO$2:$CO$338=\"50\")*(BS$2:BS$338)*($CT$2:$CT$338=\"V\"))/SUMPRODUCT(($CO$2:$CO$338=\"50\")*(BS$2:BS$338>2)*($CT$2:$CT$338=\"V\")))","v":77.631578947368439},{"$f":"SUMPRODUCT((($CO$2:$CO$338=\"50\")*(BT$2:BT$338)*($CT$2:$CT$338=\"V\"))/SUMPRODUCT(($CO$2:$CO$338=\"50\")*(BT$2:BT$338>2)*($CT$2:$CT$338=\"V\")))","v":81.565789473684191},{"$f":"SUMPRODUCT((($CO$2:$CO$338=\"50\")*(BU$2:BU$338)*($CT$2:$CT$338=\"V\"))/SUMPRODUCT(($CO$2:$CO$338=\"50\")*(BU$2:BU$338>2)*($CT$2:$CT$338=\"V\")))","v":82.473684210526358},{"$f":"SUMPRODUCT((($CO$2:$CO$338=\"50\")*(BV$2:BV$338)*($CT$2:$CT$338=\"V\"))/SUMPRODUCT(($CO$2:$CO$338=\"50\")*(BV$2:BV$338>2)*($CT$2:$CT$338=\"V\")))","v":83.828947368421041},{"$f":"SUMPRODUCT((($CO$2:$CO$338=\"50\")*(BW$2:BW$338)*($CT$2:$CT$338=\"V\"))/SUMPRODUCT(($CO$2:$CO$338=\"50\")*(BW$2:BW$338>2)*($CT$2:$CT$338=\"V\")))","v":{"$error":"#DIV/0!"}},{"$error":"#DIV/0!"},82.261538461538464,80.848484848484844,{"$error":"#DIV/0!"},80.578966920966963,80.554500918554794,{"$error":"#DIV/0!"},{"$error":"#DIV/0!"},79.013157894736864,79.058441558441586,{"$error":"#DIV/0!"},79.076555023923419,null,null,null,null,null,null,null,null,null,38,"50v",null,{"$f":"SUMPRODUCT(((#REF!>2)*($CO$2:$CO$339=\"50\")*(#REF!)*($CT$2:$CT$339=\"V\"))/SUMPRODUCT((#REF!>2)*($CO$2:$CO$339=\"50\")*(#REF!>2)*($CT$2:$CT$339=\"V\")))","v":{"$error":"#REF!"}}]
[null,null,null,null,null,null,null,null,null,"50vsdoub",{"$f":"SUMPRODUCT((($CO$2:$CO$338=\"50\")*(K$2:K$338)*($CT$2:$CT$338=\"V\")*($F$2:$F$338=0))/SUMPRODUCT(($CO$2:$CO$338=\"50\")*(K$2:K$338>2)*($CT$2:$CT$338=\"V\")*($F$2:$F$338=0)))","v":77.815384615384602},{"$f":"SUMPRODUCT((($CO$2:$CO$338=\"50\")*(L$2:L$338)*($CT$2:$CT$338=\"V\")*($F$2:$F$338=0))/SUMPRODUCT(($CO$2:$CO$338=\"50\")*(L$2:L$338>2)*($CT$2:$CT$338=\"V\")*($F$2:$F$338=0)))","v":81.5625},{"$f":"SUMPRODUCT((($CO$2:$CO$338=\"50\")*(M$2:M$338)*($CT$2:$CT$338=\"V\")*($F$2:$F$338=0))/SUMPRODUCT(($CO$2:$CO$338=\"50\")*(M$2:M$338>2)*($CT$2:$CT$338=\"V\")*($F$2:$F$338=0)))","v":{"$error":"#DIV/0!"}},{"$f":"SUMPRODUCT((($CO$2:$CO$338=\"50\")*(N$2:N$338)*($CT$2:$CT$338=\"V\")*($F$2:$F$338=0))/SUMPRODUCT(($CO$2:$CO$338=\"50\")*(N$2:N$338>2)*($CT$2:$CT$338=\"V\")*($F$2:$F$338=0)))","v":83.72307692307696},{"$f":"SUMPRODUCT((($CO$2:$CO$338=\"50\")*(O$2:O$338)*($CT$2:$CT$338=\"V\")*($F$2:$F$338=0))/SUMPRODUCT(($CO$2:$CO$338=\"50\")*(O$2:O$338>2)*($CT$2:$CT$338=\"V\")*($F$2:$F$338=0)))","v":79.138461538461527},{"$f":"SUMPRODUCT((($CO$2:$CO$338=\"50\")*(P$2:P$338)*($CT$2:$CT$338=\"V\")*($F$2:$F$338=0))/SUMPRODUCT(($CO$2:$CO$338=\"50\")*(P$2:P$338>2)*($CT$2:$CT$338=\"V\")*($F$2:$F$338=0)))","v":82.769230769230788},{"$f":"SUMPRODUCT((($CO$2:$CO$338=\"50\")*(Q$2:Q$338)*($CT$2:$CT$338=\"V\")*($F$2:$F$338=0))/SUMPRODUCT(($CO$2:$CO$338=\"50\")*(Q$2:Q$338>2)*($CT$2:$CT$338=\"V\")*($F$2:$F$338=0)))","v":83.323076923076925},{"$f":"SUMPRODUCT((($CO$2:$CO$338=\"50\")*(R$2:R$338)*($CT$2:$CT$338=\"V\")*($F$2:$F$338=0))/SUMPRODUCT(($CO$2:$CO$338=\"50\")*(R$2:R$338>2)*($CT$2:$CT$338=\"V\")*($F$2:$F$338=0)))","v":83.81538461538463},{"$f":"SUMPRODUCT((($CO$2:$CO$338=\"50\")*(S$2:S$338)*($CT$2:$CT$338=\"V\")*($F$2:$F$338=0))/SUMPRODUCT(($CO$2:$CO$338=\"50\")*(S$2:S$338>2)*($CT$2:$CT$338=\"V\")*($F$2:$F$338=0)))","v":80.151515151515156},{"$f":"SUMPRODUCT((($CO$2:$CO$338=\"50\")*(T$2:T$338)*($CT$2:$CT$338=\"V\")*($F$2:$F$338=0))/SUMPRODUCT(($CO$2:$CO$338=\"50\")*(T$2:T$338>2)*($CT$2:$CT$338=\"V\")*($F$2:$F$338=0)))","v":81.484848484848484},{"$f":"SUMPRODUCT((($CO$2:$CO$338=\"50\")*(U$2:U$338)*($CT$2:$CT$338=\"V\")*($F$2:$F$338=0))/SUMPRODUCT(($CO$2:$CO$338=\"50\")*(U$2:U$338>2)*($CT$2:$CT$338=\"V\")*($F$2:$F$338=0)))","v":79.000000000000014},{"$f":"SUMPRODUCT((($CO$2:$CO$338=\"50\")*(V$2:V$338)*($CT$2:$CT$338=\"V\")*($F$2:$F$338=0))/SUMPRODUCT(($CO$2:$CO$338=\"50\")*(V$2:V$338>2)*($CT$2:$CT$338=\"V\")*($F$2:$F$338=0)))","v":82.757575757575736},{"$f":"SUMPRODUCT((($CO$2:$CO$338=\"50\")*(W$2:W$338)*($CT$2:$CT$338=\"V\")*($F$2:$F$338=0))/SUMPRODUCT(($CO$2:$CO$338=\"50\")*(W$2:W$338>2)*($CT$2:$CT$338=\"V\")*($F$2:$F$338=0)))","v":{"$error":"#DIV/0!"}},{"$f":"SUMPRODUCT((($CO$2:$CO$338=\"50\")*(X$2:X$338)*($CT$2:$CT$338=\"V\")*($F$2:$F$338=0))/SUMPRODUCT(($CO$2:$CO$338=\"50\")*(X$2:X$338>2)*($CT$2:$CT$338=\"V\")*($F$2:$F$338=0)))","v":{"$error":"#DIV/0!"}},{"$f":"SUMPRODUCT((($CO$2:$CO$338=\"50\")*(Y$2:Y$338)*($CT$2:$CT$338=\"V\")*($F$2:$F$338=0))/SUMPRODUCT(($CO$2:$CO$338=\"50\")*(Y$2:Y$338>2)*($CT$2:$CT$338=\"V\")*($F$2:$F$338=0)))","v":{"$error":"#DIV/0!"}},{"$f":"SUMPRODUCT((($CO$2:$CO$338=\"50\")*(Z$2:Z$338)*($CT$2:$CT$338=\"V\")*($F$2:$F$338=0))/SUMPRODUCT(($CO$2:$CO$338=\"50\")*(Z$2:Z$338>2)*($CT$2:$CT$338=\"V\")*($F$2:$F$338=0)))","v":{"$error":"#DIV/0!"}},{"$f":"SUMPRODUCT((($CO$2:$CO$338=\"50\")*(AA$2:AA$338)*($CT$2:$CT$338=\"V\")*($F$2:$F$338=0))/SUMPRODUCT(($CO$2:$CO$338=\"50\")*(AA$2:AA$338>2)*($CT$2:$CT$338=\"V\")*($F$2:$F$338=0)))","v":77.927536231884034},{"$f":"SUMPRODUCT((($CO$2:$CO$338=\"50\")*(AB$2:AB$338)*($CT$2:$CT$338=\"V\")*($F$2:$F$338=0))/SUMPRODUCT(($CO$2:$CO$338=\"50\")*(AB$2:AB$338>2)*($CT$2:$CT$338=\"V\")*($F$2:$F$338=0)))","v":78.602941176470594},{"$f":"SUMPRODUCT((($CO$2:$CO$338=\"50\")*(AC$2:AC$338)*($CT$2:$CT$338=\"V\")*($F$2:$F$338=0))/SUMPRODUCT(($CO$2:$CO$338=\"50\")*(AC$2:AC$338>2)*($CT$2:$CT$338=\"V\")*($F$2:$F$338=0)))","v":{"$error":"#DIV/0!"}},{"$f":"SUMPRODUCT((($CO$2:$CO$338=\"50\")*(AD$2:AD$338)*($CT$2:$CT$338=\"V\")*($F$2:$F$338=0))/SUMPRODUCT(($CO$2:$CO$338=\"50\")*(AD$2:AD$338>2)*($CT$2:$CT$338=\"V\")*($F$2:$F$338=0)))","v":80.342857142857142},{"$f":"SUMPRODUCT((($CO$2:$CO$338=\"50\")*(AE$2:AE$338)*($CT$2:$CT$338=\"V\")*($F$2:$F$338=0))/SUMPRODUCT(($CO$2:$CO$338=\"50\")*(AE$2:AE$338>2)*($CT$2:$CT$338=\"V\")*($F$2:$F$338=0)))","v":80.597014925373117},{"$f":"SUMPRODUCT((($CO$2:$CO$338=\"50\")*(AF$2:AF$338)*($CT$2:$CT$338=\"V\")*($F$2:$F$338=0))/SUMPRODUCT(($CO$2:$CO$338=\"50\")*(AF$2:AF$338>2)*($CT$2:$CT$338=\"V\")*($F$2:$F$338=0)))","v":79.260869565217405},{"$f":"SUMPRODUCT((($CO$2:$CO$338=\"50\")*(AG$2:AG$338)*($CT$2:$CT$338=\"V\")*($F$2:$F$338=0))/SUMPRODUCT(($CO$2:$CO$338=\"50\")*(AG$2:AG$338>2)*($CT$2:$CT$338=\"V\")*($F$2:$F$338=0)))","v":81.029411764705884},{"$f":"SUMPRODUCT((($CO$2:$CO$338=\"50\")*(AH$2:AH$338)*($CT$2:$CT$338=\"V\")*($F$2:$F$338=0))/SUMPRODUCT(($CO$2:$CO$338=\"50\")*(AH$2:AH$338>2)*($CT$2:$CT$338=\"V\")*($F$2:$F$338=0)))","v":81.428571428571431},{"$f":"SUMPRODUCT((($CO$2:$CO$338=\"50\")*(AI$2:AI$338)*($CT$2:$CT$338=\"V\")*($F$2:$F$338=0))/SUMPRODUCT(($CO$2:$CO$338=\"50\")*(AI$2:AI$338>2)*($CT$2:$CT$338=\"V\")*($F$2:$F$338=0)))","v":79.855072463768096},{"$f":"SUMPRODUCT((($CO$2:$CO$338=\"50\")*(AJ$2:AJ$338)*($CT$2:$CT$338=\"V\")*($F$2:$F$338=0))/SUMPRODUCT(($CO$2:$CO$338=\"50\")*(AJ$2:AJ$338>2)*($CT$2:$CT$338=\"V\")*($F$2:$F$338=0)))","v":81.159420289855035},{"$f":"SUMPRODUCT((($CO$2:$CO$338=\"50\")*(AK$2:AK$338)*($CT$2:$CT$338=\"V\")*($F$2:$F$338=0))/SUMPRODUCT(($CO$2:$CO$338=\"50\")*(AK$2:AK$338>2)*($CT$2:$CT$338=\"V\")*($F$2:$F$338=0)))","v":78.724637681159408},{"$f":"SUMPRODUCT((($CO$2:$CO$338=\"50\")*(AL$2:AL$338)*($CT$2:$CT$338=\"V\")*($F$2:$F$338=0))/SUMPRODUCT(($CO$2:$CO$338=\"50\")*(AL$2:AL$338>2)*($CT$2:$CT$338=\"V\")*($F$2:$F$338=0)))","v":82.478873239436638},{"$f":"SUMPRODUCT((($CO$2:$CO$338=\"50\")*(AM$2:AM$338)*($CT$2:$CT$338=\"V\")*($F$2:$F$338=0))/SUMPRODUCT(($CO$2:$CO$338=\"50\")*(AM$2:AM$338>2)*($CT$2:$CT$338=\"V\")*($F$2:$F$338=0)))","v":{"$error":"#DIV/0!"}},{"$f":"SUMPRODUCT((($CO$2:$CO$338=\"50\")*(AN$2:AN$338)*($CT$2:$CT$338=\"V\")*($F$2:$F$338=0))/SUMPRODUCT(($CO$2:$CO$338=\"50\")*(AN$2:AN$338>2)*($CT$2:$CT$338=\"V\")*($F$2:$F$338=0)))","v":{"$error":"#DIV/0!"}},{"$f":"SUMPRODUCT((($CO$2:$CO$338=\"50\")*(AO$2:AO$338)*($CT$2:$CT$338=\"V\")*($F$2:$F$338=0))/SUMPRODUCT(($CO$2:$CO$338=\"50\")*(AO$2:AO$338>2)*($CT$2:$CT$338=\"V\")*($F$2:$F$338=0)))","v":{"$error":"#DIV/0!"}},{"$f":"SUMPRODUCT((($CO$2:$CO$338=\"50\")*(AP$2:AP$338)*($CT$2:$CT$338=\"V\")*($F$2:$F$338=0))/SUMPRODUCT(($CO$2:$CO$338=\"50\")*(AP$2:AP$338>2)*($CT$2:$CT$338=\"V\")*($F$2:$F$338=0)))","v":{"$error":"#DIV/0!"}},{"$f":"SUMPRODUCT((($CO$2:$CO$338=\"50\")*(AQ$2:AQ$338)*($CT$2:$CT$338=\"V\")*($F$2:$F$338=0))/SUMPRODUCT(($CO$2:$CO$338=\"50\")*(AQ$2:AQ$338>2)*($CT$2:$CT$338=\"V\")*($F$2:$F$338=0)))","v":73.157894736842138},{"$f":"SUMPRODUCT((($CO$2:$CO$338=\"50\")*(AR$2:AR$338)*($CT$2:$CT$338=\"V\")*($F$2:$F$338=0))/SUMPRODUCT(($CO$2:$CO$338=\"50\")*(AR$2:AR$338>2)*($CT$2:$CT$338=\"V\")*($F$2:$F$338=0)))","v":79.473684210526329},{"$f":"SUMPRODUCT((($CO$2:$CO$338=\"50\")*(AS$2:AS$338)*($CT$2:$CT$338=\"V\")*($F$2:$F$338=0))/SUMPRODUCT(($CO$2:$CO$338=\"50\")*(AS$2:AS$338>2)*($CT$2:$CT$338=\"V\")*($F$2:$F$338=0)))","v":{"$error":"#DIV/0!"}},{"$f":"SUMPRODUCT((($CO$2:$CO$338=\"50\")*(AT$2:AT$338)*($CT$2:$CT$338=\"V\")*($F$2:$F$338=0))/SUMPRODUCT(($CO$2:$CO$338=\"50\")*(AT$2:AT$338>2)*($CT$2:$CT$338=\"V\")*($F$2:$F$338=0)))","v":79.868421052631604},{"$f":"SUMPRODUCT((($CO$2:$CO$338=\"50\")*(AU$2:AU$338)*($CT$2:$CT$338=\"V\")*($F$2:$F$338=0))/SUMPRODUCT(($CO$2:$CO$338=\"50\")*(AU$2:AU$338>2)*($CT$2:$CT$338=\"V\")*($F$2:$F$338=0)))","v":77.105263157894754},{"$f":"SUMPRODUCT((($CO$2:$CO$338=\"50\")*(AV$2:AV$338)*($CT$2:$CT$338=\"V\")*($F$2:$F$338=0))/SUMPRODUCT(($CO$2:$CO$338=\"50\")*(AV$2:AV$338>2)*($CT$2:$CT$338=\"V\")*($F$2:$F$338=0)))","v":78.289473684210535},{"$f":"SUMPRODUCT((($CO$2:$CO$338=\"50\")*(AW$2:AW$338)*($CT$2:$CT$338=\"V\")*($F$2:$F$338=0))/SUMPRODUCT(($CO$2:$CO$338=\"50\")*(AW$2:AW$338>2)*($CT$2:$CT$338=\"V\")*($F$2:$F$338=0)))","v":80},{"$f":"SUMPRODUCT((($CO$2:$CO$338=\"50\")*(AX$2:AX$338)*($CT$2:$CT$338=\"V\")*($F$2:$F$338=0))/SUMPRODUCT(($CO$2:$CO$338=\"50\")*(AX$2:AX$338>2)*($CT$2:$CT$338=\"V\")*($F$2:$F$338=0)))","v":80.657894736842152},{"$f":"SUMPRODUCT((($CO$2:$CO$338=\"50\")*(AY$2:AY$338)*($CT$2:$CT$338=\"V\")*($F$2:$F$338=0))/SUMPRODUCT(($CO$2:$CO$338=\"50\")*(AY$2:AY$338>2)*($CT$2:$CT$338=\"V\")*($F$2:$F$338=0)))","v":79.220779220779264},{"$f":"SUMPRODUCT((($CO$2:$CO$338=\"50\")*(AZ$2:AZ$338)*($CT$2:$CT$338=\"V\")*($F$2:$F$338=0))/SUMPRODUCT(($CO$2:$CO$338=\"50\")*(AZ$2:AZ$338>2)*($CT$2:$CT$338=\"V\")*($F$2:$F$338=0)))","v":78.116883116883159},{"$f":"SUMPRODUCT((($CO$2:$CO$338=\"50\")*(BA$2:BA$338)*($CT$2:$CT$338=\"V\")*($F$2:$F$338=0))/SUMPRODUCT(($CO$2:$CO$338=\"50\")*(BA$2:BA$338>2)*($CT$2:$CT$338=\"V\")*($F$2:$F$338=0)))","v":80.584415584415581},{"$f":"SUMPRODUCT((($CO$2:$CO$338=\"50\")*(BB$2:BB$338)*($CT$2:$CT$338=\"V\")*($F$2:$F$338=0))/SUMPRODUCT(($CO$2:$CO$338=\"50\")*(BB$2:BB$338>2)*($CT$2:$CT$338=\"V\")*($F$2:$F$338=0)))","v":78.311688311688329},{"$f":"SUMPRODUCT((($CO$2:$CO$338=\"50\")*(BC$2:BC$338)*($CT$2:$CT$338=\"V\")*($F$2:$F$338=0))/SUMPRODUCT(($CO$2:$CO$338=\"50\")*(BC$2:BC$338>2)*($CT$2:$CT$338=\"V\")*($F$2:$F$338=0)))","v":{"$error":"#DIV/0!"}},{"$f":"SUMPRODUCT((($CO$2:$CO$338=\"50\")*(BD$2:BD$338)*($CT$2:$CT$338=\"V\")*($F$2:$F$338=0))/SUMPRODUCT(($CO$2:$CO$338=\"50\")*(BD$2:BD$338>2)*($CT$2:$CT$338=\"V\")*($F$2:$F$338=0)))","v":{"$error":"#DIV/0!"}},{"$f":"SUMPRODUCT((($CO$2:$CO$338=\"50\")*(BE$2:BE$338)*($CT$2:$CT$338=\"V\")*($F$2:$F$338=0))/SUMPRODUCT(($CO$2:$CO$338=\"50\")*(BE$2:BE$338>2)*($CT$2:$CT$338=\"V\")*($F$2:$F$338=0)))","v":{"$error":"#DIV/0!"}},{"$f":"SUMPRODUCT((($CO$2:$CO$338=\"50\")*(BF$2:BF$338)*($CT$2:$CT$338=\"V\")*($F$2:$F$338=0))/SUMPRODUCT(($CO$2:$CO$338=\"50\")*(BF$2:BF$338>2)*($CT$2:$CT$338=\"V\")*($F$2:$F$338=0)))","v":{"$error":"#DIV/0!"}},{"$f":"SUMPRODUCT((($CO$2:$CO$338=\"50\")*(BG$2:BG$338)*($CT$2:$CT$338=\"V\")*($F$2:$F$338=0))/SUMPRODUCT(($CO$2:$CO$338=\"50\")*(BG$2:BG$338>2)*($CT$2:$CT$338=\"V\")*($F$2:$F$338=0)))","v":76.605263157894697},{"$f":"SUMPRODUCT((($CO$2:$CO$338=\"50\")*(BH$2:BH$338)*($CT$2:$CT$338=\"V\")*($F$2:$F$338=0))/SUMPRODUCT(($CO$2:$CO$338=\"50\")*(BH$2:BH$338>2)*($CT$2:$CT$338=\"V\")*($F$2:$F$338=0)))","v":75.947368421052616},{"$f":"SUMPRODUCT((($CO$2:$CO$338=\"50\")*(BI$2:BI$338)*($CT$2:$CT$338=\"V\")*($F$2:$F$338=0))/SUMPRODUCT(($CO$2:$CO$338=\"50\")*(BI$2:BI$338>2)*($CT$2:$CT$338=\"V\")*($F$2:$F$338=0)))","v":83.727272727272734},{"$f":"SUMPRODUCT((($CO$2:$CO$338=\"50\")*(BJ$2:BJ$338)*($CT$2:$CT$338=\"V\")*($F$2:$F$338=0))/SUMPRODUCT(($CO$2:$CO$338=\"50\")*(BJ$2:BJ$338>2)*($CT$2:$CT$338=\"V\")*($F$2:$F$338=0)))","v":80.026315789473642},{"$f":"SUMPRODUCT((($CO$2:$CO$338=\"50\")*(BK$2:BK$338)*($CT$2:$CT$338=\"V\")*($F$2:$F$338=0))/SUMPRODUCT(($CO$2:$CO$338=\"50\")*(BK$2:BK$338>2)*($CT$2:$CT$338=\"V\")*($F$2:$F$338=0)))","v":76.907692307692329},{"$f":"SUMPRODUCT((($CO$2:$CO$338=\"50\")*(BL$2:BL$338)*($CT$2:$CT$338=\"V\")*($F$2:$F$338=0))/SUMPRODUCT(($CO$2:$CO$338=\"50\")*(BL$2:BL$338>2)*($CT$2:$CT$338=\"V\")*($F$2:$F$338=0)))","v":76.292307692307702},{"$f":"SUMPRODUCT((($CO$2:$CO$338=\"50\")*(BM$2:BM$338)*($CT$2:$CT$338=\"V\")*($F$2:$F$338=0))/SUMPRODUCT(($CO$2:$CO$338=\"50\")*(BM$2:BM$338>2)*($CT$2:$CT$338=\"V\")*($F$2:$F$338=0)))","v":74.78125},{"$f":"SUMPRODUCT((($CO$2:$CO$338=\"50\")*(BN$2:BN$338)*($CT$2:$CT$338=\"V\")*($F$2:$F$338=0))/SUMPRODUCT(($CO$2:$CO$338=\"50\")*(BN$2:BN$338>2)*($CT$2:$CT$338=\"V\")*($F$2:$F$338=0)))","v":76.676923076923103},{"$f":"SUMPRODUCT((($CO$2:$CO$338=\"50\")*(BO$2:BO$338)*($CT$2:$CT$338=\"V\")*($F$2:$F$338=0))/SUMPRODUCT(($CO$2:$CO$338=\"50\")*(BO$2:BO$338>2)*($CT$2:$CT$338=\"V\")*($F$2:$F$338=0)))","v":76.368421052631547},{"$f":"SUMPRODUCT((($CO$2:$CO$338=\"50\")*(BP$2:BP$338)*($CT$2:$CT$338=\"V\")*($F$2:$F$338=0))/SUMPRODUCT(($CO$2:$CO$338=\"50\")*(BP$2:BP$338>2)*($CT$2:$CT$338=\"V\")*($F$2:$F$338=0)))","v":78.131578947368382},{"$f":"SUMPRODUCT((($CO$2:$CO$338=\"50\")*(BQ$2:BQ$338)*($CT$2:$CT$338=\"V\")*($F$2:$F$338=0))/SUMPRODUCT(($CO$2:$CO$338=\"50\")*(BQ$2:BQ$338>2)*($CT$2:$CT$338=\"V\")*($F$2:$F$338=0)))","v":79.359999999999971},{"$f":"SUMPRODUCT((($CO$2:$CO$338=\"50\")*(BR$2:BR$338)*($CT$2:$CT$338=\"V\")*($F$2:$F$338=0))/SUMPRODUCT(($CO$2:$CO$338=\"50\")*(BR$2:BR$338>2)*($CT$2:$CT$338=\"V\")*($F$2:$F$338=0)))","v":80.644736842105274},{"$f":"SUMPRODUCT((($CO$2:$CO$338=\"50\")*(BS$2:BS$338)*($CT$2:$CT$338=\"V\")*($F$2:$F$338=0))/SUMPRODUCT(($CO$2:$CO$338=\"50\")*(BS$2:BS$338>2)*($CT$2:$CT$338=\"V\")*($F$2:$F$338=0)))","v":77.631578947368439},{"$f":"SUMPRODUCT((($CO$2:$CO$338=\"50\")*(BT$2:BT$338)*($CT$2:$CT$338=\"V\")*($F$2:$F$338=0))/SUMPRODUCT(($CO$2:$CO$338=\"50\")*(BT$2:BT$338>2)*($CT$2:$CT$338=\"V\")*($F$2:$F$338=0)))","v":81.565789473684191},{"$f":"SUMPRODUCT((($CO$2:$CO$338=\"50\")*(BU$2:BU$338)*($CT$2:$CT$338=\"V\")*($F$2:$F$338=0))/SUMPRODUCT(($CO$2:$CO$338=\"50\")*(BU$2:BU$338>2)*($CT$2:$CT$338=\"V\")*($F$2:$F$338=0)))","v":82.473684210526358},{"$f":"SUMPRODUCT((($CO$2:$CO$338=\"50\")*(BV$2:BV$338)*($CT$2:$CT$338=\"V\")*($F$2:$F$338=0))/SUMPRODUCT(($CO$2:$CO$338=\"50\")*(BV$2:BV$338>2)*($CT$2:$CT$338=\"V\")*($F$2:$F$338=0)))","v":83.828947368421041},{"$f":"SUMPRODUCT((($CO$2:$CO$338=\"50\")*(BW$2:BW$338)*($CT$2:$CT$338=\"V\")*($F$2:$F$338=0))/SUMPRODUCT(($CO$2:$CO$338=\"50\")*(BW$2:BW$338>2)*($CT$2:$CT$338=\"V\")*($F$2:$F$338=0)))","v":{"$error":"#DIV/0!"}},{"$error":"#DIV/0!"},82.261538461538464,80.848484848484844,{"$error":"#DIV/0!"},80.578966920966963,80.554500918554794,{"$error":"#DIV/0!"},{"$error":"#DIV/0!"},79.013157894736864,79.058441558441586,{"$error":"#DIV/0!"},79.076555023923419,null,null,null,null,null,null,null,null,null,39,"50vsdoub","V S DOUBL",{"$f":"SUMPRODUCT(((#REF!>2)*($CO$2:$CO$339=\"50\")*(#REF!)*($CT$2:$CT$339=\"V\")*($F$2:$F$339=0))/SUMPRODUCT((#REF!>2)*($CO$2:$CO$339=\"50\")*(#REF!>2)*($CT$2:$CT$339=\"V\")*($F$2:$F$339=0)))","v":{"$error":"#REF!"}}]
[null,null,null,null,null,null,null,null,null,40,null,null,null,null,null,null,null,null,null,null,null,null,null,null,null,null,null,null,null,null,null,null,null,null,null,null,null,null,null,null,null,null,null,null,null,null,null,null,null,null,null,null,null,null,null,null,null,null,null,null,null,null,null,null,null,null,null,null,null,null,null,null,null,null,null,null,null,null,null,null,null,null,null,null,null,null,null,null,null,null,null,null,null,null,null,null,40,40]
[null,null,null,null,null,null,null,null,null,"40nb",{"$f":"SUM(($CO$2:$CO$338=\"40\")*(K$2:K$338>1)*1)","v":0},{"$f":"SUM(($CO$2:$CO$338=\"40\")*(L$2:L$338>1)*1)","v":0},{"$f":"SUM(($CO$2:$CO$338=\"40\")*(M$2:M$338>1)*1)","v":0},{"$f":"SUM(($CO$2:$CO$338=\"40\")*(N$2:N$338>1)*1)","v":0},{"$f":"SUM(($CO$2:$CO$338=\"40\")*(O$2:O$338>1)*1)","v":0},{"$f":"SUM(($CO$2:$CO$338=\"40\")*(P$2:P$338>1)*1)","v":0},{"$f":"SUM(($CO$2:$CO$338=\"40\")*(Q$2:Q$338>1)*1)","v":0},{"$f":"SUM(($CO$2:$CO$338=\"40\")*(R$2:R$338>1)*1)","v":0},{"$f":"SUM(($CO$2:$CO$338=\"40\")*(S$2:S$338>1)*1)","v":0},{"$f":"SUM(($CO$2:$CO$338=\"40\")*(T$2:T$338>1)*1)","v":0},{"$f":"SUM(($CO$2:$CO$338=\"40\")*(U$2:U$338>1)*1)","v":0},{"$f":"SUM(($CO$2:$CO$338=\"40\")*(V$2:V$338>1)*1)","v":0},{"$f":"SUM(($CO$2:$CO$338=\"40\")*(W$2:W$338>1)*1)","v":0},{"$f":"SUM(($CO$2:$CO$338=\"40\")*(X$2:X$338>1)*1)","v":0},{"$f":"SUM(($CO$2:$CO$338=\"40\")*(Y$2:Y$338>1)*1)","v":0},{"$f":"SUM(($CO$2:$CO$338=\"40\")*(Z$2:Z$338>1)*1)","v":0},{"$f":"SUM(($CO$2:$CO$338=\"40\")*(AA$2:AA$338>1)*1)","v":0},{"$f":"SUM(($CO$2:$CO$338=\"40\")*(AB$2:AB$338>1)*1)","v":0},{"$f":"SUM(($CO$2:$CO$338=\"40\")*(AC$2:AC$338>1)*1)","v":0},{"$f":"SUM(($CO$2:$CO$338=\"40\")*(AD$2:AD$338>1)*1)","v":0},{"$f":"SUM(($CO$2:$CO$338=\"40\")*(AE$2:AE$338>1)*1)","v":0},{"$f":"SUM(($CO$2:$CO$338=\"40\")*(AF$2:AF$338>1)*1)","v":0},{"$f":"SUM(($CO$2:$CO$338=\"40\")*(AG$2:AG$338>1)*1)","v":0},{"$f":"SUM(($CO$2:$CO$338=\"40\")*(AH$2:AH$338>1)*1)","v":0},{"$f":"SUM(($CO$2:$CO$338=\"40\")*(AI$2:AI$338>1)*1)","v":0},{"$f":"SUM(($CO$2:$CO$338=\"40\")*(AJ$2:AJ$338>1)*1)","v":0},{"$f":"SUM(($CO$2:$CO$338=\"40\")*(AK$2:AK$338>1)*1)","v":0},{"$f":"SUM(($CO$2:$CO$338=\"40\")*(AL$2:AL$338>1)*1)","v":0},{"$f":"SUM(($CO$2:$CO$338=\"40\")*(AM$2:AM$338>1)*1)","v":0},{"$f":"SUM(($CO$2:$CO$338=\"40\")*(AN$2:AN$338>1)*1)","v":0},{"$f":"SUM(($CO$2:$CO$338=\"40\")*(AO$2:AO$338>1)*1)","v":0},{"$f":"SUM(($CO$2:$CO$338=\"40\")*(AP$2:AP$338>1)*1)","v":0},{"$f":"SUM(($CO$2:$CO$338=\"40\")*(AQ$2:AQ$338>1)*1)","v":0},{"$f":"SUM(($CO$2:$CO$338=\"40\")*(AR$2:AR$338>1)*1)","v":0},{"$f":"SUM(($CO$2:$CO$338=\"40\")*(AS$2:AS$338>1)*1)","v":0},{"$f":"SUM(($CO$2:$CO$338=\"40\")*(AT$2:AT$338>1)*1)","v":0},{"$f":"SUM(($CO$2:$CO$338=\"40\")*(AU$2:AU$338>1)*1)","v":0},{"$f":"SUM(($CO$2:$CO$338=\"40\")*(AV$2:AV$338>1)*1)","v":0},{"$f":"SUM(($CO$2:$CO$338=\"40\")*(AW$2:AW$338>1)*1)","v":0},{"$f":"SUM(($CO$2:$CO$338=\"40\")*(AX$2:AX$338>1)*1)","v":0},{"$f":"SUM(($CO$2:$CO$338=\"40\")*(AY$2:AY$338>1)*1)","v":0},{"$f":"SUM(($CO$2:$CO$338=\"40\")*(AZ$2:AZ$338>1)*1)","v":0},{"$f":"SUM(($CO$2:$CO$338=\"40\")*(BA$2:BA$338>1)*1)","v":0},{"$f":"SUM(($CO$2:$CO$338=\"40\")*(BB$2:BB$338>1)*1)","v":0},{"$f":"SUM(($CO$2:$CO$338=\"40\")*(BC$2:BC$338>1)*1)","v":0},{"$f":"SUM(($CO$2:$CO$338=\"40\")*(BD$2:BD$338>1)*1)","v":0},{"$f":"SUM(($CO$2:$CO$338=\"40\")*(BE$2:BE$338>1)*1)","v":0},{"$f":"SUM(($CO$2:$CO$338=\"40\")*(BF$2:BF$338>1)*1)","v":0},{"$f":"SUM(($CO$2:$CO$338=\"40\")*(BG$2:BG$338>1)*1)","v":0},{"$f":"SUM(($CO$2:$CO$338=\"40\")*(BH$2:BH$338>1)*1)","v":0},{"$f":"SUM(($CO$2:$CO$338=\"40\")*(BI$2:BI$338>1)*1)","v":0},{"$f":"SUM(($CO$2:$CO$338=\"40\")*(BJ$2:BJ$338>1)*1)","v":0},{"$f":"SUM(($CO$2:$CO$338=\"40\")*(BK$2:BK$338>1)*1)","v":0},{"$f":"SUM(($CO$2:$CO$338=\"40\")*(BL$2:BL$338>1)*1)","v":0},{"$f":"SUM(($CO$2:$CO$338=\"40\")*(BM$2:BM$338>1)*1)","v":0},{"$f":"SUM(($CO$2:$CO$338=\"40\")*(BN$2:BN$338>1)*1)","v":0},{"$f":"SUM(($CO$2:$CO$338=\"40\")*(BO$2:BO$338>1)*1)","v":0},{"$f":"SUM(($CO$2:$CO$338=\"40\")*(BP$2:BP$338>1)*1)","v":0},{"$f":"SUM(($CO$2:$CO$338=\"40\")*(BQ$2:BQ$338>1)*1)","v":0},{"$f":"SUM(($CO$2:$CO$338=\"40\")*(BR$2:BR$338>1)*1)","v":0},{"$f":"SUM(($CO$2:$CO$338=\"40\")*(BS$2:BS$338>1)*1)","v":0},{"$f":"SUM(($CO$2:$CO$338=\"40\")*(BT$2:BT$338>1)*1)","v":0},{"$f":"SUM(($CO$2:$CO$338=\"40\")*(BU$2:BU$338>1)*1)","v":0},{"$f":"SUM(($CO$2:$CO$338=\"40\")*(BV$2:BV$338>1)*1)","v":0},{"$f":"SUM(($CO$2:$CO$338=\"40\")*(BW$2:BW$338>1)*1)","v":0},{"$f":"SUM(($CO$2:$CO$338=\"40\")*(BX$2:BX$338>1)*1)","v":0},{"$f":"SUM(($CO$2:$CO$338=\"40\")*(BY$2:BY$338>1)*1)","v":0},{"$f":"SUM(($CO$2:$CO$338=\"40\")*(BZ$2:BZ$338>1)*1)","v":0},{"$f":"SUM(($CO$2:$CO$338=\"40\")*(CA$2:CA$338>1)*1)","v":0},{"$f":"SUM(($CO$2:$CO$338=\"40\")*(CB$2:CB$338>1)*1)","v":0},{"$f":"SUM(($CO$2:$CO$338=\"40\")*(CC$2:CC$338>1)*1)","v":0},{"$f":"SUM(($CO$2:$CO$338=\"40\")*(CD$2:CD$338>1)*1)","v":0},{"$f":"SUM(($CO$2:$CO$338=\"40\")*(CE$2:CE$338>1)*1)","v":0},{"$f":"SUM(($CO$2:$CO$338=\"40\")*(CF$2:CF$338>1)*1)","v":0},{"$f":"SUM(($CO$2:$CO$338=\"40\")*(CG$2:CG$338>1)*1)","v":0},{"$f":"SUM(($CO$2:$CO$338=\"40\")*(CH$2:CH$338>1)*1)","v":0},{"$f":"SUM(($CO$2:$CO$338=\"40\")*(CI$2:CI$338>1)*1)","v":0},null,null,null,null,null,null,null,null,null,41,"40nb",null,{"$f":"#REF!","v":{"$error":"#REF!"}}]
[null,null,null,null,null,null,null,null,null,"40moy",{"$f":"SUMPRODUCT((($CO$2:$CO$338=\"40\")*(K$2:K$338))/SUMPRODUCT(($CO$2:$CO$338=\"40\")*(K$2:K$338>2))\n)","v":{"$error":"#DIV/0!"}},{"$f":"SUMPRODUCT((($CO$2:$CO$338=\"40\")*(L$2:L$338))/SUMPRODUCT(($CO$2:$CO$338=\"40\")*(L$2:L$338>2))\n)","v":{"$error":"#DIV/0!"}},{"$f":"SUMPRODUCT((($CO$2:$CO$338=\"40\")*(M$2:M$338))/SUMPRODUCT(($CO$2:$CO$338=\"40\")*(M$2:M$338>2))\n)","v":{"$error":"#DIV/0!"}},{"$f":"SUMPRODUCT((($CO$2:$CO$338=\"40\")*(N$2:N$338))/SUMPRODUCT(($CO$2:$CO$338=\"40\")*(N$2:N$338>2))\n)","v":{"$error":"#DIV/0!"}},{"$f":"SUMPRODUCT((($CO$2:$CO$338=\"40\")*(O$2:O$338))/SUMPRODUCT(($CO$2:$CO$338=\"40\")*(O$2:O$338>2))\n)","v":{"$error":"#DIV/0!"}},{"$f":"SUMPRODUCT((($CO$2:$CO$338=\"40\")*(P$2:P$338))/SUMPRODUCT(($CO$2:$CO$338=\"40\")*(P$2:P$338>2))\n)","v":{"$error":"#DIV/0!"}},{"$f":"SUMPRODUCT((($CO$2:$CO$338=\"40\")*(Q$2:Q$338))/SUMPRODUCT(($CO$2:$CO$338=\"40\")*(Q$2:Q$338>2))\n)","v":{"$error":"#DIV/0!"}},{"$f":"SUMPRODUCT((($CO$2:$CO$338=\"40\")*(R$2:R$338))/SUMPRODUCT(($CO$2:$CO$338=\"40\")*(R$2:R$338>2))\n)","v":{"$error":"#DIV/0!"}},{"$f":"SUMPRODUCT((($CO$2:$CO$338=\"40\")*(S$2:S$338))/SUMPRODUCT(($CO$2:$CO$338=\"40\")*(S$2:S$338>2))\n)","v":{"$error":"#DIV/0!"}},{"$f":"SUMPRODUCT((($CO$2:$CO$338=\"40\")*(T$2:T$338))/SUMPRODUCT(($CO$2:$CO$338=\"40\")*(T$2:T$338>2))\n)","v":{"$error":"#DIV/0!"}},{"$f":"SUMPRODUCT((($CO$2:$CO$338=\"40\")*(U$2:U$338))/SUMPRODUCT(($CO$2:$CO$338=\"40\")*(U$2:U$338>2))\n)","v":{"$error":"#DIV/0!"}},{"$f":"SUMPRODUCT((($CO$2:$CO$338=\"40\")*(V$2:V$338))/SUMPRODUCT(($CO$2:$CO$338=\"40\")*(V$2:V$338>2))\n)","v":{"$error":"#DIV/0!"}},{"$f":"SUMPRODUCT((($CO$2:$CO$338=\"40\")*(W$2:W$338))/SUMPRODUCT(($CO$2:$CO$338=\"40\")*(W$2:W$338>2))\n)","v":{"$error":"#DIV/0!"}},{"$f":"SUMPRODUCT((($CO$2:$CO$338=\"40\")*(X$2:X$338))/SUMPRODUCT(($CO$2:$CO$338=\"40\")*(X$2:X$338>2))\n)","v":{"$error":"#DIV/0!"}},{"$f":"SUMPRODUCT((($CO$2:$CO$338=\"40\")*(Y$2:Y$338))/SUMPRODUCT(($CO$2:$CO$338=\"40\")*(Y$2:Y$338>2))\n)","v":{"$error":"#DIV/0!"}},{"$f":"SUMPRODUCT((($CO$2:$CO$338=\"40\")*(Z$2:Z$338))/SUMPRODUCT(($CO$2:$CO$338=\"40\")*(Z$2:Z$338>2))\n)","v":{"$error":"#DIV/0!"}},{"$f":"SUMPRODUCT((($CO$2:$CO$338=\"40\")*(AA$2:AA$338))/SUMPRODUCT(($CO$2:$CO$338=\"40\")*(AA$2:AA$338>2))\n)","v":{"$error":"#DIV/0!"}},{"$f":"SUMPRODUCT((($CO$2:$CO$338=\"40\")*(AB$2:AB$338))/SUMPRODUCT(($CO$2:$CO$338=\"40\")*(AB$2:AB$338>2))\n)","v":{"$error":"#DIV/0!"}},{"$f":"SUMPRODUCT((($CO$2:$CO$338=\"40\")*(AC$2:AC$338))/SUMPRODUCT(($CO$2:$CO$338=\"40\")*(AC$2:AC$338>2))\n)","v":{"$error":"#DIV/0!"}},{"$f":"SUMPRODUCT((($CO$2:$CO$338=\"40\")*(AD$2:AD$338))/SUMPRODUCT(($CO$2:$CO$338=\"40\")*(AD$2:AD$338>2))\n)","v":{"$error":"#DIV/0!"}},{"$f":"SUMPRODUCT((($CO$2:$CO$338=\"40\")*(AE$2:AE$338))/SUMPRODUCT(($CO$2:$CO$338=\"40\")*(AE$2:AE$338>2))\n)","v":{"$error":"#DIV/0!"}},{"$f":"SUMPRODUCT((($CO$2:$CO$338=\"40\")*(AF$2:AF$338))/SUMPRODUCT(($CO$2:$CO$338=\"40\")*(AF$2:AF$338>2))\n)","v":{"$error":"#DIV/0!"}},{"$f":"SUMPRODUCT((($CO$2:$CO$338=\"40\")*(AG$2:AG$338))/SUMPRODUCT(($CO$2:$CO$338=\"40\")*(AG$2:AG$338>2))\n)","v":{"$error":"#DIV/0!"}},{"$f":"SUMPRODUCT((($CO$2:$CO$338=\"40\")*(AH$2:AH$338))/SUMPRODUCT(($CO$2:$CO$338=\"40\")*(AH$2:AH$338>2))\n)","v":{"$error":"#DIV/0!"}},{"$f":"SUMPRODUCT((($CO$2:$CO$338=\"40\")*(AI$2:AI$338))/SUMPRODUCT(($CO$2:$CO$338=\"40\")*(AI$2:AI$338>2))\n)","v":{"$error":"#DIV/0!"}},{"$f":"SUMPRODUCT((($CO$2:$CO$338=\"40\")*(AJ$2:AJ$338))/SUMPRODUCT(($CO$2:$CO$338=\"40\")*(AJ$2:AJ$338>2))\n)","v":{"$error":"#DIV/0!"}},{"$f":"SUMPRODUCT((($CO$2:$CO$338=\"40\")*(AK$2:AK$338))/SUMPRODUCT(($CO$2:$CO$338=\"40\")*(AK$2:AK$338>2))\n)","v":{"$error":"#DIV/0!"}},{"$f":"SUMPRODUCT((($CO$2:$CO$338=\"40\")*(AL$2:AL$338))/SUMPRODUCT(($CO$2:$CO$338=\"40\")*(AL$2:AL$338>2))\n)","v":{"$error":"#DIV/0!"}},{"$f":"SUMPRODUCT((($CO$2:$CO$338=\"40\")*(AM$2:AM$338))/SUMPRODUCT(($CO$2:$CO$338=\"40\")*(AM$2:AM$338>2))\n)","v":{"$error":"#DIV/0!"}},{"$f":"SUMPRODUCT((($CO$2:$CO$338=\"40\")*(AN$2:AN$338))/SUMPRODUCT(($CO$2:$CO$338=\"40\")*(AN$2:AN$338>2))\n)","v":{"$error":"#DIV/0!"}},{"$f":"SUMPRODUCT((($CO$2:$CO$338=\"40\")*(AO$2:AO$338))/SUMPRODUCT(($CO$2:$CO$338=\"40\")*(AO$2:AO$338>2))\n)","v":{"$error":"#DIV/0!"}},{"$f":"SUMPRODUCT((($CO$2:$CO$338=\"40\")*(AP$2:AP$338))/SUMPRODUCT(($CO$2:$CO$338=\"40\")*(AP$2:AP$338>2))\n)","v":{"$error":"#DIV/0!"}},{"$f":"SUMPRODUCT((($CO$2:$CO$338=\"40\")*(AQ$2:AQ$338))/SUMPRODUCT(($CO$2:$CO$338=\"40\")*(AQ$2:AQ$338>2))\n)","v":{"$error":"#DIV/0!"}},{"$f":"SUMPRODUCT((($CO$2:$CO$338=\"40\")*(AR$2:AR$338))/SUMPRODUCT(($CO$2:$CO$338=\"40\")*(AR$2:AR$338>2))\n)","v":{"$error":"#DIV/0!"}},{"$f":"SUMPRODUCT((($CO$2:$CO$338=\"40\")*(AS$2:AS$338))/SUMPRODUCT(($CO$2:$CO$338=\"40\")*(AS$2:AS$338>2))\n)","v":{"$error":"#DIV/0!"}},{"$f":"SUMPRODUCT((($CO$2:$CO$338=\"40\")*(AT$2:AT$338))/SUMPRODUCT(($CO$2:$CO$338=\"40\")*(AT$2:AT$338>2))\n)","v":{"$error":"#DIV/0!"}},{"$f":"SUMPRODUCT((($CO$2:$CO$338=\"40\")*(AU$2:AU$338))/SUMPRODUCT(($CO$2:$CO$338=\"40\")*(AU$2:AU$338>2))\n)","v":{"$error":"#DIV/0!"}},{"$f":"SUMPRODUCT((($CO$2:$CO$338=\"40\")*(AV$2:AV$338))/SUMPRODUCT(($CO$2:$CO$338=\"40\")*(AV$2:AV$338>2))\n)","v":{"$error":"#DIV/0!"}},{"$f":"SUMPRODUCT((($CO$2:$CO$338=\"40\")*(AW$2:AW$338))/SUMPRODUCT(($CO$2:$CO$338=\"40\")*(AW$2:AW$338>2))\n)","v":{"$error":"#DIV/0!"}},{"$f":"SUMPRODUCT((($CO$2:$CO$338=\"40\")*(AX$2:AX$338))/SUMPRODUCT(($CO$2:$CO$338=\"40\")*(AX$2:AX$338>2))\n)","v":{"$error":"#DIV/0!"}},{"$f":"SUMPRODUCT((($CO$2:$CO$338=\"40\")*(AY$2:AY$338))/SUMPRODUCT(($CO$2:$CO$338=\"40\")*(AY$2:AY$338>2))\n)","v":{"$error":"#DIV/0!"}},{"$f":"SUMPRODUCT((($CO$2:$CO$338=\"40\")*(AZ$2:AZ$338))/SUMPRODUCT(($CO$2:$CO$338=\"40\")*(AZ$2:AZ$338>2))\n)","v":{"$error":"#DIV/0!"}},{"$f":"SUMPRODUCT((($CO$2:$CO$338=\"40\")*(BA$2:BA$338))/SUMPRODUCT(($CO$2:$CO$338=\"40\")*(BA$2:BA$338>2))\n)","v":{"$error":"#DIV/0!"}},{"$f":"SUMPRODUCT((($CO$2:$CO$338=\"40\")*(BB$2:BB$338))/SUMPRODUCT(($CO$2:$CO$338=\"40\")*(BB$2:BB$338>2))\n)","v":{"$error":"#DIV/0!"}},{"$f":"SUMPRODUCT((($CO$2:$CO$338=\"40\")*(BC$2:BC$338))/SUMPRODUCT(($CO$2:$CO$338=\"40\")*(BC$2:BC$338>2))\n)","v":{"$error":"#DIV/0!"}},{"$f":"SUMPRODUCT((($CO$2:$CO$338=\"40\")*(BD$2:BD$338))/SUMPRODUCT(($CO$2:$CO$338=\"40\")*(BD$2:BD$338>2))\n)","v":{"$error":"#DIV/0!"}},{"$f":"SUMPRODUCT((($CO$2:$CO$338=\"40\")*(BE$2:BE$338))/SUMPRODUCT(($CO$2:$CO$338=\"40\")*(BE$2:BE$338>2))\n)","v":{"$error":"#DIV/0!"}},{"$f":"SUMPRODUCT((($CO$2:$CO$338=\"40\")*(BF$2:BF$338))/SUMPRODUCT(($CO$2:$CO$338=\"40\")*(BF$2:BF$338>2))\n)","v":{"$error":"#DIV/0!"}},{"$f":"SUMPRODUCT((($CO$2:$CO$338=\"40\")*(BG$2:BG$338))/SUMPRODUCT(($CO$2:$CO$338=\"40\")*(BG$2:BG$338>2))\n)","v":{"$error":"#DIV/0!"}},{"$f":"SUMPRODUCT((($CO$2:$CO$338=\"40\")*(BH$2:BH$338))/SUMPRODUCT(($CO$2:$CO$338=\"40\")*(BH$2:BH$338>2))\n)","v":{"$error":"#DIV/0!"}},{"$f":"SUMPRODUCT((($CO$2:$CO$338=\"40\")*(BI$2:BI$338))/SUMPRODUCT(($CO$2:$CO$338=\"40\")*(BI$2:BI$338>2))\n)","v":{"$error":"#DIV/0!"}},{"$f":"SUMPRODUCT((($CO$2:$CO$338=\"40\")*(BJ$2:BJ$338))/SUMPRODUCT(($CO$2:$CO$338=\"40\")*(BJ$2:BJ$338>2))\n)","v":{"$error":"#DIV/0!"}},{"$f":"SUMPRODUCT((($CO$2:$CO$338=\"40\")*(BK$2:BK$338))/SUMPRODUCT(($CO$2:$CO$338=\"40\")*(BK$2:BK$338>2))\n)","v":{"$error":"#DIV/0!"}},{"$f":"SUMPRODUCT((($CO$2:$CO$338=\"40\")*(BL$2:BL$338))/SUMPRODUCT(($CO$2:$CO$338=\"40\")*(BL$2:BL$338>2))\n)","v":{"$error":"#DIV/0!"}},{"$f":"SUMPRODUCT((($CO$2:$CO$338=\"40\")*(BM$2:BM$338))/SUMPRODUCT(($CO$2:$CO$338=\"40\")*(BM$2:BM$338>2))\n)","v":{"$error":"#DIV/0!"}},{"$f":"SUMPRODUCT((($CO$2:$CO$338=\"40\")*(BN$2:BN$338))/SUMPRODUCT(($CO$2:$CO$338=\"40\")*(BN$2:BN$338>2))\n)","v":{"$error":"#DIV/0!"}},{"$f":"SUMPRODUCT((($CO$2:$CO$338=\"40\")*(BO$2:BO$338))/SUMPRODUCT(($CO$2:$CO$338=\"40\")*(BO$2:BO$338>2))\n)","v":{"$error":"#DIV/0!"}},{"$f":"SUMPRODUCT((($CO$2:$CO$338=\"40\")*(BP$2:BP$338))/SUMPRODUCT(($CO$2:$CO$338=\"40\")*(BP$2:BP$338>2))\n)","v":{"$error":"#DIV/0!"}},{"$f":"SUMPRODUCT((($CO$2:$CO$338=\"40\")*(BQ$2:BQ$338))/SUMPRODUCT(($CO$2:$CO$338=\"40\")*(BQ$2:BQ$338>2))\n)","v":{"$error":"#DIV/0!"}},{"$f":"SUMPRODUCT((($CO$2:$CO$338=\"40\")*(BR$2:BR$338))/SUMPRODUCT(($CO$2:$CO$338=\"40\")*(BR$2:BR$338>2))\n)","v":{"$error":"#DIV/0!"}},{"$f":"SUMPRODUCT((($CO$2:$CO$338=\"40\")*(BS$2:BS$338))/SUMPRODUCT(($CO$2:$CO$338=\"40\")*(BS$2:BS$338>2))\n)","v":{"$error":"#DIV/0!"}},{"$f":"SUMPRODUCT((($CO$2:$CO$338=\"40\")*(BT$2:BT$338))/SUMPRODUCT(($CO$2:$CO$338=\"40\")*(BT$2:BT$338>2))\n)","v":{"$error":"#DIV/0!"}},{"$f":"SUMPRODUCT((($CO$2:$CO$338=\"40\")*(BU$2:BU$338))/SUMPRODUCT(($CO$2:$CO$338=\"40\")*(BU$2:BU$338>2))\n)","v":{"$error":"#DIV/0!"}},{"$f":"SUMPRODUCT((($CO$2:$CO$338=\"40\")*(BV$2:BV$338))/SUMPRODUCT(($CO$2:$CO$338=\"40\")*(BV$2:BV$338>2))\n)","v":{"$error":"#DIV/0!"}},{"$f":"SUMPRODUCT((($CO$2:$CO$338=\"40\")*(BW$2:BW$338))/SUMPRODUCT(($CO$2:$CO$338=\"40\")*(BW$2:BW$338>2))\n)","v":{"$error":"#DIV/0!"}},{"$f":"IF(L382=0,0,IF(M382=0,AVERAGE(M382,K382,N382),AVERAGE(K382:N382)))","v":{"$error":"#DIV/0!"}},{"$f":"IF(P382=0,0,IF(Q382=0,AVERAGE(Q382,O382,R382),AVERAGE(O382:R382)))","v":{"$error":"#DIV/0!"}},{"$f":"IF(T382=0,0,IF(U382=0,AVERAGE(T382,S382,V382),AVERAGE(S382:V382)))","v":{"$error":"#DIV/0!"}},{"$f":"IF(AB382=0,0,IF(AC382=0,AVERAGE(AB382,AA382,AD382),AVERAGE(AA382:AD382)))","v":{"$error":"#DIV/0!"}},{"$f":"IF(AF382=0,0,IF(AG382=0,AVERAGE(AF382,AE382,AH382),AVERAGE(AE382:AH382)))","v":{"$error":"#DIV/0!"}},{"$f":"IF(AJ382=0,0,IF(AK382=0,AVERAGE(AJ382,AI382,AL382),AVERAGE(AI382:AL382)))","v":{"$error":"#DIV/0!"}},{"$f":"IF(AN382=0,0,IF(AO382=0,AVERAGE(AN382,AM382,AP382),AVERAGE(AM382:AP382)))","v":{"$error":"#DIV/0!"}},{"$f":"IF(AR382=0,0,IF(AS382=0,AVERAGE(AR382,AQ382,AT382),AVERAGE(AQ382:AT382)))","v":{"$error":"#DIV/0!"}},{"$f":"IF(AV382=0,0,IF(AW382=0,AVERAGE(AV382,AU382,AX382),AVERAGE(AU382:AX382)))","v":{"$error":"#DIV/0!"}},{"$f":"IF(AZ382=0,0,IF(BA382=0,AVERAGE(AZ382,AY382,BB382),AVERAGE(AY382:BB382)))","v":{"$error":"#DIV/0!"}},{"$f":"IF(BD382=0,0,IF(BE382=0,AVERAGE(BD382,BC382,BF382),AVERAGE(BC382:BF382)))","v":{"$error":"#DIV/0!"}},{"$f":"IF(BH382=0,0,IF(BI382=0,AVERAGE(BH382,BG382,BJ382,BM382),AVERAGE(BG382:BJ382)))","v":{"$error":"#DIV/0!"}},null,null,null,null,null,null,null,null,null,42,"40moy",null,{"$f":"SUMPRODUCT(((#REF!>2)*($CO$2:$CO$339=\"40\")*(#REF!))/SUMPRODUCT((#REF!>2)*($CO$2:$CO$339=\"40\")*(#REF!>2)))","v":{"$error":"#REF!"}}]
[null,null,null,null,null,null,null,null,null,"40taux",{"$f":"(SUM(($CO$2:$CO$338=\"40\")*(K$2:K$338>=60)*1))/K381*100","v":{"$error":"#DIV/0!"}},{"$f":"(SUM(($CO$2:$CO$338=\"40\")*(L$2:L$338>=60)*1))/L381*100","v":{"$error":"#DIV/0!"}},{"$f":"(SUM(($CO$2:$CO$338=\"40\")*(M$2:M$338>=60)*1))/M381*100","v":{"$error":"#DIV/0!"}},{"$f":"(SUM(($CO$2:$CO$338=\"40\")*(N$2:N$338>=60)*1))/N381*100","v":{"$error":"#DIV/0!"}},{"$f":"(SUM(($CO$2:$CO$338=\"40\")*(O$2:O$338>=60)*1))/O381*100","v":{"$error":"#DIV/0!"}},{"$f":"(SUM(($CO$2:$CO$338=\"40\")*(P$2:P$338>=60)*1))/P381*100","v":{"$error":"#DIV/0!"}},{"$f":"(SUM(($CO$2:$CO$338=\"40\")*(Q$2:Q$338>=60)*1))/Q381*100","v":{"$error":"#DIV/0!"}},{"$f":"(SUM(($CO$2:$CO$338=\"40\")*(R$2:R$338>=60)*1))/R381*100","v":{"$error":"#DIV/0!"}},{"$f":"(SUM(($CO$2:$CO$338=\"40\")*(S$2:S$338>=60)*1))/S381*100","v":{"$error":"#DIV/0!"}},{"$f":"(SUM(($CO$2:$CO$338=\"40\")*(T$2:T$338>=60)*1))/T381*100","v":{"$error":"#DIV/0!"}},{"$f":"(SUM(($CO$2:$CO$338=\"40\")*(U$2:U$338>=60)*1))/U381*100","v":{"$error":"#DIV/0!"}},{"$f":"(SUM(($CO$2:$CO$338=\"40\")*(V$2:V$338>=60)*1))/V381*100","v":{"$error":"#DIV/0!"}},{"$f":"(SUM(($CO$2:$CO$338=\"40\")*(W$2:W$338>=60)*1))/W381*100","v":{"$error":"#DIV/0!"}},{"$f":"(SUM(($CO$2:$CO$338=\"40\")*(X$2:X$338>=60)*1))/X381*100","v":{"$error":"#DIV/0!"}},{"$f":"(SUM(($CO$2:$CO$338=\"40\")*(Y$2:Y$338>=60)*1))/Y381*100","v":{"$error":"#DIV/0!"}},{"$f":"(SUM(($CO$2:$CO$338=\"40\")*(Z$2:Z$338>=60)*1))/Z381*100","v":{"$error":"#DIV/0!"}},{"$f":"(SUM(($CO$2:$CO$338=\"40\")*(AA$2:AA$338>=60)*1))/AA381*100","v":{"$error":"#DIV/0!"}},{"$f":"(SUM(($CO$2:$CO$338=\"40\")*(AB$2:AB$338>=60)*1))/AB381*100","v":{"$error":"#DIV/0!"}},{"$f":"(SUM(($CO$2:$CO$338=\"40\")*(AC$2:AC$338>=60)*1))/AC381*100","v":{"$error":"#DIV/0!"}},{"$f":"(SUM(($CO$2:$CO$338=\"40\")*(AD$2:AD$338>=60)*1))/AD381*100","v":{"$error":"#DIV/0!"}},{"$f":"(SUM(($CO$2:$CO$338=\"40\")*(AE$2:AE$338>=60)*1))/AE381*100","v":{"$error":"#DIV/0!"}},{"$f":"(SUM(($CO$2:$CO$338=\"40\")*(AF$2:AF$338>=60)*1))/AF381*100","v":{"$error":"#DIV/0!"}},{"$f":"(SUM(($CO$2:$CO$338=\"40\")*(AG$2:AG$338>=60)*1))/AG381*100","v":{"$error":"#DIV/0!"}},{"$f":"(SUM(($CO$2:$CO$338=\"40\")*(AH$2:AH$338>=60)*1))/AH381*100","v":{"$error":"#DIV/0!"}},{"$f":"(SUM(($CO$2:$CO$338=\"40\")*(AI$2:AI$338>=60)*1))/AI381*100","v":{"$error":"#DIV/0!"}},{"$f":"(SUM(($CO$2:$CO$338=\"40\")*(AJ$2:AJ$338>=60)*1))/AJ381*100","v":{"$error":"#DIV/0!"}},{"$f":"(SUM(($CO$2:$CO$338=\"40\")*(AK$2:AK$338>=60)*1))/AK381*100","v":{"$error":"#DIV/0!"}},{"$f":"(SUM(($CO$2:$CO$338=\"40\")*(AL$2:AL$338>=60)*1))/AL381*100","v":{"$error":"#DIV/0!"}},{"$f":"(SUM(($CO$2:$CO$338=\"40\")*(AM$2:AM$338>=60)*1))/AM381*100","v":{"$error":"#DIV/0!"}},{"$f":"(SUM(($CO$2:$CO$338=\"40\")*(AN$2:AN$338>=60)*1))/AN381*100","v":{"$error":"#DIV/0!"}},{"$f":"(SUM(($CO$2:$CO$338=\"40\")*(AO$2:AO$338>=60)*1))/AO381*100","v":{"$error":"#DIV/0!"}},{"$f":"(SUM(($CO$2:$CO$338=\"40\")*(AP$2:AP$338>=60)*1))/AP381*100","v":{"$error":"#DIV/0!"}},{"$f":"(SUM(($CO$2:$CO$338=\"40\")*(AQ$2:AQ$338>=60)*1))/AQ381*100","v":{"$error":"#DIV/0!"}},{"$f":"(SUM(($CO$2:$CO$338=\"40\")*(AR$2:AR$338>=60)*1))/AR381*100","v":{"$error":"#DIV/0!"}},{"$f":"(SUM(($CO$2:$CO$338=\"40\")*(AS$2:AS$338>=60)*1))/AS381*100","v":{"$error":"#DIV/0!"}},{"$f":"(SUM(($CO$2:$CO$338=\"40\")*(AT$2:AT$338>=60)*1))/AT381*100","v":{"$error":"#DIV/0!"}},{"$f":"(SUM(($CO$2:$CO$338=\"40\")*(AU$2:AU$338>=60)*1))/AU381*100","v":{"$error":"#DIV/0!"}},{"$f":"(SUM(($CO$2:$CO$338=\"40\")*(AV$2:AV$338>=60)*1))/AV381*100","v":{"$error":"#DIV/0!"}},{"$f":"(SUM(($CO$2:$CO$338=\"40\")*(AW$2:AW$338>=60)*1))/AW381*100","v":{"$error":"#DIV/0!"}},{"$f":"(SUM(($CO$2:$CO$338=\"40\")*(AX$2:AX$338>=60)*1))/AX381*100","v":{"$error":"#DIV/0!"}},{"$f":"(SUM(($CO$2:$CO$338=\"40\")*(AY$2:AY$338>=60)*1))/AY381*100","v":{"$error":"#DIV/0!"}},{"$f":"(SUM(($CO$2:$CO$338=\"40\")*(AZ$2:AZ$338>=60)*1))/AZ381*100","v":{"$error":"#DIV/0!"}},{"$f":"(SUM(($CO$2:$CO$338=\"40\")*(BA$2:BA$338>=60)*1))/BA381*100","v":{"$error":"#DIV/0!"}},{"$f":"(SUM(($CO$2:$CO$338=\"40\")*(BB$2:BB$338>=60)*1))/BB381*100","v":{"$error":"#DIV/0!"}},{"$f":"(SUM(($CO$2:$CO$338=\"40\")*(BC$2:BC$338>=60)*1))/BC381*100","v":{"$error":"#DIV/0!"}},{"$f":"(SUM(($CO$2:$CO$338=\"40\")*(BD$2:BD$338>=60)*1))/BD381*100","v":{"$error":"#DIV/0!"}},{"$f":"(SUM(($CO$2:$CO$338=\"40\")*(BE$2:BE$338>=60)*1))/BE381*100","v":{"$error":"#DIV/0!"}},{"$f":"(SUM(($CO$2:$CO$338=\"40\")*(BF$2:BF$338>=60)*1))/BF381*100","v":{"$error":"#DIV/0!"}},{"$f":"(SUM(($CO$2:$CO$338=\"40\")*(BG$2:BG$338>=60)*1))/BG381*100","v":{"$error":"#DIV/0!"}},{"$f":"(SUM(($CO$2:$CO$338=\"40\")*(BH$2:BH$338>=60)*1))/BH381*100","v":{"$error":"#DIV/0!"}},{"$f":"(SUM(($CO$2:$CO$338=\"40\")*(BI$2:BI$338>=60)*1))/BI381*100","v":{"$error":"#DIV/0!"}},{"$f":"(SUM(($CO$2:$CO$338=\"40\")*(BJ$2:BJ$338>=60)*1))/BJ381*100","v":{"$error":"#DIV/0!"}},{"$f":"(SUM(($CO$2:$CO$338=\"40\")*(BK$2:BK$338>=60)*1))/BK381*100","v":{"$error":"#DIV/0!"}},{"$f":"(SUM(($CO$2:$CO$338=\"40\")*(BL$2:BL$338>=60)*1))/BL381*100","v":{"$error":"#DIV/0!"}},{"$f":"(SUM(($CO$2:$CO$338=\"40\")*(BM$2:BM$338>=60)*1))/BM381*100","v":{"$error":"#DIV/0!"}},{"$f":"(SUM(($CO$2:$CO$338=\"40\")*(BN$2:BN$338>=60)*1))/BN381*100","v":{"$error":"#DIV/0!"}},{"$f":"(SUM(($CO$2:$CO$338=\"40\")*(BO$2:BO$338>=60)*1))/BO381*100","v":{"$error":"#DIV/0!"}},{"$f":"(SUM(($CO$2:$CO$338=\"40\")*(BP$2:BP$338>=60)*1))/BP381*100","v":{"$error":"#DIV/0!"}},{"$f":"(SUM(($CO$2:$CO$338=\"40\")*(BQ$2:BQ$338>=60)*1))/BQ381*100","v":{"$error":"#DIV/0!"}},{"$f":"(SUM(($CO$2:$CO$338=\"40\")*(BR$2:BR$338>=60)*1))/BR381*100","v":{"$error":"#DIV/0!"}},{"$f":"(SUM(($CO$2:$CO$338=\"40\")*(BS$2:BS$338>=60)*1))/BS381*100","v":{"$error":"#DIV/0!"}},{"$f":"(SUM(($CO$2:$CO$338=\"40\")*(BT$2:BT$338>=60)*1))/BT381*100","v":{"$error":"#DIV/0!"}},{"$f":"(SUM(($CO$2:$CO$338=\"40\")*(BU$2:BU$338>=60)*1))/BU381*100","v":{"$error":"#DIV/0!"}},{"$f":"(SUM(($CO$2:$CO$338=\"40\")*(BV$2:BV$338>=60)*1))/BV381*100","v":{"$error":"#DIV/0!"}},{"$f":"(SUM(($CO$2:$CO$338=\"40\")*(BW$2:BW$338>=60)*1))/BW381*100","v":{"$error":"#DIV/0!"}},{"$error":"#DIV/0!"},{"$error":"#DIV/0!"},{"$error":"#DIV/0!"},{"$error":"#DIV/0!"},{"$error":"#DIV/0!"},{"$error":"#DIV/0!"},{"$error":"#DIV/0!"},{"$error":"#DIV/0!"},{"$error":"#DIV/0!"},{"$error":"#DIV/0!"},{"$error":"#DIV/0!"},{"$error":"#DIV/0!"},null,null,null,null,null,null,null,null,null,43,"40taux",null,{"$f":"(SUM(($CO$2:$CO$339=\"40\")*(CV$2:CV$339>=60)*1))/CV381*100","v":{"$error":"#REF!"}}]
[null,null,null,null,null,null,null,null,null,"40avas",{"$f":"K386-K387","v":{"$error":"#DIV/0!"}},{"$f":"L386-L387","v":{"$error":"#DIV/0!"}},{"$error":"#DIV/0!"},{"$error":"#DIV/0!"},{"$error":"#DIV/0!"},{"$error":"#DIV/0!"},{"$error":"#DIV/0!"},{"$error":"#DIV/0!"},{"$error":"#DIV/0!"},{"$error":"#DIV/0!"},{"$error":"#DIV/0!"},{"$error":"#DIV/0!"},{"$error":"#DIV/0!"},{"$error":"#DIV/0!"},{"$error":"#DIV/0!"},{"$error":"#DIV/0!"},{"$error":"#DIV/0!"},{"$error":"#DIV/0!"},{"$error":"#DIV/0!"},{"$error":"#DIV/0!"},{"$error":"#DIV/0!"},{"$error":"#DIV/0!"},{"$error":"#DIV/0!"},{"$error":"#DIV/0!"},{"$error":"#DIV/0!"},{"$error":"#DIV/0!"},{"$error":"#DIV/0!"},{"$error":"#DIV/0!"},{"$error":"#DIV/0!"},{"$error":"#DIV/0!"},{"$error":"#DIV/0!"},{"$error":"#DIV/0!"},{"$error":"#DIV/0!"},{"$error":"#DIV/0!"},{"$error":"#DIV/0!"},{"$error":"#DIV/0!"},{"$error":"#DIV/0!"},{"$error":"#DIV/0!"},{"$error":"#DIV/0!"},{"$error":"#DIV/0!"},{"$error":"#DIV/0!"},{"$error":"#DIV/0!"},{"$error":"#DIV/0!"},{"$error":"#DIV/0!"},{"$error":"#DIV/0!"},{"$error":"#DIV/0!"},{"$error":"#DIV/0!"},{"$error":"#DIV/0!"},{"$error":"#DIV/0!"},{"$error":"#DIV/0!"},{"$error":"#DIV/0!"},{"$error":"#DIV/0!"},{"$error":"#DIV/0!"},{"$error":"#DIV/0!"},{"$error":"#DIV/0!"},{"$error":"#DIV/0!"},{"$error":"#DIV/0!"},{"$error":"#DIV/0!"},{"$error":"#DIV/0!"},{"$error":"#DIV/0!"},{"$error":"#DIV/0!"},{"$error":"#DIV/0!"},{"$error":"#DIV/0!"},{"$error":"#DIV/0!"},{"$f":"BW386-BW387","v":{"$error":"#DIV/0!"}},{"$error":"#DIV/0!"},{"$error":"#DIV/0!"},{"$error":"#DIV/0!"},{"$error":"#DIV/0!"},{"$error":"#DIV/0!"},{"$error":"#DIV/0!"},{"$error":"#DIV/0!"},{"$error":"#DIV/0!"},{"$error":"#DIV/0!"},{"$error":"#DIV/0!"},{"$f":"CH386-CH387","v":{"$error":"#DIV/0!"}},{"$error":"#DIV/0!"},null,null,null,null,null,null,null,null,null,44,"40avas",null,{"$f":"CV386-CV387","v":{"$error":"#REF!"}}]
[null,null,null,null,null,null,null,null,null,"40avaa",{"$f":"K388-K389","v":{"$error":"#DIV/0!"}},{"$f":"L388-L389","v":{"$error":"#DIV/0!"}},{"$error":"#DIV/0!"},{"$error":"#DIV/0!"},{"$error":"#DIV/0!"},{"$error":"#DIV/0!"},{"$error":"#DIV/0!"},{"$error":"#DIV/0!"},{"$error":"#DIV/0!"},{"$error":"#DIV/0!"},{"$error":"#DIV/0!"},{"$error":"#DIV/0!"},{"$error":"#DIV/0!"},{"$error":"#DIV/0!"},{"$error":"#DIV/0!"},{"$error":"#DIV/0!"},{"$error":"#DIV/0!"},{"$error":"#DIV/0!"},{"$error":"#DIV/0!"},{"$error":"#DIV/0!"},{"$error":"#DIV/0!"},{"$error":"#DIV/0!"},{"$error":"#DIV/0!"},{"$error":"#DIV/0!"},{"$error":"#DIV/0!"},{"$error":"#DIV/0!"},{"$error":"#DIV/0!"},{"$error":"#DIV/0!"},{"$error":"#DIV/0!"},{"$error":"#DIV/0!"},{"$error":"#DIV/0!"},{"$error":"#DIV/0!"},{"$error":"#DIV/0!"},{"$error":"#DIV/0!"},{"$error":"#DIV/0!"},{"$error":"#DIV/0!"},{"$error":"#DIV/0!"},{"$error":"#DIV/0!"},{"$error":"#DIV/0!"},{"$error":"#DIV/0!"},{"$error":"#DIV/0!"},{"$error":"#DIV/0!"},{"$error":"#DIV/0!"},{"$error":"#DIV/0!"},{"$error":"#DIV/0!"},{"$error":"#DIV/0!"},{"$error":"#DIV/0!"},{"$error":"#DIV/0!"},{"$error":"#DIV/0!"},{"$error":"#DIV/0!"},{"$error":"#DIV/0!"},{"$error":"#DIV/0!"},{"$error":"#DIV/0!"},{"$error":"#DIV/0!"},{"$error":"#DIV/0!"},{"$error":"#DIV/0!"},{"$error":"#DIV/0!"},{"$error":"#DIV/0!"},{"$error":"#DIV/0!"},{"$error":"#DIV/0!"},{"$error":"#DIV/0!"},{"$error":"#DIV/0!"},{"$error":"#DIV/0!"},{"$error":"#DIV/0!"},{"$f":"BW388-BW389","v":{"$error":"#DIV/0!"}},{"$error":"#DIV/0!"},{"$error":"#DIV/0!"},{"$error":"#DIV/0!"},{"$error":"#DIV/0!"},{"$error":"#DIV/0!"},{"$error":"#DIV/0!"},{"$error":"#DIV/0!"},{"$error":"#DIV/0!"},{"$error":"#DIV/0!"},{"$error":"#DIV/0!"},{"$f":"CH388-CH389","v":{"$error":"#DIV/0!"}},{"$error":"#DIV/0!"},null,null,null,null,null,null,null,null,null,45,"40avaa",null,{"$f":"CV388-CV389","v":{"$error":"#REF!"}}]
[null,null,null,null,null,null,null,null,null,"40m",{"$f":"SUMPRODUCT((($CO$2:$CO$338=\"40\")*(K$2:K$338)*($J$2:$J$338=\"M\"))/SUMPRODUCT(($CO$2:$CO$338=\"40\")*(K$2:K$338>2)*($J$2:$J$338=\"M\")))","v":{"$error":"#DIV/0!"}},{"$f":"SUMPRODUCT((($CO$2:$CO$338=\"40\")*(L$2:L$338)*($J$2:$J$338=\"M\"))/SUMPRODUCT(($CO$2:$CO$338=\"40\")*(L$2:L$338>2)*($J$2:$J$338=\"M\")))","v":{"$error":"#DIV/0!"}},{"$f":"SUMPRODUCT((($CO$2:$CO$338=\"40\")*(M$2:M$338)*($J$2:$J$338=\"M\"))/SUMPRODUCT(($CO$2:$CO$338=\"40\")*(M$2:M$338>2)*($J$2:$J$338=\"M\")))","v":{"$error":"#DIV/0!"}},{"$f":"SUMPRODUCT((($CO$2:$CO$338=\"40\")*(N$2:N$338)*($J$2:$J$338=\"M\"))/SUMPRODUCT(($CO$2:$CO$338=\"40\")*(N$2:N$338>2)*($J$2:$J$338=\"M\")))","v":{"$error":"#DIV/0!"}},{"$f":"SUMPRODUCT((($CO$2:$CO$338=\"40\")*(O$2:O$338)*($J$2:$J$338=\"M\"))/SUMPRODUCT(($CO$2:$CO$338=\"40\")*(O$2:O$338>2)*($J$2:$J$338=\"M\")))","v":{"$error":"#DIV/0!"}},{"$f":"SUMPRODUCT((($CO$2:$CO$338=\"40\")*(P$2:P$338)*($J$2:$J$338=\"M\"))/SUMPRODUCT(($CO$2:$CO$338=\"40\")*(P$2:P$338>2)*($J$2:$J$338=\"M\")))","v":{"$error":"#DIV/0!"}},{"$f":"SUMPRODUCT((($CO$2:$CO$338=\"40\")*(Q$2:Q$338)*($J$2:$J$338=\"M\"))/SUMPRODUCT(($CO$2:$CO$338=\"40\")*(Q$2:Q$338>2)*($J$2:$J$338=\"M\")))","v":{"$error":"#DIV/0!"}},{"$f":"SUMPRODUCT((($CO$2:$CO$338=\"40\")*(R$2:R$338)*($J$2:$J$338=\"M\"))/SUMPRODUCT(($CO$2:$CO$338=\"40\")*(R$2:R$338>2)*($J$2:$J$338=\"M\")))","v":{"$error":"#DIV/0!"}},{"$f":"SUMPRODUCT((($CO$2:$CO$338=\"40\")*(S$2:S$338)*($J$2:$J$338=\"M\"))/SUMPRODUCT(($CO$2:$CO$338=\"40\")*(S$2:S$338>2)*($J$2:$J$338=\"M\")))","v":{"$error":"#DIV/0!"}},{"$f":"SUMPRODUCT((($CO$2:$CO$338=\"40\")*(T$2:T$338)*($J$2:$J$338=\"M\"))/SUMPRODUCT(($CO$2:$CO$338=\"40\")*(T$2:T$338>2)*($J$2:$J$338=\"M\")))","v":{"$error":"#DIV/0!"}},{"$f":"SUMPRODUCT((($CO$2:$CO$338=\"40\")*(U$2:U$338)*($J$2:$J$338=\"M\"))/SUMPRODUCT(($CO$2:$CO$338=\"40\")*(U$2:U$338>2)*($J$2:$J$338=\"M\")))","v":{"$error":"#DIV/0!"}},{"$f":"SUMPRODUCT((($CO$2:$CO$338=\"40\")*(V$2:V$338)*($J$2:$J$338=\"M\"))/SUMPRODUCT(($CO$2:$CO$338=\"40\")*(V$2:V$338>2)*($J$2:$J$338=\"M\")))","v":{"$error":"#DIV/0!"}},{"$f":"SUMPRODUCT((($CO$2:$CO$338=\"40\")*(W$2:W$338)*($J$2:$J$338=\"M\"))/SUMPRODUCT(($CO$2:$CO$338=\"40\")*(W$2:W$338>2)*($J$2:$J$338=\"M\")))","v":{"$error":"#DIV/0!"}},{"$f":"SUMPRODUCT((($CO$2:$CO$338=\"40\")*(X$2:X$338)*($J$2:$J$338=\"M\"))/SUMPRODUCT(($CO$2:$CO$338=\"40\")*(X$2:X$338>2)*($J$2:$J$338=\"M\")))","v":{"$error":"#DIV/0!"}},{"$f":"SUMPRODUCT((($CO$2:$CO$338=\"40\")*(Y$2:Y$338)*($J$2:$J$338=\"M\"))/SUMPRODUCT(($CO$2:$CO$338=\"40\")*(Y$2:Y$338>2)*($J$2:$J$338=\"M\")))","v":{"$error":"#DIV/0!"}},{"$f":"SUMPRODUCT((($CO$2:$CO$338=\"40\")*(Z$2:Z$338)*($J$2:$J$338=\"M\"))/SUMPRODUCT(($CO$2:$CO$338=\"40\")*(Z$2:Z$338>2)*($J$2:$J$338=\"M\")))","v":{"$error":"#DIV/0!"}},{"$f":"SUMPRODUCT((($CO$2:$CO$338=\"40\")*(AA$2:AA$338)*($J$2:$J$338=\"M\"))/SUMPRODUCT(($CO$2:$CO$338=\"40\")*(AA$2:AA$338>2)*($J$2:$J$338=\"M\")))","v":{"$error":"#DIV/0!"}},{"$f":"SUMPRODUCT((($CO$2:$CO$338=\"40\")*(AB$2:AB$338)*($J$2:$J$338=\"M\"))/SUMPRODUCT(($CO$2:$CO$338=\"40\")*(AB$2:AB$338>2)*($J$2:$J$338=\"M\")))","v":{"$error":"#DIV/0!"}},{"$f":"SUMPRODUCT((($CO$2:$CO$338=\"40\")*(AC$2:AC$338)*($J$2:$J$338=\"M\"))/SUMPRODUCT(($CO$2:$CO$338=\"40\")*(AC$2:AC$338>2)*($J$2:$J$338=\"M\")))","v":{"$error":"#DIV/0!"}},{"$f":"SUMPRODUCT((($CO$2:$CO$338=\"40\")*(AD$2:AD$338)*($J$2:$J$338=\"M\"))/SUMPRODUCT(($CO$2:$CO$338=\"40\")*(AD$2:AD$338>2)*($J$2:$J$338=\"M\")))","v":{"$error":"#DIV/0!"}},{"$f":"SUMPRODUCT((($CO$2:$CO$338=\"40\")*(AE$2:AE$338)*($J$2:$J$338=\"M\"))/SUMPRODUCT(($CO$2:$CO$338=\"40\")*(AE$2:AE$338>2)*($J$2:$J$338=\"M\")))","v":{"$error":"#DIV/0!"}},{"$f":"SUMPRODUCT((($CO$2:$CO$338=\"40\")*(AF$2:AF$338)*($J$2:$J$338=\"M\"))/SUMPRODUCT(($CO$2:$CO$338=\"40\")*(AF$2:AF$338>2)*($J$2:$J$338=\"M\")))","v":{"$error":"#DIV/0!"}},{"$f":"SUMPRODUCT((($CO$2:$CO$338=\"40\")*(AG$2:AG$338)*($J$2:$J$338=\"M\"))/SUMPRODUCT(($CO$2:$CO$338=\"40\")*(AG$2:AG$338>2)*($J$2:$J$338=\"M\")))","v":{"$error":"#DIV/0!"}},{"$f":"SUMPRODUCT((($CO$2:$CO$338=\"40\")*(AH$2:AH$338)*($J$2:$J$338=\"M\"))/SUMPRODUCT(($CO$2:$CO$338=\"40\")*(AH$2:AH$338>2)*($J$2:$J$338=\"M\")))","v":{"$error":"#DIV/0!"}},{"$f":"SUMPRODUCT((($CO$2:$CO$338=\"40\")*(AI$2:AI$338)*($J$2:$J$338=\"M\"))/SUMPRODUCT(($CO$2:$CO$338=\"40\")*(AI$2:AI$338>2)*($J$2:$J$338=\"M\")))","v":{"$error":"#DIV/0!"}},{"$f":"SUMPRODUCT((($CO$2:$CO$338=\"40\")*(AJ$2:AJ$338)*($J$2:$J$338=\"M\"))/SUMPRODUCT(($CO$2:$CO$338=\"40\")*(AJ$2:AJ$338>2)*($J$2:$J$338=\"M\")))","v":{"$error":"#DIV/0!"}},{"$f":"SUMPRODUCT((($CO$2:$CO$338=\"40\")*(AK$2:AK$338)*($J$2:$J$338=\"M\"))/SUMPRODUCT(($CO$2:$CO$338=\"40\")*(AK$2:AK$338>2)*($J$2:$J$338=\"M\")))","v":{"$error":"#DIV/0!"}},{"$f":"SUMPRODUCT((($CO$2:$CO$338=\"40\")*(AL$2:AL$338)*($J$2:$J$338=\"M\"))/SUMPRODUCT(($CO$2:$CO$338=\"40\")*(AL$2:AL$338>2)*($J$2:$J$338=\"M\")))","v":{"$error":"#DIV/0!"}},{"$f":"SUMPRODUCT((($CO$2:$CO$338=\"40\")*(AM$2:AM$338)*($J$2:$J$338=\"M\"))/SUMPRODUCT(($CO$2:$CO$338=\"40\")*(AM$2:AM$338>2)*($J$2:$J$338=\"M\")))","v":{"$error":"#DIV/0!"}},{"$f":"SUMPRODUCT((($CO$2:$CO$338=\"40\")*(AN$2:AN$338)*($J$2:$J$338=\"M\"))/SUMPRODUCT(($CO$2:$CO$338=\"40\")*(AN$2:AN$338>2)*($J$2:$J$338=\"M\")))","v":{"$error":"#DIV/0!"}},{"$f":"SUMPRODUCT((($CO$2:$CO$338=\"40\")*(AO$2:AO$338)*($J$2:$J$338=\"M\"))/SUMPRODUCT(($CO$2:$CO$338=\"40\")*(AO$2:AO$338>2)*($J$2:$J$338=\"M\")))","v":{"$error":"#DIV/0!"}},{"$f":"SUMPRODUCT((($CO$2:$CO$338=\"40\")*(AP$2:AP$338)*($J$2:$J$338=\"M\"))/SUMPRODUCT(($CO$2:$CO$338=\"40\")*(AP$2:AP$338>2)*($J$2:$J$338=\"M\")))","v":{"$error":"#DIV/0!"}},{"$f":"SUMPRODUCT((($CO$2:$CO$338=\"40\")*(AQ$2:AQ$338)*($J$2:$J$338=\"M\"))/SUMPRODUCT(($CO$2:$CO$338=\"40\")*(AQ$2:AQ$338>2)*($J$2:$J$338=\"M\")))","v":{"$error":"#DIV/0!"}},{"$f":"SUMPRODUCT((($CO$2:$CO$338=\"40\")*(AR$2:AR$338)*($J$2:$J$338=\"M\"))/SUMPRODUCT(($CO$2:$CO$338=\"40\")*(AR$2:AR$338>2)*($J$2:$J$338=\"M\")))","v":{"$error":"#DIV/0!"}},{"$f":"SUMPRODUCT((($CO$2:$CO$338=\"40\")*(AS$2:AS$338)*($J$2:$J$338=\"M\"))/SUMPRODUCT(($CO$2:$CO$338=\"40\")*(AS$2:AS$338>2)*($J$2:$J$338=\"M\")))","v":{"$error":"#DIV/0!"}},{"$f":"SUMPRODUCT((($CO$2:$CO$338=\"40\")*(AT$2:AT$338)*($J$2:$J$338=\"M\"))/SUMPRODUCT(($CO$2:$CO$338=\"40\")*(AT$2:AT$338>2)*($J$2:$J$338=\"M\")))","v":{"$error":"#DIV/0!"}},{"$f":"SUMPRODUCT((($CO$2:$CO$338=\"40\")*(AU$2:AU$338)*($J$2:$J$338=\"M\"))/SUMPRODUCT(($CO$2:$CO$338=\"40\")*(AU$2:AU$338>2)*($J$2:$J$338=\"M\")))","v":{"$error":"#DIV/0!"}},{"$f":"SUMPRODUCT((($CO$2:$CO$338=\"40\")*(AV$2:AV$338)*($J$2:$J$338=\"M\"))/SUMPRODUCT(($CO$2:$CO$338=\"40\")*(AV$2:AV$338>2)*($J$2:$J$338=\"M\")))","v":{"$error":"#DIV/0!"}},{"$f":"SUMPRODUCT((($CO$2:$CO$338=\"40\")*(AW$2:AW$338)*($J$2:$J$338=\"M\"))/SUMPRODUCT(($CO$2:$CO$338=\"40\")*(AW$2:AW$338>2)*($J$2:$J$338=\"M\")))","v":{"$error":"#DIV/0!"}},{"$f":"SUMPRODUCT((($CO$2:$CO$338=\"40\")*(AX$2:AX$338)*($J$2:$J$338=\"M\"))/SUMPRODUCT(($CO$2:$CO$338=\"40\")*(AX$2:AX$338>2)*($J$2:$J$338=\"M\")))","v":{"$error":"#DIV/0!"}},{"$f":"SUMPRODUCT((($CO$2:$CO$338=\"40\")*(AY$2:AY$338)*($J$2:$J$338=\"M\"))/SUMPRODUCT(($CO$2:$CO$338=\"40\")*(AY$2:AY$338>2)*($J$2:$J$338=\"M\")))","v":{"$error":"#DIV/0!"}},{"$f":"SUMPRODUCT((($CO$2:$CO$338=\"40\")*(AZ$2:AZ$338)*($J$2:$J$338=\"M\"))/SUMPRODUCT(($CO$2:$CO$338=\"40\")*(AZ$2:AZ$338>2)*($J$2:$J$338=\"M\")))","v":{"$error":"#DIV/0!"}},{"$f":"SUMPRODUCT((($CO$2:$CO$338=\"40\")*(BA$2:BA$338)*($J$2:$J$338=\"M\"))/SUMPRODUCT(($CO$2:$CO$338=\"40\")*(BA$2:BA$338>2)*($J$2:$J$338=\"M\")))","v":{"$error":"#DIV/0!"}},{"$f":"SUMPRODUCT((($CO$2:$CO$338=\"40\")*(BB$2:BB$338)*($J$2:$J$338=\"M\"))/SUMPRODUCT(($CO$2:$CO$338=\"40\")*(BB$2:BB$338>2)*($J$2:$J$338=\"M\")))","v":{"$error":"#DIV/0!"}},{"$f":"SUMPRODUCT((($CO$2:$CO$338=\"40\")*(BC$2:BC$338)*($J$2:$J$338=\"M\"))/SUMPRODUCT(($CO$2:$CO$338=\"40\")*(BC$2:BC$338>2)*($J$2:$J$338=\"M\")))","v":{"$error":"#DIV/0!"}},{"$f":"SUMPRODUCT((($CO$2:$CO$338=\"40\")*(BD$2:BD$338)*($J$2:$J$338=\"M\"))/SUMPRODUCT(($CO$2:$CO$338=\"40\")*(BD$2:BD$338>2)*($J$2:$J$338=\"M\")))","v":{"$error":"#DIV/0!"}},{"$f":"SUMPRODUCT((($CO$2:$CO$338=\"40\")*(BE$2:BE$338)*($J$2:$J$338=\"M\"))/SUMPRODUCT(($CO$2:$CO$338=\"40\")*(BE$2:BE$338>2)*($J$2:$J$338=\"M\")))","v":{"$error":"#DIV/0!"}},{"$f":"SUMPRODUCT((($CO$2:$CO$338=\"40\")*(BF$2:BF$338)*($J$2:$J$338=\"M\"))/SUMPRODUCT(($CO$2:$CO$338=\"40\")*(BF$2:BF$338>2)*($J$2:$J$338=\"M\")))","v":{"$error":"#DIV/0!"}},{"$f":"SUMPRODUCT((($CO$2:$CO$338=\"40\")*(BG$2:BG$338)*($J$2:$J$338=\"M\"))/SUMPRODUCT(($CO$2:$CO$338=\"40\")*(BG$2:BG$338>2)*($J$2:$J$338=\"M\")))","v":{"$error":"#DIV/0!"}},{"$f":"SUMPRODUCT((($CO$2:$CO$338=\"40\")*(BH$2:BH$338)*($J$2:$J$338=\"M\"))/SUMPRODUCT(($CO$2:$CO$338=\"40\")*(BH$2:BH$338>2)*($J$2:$J$338=\"M\")))","v":{"$error":"#DIV/0!"}},{"$f":"SUMPRODUCT((($CO$2:$CO$338=\"40\")*(BI$2:BI$338)*($J$2:$J$338=\"M\"))/SUMPRODUCT(($CO$2:$CO$338=\"40\")*(BI$2:BI$338>2)*($J$2:$J$338=\"M\")))","v":{"$error":"#DIV/0!"}},{"$f":"SUMPRODUCT((($CO$2:$CO$338=\"40\")*(BJ$2:BJ$338)*($J$2:$J$338=\"M\"))/SUMPRODUCT(($CO$2:$CO$338=\"40\")*(BJ$2:BJ$338>2)*($J$2:$J$338=\"M\")))","v":{"$error":"#DIV/0!"}},{"$f":"SUMPRODUCT((($CO$2:$CO$338=\"40\")*(BK$2:BK$338)*($J$2:$J$338=\"M\"))/SUMPRODUCT(($CO$2:$CO$338=\"40\")*(BK$2:BK$338>2)*($J$2:$J$338=\"M\")))","v":{"$error":"#DIV/0!"}},{"$f":"SUMPRODUCT((($CO$2:$CO$338=\"40\")*(BL$2:BL$338)*($J$2:$J$338=\"M\"))/SUMPRODUCT(($CO$2:$CO$338=\"40\")*(BL$2:BL$338>2)*($J$2:$J$338=\"M\")))","v":{"$error":"#DIV/0!"}},{"$f":"SUMPRODUCT((($CO$2:$CO$338=\"40\")*(BM$2:BM$338)*($J$2:$J$338=\"M\"))/SUMPRODUCT(($CO$2:$CO$338=\"40\")*(BM$2:BM$338>2)*($J$2:$J$338=\"M\")))","v":{"$error":"#DIV/0!"}},{"$f":"SUMPRODUCT((($CO$2:$CO$338=\"40\")*(BN$2:BN$338)*($J$2:$J$338=\"M\"))/SUMPRODUCT(($CO$2:$CO$338=\"40\")*(BN$2:BN$338>2)*($J$2:$J$338=\"M\")))","v":{"$error":"#DIV/0!"}},{"$f":"SUMPRODUCT((($CO$2:$CO$338=\"40\")*(BO$2:BO$338)*($J$2:$J$338=\"M\"))/SUMPRODUCT(($CO$2:$CO$338=\"40\")*(BO$2:BO$338>2)*($J$2:$J$338=\"M\")))","v":{"$error":"#DIV/0!"}},{"$f":"SUMPRODUCT((($CO$2:$CO$338=\"40\")*(BP$2:BP$338)*($J$2:$J$338=\"M\"))/SUMPRODUCT(($CO$2:$CO$338=\"40\")*(BP$2:BP$338>2)*($J$2:$J$338=\"M\")))","v":{"$error":"#DIV/0!"}},{"$f":"SUMPRODUCT((($CO$2:$CO$338=\"40\")*(BQ$2:BQ$338)*($J$2:$J$338=\"M\"))/SUMPRODUCT(($CO$2:$CO$338=\"40\")*(BQ$2:BQ$338>2)*($J$2:$J$338=\"M\")))","v":{"$error":"#DIV/0!"}},{"$f":"SUMPRODUCT((($CO$2:$CO$338=\"40\")*(BR$2:BR$338)*($J$2:$J$338=\"M\"))/SUMPRODUCT(($CO$2:$CO$338=\"40\")*(BR$2:BR$338>2)*($J$2:$J$338=\"M\")))","v":{"$error":"#DIV/0!"}},{"$f":"SUMPRODUCT((($CO$2:$CO$338=\"40\")*(BS$2:BS$338)*($J$2:$J$338=\"M\"))/SUMPRODUCT(($CO$2:$CO$338=\"40\")*(BS$2:BS$338>2)*($J$2:$J$338=\"M\")))","v":{"$error":"#DIV/0!"}},{"$f":"SUMPRODUCT((($CO$2:$CO$338=\"40\")*(BT$2:BT$338)*($J$2:$J$338=\"M\"))/SUMPRODUCT(($CO$2:$CO$338=\"40\")*(BT$2:BT$338>2)*($J$2:$J$338=\"M\")))","v":{"$error":"#DIV/0!"}},{"$f":"SUMPRODUCT((($CO$2:$CO$338=\"40\")*(BU$2:BU$338)*($J$2:$J$338=\"M\"))/SUMPRODUCT(($CO$2:$CO$338=\"40\")*(BU$2:BU$338>2)*($J$2:$J$338=\"M\")))","v":{"$error":"#DIV/0!"}},{"$f":"SUMPRODUCT((($CO$2:$CO$338=\"40\")*(BV$2:BV$338)*($J$2:$J$338=\"M\"))/SUMPRODUCT(($CO$2:$CO$338=\"40\")*(BV$2:BV$338>2)*($J$2:$J$338=\"M\")))","v":{"$error":"#DIV/0!"}},{"$f":"SUMPRODUCT((($CO$2:$CO$338=\"40\")*(BW$2:BW$338)*($J$2:$J$338=\"M\"))/SUMPRODUCT(($CO$2:$CO$338=\"40\")*(BW$2:BW$338>2)*($J$2:$J$338=\"M\")))","v":{"$error":"#DIV/0!"}},{"$f":"IF(L386=0,0,IF(M386=0,AVERAGE(M386,K386,N386),AVERAGE(K386:N386)))","v":{"$error":"#DIV/0!"}},{"$f":"IF(P386=0,0,IF(Q386=0,AVERAGE(Q386,O386,R386),AVERAGE(O386:R386)))","v":{"$error":"#DIV/0!"}},{"$f":"IF(T386=0,0,IF(U386=0,AVERAGE(T386,S386,V386),AVERAGE(S386:V386)))","v":{"$error":"#DIV/0!"}},{"$f":"IF(AB386=0,0,IF(AC386=0,AVERAGE(AB386,AA386,AD386),AVERAGE(AA386:AD386)))","v":{"$error":"#DIV/0!"}},{"$f":"IF(AF386=0,0,IF(AG386=0,AVERAGE(AF386,AE386,AH386),AVERAGE(AE386:AH386)))","v":{"$error":"#DIV/0!"}},{"$f":"IF(AJ386=0,0,IF(AK386=0,AVERAGE(AJ386,AI386,AL386),AVERAGE(AI386:AL386)))","v":{"$error":"#DIV/0!"}},{"$f":"IF(AN386=0,0,IF(AO386=0,AVERAGE(AN386,AM386,AP386),AVERAGE(AM386:AP386)))","v":{"$error":"#DIV/0!"}},{"$f":"IF(AR386=0,0,IF(AS386=0,AVERAGE(AR386,AQ386,AT386),AVERAGE(AQ386:AT386)))","v":{"$error":"#DIV/0!"}},{"$f":"IF(AV386=0,0,IF(AW386=0,AVERAGE(AV386,AU386,AX386),AVERAGE(AU386:AX386)))","v":{"$error":"#DIV/0!"}},{"$f":"IF(AZ386=0,0,IF(BA386=0,AVERAGE(AZ386,AY386,BB386),AVERAGE(AY386:BB386)))","v":{"$error":"#DIV/0!"}},{"$f":"IF(BD386=0,0,IF(BE386=0,AVERAGE(BD386,BC386,BF386),AVERAGE(BC386:BF386)))","v":{"$error":"#DIV/0!"}},{"$f":"IF(BH386=0,0,IF(BI386=0,AVERAGE(BH386,BG386,BJ386,BM386),AVERAGE(BG386:BJ386)))","v":{"$error":"#DIV/0!"}},null,null,null,null,null,null,null,null,null,46,"40m",null,{"$f":"SUMPRODUCT(((#REF!>2)*($CO$2:$CO$339=\"40\")*(#REF!)*(#REF!=\"M\"))/SUMPRODUCT((#REF!>2)*($CO$2:$CO$339=\"40\")*(#REF!>2)*(#REF!=\"M\")))","v":{"$error":"#REF!"}}]
[null,null,null,null,null,null,null,null,null,"40f",{"$f":"SUMPRODUCT((($CO$2:$CO$338=\"40\")*(K$2:K$338)*($J$2:$J$338=\"F\"))/SUMPRODUCT(($CO$2:$CO$338=\"40\")*(K$2:K$338>2)*($J$2:$J$338=\"F\")))","v":{"$error":"#DIV/0!"}},{"$f":"SUMPRODUCT((($CO$2:$CO$338=\"40\")*(L$2:L$338)*($J$2:$J$338=\"F\"))/SUMPRODUCT(($CO$2:$CO$338=\"40\")*(L$2:L$338>2)*($J$2:$J$338=\"F\")))","v":{"$error":"#DIV/0!"}},{"$f":"SUMPRODUCT((($CO$2:$CO$338=\"40\")*(M$2:M$338)*($J$2:$J$338=\"F\"))/SUMPRODUCT(($CO$2:$CO$338=\"40\")*(M$2:M$338>2)*($J$2:$J$338=\"F\")))","v":{"$error":"#DIV/0!"}},{"$f":"SUMPRODUCT((($CO$2:$CO$338=\"40\")*(N$2:N$338)*($J$2:$J$338=\"F\"))/SUMPRODUCT(($CO$2:$CO$338=\"40\")*(N$2:N$338>2)*($J$2:$J$338=\"F\")))","v":{"$error":"#DIV/0!"}},{"$f":"SUMPRODUCT((($CO$2:$CO$338=\"40\")*(O$2:O$338)*($J$2:$J$338=\"F\"))/SUMPRODUCT(($CO$2:$CO$338=\"40\")*(O$2:O$338>2)*($J$2:$J$338=\"F\")))","v":{"$error":"#DIV/0!"}},{"$f":"SUMPRODUCT((($CO$2:$CO$338=\"40\")*(P$2:P$338)*($J$2:$J$338=\"F\"))/SUMPRODUCT(($CO$2:$CO$338=\"40\")*(P$2:P$338>2)*($J$2:$J$338=\"F\")))","v":{"$error":"#DIV/0!"}},{"$f":"SUMPRODUCT((($CO$2:$CO$338=\"40\")*(Q$2:Q$338)*($J$2:$J$338=\"F\"))/SUMPRODUCT(($CO$2:$CO$338=\"40\")*(Q$2:Q$338>2)*($J$2:$J$338=\"F\")))","v":{"$error":"#DIV/0!"}},{"$f":"SUMPRODUCT((($CO$2:$CO$338=\"40\")*(R$2:R$338)*($J$2:$J$338=\"F\"))/SUMPRODUCT(($CO$2:$CO$338=\"40\")*(R$2:R$338>2)*($J$2:$J$338=\"F\")))","v":{"$error":"#DIV/0!"}},{"$f":"SUMPRODUCT((($CO$2:$CO$338=\"40\")*(S$2:S$338)*($J$2:$J$338=\"F\"))/SUMPRODUCT(($CO$2:$CO$338=\"40\")*(S$2:S$338>2)*($J$2:$J$338=\"F\")))","v":{"$error":"#DIV/0!"}},{"$f":"SUMPRODUCT((($CO$2:$CO$338=\"40\")*(T$2:T$338)*($J$2:$J$338=\"F\"))/SUMPRODUCT(($CO$2:$CO$338=\"40\")*(T$2:T$338>2)*($J$2:$J$338=\"F\")))","v":{"$error":"#DIV/0!"}},{"$f":"SUMPRODUCT((($CO$2:$CO$338=\"40\")*(U$2:U$338)*($J$2:$J$338=\"F\"))/SUMPRODUCT(($CO$2:$CO$338=\"40\")*(U$2:U$338>2)*($J$2:$J$338=\"F\")))","v":{"$error":"#DIV/0!"}},{"$f":"SUMPRODUCT((($CO$2:$CO$338=\"40\")*(V$2:V$338)*($J$2:$J$338=\"F\"))/SUMPRODUCT(($CO$2:$CO$338=\"40\")*(V$2:V$338>2)*($J$2:$J$338=\"F\")))","v":{"$error":"#DIV/0!"}},{"$f":"SUMPRODUCT((($CO$2:$CO$338=\"40\")*(W$2:W$338)*($J$2:$J$338=\"F\"))/SUMPRODUCT(($CO$2:$CO$338=\"40\")*(W$2:W$338>2)*($J$2:$J$338=\"F\")))","v":{"$error":"#DIV/0!"}},{"$f":"SUMPRODUCT((($CO$2:$CO$338=\"40\")*(X$2:X$338)*($J$2:$J$338=\"F\"))/SUMPRODUCT(($CO$2:$CO$338=\"40\")*(X$2:X$338>2)*($J$2:$J$338=\"F\")))","v":{"$error":"#DIV/0!"}},{"$f":"SUMPRODUCT((($CO$2:$CO$338=\"40\")*(Y$2:Y$338)*($J$2:$J$338=\"F\"))/SUMPRODUCT(($CO$2:$CO$338=\"40\")*(Y$2:Y$338>2)*($J$2:$J$338=\"F\")))","v":{"$error":"#DIV/0!"}},{"$f":"SUMPRODUCT((($CO$2:$CO$338=\"40\")*(Z$2:Z$338)*($J$2:$J$338=\"F\"))/SUMPRODUCT(($CO$2:$CO$338=\"40\")*(Z$2:Z$338>2)*($J$2:$J$338=\"F\")))","v":{"$error":"#DIV/0!"}},{"$f":"SUMPRODUCT((($CO$2:$CO$338=\"40\")*(AA$2:AA$338)*($J$2:$J$338=\"F\"))/SUMPRODUCT(($CO$2:$CO$338=\"40\")*(AA$2:AA$338>2)*($J$2:$J$338=\"F\")))","v":{"$error":"#DIV/0!"}},{"$f":"SUMPRODUCT((($CO$2:$CO$338=\"40\")*(AB$2:AB$338)*($J$2:$J$338=\"F\"))/SUMPRODUCT(($CO$2:$CO$338=\"40\")*(AB$2:AB$338>2)*($J$2:$J$338=\"F\")))","v":{"$error":"#DIV/0!"}},{"$f":"SUMPRODUCT((($CO$2:$CO$338=\"40\")*(AC$2:AC$338)*($J$2:$J$338=\"F\"))/SUMPRODUCT(($CO$2:$CO$338=\"40\")*(AC$2:AC$338>2)*($J$2:$J$338=\"F\")))","v":{"$error":"#DIV/0!"}},{"$f":"SUMPRODUCT((($CO$2:$CO$338=\"40\")*(AD$2:AD$338)*($J$2:$J$338=\"F\"))/SUMPRODUCT(($CO$2:$CO$338=\"40\")*(AD$2:AD$338>2)*($J$2:$J$338=\"F\")))","v":{"$error":"#DIV/0!"}},{"$f":"SUMPRODUCT((($CO$2:$CO$338=\"40\")*(AE$2:AE$338)*($J$2:$J$338=\"F\"))/SUMPRODUCT(($CO$2:$CO$338=\"40\")*(AE$2:AE$338>2)*($J$2:$J$338=\"F\")))","v":{"$error":"#DIV/0!"}},{"$f":"SUMPRODUCT((($CO$2:$CO$338=\"40\")*(AF$2:AF$338)*($J$2:$J$338=\"F\"))/SUMPRODUCT(($CO$2:$CO$338=\"40\")*(AF$2:AF$338>2)*($J$2:$J$338=\"F\")))","v":{"$error":"#DIV/0!"}},{"$f":"SUMPRODUCT((($CO$2:$CO$338=\"40\")*(AG$2:AG$338)*($J$2:$J$338=\"F\"))/SUMPRODUCT(($CO$2:$CO$338=\"40\")*(AG$2:AG$338>2)*($J$2:$J$338=\"F\")))","v":{"$error":"#DIV/0!"}},{"$f":"SUMPRODUCT((($CO$2:$CO$338=\"40\")*(AH$2:AH$338)*($J$2:$J$338=\"F\"))/SUMPRODUCT(($CO$2:$CO$338=\"40\")*(AH$2:AH$338>2)*($J$2:$J$338=\"F\")))","v":{"$error":"#DIV/0!"}},{"$f":"SUMPRODUCT((($CO$2:$CO$338=\"40\")*(AI$2:AI$338)*($J$2:$J$338=\"F\"))/SUMPRODUCT(($CO$2:$CO$338=\"40\")*(AI$2:AI$338>2)*($J$2:$J$338=\"F\")))","v":{"$error":"#DIV/0!"}},{"$f":"SUMPRODUCT((($CO$2:$CO$338=\"40\")*(AJ$2:AJ$338)*($J$2:$J$338=\"F\"))/SUMPRODUCT(($CO$2:$CO$338=\"40\")*(AJ$2:AJ$338>2)*($J$2:$J$338=\"F\")))","v":{"$error":"#DIV/0!"}},{"$f":"SUMPRODUCT((($CO$2:$CO$338=\"40\")*(AK$2:AK$338)*($J$2:$J$338=\"F\"))/SUMPRODUCT(($CO$2:$CO$338=\"40\")*(AK$2:AK$338>2)*($J$2:$J$338=\"F\")))","v":{"$error":"#DIV/0!"}},{"$f":"SUMPRODUCT((($CO$2:$CO$338=\"40\")*(AL$2:AL$338)*($J$2:$J$338=\"F\"))/SUMPRODUCT(($CO$2:$CO$338=\"40\")*(AL$2:AL$338>2)*($J$2:$J$338=\"F\")))","v":{"$error":"#DIV/0!"}},{"$f":"SUMPRODUCT((($CO$2:$CO$338=\"40\")*(AM$2:AM$338)*($J$2:$J$338=\"F\"))/SUMPRODUCT(($CO$2:$CO$338=\"40\")*(AM$2:AM$338>2)*($J$2:$J$338=\"F\")))","v":{"$error":"#DIV/0!"}},{"$f":"SUMPRODUCT((($CO$2:$CO$338=\"40\")*(AN$2:AN$338)*($J$2:$J$338=\"F\"))/SUMPRODUCT(($CO$2:$CO$338=\"40\")*(AN$2:AN$338>2)*($J$2:$J$338=\"F\")))","v":{"$error":"#DIV/0!"}},{"$f":"SUMPRODUCT((($CO$2:$CO$338=\"40\")*(AO$2:AO$338)*($J$2:$J$338=\"F\"))/SUMPRODUCT(($CO$2:$CO$338=\"40\")*(AO$2:AO$338>2)*($J$2:$J$338=\"F\")))","v":{"$error":"#DIV/0!"}},{"$f":"SUMPRODUCT((($CO$2:$CO$338=\"40\")*(AP$2:AP$338)*($J$2:$J$338=\"F\"))/SUMPRODUCT(($CO$2:$CO$338=\"40\")*(AP$2:AP$338>2)*($J$2:$J$338=\"F\")))","v":{"$error":"#DIV/0!"}},{"$f":"SUMPRODUCT((($CO$2:$CO$338=\"40\")*(AQ$2:AQ$338)*($J$2:$J$338=\"F\"))/SUMPRODUCT(($CO$2:$CO$338=\"40\")*(AQ$2:AQ$338>2)*($J$2:$J$338=\"F\")))","v":{"$error":"#DIV/0!"}},{"$f":"SUMPRODUCT((($CO$2:$CO$338=\"40\")*(AR$2:AR$338)*($J$2:$J$338=\"F\"))/SUMPRODUCT(($CO$2:$CO$338=\"40\")*(AR$2:AR$338>2)*($J$2:$J$338=\"F\")))","v":{"$error":"#DIV/0!"}},{"$f":"SUMPRODUCT((($CO$2:$CO$338=\"40\")*(AS$2:AS$338)*($J$2:$J$338=\"F\"))/SUMPRODUCT(($CO$2:$CO$338=\"40\")*(AS$2:AS$338>2)*($J$2:$J$338=\"F\")))","v":{"$error":"#DIV/0!"}},{"$f":"SUMPRODUCT((($CO$2:$CO$338=\"40\")*(AT$2:AT$338)*($J$2:$J$338=\"F\"))/SUMPRODUCT(($CO$2:$CO$338=\"40\")*(AT$2:AT$338>2)*($J$2:$J$338=\"F\")))","v":{"$error":"#DIV/0!"}},{"$f":"SUMPRODUCT((($CO$2:$CO$338=\"40\")*(AU$2:AU$338)*($J$2:$J$338=\"F\"))/SUMPRODUCT(($CO$2:$CO$338=\"40\")*(AU$2:AU$338>2)*($J$2:$J$338=\"F\")))","v":{"$error":"#DIV/0!"}},{"$f":"SUMPRODUCT((($CO$2:$CO$338=\"40\")*(AV$2:AV$338)*($J$2:$J$338=\"F\"))/SUMPRODUCT(($CO$2:$CO$338=\"40\")*(AV$2:AV$338>2)*($J$2:$J$338=\"F\")))","v":{"$error":"#DIV/0!"}},{"$f":"SUMPRODUCT((($CO$2:$CO$338=\"40\")*(AW$2:AW$338)*($J$2:$J$338=\"F\"))/SUMPRODUCT(($CO$2:$CO$338=\"40\")*(AW$2:AW$338>2)*($J$2:$J$338=\"F\")))","v":{"$error":"#DIV/0!"}},{"$f":"SUMPRODUCT((($CO$2:$CO$338=\"40\")*(AX$2:AX$338)*($J$2:$J$338=\"F\"))/SUMPRODUCT(($CO$2:$CO$338=\"40\")*(AX$2:AX$338>2)*($J$2:$J$338=\"F\")))","v":{"$error":"#DIV/0!"}},{"$f":"SUMPRODUCT((($CO$2:$CO$338=\"40\")*(AY$2:AY$338)*($J$2:$J$338=\"F\"))/SUMPRODUCT(($CO$2:$CO$338=\"40\")*(AY$2:AY$338>2)*($J$2:$J$338=\"F\")))","v":{"$error":"#DIV/0!"}},{"$f":"SUMPRODUCT((($CO$2:$CO$338=\"40\")*(AZ$2:AZ$338)*($J$2:$J$338=\"F\"))/SUMPRODUCT(($CO$2:$CO$338=\"40\")*(AZ$2:AZ$338>2)*($J$2:$J$338=\"F\")))","v":{"$error":"#DIV/0!"}},{"$f":"SUMPRODUCT((($CO$2:$CO$338=\"40\")*(BA$2:BA$338)*($J$2:$J$338=\"F\"))/SUMPRODUCT(($CO$2:$CO$338=\"40\")*(BA$2:BA$338>2)*($J$2:$J$338=\"F\")))","v":{"$error":"#DIV/0!"}},{"$f":"SUMPRODUCT((($CO$2:$CO$338=\"40\")*(BB$2:BB$338)*($J$2:$J$338=\"F\"))/SUMPRODUCT(($CO$2:$CO$338=\"40\")*(BB$2:BB$338>2)*($J$2:$J$338=\"F\")))","v":{"$error":"#DIV/0!"}},{"$f":"SUMPRODUCT((($CO$2:$CO$338=\"40\")*(BC$2:BC$338)*($J$2:$J$338=\"F\"))/SUMPRODUCT(($CO$2:$CO$338=\"40\")*(BC$2:BC$338>2)*($J$2:$J$338=\"F\")))","v":{"$error":"#DIV/0!"}},{"$f":"SUMPRODUCT((($CO$2:$CO$338=\"40\")*(BD$2:BD$338)*($J$2:$J$338=\"F\"))/SUMPRODUCT(($CO$2:$CO$338=\"40\")*(BD$2:BD$338>2)*($J$2:$J$338=\"F\")))","v":{"$error":"#DIV/0!"}},{"$f":"SUMPRODUCT((($CO$2:$CO$338=\"40\")*(BE$2:BE$338)*($J$2:$J$338=\"F\"))/SUMPRODUCT(($CO$2:$CO$338=\"40\")*(BE$2:BE$338>2)*($J$2:$J$338=\"F\")))","v":{"$error":"#DIV/0!"}},{"$f":"SUMPRODUCT((($CO$2:$CO$338=\"40\")*(BF$2:BF$338)*($J$2:$J$338=\"F\"))/SUMPRODUCT(($CO$2:$CO$338=\"40\")*(BF$2:BF$338>2)*($J$2:$J$338=\"F\")))","v":{"$error":"#DIV/0!"}},{"$f":"SUMPRODUCT((($CO$2:$CO$338=\"40\")*(BG$2:BG$338)*($J$2:$J$338=\"F\"))/SUMPRODUCT(($CO$2:$CO$338=\"40\")*(BG$2:BG$338>2)*($J$2:$J$338=\"F\")))","v":{"$error":"#DIV/0!"}},{"$f":"SUMPRODUCT((($CO$2:$CO$338=\"40\")*(BH$2:BH$338)*($J$2:$J$338=\"F\"))/SUMPRODUCT(($CO$2:$CO$338=\"40\")*(BH$2:BH$338>2)*($J$2:$J$338=\"F\")))","v":{"$error":"#DIV/0!"}},{"$f":"SUMPRODUCT((($CO$2:$CO$338=\"40\")*(BI$2:BI$338)*($J$2:$J$338=\"F\"))/SUMPRODUCT(($CO$2:$CO$338=\"40\")*(BI$2:BI$338>2)*($J$2:$J$338=\"F\")))","v":{"$error":"#DIV/0!"}},{"$f":"SUMPRODUCT((($CO$2:$CO$338=\"40\")*(BJ$2:BJ$338)*($J$2:$J$338=\"F\"))/SUMPRODUCT(($CO$2:$CO$338=\"40\")*(BJ$2:BJ$338>2)*($J$2:$J$338=\"F\")))","v":{"$error":"#DIV/0!"}},{"$f":"SUMPRODUCT((($CO$2:$CO$338=\"40\")*(BK$2:BK$338)*($J$2:$J$338=\"F\"))/SUMPRODUCT(($CO$2:$CO$338=\"40\")*(BK$2:BK$338>2)*($J$2:$J$338=\"F\")))","v":{"$error":"#DIV/0!"}},{"$f":"SUMPRODUCT((($CO$2:$CO$338=\"40\")*(BL$2:BL$338)*($J$2:$J$338=\"F\"))/SUMPRODUCT(($CO$2:$CO$338=\"40\")*(BL$2:BL$338>2)*($J$2:$J$338=\"F\")))","v":{"$error":"#DIV/0!"}},{"$f":"SUMPRODUCT((($CO$2:$CO$338=\"40\")*(BM$2:BM$338)*($J$2:$J$338=\"F\"))/SUMPRODUCT(($CO$2:$CO$338=\"40\")*(BM$2:BM$338>2)*($J$2:$J$338=\"F\")))","v":{"$error":"#DIV/0!"}},{"$f":"SUMPRODUCT((($CO$2:$CO$338=\"40\")*(BN$2:BN$338)*($J$2:$J$338=\"F\"))/SUMPRODUCT(($CO$2:$CO$338=\"40\")*(BN$2:BN$338>2)*($J$2:$J$338=\"F\")))","v":{"$error":"#DIV/0!"}},{"$f":"SUMPRODUCT((($CO$2:$CO$338=\"40\")*(BO$2:BO$338)*($J$2:$J$338=\"F\"))/SUMPRODUCT(($CO$2:$CO$338=\"40\")*(BO$2:BO$338>2)*($J$2:$J$338=\"F\")))","v":{"$error":"#DIV/0!"}},{"$f":"SUMPRODUCT((($CO$2:$CO$338=\"40\")*(BP$2:BP$338)*($J$2:$J$338=\"F\"))/SUMPRODUCT(($CO$2:$CO$338=\"40\")*(BP$2:BP$338>2)*($J$2:$J$338=\"F\")))","v":{"$error":"#DIV/0!"}},{"$f":"SUMPRODUCT((($CO$2:$CO$338=\"40\")*(BQ$2:BQ$338)*($J$2:$J$338=\"F\"))/SUMPRODUCT(($CO$2:$CO$338=\"40\")*(BQ$2:BQ$338>2)*($J$2:$J$338=\"F\")))","v":{"$error":"#DIV/0!"}},{"$f":"SUMPRODUCT((($CO$2:$CO$338=\"40\")*(BR$2:BR$338)*($J$2:$J$338=\"F\"))/SUMPRODUCT(($CO$2:$CO$338=\"40\")*(BR$2:BR$338>2)*($J$2:$J$338=\"F\")))","v":{"$error":"#DIV/0!"}},{"$f":"SUMPRODUCT((($CO$2:$CO$338=\"40\")*(BS$2:BS$338)*($J$2:$J$338=\"F\"))/SUMPRODUCT(($CO$2:$CO$338=\"40\")*(BS$2:BS$338>2)*($J$2:$J$338=\"F\")))","v":{"$error":"#DIV/0!"}},{"$f":"SUMPRODUCT((($CO$2:$CO$338=\"40\")*(BT$2:BT$338)*($J$2:$J$338=\"F\"))/SUMPRODUCT(($CO$2:$CO$338=\"40\")*(BT$2:BT$338>2)*($J$2:$J$338=\"F\")))","v":{"$error":"#DIV/0!"}},{"$f":"SUMPRODUCT((($CO$2:$CO$338=\"40\")*(BU$2:BU$338)*($J$2:$J$338=\"F\"))/SUMPRODUCT(($CO$2:$CO$338=\"40\")*(BU$2:BU$338>2)*($J$2:$J$338=\"F\")))","v":{"$error":"#DIV/0!"}},{"$f":"SUMPRODUCT((($CO$2:$CO$338=\"40\")*(BV$2:BV$338)*($J$2:$J$338=\"F\"))/SUMPRODUCT(($CO$2:$CO$338=\"40\")*(BV$2:BV$338>2)*($J$2:$J$338=\"F\")))","v":{"$error":"#DIV/0!"}},{"$f":"SUMPRODUCT((($CO$2:$CO$338=\"40\")*(BW$2:BW$338)*($J$2:$J$338=\"F\"))/SUMPRODUCT(($CO$2:$CO$338=\"40\")*(BW$2:BW$338>2)*($J$2:$J$338=\"F\")))","v":{"$error":"#DIV/0!"}},{"$error":"#DIV/0!"},{"$error":"#DIV/0!"},{"$error":"#DIV/0!"},{"$error":"#DIV/0!"},{"$error":"#DIV/0!"},{"$error":"#DIV/0!"},{"$error":"#DIV/0!"},{"$error":"#DIV/0!"},{"$error":"#DIV/0!"},{"$error":"#DIV/0!"},{"$error":"#DIV/0!"},{"$error":"#DIV/0!"},null,null,null,null,null,null,null,null,null,47,"40f",null,{"$f":"SUMPRODUCT(((#REF!>2)*($CO$2:$CO$339=\"40\")*(#REF!)*(#REF!=\"F\"))/SUMPRODUCT((#REF!>2)*($CO$2:$CO$339=\"40\")*(#REF!>2)*(#REF!=\"F\")))","v":{"$error":"#REF!"}}]
[null,null,null,null,null,null,null,null,null,"40j",{"$f":"SUMPRODUCT((($CO$2:$CO$338=\"40\")*(K$2:K$338)*($CT$2:$CT$338=\"J\"))/SUMPRODUCT(($CO$2:$CO$338=\"40\")*(K$2:K$338>2)*($CT$2:$CT$338=\"J\")))","v":{"$error":"#DIV/0!"}},{"$f":"SUMPRODUCT((($CO$2:$CO$338=\"40\")*(L$2:L$338)*($CT$2:$CT$338=\"J\"))/SUMPRODUCT(($CO$2:$CO$338=\"40\")*(L$2:L$338>2)*($CT$2:$CT$338=\"J\")))","v":{"$error":"#DIV/0!"}},{"$f":"SUMPRODUCT((($CO$2:$CO$338=\"40\")*(M$2:M$338)*($CT$2:$CT$338=\"J\"))/SUMPRODUCT(($CO$2:$CO$338=\"40\")*(M$2:M$338>2)*($CT$2:$CT$338=\"J\")))","v":{"$error":"#DIV/0!"}},{"$f":"SUMPRODUCT((($CO$2:$CO$338=\"40\")*(N$2:N$338)*($CT$2:$CT$338=\"J\"))/SUMPRODUCT(($CO$2:$CO$338=\"40\")*(N$2:N$338>2)*($CT$2:$CT$338=\"J\")))","v":{"$error":"#DIV/0!"}},{"$f":"SUMPRODUCT((($CO$2:$CO$338=\"40\")*(O$2:O$338)*($CT$2:$CT$338=\"J\"))/SUMPRODUCT(($CO$2:$CO$338=\"40\")*(O$2:O$338>2)*($CT$2:$CT$338=\"J\")))","v":{"$error":"#DIV/0!"}},{"$f":"SUMPRODUCT((($CO$2:$CO$338=\"40\")*(P$2:P$338)*($CT$2:$CT$338=\"J\"))/SUMPRODUCT(($CO$2:$CO$338=\"40\")*(P$2:P$338>2)*($CT$2:$CT$338=\"J\")))","v":{"$error":"#DIV/0!"}},{"$f":"SUMPRODUCT((($CO$2:$CO$338=\"40\")*(Q$2:Q$338)*($CT$2:$CT$338=\"J\"))/SUMPRODUCT(($CO$2:$CO$338=\"40\")*(Q$2:Q$338>2)*($CT$2:$CT$338=\"J\")))","v":{"$error":"#DIV/0!"}},{"$f":"SUMPRODUCT((($CO$2:$CO$338=\"40\")*(R$2:R$338)*($CT$2:$CT$338=\"J\"))/SUMPRODUCT(($CO$2:$CO$338=\"40\")*(R$2:R$338>2)*($CT$2:$CT$338=\"J\")))","v":{"$error":"#DIV/0!"}},{"$f":"SUMPRODUCT((($CO$2:$CO$338=\"40\")*(S$2:S$338)*($CT$2:$CT$338=\"J\"))/SUMPRODUCT(($CO$2:$CO$338=\"40\")*(S$2:S$338>2)*($CT$2:$CT$338=\"J\")))","v":{"$error":"#DIV/0!"}},{"$f":"SUMPRODUCT((($CO$2:$CO$338=\"40\")*(T$2:T$338)*($CT$2:$CT$338=\"J\"))/SUMPRODUCT(($CO$2:$CO$338=\"40\")*(T$2:T$338>2)*($CT$2:$CT$338=\"J\")))","v":{"$error":"#DIV/0!"}},{"$f":"SUMPRODUCT((($CO$2:$CO$338=\"40\")*(U$2:U$338)*($CT$2:$CT$338=\"J\"))/SUMPRODUCT(($CO$2:$CO$338=\"40\")*(U$2:U$338>2)*($CT$2:$CT$338=\"J\")))","v":{"$error":"#DIV/0!"}},{"$f":"SUMPRODUCT((($CO$2:$CO$338=\"40\")*(V$2:V$338)*($CT$2:$CT$338=\"J\"))/SUMPRODUCT(($CO$2:$CO$338=\"40\")*(V$2:V$338>2)*($CT$2:$CT$338=\"J\")))","v":{"$error":"#DIV/0!"}},{"$f":"SUMPRODUCT((($CO$2:$CO$338=\"40\")*(W$2:W$338)*($CT$2:$CT$338=\"J\"))/SUMPRODUCT(($CO$2:$CO$338=\"40\")*(W$2:W$338>2)*($CT$2:$CT$338=\"J\")))","v":{"$error":"#DIV/0!"}},{"$f":"SUMPRODUCT((($CO$2:$CO$338=\"40\")*(X$2:X$338)*($CT$2:$CT$338=\"J\"))/SUMPRODUCT(($CO$2:$CO$338=\"40\")*(X$2:X$338>2)*($CT$2:$CT$338=\"J\")))","v":{"$error":"#DIV/0!"}},{"$f":"SUMPRODUCT((($CO$2:$CO$338=\"40\")*(Y$2:Y$338)*($CT$2:$CT$338=\"J\"))/SUMPRODUCT(($CO$2:$CO$338=\"40\")*(Y$2:Y$338>2)*($CT$2:$CT$338=\"J\")))","v":{"$error":"#DIV/0!"}},{"$f":"SUMPRODUCT((($CO$2:$CO$338=\"40\")*(Z$2:Z$338)*($CT$2:$CT$338=\"J\"))/SUMPRODUCT(($CO$2:$CO$338=\"40\")*(Z$2:Z$338>2)*($CT$2:$CT$338=\"J\")))","v":{"$error":"#DIV/0!"}},{"$f":"SUMPRODUCT((($CO$2:$CO$338=\"40\")*(AA$2:AA$338)*($CT$2:$CT$338=\"J\"))/SUMPRODUCT(($CO$2:$CO$338=\"40\")*(AA$2:AA$338>2)*($CT$2:$CT$338=\"J\")))","v":{"$error":"#DIV/0!"}},{"$f":"SUMPRODUCT((($CO$2:$CO$338=\"40\")*(AB$2:AB$338)*($CT$2:$CT$338=\"J\"))/SUMPRODUCT(($CO$2:$CO$338=\"40\")*(AB$2:AB$338>2)*($CT$2:$CT$338=\"J\")))","v":{"$error":"#DIV/0!"}},{"$f":"SUMPRODUCT((($CO$2:$CO$338=\"40\")*(AC$2:AC$338)*($CT$2:$CT$338=\"J\"))/SUMPRODUCT(($CO$2:$CO$338=\"40\")*(AC$2:AC$338>2)*($CT$2:$CT$338=\"J\")))","v":{"$error":"#DIV/0!"}},{"$f":"SUMPRODUCT((($CO$2:$CO$338=\"40\")*(AD$2:AD$338)*($CT$2:$CT$338=\"J\"))/SUMPRODUCT(($CO$2:$CO$338=\"40\")*(AD$2:AD$338>2)*($CT$2:$CT$338=\"J\")))","v":{"$error":"#DIV/0!"}},{"$f":"SUMPRODUCT((($CO$2:$CO$338=\"40\")*(AE$2:AE$338)*($CT$2:$CT$338=\"J\"))/SUMPRODUCT(($CO$2:$CO$338=\"40\")*(AE$2:AE$338>2)*($CT$2:$CT$338=\"J\")))","v":{"$error":"#DIV/0!"}},{"$f":"SUMPRODUCT((($CO$2:$CO$338=\"40\")*(AF$2:AF$338)*($CT$2:$CT$338=\"J\"))/SUMPRODUCT(($CO$2:$CO$338=\"40\")*(AF$2:AF$338>2)*($CT$2:$CT$338=\"J\")))","v":{"$error":"#DIV/0!"}},{"$f":"SUMPRODUCT((($CO$2:$CO$338=\"40\")*(AG$2:AG$338)*($CT$2:$CT$338=\"J\"))/SUMPRODUCT(($CO$2:$CO$338=\"40\")*(AG$2:AG$338>2)*($CT$2:$CT$338=\"J\")))","v":{"$error":"#DIV/0!"}},{"$f":"SUMPRODUCT((($CO$2:$CO$338=\"40\")*(AH$2:AH$338)*($CT$2:$CT$338=\"J\"))/SUMPRODUCT(($CO$2:$CO$338=\"40\")*(AH$2:AH$338>2)*($CT$2:$CT$338=\"J\")))","v":{"$error":"#DIV/0!"}},{"$f":"SUMPRODUCT((($CO$2:$CO$338=\"40\")*(AI$2:AI$338)*($CT$2:$CT$338=\"J\"))/SUMPRODUCT(($CO$2:$CO$338=\"40\")*(AI$2:AI$338>2)*($CT$2:$CT$338=\"J\")))","v":{"$error":"#DIV/0!"}},{"$f":"SUMPRODUCT((($CO$2:$CO$338=\"40\")*(AJ$2:AJ$338)*($CT$2:$CT$338=\"J\"))/SUMPRODUCT(($CO$2:$CO$338=\"40\")*(AJ$2:AJ$338>2)*($CT$2:$CT$338=\"J\")))","v":{"$error":"#DIV/0!"}},{"$f":"SUMPRODUCT((($CO$2:$CO$338=\"40\")*(AK$2:AK$338)*($CT$2:$CT$338=\"J\"))/SUMPRODUCT(($CO$2:$CO$338=\"40\")*(AK$2:AK$338>2)*($CT$2:$CT$338=\"J\")))","v":{"$error":"#DIV/0!"}},{"$f":"SUMPRODUCT((($CO$2:$CO$338=\"40\")*(AL$2:AL$338)*($CT$2:$CT$338=\"J\"))/SUMPRODUCT(($CO$2:$CO$338=\"40\")*(AL$2:AL$338>2)*($CT$2:$CT$338=\"J\")))","v":{"$error":"#DIV/0!"}},{"$f":"SUMPRODUCT((($CO$2:$CO$338=\"40\")*(AM$2:AM$338)*($CT$2:$CT$338=\"J\"))/SUMPRODUCT(($CO$2:$CO$338=\"40\")*(AM$2:AM$338>2)*($CT$2:$CT$338=\"J\")))","v":{"$error":"#DIV/0!"}},{"$f":"SUMPRODUCT((($CO$2:$CO$338=\"40\")*(AN$2:AN$338)*($CT$2:$CT$338=\"J\"))/SUMPRODUCT(($CO$2:$CO$338=\"40\")*(AN$2:AN$338>2)*($CT$2:$CT$338=\"J\")))","v":{"$error":"#DIV/0!"}},{"$f":"SUMPRODUCT((($CO$2:$CO$338=\"40\")*(AO$2:AO$338)*($CT$2:$CT$338=\"J\"))/SUMPRODUCT(($CO$2:$CO$338=\"40\")*(AO$2:AO$338>2)*($CT$2:$CT$338=\"J\")))","v":{"$error":"#DIV/0!"}},{"$f":"SUMPRODUCT((($CO$2:$CO$338=\"40\")*(AP$2:AP$338)*($CT$2:$CT$338=\"J\"))/SUMPRODUCT(($CO$2:$CO$338=\"40\")*(AP$2:AP$338>2)*($CT$2:$CT$338=\"J\")))","v":{"$error":"#DIV/0!"}},{"$f":"SUMPRODUCT((($CO$2:$CO$338=\"40\")*(AQ$2:AQ$338)*($CT$2:$CT$338=\"J\"))/SUMPRODUCT(($CO$2:$CO$338=\"40\")*(AQ$2:AQ$338>2)*($CT$2:$CT$338=\"J\")))","v":{"$error":"#DIV/0!"}},{"$f":"SUMPRODUCT((($CO$2:$CO$338=\"40\")*(AR$2:AR$338)*($CT$2:$CT$338=\"J\"))/SUMPRODUCT(($CO$2:$CO$338=\"40\")*(AR$2:AR$338>2)*($CT$2:$CT$338=\"J\")))","v":{"$error":"#DIV/0!"}},{"$f":"SUMPRODUCT((($CO$2:$CO$338=\"40\")*(AS$2:AS$338)*($CT$2:$CT$338=\"J\"))/SUMPRODUCT(($CO$2:$CO$338=\"40\")*(AS$2:AS$338>2)*($CT$2:$CT$338=\"J\")))","v":{"$error":"#DIV/0!"}},{"$f":"SUMPRODUCT((($CO$2:$CO$338=\"40\")*(AT$2:AT$338)*($CT$2:$CT$338=\"J\"))/SUMPRODUCT(($CO$2:$CO$338=\"40\")*(AT$2:AT$338>2)*($CT$2:$CT$338=\"J\")))","v":{"$error":"#DIV/0!"}},{"$f":"SUMPRODUCT((($CO$2:$CO$338=\"40\")*(AU$2:AU$338)*($CT$2:$CT$338=\"J\"))/SUMPRODUCT(($CO$2:$CO$338=\"40\")*(AU$2:AU$338>2)*($CT$2:$CT$338=\"J\")))","v":{"$error":"#DIV/0!"}},{"$f":"SUMPRODUCT((($CO$2:$CO$338=\"40\")*(AV$2:AV$338)*($CT$2:$CT$338=\"J\"))/SUMPRODUCT(($CO$2:$CO$338=\"40\")*(AV$2:AV$338>2)*($CT$2:$CT$338=\"J\")))","v":{"$error":"#DIV/0!"}},{"$f":"SUMPRODUCT((($CO$2:$CO$338=\"40\")*(AW$2:AW$338)*($CT$2:$CT$338=\"J\"))/SUMPRODUCT(($CO$2:$CO$338=\"40\")*(AW$2:AW$338>2)*($CT$2:$CT$338=\"J\")))","v":{"$error":"#DIV/0!"}},{"$f":"SUMPRODUCT((($CO$2:$CO$338=\"40\")*(AX$2:AX$338)*($CT$2:$CT$338=\"J\"))/SUMPRODUCT(($CO$2:$CO$338=\"40\")*(AX$2:AX$338>2)*($CT$2:$CT$338=\"J\")))","v":{"$error":"#DIV/0!"}},{"$f":"SUMPRODUCT((($CO$2:$CO$338=\"40\")*(AY$2:AY$338)*($CT$2:$CT$338=\"J\"))/SUMPRODUCT(($CO$2:$CO$338=\"40\")*(AY$2:AY$338>2)*($CT$2:$CT$338=\"J\")))","v":{"$error":"#DIV/0!"}},{"$f":"SUMPRODUCT((($CO$2:$CO$338=\"40\")*(AZ$2:AZ$338)*($CT$2:$CT$338=\"J\"))/SUMPRODUCT(($CO$2:$CO$338=\"40\")*(AZ$2:AZ$338>2)*($CT$2:$CT$338=\"J\")))","v":{"$error":"#DIV/0!"}},{"$f":"SUMPRODUCT((($CO$2:$CO$338=\"40\")*(BA$2:BA$338)*($CT$2:$CT$338=\"J\"))/SUMPRODUCT(($CO$2:$CO$338=\"40\")*(BA$2:BA$338>2)*($CT$2:$CT$338=\"J\")))","v":{"$error":"#DIV/0!"}},{"$f":"SUMPRODUCT((($CO$2:$CO$338=\"40\")*(BB$2:BB$338)*($CT$2:$CT$338=\"J\"))/SUMPRODUCT(($CO$2:$CO$338=\"40\")*(BB$2:BB$338>2)*($CT$2:$CT$338=\"J\")))","v":{"$error":"#DIV/0!"}},{"$f":"SUMPRODUCT((($CO$2:$CO$338=\"40\")*(BC$2:BC$338)*($CT$2:$CT$338=\"J\"))/SUMPRODUCT(($CO$2:$CO$338=\"40\")*(BC$2:BC$338>2)*($CT$2:$CT$338=\"J\")))","v":{"$error":"#DIV/0!"}},{"$f":"SUMPRODUCT((($CO$2:$CO$338=\"40\")*(BD$2:BD$338)*($CT$2:$CT$338=\"J\"))/SUMPRODUCT(($CO$2:$CO$338=\"40\")*(BD$2:BD$338>2)*($CT$2:$CT$338=\"J\")))","v":{"$error":"#DIV/0!"}},{"$f":"SUMPRODUCT((($CO$2:$CO$338=\"40\")*(BE$2:BE$338)*($CT$2:$CT$338=\"J\"))/SUMPRODUCT(($CO$2:$CO$338=\"40\")*(BE$2:BE$338>2)*($CT$2:$CT$338=\"J\")))","v":{"$error":"#DIV/0!"}},{"$f":"SUMPRODUCT((($CO$2:$CO$338=\"40\")*(BF$2:BF$338)*($CT$2:$CT$338=\"J\"))/SUMPRODUCT(($CO$2:$CO$338=\"40\")*(BF$2:BF$338>2)*($CT$2:$CT$338=\"J\")))","v":{"$error":"#DIV/0!"}},{"$f":"SUMPRODUCT((($CO$2:$CO$338=\"40\")*(BG$2:BG$338)*($CT$2:$CT$338=\"J\"))/SUMPRODUCT(($CO$2:$CO$338=\"40\")*(BG$2:BG$338>2)*($CT$2:$CT$338=\"J\")))","v":{"$error":"#DIV/0!"}},{"$f":"SUMPRODUCT((($CO$2:$CO$338=\"40\")*(BH$2:BH$338)*($CT$2:$CT$338=\"J\"))/SUMPRODUCT(($CO$2:$CO$338=\"40\")*(BH$2:BH$338>2)*($CT$2:$CT$338=\"J\")))","v":{"$error":"#DIV/0!"}},{"$f":"SUMPRODUCT((($CO$2:$CO$338=\"40\")*(BI$2:BI$338)*($CT$2:$CT$338=\"J\"))/SUMPRODUCT(($CO$2:$CO$338=\"40\")*(BI$2:BI$338>2)*($CT$2:$CT$338=\"J\")))","v":{"$error":"#DIV/0!"}},{"$f":"SUMPRODUCT((($CO$2:$CO$338=\"40\")*(BJ$2:BJ$338)*($CT$2:$CT$338=\"J\"))/SUMPRODUCT(($CO$2:$CO$338=\"40\")*(BJ$2:BJ$338>2)*($CT$2:$CT$338=\"J\")))","v":{"$error":"#DIV/0!"}},{"$f":"SUMPRODUCT((($CO$2:$CO$338=\"40\")*(BK$2:BK$338)*($CT$2:$CT$338=\"J\"))/SUMPRODUCT(($CO$2:$CO$338=\"40\")*(BK$2:BK$338>2)*($CT$2:$CT$338=\"J\")))","v":{"$error":"#DIV/0!"}},{"$f":"SUMPRODUCT((($CO$2:$CO$338=\"40\")*(BL$2:BL$338)*($CT$2:$CT$338=\"J\"))/SUMPRODUCT(($CO$2:$CO$338=\"40\")*(BL$2:BL$338>2)*($CT$2:$CT$338=\"J\")))","v":{"$error":"#DIV/0!"}},{"$f":"SUMPRODUCT((($CO$2:$CO$338=\"40\")*(BM$2:BM$338)*($CT$2:$CT$338=\"J\"))/SUMPRODUCT(($CO$2:$CO$338=\"40\")*(BM$2:BM$338>2)*($CT$2:$CT$338=\"J\")))","v":{"$error":"#DIV/0!"}},{"$f":"SUMPRODUCT((($CO$2:$CO$338=\"40\")*(BN$2:BN$338)*($CT$2:$CT$338=\"J\"))/SUMPRODUCT(($CO$2:$CO$338=\"40\")*(BN$2:BN$338>2)*($CT$2:$CT$338=\"J\")))","v":{"$error":"#DIV/0!"}},{"$f":"SUMPRODUCT((($CO$2:$CO$338=\"40\")*(BO$2:BO$338)*($CT$2:$CT$338=\"J\"))/SUMPRODUCT(($CO$2:$CO$338=\"40\")*(BO$2:BO$338>2)*($CT$2:$CT$338=\"J\")))","v":{"$error":"#DIV/0!"}},{"$f":"SUMPRODUCT((($CO$2:$CO$338=\"40\")*(BP$2:BP$338)*($CT$2:$CT$338=\"J\"))/SUMPRODUCT(($CO$2:$CO$338=\"40\")*(BP$2:BP$338>2)*($CT$2:$CT$338=\"J\")))","v":{"$error":"#DIV/0!"}},{"$f":"SUMPRODUCT((($CO$2:$CO$338=\"40\")*(BQ$2:BQ$338)*($CT$2:$CT$338=\"J\"))/SUMPRODUCT(($CO$2:$CO$338=\"40\")*(BQ$2:BQ$338>2)*($CT$2:$CT$338=\"J\")))","v":{"$error":"#DIV/0!"}},{"$f":"SUMPRODUCT((($CO$2:$CO$338=\"40\")*(BR$2:BR$338)*($CT$2:$CT$338=\"J\"))/SUMPRODUCT(($CO$2:$CO$338=\"40\")*(BR$2:BR$338>2)*($CT$2:$CT$338=\"J\")))","v":{"$error":"#DIV/0!"}},{"$f":"SUMPRODUCT((($CO$2:$CO$338=\"40\")*(BS$2:BS$338)*($CT$2:$CT$338=\"J\"))/SUMPRODUCT(($CO$2:$CO$338=\"40\")*(BS$2:BS$338>2)*($CT$2:$CT$338=\"J\")))","v":{"$error":"#DIV/0!"}},{"$f":"SUMPRODUCT((($CO$2:$CO$338=\"40\")*(BT$2:BT$338)*($CT$2:$CT$338=\"J\"))/SUMPRODUCT(($CO$2:$CO$338=\"40\")*(BT$2:BT$338>2)*($CT$2:$CT$338=\"J\")))","v":{"$error":"#DIV/0!"}},{"$f":"SUMPRODUCT((($CO$2:$CO$338=\"40\")*(BU$2:BU$338)*($CT$2:$CT$338=\"J\"))/SUMPRODUCT(($CO$2:$CO$338=\"40\")*(BU$2:BU$338>2)*($CT$2:$CT$338=\"J\")))","v":{"$error":"#DIV/0!"}},{"$f":"SUMPRODUCT((($CO$2:$CO$338=\"40\")*(BV$2:BV$338)*($CT$2:$CT$338=\"J\"))/SUMPRODUCT(($CO$2:$CO$338=\"40\")*(BV$2:BV$338>2)*($CT$2:$CT$338=\"J\")))","v":{"$error":"#DIV/0!"}},{"$f":"SUMPRODUCT((($CO$2:$CO$338=\"40\")*(BW$2:BW$338)*($CT$2:$CT$338=\"J\"))/SUMPRODUCT(($CO$2:$CO$338=\"40\")*(BW$2:BW$338>2)*($CT$2:$CT$338=\"J\")))","v":{"$error":"#DIV/0!"}},{"$error":"#DIV/0!"},{"$error":"#DIV/0!"},{"$error":"#DIV/0!"},{"$error":"#DIV/0!"},{"$error":"#DIV/0!"},{"$error":"#DIV/0!"},{"$error":"#DIV/0!"},{"$error":"#DIV/0!"},{"$error":"#DIV/0!"},{"$error":"#DIV/0!"},{"$error":"#DIV/0!"},{"$error":"#DIV/0!"},null,null,null,null,null,null,null,null,null,48,"40j",null,{"$f":"SUMPRODUCT(((#REF!>2)*($CO$2:$CO$339=\"40\")*(#REF!)*($CT$2:$CT$339=\"J\"))/SUMPRODUCT((#REF!>2)*($CO$2:$CO$339=\"40\")*(#REF!>2)*($CT$2:$CT$339=\"J\")))","v":{"$error":"#REF!"}}]
[null,null,null,null,null,null,null,null,null,"40v",{"$f":"SUMPRODUCT((($CO$2:$CO$338=\"40\")*(K$2:K$338)*($CT$2:$CT$338=\"V\"))/SUMPRODUCT(($CO$2:$CO$338=\"40\")*(K$2:K$338>2)*($CT$2:$CT$338=\"V\")))","v":{"$error":"#DIV/0!"}},{"$f":"SUMPRODUCT((($CO$2:$CO$338=\"40\")*(L$2:L$338)*($CT$2:$CT$338=\"V\"))/SUMPRODUCT(($CO$2:$CO$338=\"40\")*(L$2:L$338>2)*($CT$2:$CT$338=\"V\")))","v":{"$error":"#DIV/0!"}},{"$f":"SUMPRODUCT((($CO$2:$CO$338=\"40\")*(M$2:M$338)*($CT$2:$CT$338=\"V\"))/SUMPRODUCT(($CO$2:$CO$338=\"40\")*(M$2:M$338>2)*($CT$2:$CT$338=\"V\")))","v":{"$error":"#DIV/0!"}},{"$f":"SUMPRODUCT((($CO$2:$CO$338=\"40\")*(N$2:N$338)*($CT$2:$CT$338=\"V\"))/SUMPRODUCT(($CO$2:$CO$338=\"40\")*(N$2:N$338>2)*($CT$2:$CT$338=\"V\")))","v":{"$error":"#DIV/0!"}},{"$f":"SUMPRODUCT((($CO$2:$CO$338=\"40\")*(O$2:O$338)*($CT$2:$CT$338=\"V\"))/SUMPRODUCT(($CO$2:$CO$338=\"40\")*(O$2:O$338>2)*($CT$2:$CT$338=\"V\")))","v":{"$error":"#DIV/0!"}},{"$f":"SUMPRODUCT((($CO$2:$CO$338=\"40\")*(P$2:P$338)*($CT$2:$CT$338=\"V\"))/SUMPRODUCT(($CO$2:$CO$338=\"40\")*(P$2:P$338>2)*($CT$2:$CT$338=\"V\")))","v":{"$error":"#DIV/0!"}},{"$f":"SUMPRODUCT((($CO$2:$CO$338=\"40\")*(Q$2:Q$338)*($CT$2:$CT$338=\"V\"))/SUMPRODUCT(($CO$2:$CO$338=\"40\")*(Q$2:Q$338>2)*($CT$2:$CT$338=\"V\")))","v":{"$error":"#DIV/0!"}},{"$f":"SUMPRODUCT((($CO$2:$CO$338=\"40\")*(R$2:R$338)*($CT$2:$CT$338=\"V\"))/SUMPRODUCT(($CO$2:$CO$338=\"40\")*(R$2:R$338>2)*($CT$2:$CT$338=\"V\")))","v":{"$error":"#DIV/0!"}},{"$f":"SUMPRODUCT((($CO$2:$CO$338=\"40\")*(S$2:S$338)*($CT$2:$CT$338=\"V\"))/SUMPRODUCT(($CO$2:$CO$338=\"40\")*(S$2:S$338>2)*($CT$2:$CT$338=\"V\")))","v":{"$error":"#DIV/0!"}},{"$f":"SUMPRODUCT((($CO$2:$CO$338=\"40\")*(T$2:T$338)*($CT$2:$CT$338=\"V\"))/SUMPRODUCT(($CO$2:$CO$338=\"40\")*(T$2:T$338>2)*($CT$2:$CT$338=\"V\")))","v":{"$error":"#DIV/0!"}},{"$f":"SUMPRODUCT((($CO$2:$CO$338=\"40\")*(U$2:U$338)*($CT$2:$CT$338=\"V\"))/SUMPRODUCT(($CO$2:$CO$338=\"40\")*(U$2:U$338>2)*($CT$2:$CT$338=\"V\")))","v":{"$error":"#DIV/0!"}},{"$f":"SUMPRODUCT((($CO$2:$CO$338=\"40\")*(V$2:V$338)*($CT$2:$CT$338=\"V\"))/SUMPRODUCT(($CO$2:$CO$338=\"40\")*(V$2:V$338>2)*($CT$2:$CT$338=\"V\")))","v":{"$error":"#DIV/0!"}},{"$f":"SUMPRODUCT((($CO$2:$CO$338=\"40\")*(W$2:W$338)*($CT$2:$CT$338=\"V\"))/SUMPRODUCT(($CO$2:$CO$338=\"40\")*(W$2:W$338>2)*($CT$2:$CT$338=\"V\")))","v":{"$error":"#DIV/0!"}},{"$f":"SUMPRODUCT((($CO$2:$CO$338=\"40\")*(X$2:X$338)*($CT$2:$CT$338=\"V\"))/SUMPRODUCT(($CO$2:$CO$338=\"40\")*(X$2:X$338>2)*($CT$2:$CT$338=\"V\")))","v":{"$error":"#DIV/0!"}},{"$f":"SUMPRODUCT((($CO$2:$CO$338=\"40\")*(Y$2:Y$338)*($CT$2:$CT$338=\"V\"))/SUMPRODUCT(($CO$2:$CO$338=\"40\")*(Y$2:Y$338>2)*($CT$2:$CT$338=\"V\")))","v":{"$error":"#DIV/0!"}},{"$f":"SUMPRODUCT((($CO$2:$CO$338=\"40\")*(Z$2:Z$338)*($CT$2:$CT$338=\"V\"))/SUMPRODUCT(($CO$2:$CO$338=\"40\")*(Z$2:Z$338>2)*($CT$2:$CT$338=\"V\")))","v":{"$error":"#DIV/0!"}},{"$f":"SUMPRODUCT((($CO$2:$CO$338=\"40\")*(AA$2:AA$338)*($CT$2:$CT$338=\"V\"))/SUMPRODUCT(($CO$2:$CO$338=\"40\")*(AA$2:AA$338>2)*($CT$2:$CT$338=\"V\")))","v":{"$error":"#DIV/0!"}},{"$f":"SUMPRODUCT((($CO$2:$CO$338=\"40\")*(AB$2:AB$338)*($CT$2:$CT$338=\"V\"))/SUMPRODUCT(($CO$2:$CO$338=\"40\")*(AB$2:AB$338>2)*($CT$2:$CT$338=\"V\")))","v":{"$error":"#DIV/0!"}},{"$f":"SUMPRODUCT((($CO$2:$CO$338=\"40\")*(AC$2:AC$338)*($CT$2:$CT$338=\"V\"))/SUMPRODUCT(($CO$2:$CO$338=\"40\")*(AC$2:AC$338>2)*($CT$2:$CT$338=\"V\")))","v":{"$error":"#DIV/0!"}},{"$f":"SUMPRODUCT((($CO$2:$CO$338=\"40\")*(AD$2:AD$338)*($CT$2:$CT$338=\"V\"))/SUMPRODUCT(($CO$2:$CO$338=\"40\")*(AD$2:AD$338>2)*($CT$2:$CT$338=\"V\")))","v":{"$error":"#DIV/0!"}},{"$f":"SUMPRODUCT((($CO$2:$CO$338=\"40\")*(AE$2:AE$338)*($CT$2:$CT$338=\"V\"))/SUMPRODUCT(($CO$2:$CO$338=\"40\")*(AE$2:AE$338>2)*($CT$2:$CT$338=\"V\")))","v":{"$error":"#DIV/0!"}},{"$f":"SUMPRODUCT((($CO$2:$CO$338=\"40\")*(AF$2:AF$338)*($CT$2:$CT$338=\"V\"))/SUMPRODUCT(($CO$2:$CO$338=\"40\")*(AF$2:AF$338>2)*($CT$2:$CT$338=\"V\")))","v":{"$error":"#DIV/0!"}},{"$f":"SUMPRODUCT((($CO$2:$CO$338=\"40\")*(AG$2:AG$338)*($CT$2:$CT$338=\"V\"))/SUMPRODUCT(($CO$2:$CO$338=\"40\")*(AG$2:AG$338>2)*($CT$2:$CT$338=\"V\")))","v":{"$error":"#DIV/0!"}},{"$f":"SUMPRODUCT((($CO$2:$CO$338=\"40\")*(AH$2:AH$338)*($CT$2:$CT$338=\"V\"))/SUMPRODUCT(($CO$2:$CO$338=\"40\")*(AH$2:AH$338>2)*($CT$2:$CT$338=\"V\")))","v":{"$error":"#DIV/0!"}},{"$f":"SUMPRODUCT((($CO$2:$CO$338=\"40\")*(AI$2:AI$338)*($CT$2:$CT$338=\"V\"))/SUMPRODUCT(($CO$2:$CO$338=\"40\")*(AI$2:AI$338>2)*($CT$2:$CT$338=\"V\")))","v":{"$error":"#DIV/0!"}},{"$f":"SUMPRODUCT((($CO$2:$CO$338=\"40\")*(AJ$2:AJ$338)*($CT$2:$CT$338=\"V\"))/SUMPRODUCT(($CO$2:$CO$338=\"40\")*(AJ$2:AJ$338>2)*($CT$2:$CT$338=\"V\")))","v":{"$error":"#DIV/0!"}},{"$f":"SUMPRODUCT((($CO$2:$CO$338=\"40\")*(AK$2:AK$338)*($CT$2:$CT$338=\"V\"))/SUMPRODUCT(($CO$2:$CO$338=\"40\")*(AK$2:AK$338>2)*($CT$2:$CT$338=\"V\")))","v":{"$error":"#DIV/0!"}},{"$f":"SUMPRODUCT((($CO$2:$CO$338=\"40\")*(AL$2:AL$338)*($CT$2:$CT$338=\"V\"))/SUMPRODUCT(($CO$2:$CO$338=\"40\")*(AL$2:AL$338>2)*($CT$2:$CT$338=\"V\")))","v":{"$error":"#DIV/0!"}},{"$f":"SUMPRODUCT((($CO$2:$CO$338=\"40\")*(AM$2:AM$338)*($CT$2:$CT$338=\"V\"))/SUMPRODUCT(($CO$2:$CO$338=\"40\")*(AM$2:AM$338>2)*($CT$2:$CT$338=\"V\")))","v":{"$error":"#DIV/0!"}},{"$f":"SUMPRODUCT((($CO$2:$CO$338=\"40\")*(AN$2:AN$338)*($CT$2:$CT$338=\"V\"))/SUMPRODUCT(($CO$2:$CO$338=\"40\")*(AN$2:AN$338>2)*($CT$2:$CT$338=\"V\")))","v":{"$error":"#DIV/0!"}},{"$f":"SUMPRODUCT((($CO$2:$CO$338=\"40\")*(AO$2:AO$338)*($CT$2:$CT$338=\"V\"))/SUMPRODUCT(($CO$2:$CO$338=\"40\")*(AO$2:AO$338>2)*($CT$2:$CT$338=\"V\")))","v":{"$error":"#DIV/0!"}},{"$f":"SUMPRODUCT((($CO$2:$CO$338=\"40\")*(AP$2:AP$338)*($CT$2:$CT$338=\"V\"))/SUMPRODUCT(($CO$2:$CO$338=\"40\")*(AP$2:AP$338>2)*($CT$2:$CT$338=\"V\")))","v":{"$error":"#DIV/0!"}},{"$f":"SUMPRODUCT((($CO$2:$CO$338=\"40\")*(AQ$2:AQ$338)*($CT$2:$CT$338=\"V\"))/SUMPRODUCT(($CO$2:$CO$338=\"40\")*(AQ$2:AQ$338>2)*($CT$2:$CT$338=\"V\")))","v":{"$error":"#DIV/0!"}},{"$f":"SUMPRODUCT((($CO$2:$CO$338=\"40\")*(AR$2:AR$338)*($CT$2:$CT$338=\"V\"))/SUMPRODUCT(($CO$2:$CO$338=\"40\")*(AR$2:AR$338>2)*($CT$2:$CT$338=\"V\")))","v":{"$error":"#DIV/0!"}},{"$f":"SUMPRODUCT((($CO$2:$CO$338=\"40\")*(AS$2:AS$338)*($CT$2:$CT$338=\"V\"))/SUMPRODUCT(($CO$2:$CO$338=\"40\")*(AS$2:AS$338>2)*($CT$2:$CT$338=\"V\")))","v":{"$error":"#DIV/0!"}},{"$f":"SUMPRODUCT((($CO$2:$CO$338=\"40\")*(AT$2:AT$338)*($CT$2:$CT$338=\"V\"))/SUMPRODUCT(($CO$2:$CO$338=\"40\")*(AT$2:AT$338>2)*($CT$2:$CT$338=\"V\")))","v":{"$error":"#DIV/0!"}},{"$f":"SUMPRODUCT((($CO$2:$CO$338=\"40\")*(AU$2:AU$338)*($CT$2:$CT$338=\"V\"))/SUMPRODUCT(($CO$2:$CO$338=\"40\")*(AU$2:AU$338>2)*($CT$2:$CT$338=\"V\")))","v":{"$error":"#DIV/0!"}},{"$f":"SUMPRODUCT((($CO$2:$CO$338=\"40\")*(AV$2:AV$338)*($CT$2:$CT$338=\"V\"))/SUMPRODUCT(($CO$2:$CO$338=\"40\")*(AV$2:AV$338>2)*($CT$2:$CT$338=\"V\")))","v":{"$error":"#DIV/0!"}},{"$f":"SUMPRODUCT((($CO$2:$CO$338=\"40\")*(AW$2:AW$338)*($CT$2:$CT$338=\"V\"))/SUMPRODUCT(($CO$2:$CO$338=\"40\")*(AW$2:AW$338>2)*($CT$2:$CT$338=\"V\")))","v":{"$error":"#DIV/0!"}},{"$f":"SUMPRODUCT((($CO$2:$CO$338=\"40\")*(AX$2:AX$338)*($CT$2:$CT$338=\"V\"))/SUMPRODUCT(($CO$2:$CO$338=\"40\")*(AX$2:AX$338>2)*($CT$2:$CT$338=\"V\")))","v":{"$error":"#DIV/0!"}},{"$f":"SUMPRODUCT((($CO$2:$CO$338=\"40\")*(AY$2:AY$338)*($CT$2:$CT$338=\"V\"))/SUMPRODUCT(($CO$2:$CO$338=\"40\")*(AY$2:AY$338>2)*($CT$2:$CT$338=\"V\")))","v":{"$error":"#DIV/0!"}},{"$f":"SUMPRODUCT((($CO$2:$CO$338=\"40\")*(AZ$2:AZ$338)*($CT$2:$CT$338=\"V\"))/SUMPRODUCT(($CO$2:$CO$338=\"40\")*(AZ$2:AZ$338>2)*($CT$2:$CT$338=\"V\")))","v":{"$error":"#DIV/0!"}},{"$f":"SUMPRODUCT((($CO$2:$CO$338=\"40\")*(BA$2:BA$338)*($CT$2:$CT$338=\"V\"))/SUMPRODUCT(($CO$2:$CO$338=\"40\")*(BA$2:BA$338>2)*($CT$2:$CT$338=\"V\")))","v":{"$error":"#DIV/0!"}},{"$f":"SUMPRODUCT((($CO$2:$CO$338=\"40\")*(BB$2:BB$338)*($CT$2:$CT$338=\"V\"))/SUMPRODUCT(($CO$2:$CO$338=\"40\")*(BB$2:BB$338>2)*($CT$2:$CT$338=\"V\")))","v":{"$error":"#DIV/0!"}},{"$f":"SUMPRODUCT((($CO$2:$CO$338=\"40\")*(BC$2:BC$338)*($CT$2:$CT$338=\"V\"))/SUMPRODUCT(($CO$2:$CO$338=\"40\")*(BC$2:BC$338>2)*($CT$2:$CT$338=\"V\")))","v":{"$error":"#DIV/0!"}},{"$f":"SUMPRODUCT((($CO$2:$CO$338=\"40\")*(BD$2:BD$338)*($CT$2:$CT$338=\"V\"))/SUMPRODUCT(($CO$2:$CO$338=\"40\")*(BD$2:BD$338>2)*($CT$2:$CT$338=\"V\")))","v":{"$error":"#DIV/0!"}},{"$f":"SUMPRODUCT((($CO$2:$CO$338=\"40\")*(BE$2:BE$338)*($CT$2:$CT$338=\"V\"))/SUMPRODUCT(($CO$2:$CO$338=\"40\")*(BE$2:BE$338>2)*($CT$2:$CT$338=\"V\")))","v":{"$error":"#DIV/0!"}},{"$f":"SUMPRODUCT((($CO$2:$CO$338=\"40\")*(BF$2:BF$338)*($CT$2:$CT$338=\"V\"))/SUMPRODUCT(($CO$2:$CO$338=\"40\")*(BF$2:BF$338>2)*($CT$2:$CT$338=\"V\")))","v":{"$error":"#DIV/0!"}},{"$f":"SUMPRODUCT((($CO$2:$CO$338=\"40\")*(BG$2:BG$338)*($CT$2:$CT$338=\"V\"))/SUMPRODUCT(($CO$2:$CO$338=\"40\")*(BG$2:BG$338>2)*($CT$2:$CT$338=\"V\")))","v":{"$error":"#DIV/0!"}},{"$f":"SUMPRODUCT((($CO$2:$CO$338=\"40\")*(BH$2:BH$338)*($CT$2:$CT$338=\"V\"))/SUMPRODUCT(($CO$2:$CO$338=\"40\")*(BH$2:BH$338>2)*($CT$2:$CT$338=\"V\")))","v":{"$error":"#DIV/0!"}},{"$f":"SUMPRODUCT((($CO$2:$CO$338=\"40\")*(BI$2:BI$338)*($CT$2:$CT$338=\"V\"))/SUMPRODUCT(($CO$2:$CO$338=\"40\")*(BI$2:BI$338>2)*($CT$2:$CT$338=\"V\")))","v":{"$error":"#DIV/0!"}},{"$f":"SUMPRODUCT((($CO$2:$CO$338=\"40\")*(BJ$2:BJ$338)*($CT$2:$CT$338=\"V\"))/SUMPRODUCT(($CO$2:$CO$338=\"40\")*(BJ$2:BJ$338>2)*($CT$2:$CT$338=\"V\")))","v":{"$error":"#DIV/0!"}},{"$f":"SUMPRODUCT((($CO$2:$CO$338=\"40\")*(BK$2:BK$338)*($CT$2:$CT$338=\"V\"))/SUMPRODUCT(($CO$2:$CO$338=\"40\")*(BK$2:BK$338>2)*($CT$2:$CT$338=\"V\")))","v":{"$error":"#DIV/0!"}},{"$f":"SUMPRODUCT((($CO$2:$CO$338=\"40\")*(BL$2:BL$338)*($CT$2:$CT$338=\"V\"))/SUMPRODUCT(($CO$2:$CO$338=\"40\")*(BL$2:BL$338>2)*($CT$2:$CT$338=\"V\")))","v":{"$error":"#DIV/0!"}},{"$f":"SUMPRODUCT((($CO$2:$CO$338=\"40\")*(BM$2:BM$338)*($CT$2:$CT$338=\"V\"))/SUMPRODUCT(($CO$2:$CO$338=\"40\")*(BM$2:BM$338>2)*($CT$2:$CT$338=\"V\")))","v":{"$error":"#DIV/0!"}},{"$f":"SUMPRODUCT((($CO$2:$CO$338=\"40\")*(BN$2:BN$338)*($CT$2:$CT$338=\"V\"))/SUMPRODUCT(($CO$2:$CO$338=\"40\")*(BN$2:BN$338>2)*($CT$2:$CT$338=\"V\")))","v":{"$error":"#DIV/0!"}},{"$f":"SUMPRODUCT((($CO$2:$CO$338=\"40\")*(BO$2:BO$338)*($CT$2:$CT$338=\"V\"))/SUMPRODUCT(($CO$2:$CO$338=\"40\")*(BO$2:BO$338>2)*($CT$2:$CT$338=\"V\")))","v":{"$error":"#DIV/0!"}},{"$f":"SUMPRODUCT((($CO$2:$CO$338=\"40\")*(BP$2:BP$338)*($CT$2:$CT$338=\"V\"))/SUMPRODUCT(($CO$2:$CO$338=\"40\")*(BP$2:BP$338>2)*($CT$2:$CT$338=\"V\")))","v":{"$error":"#DIV/0!"}},{"$f":"SUMPRODUCT((($CO$2:$CO$338=\"40\")*(BQ$2:BQ$338)*($CT$2:$CT$338=\"V\"))/SUMPRODUCT(($CO$2:$CO$338=\"40\")*(BQ$2:BQ$338>2)*($CT$2:$CT$338=\"V\")))","v":{"$error":"#DIV/0!"}},{"$f":"SUMPRODUCT((($CO$2:$CO$338=\"40\")*(BR$2:BR$338)*($CT$2:$CT$338=\"V\"))/SUMPRODUCT(($CO$2:$CO$338=\"40\")*(BR$2:BR$338>2)*($CT$2:$CT$338=\"V\")))","v":{"$error":"#DIV/0!"}},{"$f":"SUMPRODUCT((($CO$2:$CO$338=\"40\")*(BS$2:BS$338)*($CT$2:$CT$338=\"V\"))/SUMPRODUCT(($CO$2:$CO$338=\"40\")*(BS$2:BS$338>2)*($CT$2:$CT$338=\"V\")))","v":{"$error":"#DIV/0!"}},{"$f":"SUMPRODUCT((($CO$2:$CO$338=\"40\")*(BT$2:BT$338)*($CT$2:$CT$338=\"V\"))/SUMPRODUCT(($CO$2:$CO$338=\"40\")*(BT$2:BT$338>2)*($CT$2:$CT$338=\"V\")))","v":{"$error":"#DIV/0!"}},{"$f":"SUMPRODUCT((($CO$2:$CO$338=\"40\")*(BU$2:BU$338)*($CT$2:$CT$338=\"V\"))/SUMPRODUCT(($CO$2:$CO$338=\"40\")*(BU$2:BU$338>2)*($CT$2:$CT$338=\"V\")))","v":{"$error":"#DIV/0!"}},{"$f":"SUMPRODUCT((($CO$2:$CO$338=\"40\")*(BV$2:BV$338)*($CT$2:$CT$338=\"V\"))/SUMPRODUCT(($CO$2:$CO$338=\"40\")*(BV$2:BV$338>2)*($CT$2:$CT$338=\"V\")))","v":{"$error":"#DIV/0!"}},{"$f":"SUMPRODUCT((($CO$2:$CO$338=\"40\")*(BW$2:BW$338)*($CT$2:$CT$338=\"V\"))/SUMPRODUCT(($CO$2:$CO$338=\"40\")*(BW$2:BW$338>2)*($CT$2:$CT$338=\"V\")))","v":{"$error":"#DIV/0!"}},{"$error":"#DIV/0!"},{"$error":"#DIV/0!"},{"$error":"#DIV/0!"},{"$error":"#DIV/0!"},{"$error":"#DIV/0!"},{"$error":"#DIV/0!"},{"$error":"#DIV/0!"},{"$error":"#DIV/0!"},{"$error":"#DIV/0!"},{"$error":"#DIV/0!"},{"$error":"#DIV/0!"},{"$error":"#DIV/0!"},null,null,null,null,null,null,null,null,null,49,"40v",null,{"$f":"SUMPRODUCT(((#REF!>2)*($CO$2:$CO$339=\"40\")*(#REF!)*($CT$2:$CT$339=\"V\"))/SUMPRODUCT((#REF!>2)*($CO$2:$CO$339=\"40\")*(#REF!>2)*($CT$2:$CT$339=\"V\")))","v":{"$error":"#REF!"}}]
[null,null,null,null,null,null,null,null,null,"40vsdoub",{"$f":"SUMPRODUCT((($CO$2:$CO$338=\"40\")*(K$2:K$338)*($CT$2:$CT$338=\"V\")*($F$2:$F$338=0))/SUMPRODUCT(($CO$2:$CO$338=\"40\")*(K$2:K$338>2)*($CT$2:$CT$338=\"V\")*($F$2:$F$338=0)))","v":{"$error":"#DIV/0!"}},{"$f":"SUMPRODUCT((($CO$2:$CO$338=\"40\")*(L$2:L$338)*($CT$2:$CT$338=\"V\")*($F$2:$F$338=0))/SUMPRODUCT(($CO$2:$CO$338=\"40\")*(L$2:L$338>2)*($CT$2:$CT$338=\"V\")*($F$2:$F$338=0)))","v":{"$error":"#DIV/0!"}},{"$f":"SUMPRODUCT((($CO$2:$CO$338=\"40\")*(M$2:M$338)*($CT$2:$CT$338=\"V\")*($F$2:$F$338=0))/SUMPRODUCT(($CO$2:$CO$338=\"40\")*(M$2:M$338>2)*($CT$2:$CT$338=\"V\")*($F$2:$F$338=0)))","v":{"$error":"#DIV/0!"}},{"$f":"SUMPRODUCT((($CO$2:$CO$338=\"40\")*(N$2:N$338)*($CT$2:$CT$338=\"V\")*($F$2:$F$338=0))/SUMPRODUCT(($CO$2:$CO$338=\"40\")*(N$2:N$338>2)*($CT$2:$CT$338=\"V\")*($F$2:$F$338=0)))","v":{"$error":"#DIV/0!"}},{"$f":"SUMPRODUCT((($CO$2:$CO$338=\"40\")*(O$2:O$338)*($CT$2:$CT$338=\"V\")*($F$2:$F$338=0))/SUMPRODUCT(($CO$2:$CO$338=\"40\")*(O$2:O$338>2)*($CT$2:$CT$338=\"V\")*($F$2:$F$338=0)))","v":{"$error":"#DIV/0!"}},{"$f":"SUMPRODUCT((($CO$2:$CO$338=\"40\")*(P$2:P$338)*($CT$2:$CT$338=\"V\")*($F$2:$F$338=0))/SUMPRODUCT(($CO$2:$CO$338=\"40\")*(P$2:P$338>2)*($CT$2:$CT$338=\"V\")*($F$2:$F$338=0)))","v":{"$error":"#DIV/0!"}},{"$f":"SUMPRODUCT((($CO$2:$CO$338=\"40\")*(Q$2:Q$338)*($CT$2:$CT$338=\"V\")*($F$2:$F$338=0))/SUMPRODUCT(($CO$2:$CO$338=\"40\")*(Q$2:Q$338>2)*($CT$2:$CT$338=\"V\")*($F$2:$F$338=0)))","v":{"$error":"#DIV/0!"}},{"$f":"SUMPRODUCT((($CO$2:$CO$338=\"40\")*(R$2:R$338)*($CT$2:$CT$338=\"V\")*($F$2:$F$338=0))/SUMPRODUCT(($CO$2:$CO$338=\"40\")*(R$2:R$338>2)*($CT$2:$CT$338=\"V\")*($F$2:$F$338=0)))","v":{"$error":"#DIV/0!"}},{"$f":"SUMPRODUCT((($CO$2:$CO$338=\"40\")*(S$2:S$338)*($CT$2:$CT$338=\"V\")*($F$2:$F$338=0))/SUMPRODUCT(($CO$2:$CO$338=\"40\")*(S$2:S$338>2)*($CT$2:$CT$338=\"V\")*($F$2:$F$338=0)))","v":{"$error":"#DIV/0!"}},{"$f":"SUMPRODUCT((($CO$2:$CO$338=\"40\")*(T$2:T$338)*($CT$2:$CT$338=\"V\")*($F$2:$F$338=0))/SUMPRODUCT(($CO$2:$CO$338=\"40\")*(T$2:T$338>2)*($CT$2:$CT$338=\"V\")*($F$2:$F$338=0)))","v":{"$error":"#DIV/0!"}},{"$f":"SUMPRODUCT((($CO$2:$CO$338=\"40\")*(U$2:U$338)*($CT$2:$CT$338=\"V\")*($F$2:$F$338=0))/SUMPRODUCT(($CO$2:$CO$338=\"40\")*(U$2:U$338>2)*($CT$2:$CT$338=\"V\")*($F$2:$F$338=0)))","v":{"$error":"#DIV/0!"}},{"$f":"SUMPRODUCT((($CO$2:$CO$338=\"40\")*(V$2:V$338)*($CT$2:$CT$338=\"V\")*($F$2:$F$338=0))/SUMPRODUCT(($CO$2:$CO$338=\"40\")*(V$2:V$338>2)*($CT$2:$CT$338=\"V\")*($F$2:$F$338=0)))","v":{"$error":"#DIV/0!"}},{"$f":"SUMPRODUCT((($CO$2:$CO$338=\"40\")*(W$2:W$338)*($CT$2:$CT$338=\"V\")*($F$2:$F$338=0))/SUMPRODUCT(($CO$2:$CO$338=\"40\")*(W$2:W$338>2)*($CT$2:$CT$338=\"V\")*($F$2:$F$338=0)))","v":{"$error":"#DIV/0!"}},{"$f":"SUMPRODUCT((($CO$2:$CO$338=\"40\")*(X$2:X$338)*($CT$2:$CT$338=\"V\")*($F$2:$F$338=0))/SUMPRODUCT(($CO$2:$CO$338=\"40\")*(X$2:X$338>2)*($CT$2:$CT$338=\"V\")*($F$2:$F$338=0)))","v":{"$error":"#DIV/0!"}},{"$f":"SUMPRODUCT((($CO$2:$CO$338=\"40\")*(Y$2:Y$338)*($CT$2:$CT$338=\"V\")*($F$2:$F$338=0))/SUMPRODUCT(($CO$2:$CO$338=\"40\")*(Y$2:Y$338>2)*($CT$2:$CT$338=\"V\")*($F$2:$F$338=0)))","v":{"$error":"#DIV/0!"}},{"$f":"SUMPRODUCT((($CO$2:$CO$338=\"40\")*(Z$2:Z$338)*($CT$2:$CT$338=\"V\")*($F$2:$F$338=0))/SUMPRODUCT(($CO$2:$CO$338=\"40\")*(Z$2:Z$338>2)*($CT$2:$CT$338=\"V\")*($F$2:$F$338=0)))","v":{"$error":"#DIV/0!"}},{"$f":"SUMPRODUCT((($CO$2:$CO$338=\"40\")*(AA$2:AA$338)*($CT$2:$CT$338=\"V\")*($F$2:$F$338=0))/SUMPRODUCT(($CO$2:$CO$338=\"40\")*(AA$2:AA$338>2)*($CT$2:$CT$338=\"V\")*($F$2:$F$338=0)))","v":{"$error":"#DIV/0!"}},{"$f":"SUMPRODUCT((($CO$2:$CO$338=\"40\")*(AB$2:AB$338)*($CT$2:$CT$338=\"V\")*($F$2:$F$338=0))/SUMPRODUCT(($CO$2:$CO$338=\"40\")*(AB$2:AB$338>2)*($CT$2:$CT$338=\"V\")*($F$2:$F$338=0)))","v":{"$error":"#DIV/0!"}},{"$f":"SUMPRODUCT((($CO$2:$CO$338=\"40\")*(AC$2:AC$338)*($CT$2:$CT$338=\"V\")*($F$2:$F$338=0))/SUMPRODUCT(($CO$2:$CO$338=\"40\")*(AC$2:AC$338>2)*($CT$2:$CT$338=\"V\")*($F$2:$F$338=0)))","v":{"$error":"#DIV/0!"}},{"$f":"SUMPRODUCT((($CO$2:$CO$338=\"40\")*(AD$2:AD$338)*($CT$2:$CT$338=\"V\")*($F$2:$F$338=0))/SUMPRODUCT(($CO$2:$CO$338=\"40\")*(AD$2:AD$338>2)*($CT$2:$CT$338=\"V\")*($F$2:$F$338=0)))","v":{"$error":"#DIV/0!"}},{"$f":"SUMPRODUCT((($CO$2:$CO$338=\"40\")*(AE$2:AE$338)*($CT$2:$CT$338=\"V\")*($F$2:$F$338=0))/SUMPRODUCT(($CO$2:$CO$338=\"40\")*(AE$2:AE$338>2)*($CT$2:$CT$338=\"V\")*($F$2:$F$338=0)))","v":{"$error":"#DIV/0!"}},{"$f":"SUMPRODUCT((($CO$2:$CO$338=\"40\")*(AF$2:AF$338)*($CT$2:$CT$338=\"V\")*($F$2:$F$338=0))/SUMPRODUCT(($CO$2:$CO$338=\"40\")*(AF$2:AF$338>2)*($CT$2:$CT$338=\"V\")*($F$2:$F$338=0)))","v":{"$error":"#DIV/0!"}},{"$f":"SUMPRODUCT((($CO$2:$CO$338=\"40\")*(AG$2:AG$338)*($CT$2:$CT$338=\"V\")*($F$2:$F$338=0))/SUMPRODUCT(($CO$2:$CO$338=\"40\")*(AG$2:AG$338>2)*($CT$2:$CT$338=\"V\")*($F$2:$F$338=0)))","v":{"$error":"#DIV/0!"}},{"$f":"SUMPRODUCT((($CO$2:$CO$338=\"40\")*(AH$2:AH$338)*($CT$2:$CT$338=\"V\")*($F$2:$F$338=0))/SUMPRODUCT(($CO$2:$CO$338=\"40\")*(AH$2:AH$338>2)*($CT$2:$CT$338=\"V\")*($F$2:$F$338=0)))","v":{"$error":"#DIV/0!"}},{"$f":"SUMPRODUCT((($CO$2:$CO$338=\"40\")*(AI$2:AI$338)*($CT$2:$CT$338=\"V\")*($F$2:$F$338=0))/SUMPRODUCT(($CO$2:$CO$338=\"40\")*(AI$2:AI$338>2)*($CT$2:$CT$338=\"V\")*($F$2:$F$338=0)))","v":{"$error":"#DIV/0!"}},{"$f":"SUMPRODUCT((($CO$2:$CO$338=\"40\")*(AJ$2:AJ$338)*($CT$2:$CT$338=\"V\")*($F$2:$F$338=0))/SUMPRODUCT(($CO$2:$CO$338=\"40\")*(AJ$2:AJ$338>2)*($CT$2:$CT$338=\"V\")*($F$2:$F$338=0)))","v":{"$error":"#DIV/0!"}},{"$f":"SUMPRODUCT((($CO$2:$CO$338=\"40\")*(AK$2:AK$338)*($CT$2:$CT$338=\"V\")*($F$2:$F$338=0))/SUMPRODUCT(($CO$2:$CO$338=\"40\")*(AK$2:AK$338>2)*($CT$2:$CT$338=\"V\")*($F$2:$F$338=0)))","v":{"$error":"#DIV/0!"}},{"$f":"SUMPRODUCT((($CO$2:$CO$338=\"40\")*(AL$2:AL$338)*($CT$2:$CT$338=\"V\")*($F$2:$F$338=0))/SUMPRODUCT(($CO$2:$CO$338=\"40\")*(AL$2:AL$338>2)*($CT$2:$CT$338=\"V\")*($F$2:$F$338=0)))","v":{"$error":"#DIV/0!"}},{"$f":"SUMPRODUCT((($CO$2:$CO$338=\"40\")*(AM$2:AM$338)*($CT$2:$CT$338=\"V\")*($F$2:$F$338=0))/SUMPRODUCT(($CO$2:$CO$338=\"40\")*(AM$2:AM$338>2)*($CT$2:$CT$338=\"V\")*($F$2:$F$338=0)))","v":{"$error":"#DIV/0!"}},{"$f":"SUMPRODUCT((($CO$2:$CO$338=\"40\")*(AN$2:AN$338)*($CT$2:$CT$338=\"V\")*($F$2:$F$338=0))/SUMPRODUCT(($CO$2:$CO$338=\"40\")*(AN$2:AN$338>2)*($CT$2:$CT$338=\"V\")*($F$2:$F$338=0)))","v":{"$error":"#DIV/0!"}},{"$f":"SUMPRODUCT((($CO$2:$CO$338=\"40\")*(AO$2:AO$338)*($CT$2:$CT$338=\"V\")*($F$2:$F$338=0))/SUMPRODUCT(($CO$2:$CO$338=\"40\")*(AO$2:AO$338>2)*($CT$2:$CT$338=\"V\")*($F$2:$F$338=0)))","v":{"$error":"#DIV/0!"}},{"$f":"SUMPRODUCT((($CO$2:$CO$338=\"40\")*(AP$2:AP$338)*($CT$2:$CT$338=\"V\")*($F$2:$F$338=0))/SUMPRODUCT(($CO$2:$CO$338=\"40\")*(AP$2:AP$338>2)*($CT$2:$CT$338=\"V\")*($F$2:$F$338=0)))","v":{"$error":"#DIV/0!"}},{"$f":"SUMPRODUCT((($CO$2:$CO$338=\"40\")*(AQ$2:AQ$338)*($CT$2:$CT$338=\"V\")*($F$2:$F$338=0))/SUMPRODUCT(($CO$2:$CO$338=\"40\")*(AQ$2:AQ$338>2)*($CT$2:$CT$338=\"V\")*($F$2:$F$338=0)))","v":{"$error":"#DIV/0!"}},{"$f":"SUMPRODUCT((($CO$2:$CO$338=\"40\")*(AR$2:AR$338)*($CT$2:$CT$338=\"V\")*($F$2:$F$338=0))/SUMPRODUCT(($CO$2:$CO$338=\"40\")*(AR$2:AR$338>2)*($CT$2:$CT$338=\"V\")*($F$2:$F$338=0)))","v":{"$error":"#DIV/0!"}},{"$f":"SUMPRODUCT((($CO$2:$CO$338=\"40\")*(AS$2:AS$338)*($CT$2:$CT$338=\"V\")*($F$2:$F$338=0))/SUMPRODUCT(($CO$2:$CO$338=\"40\")*(AS$2:AS$338>2)*($CT$2:$CT$338=\"V\")*($F$2:$F$338=0)))","v":{"$error":"#DIV/0!"}},{"$f":"SUMPRODUCT((($CO$2:$CO$338=\"40\")*(AT$2:AT$338)*($CT$2:$CT$338=\"V\")*($F$2:$F$338=0))/SUMPRODUCT(($CO$2:$CO$338=\"40\")*(AT$2:AT$338>2)*($CT$2:$CT$338=\"V\")*($F$2:$F$338=0)))","v":{"$error":"#DIV/0!"}},{"$f":"SUMPRODUCT((($CO$2:$CO$338=\"40\")*(AU$2:AU$338)*($CT$2:$CT$338=\"V\")*($F$2:$F$338=0))/SUMPRODUCT(($CO$2:$CO$338=\"40\")*(AU$2:AU$338>2)*($CT$2:$CT$338=\"V\")*($F$2:$F$338=0)))","v":{"$error":"#DIV/0!"}},{"$f":"SUMPRODUCT((($CO$2:$CO$338=\"40\")*(AV$2:AV$338)*($CT$2:$CT$338=\"V\")*($F$2:$F$338=0))/SUMPRODUCT(($CO$2:$CO$338=\"40\")*(AV$2:AV$338>2)*($CT$2:$CT$338=\"V\")*($F$2:$F$338=0)))","v":{"$error":"#DIV/0!"}},{"$f":"SUMPRODUCT((($CO$2:$CO$338=\"40\")*(AW$2:AW$338)*($CT$2:$CT$338=\"V\")*($F$2:$F$338=0))/SUMPRODUCT(($CO$2:$CO$338=\"40\")*(AW$2:AW$338>2)*($CT$2:$CT$338=\"V\")*($F$2:$F$338=0)))","v":{"$error":"#DIV/0!"}},{"$f":"SUMPRODUCT((($CO$2:$CO$338=\"40\")*(AX$2:AX$338)*($CT$2:$CT$338=\"V\")*($F$2:$F$338=0))/SUMPRODUCT(($CO$2:$CO$338=\"40\")*(AX$2:AX$338>2)*($CT$2:$CT$338=\"V\")*($F$2:$F$338=0)))","v":{"$error":"#DIV/0!"}},{"$f":"SUMPRODUCT((($CO$2:$CO$338=\"40\")*(AY$2:AY$338)*($CT$2:$CT$338=\"V\")*($F$2:$F$338=0))/SUMPRODUCT(($CO$2:$CO$338=\"40\")*(AY$2:AY$338>2)*($CT$2:$CT$338=\"V\")*($F$2:$F$338=0)))","v":{"$error":"#DIV/0!"}},{"$f":"SUMPRODUCT((($CO$2:$CO$338=\"40\")*(AZ$2:AZ$338)*($CT$2:$CT$338=\"V\")*($F$2:$F$338=0))/SUMPRODUCT(($CO$2:$CO$338=\"40\")*(AZ$2:AZ$338>2)*($CT$2:$CT$338=\"V\")*($F$2:$F$338=0)))","v":{"$error":"#DIV/0!"}},{"$f":"SUMPRODUCT((($CO$2:$CO$338=\"40\")*(BA$2:BA$338)*($CT$2:$CT$338=\"V\")*($F$2:$F$338=0))/SUMPRODUCT(($CO$2:$CO$338=\"40\")*(BA$2:BA$338>2)*($CT$2:$CT$338=\"V\")*($F$2:$F$338=0)))","v":{"$error":"#DIV/0!"}},{"$f":"SUMPRODUCT((($CO$2:$CO$338=\"40\")*(BB$2:BB$338)*($CT$2:$CT$338=\"V\")*($F$2:$F$338=0))/SUMPRODUCT(($CO$2:$CO$338=\"40\")*(BB$2:BB$338>2)*($CT$2:$CT$338=\"V\")*($F$2:$F$338=0)))","v":{"$error":"#DIV/0!"}},{"$f":"SUMPRODUCT((($CO$2:$CO$338=\"40\")*(BC$2:BC$338)*($CT$2:$CT$338=\"V\")*($F$2:$F$338=0))/SUMPRODUCT(($CO$2:$CO$338=\"40\")*(BC$2:BC$338>2)*($CT$2:$CT$338=\"V\")*($F$2:$F$338=0)))","v":{"$error":"#DIV/0!"}},{"$f":"SUMPRODUCT((($CO$2:$CO$338=\"40\")*(BD$2:BD$338)*($CT$2:$CT$338=\"V\")*($F$2:$F$338=0))/SUMPRODUCT(($CO$2:$CO$338=\"40\")*(BD$2:BD$338>2)*($CT$2:$CT$338=\"V\")*($F$2:$F$338=0)))","v":{"$error":"#DIV/0!"}},{"$f":"SUMPRODUCT((($CO$2:$CO$338=\"40\")*(BE$2:BE$338)*($CT$2:$CT$338=\"V\")*($F$2:$F$338=0))/SUMPRODUCT(($CO$2:$CO$338=\"40\")*(BE$2:BE$338>2)*($CT$2:$CT$338=\"V\")*($F$2:$F$338=0)))","v":{"$error":"#DIV/0!"}},{"$f":"SUMPRODUCT((($CO$2:$CO$338=\"40\")*(BF$2:BF$338)*($CT$2:$CT$338=\"V\")*($F$2:$F$338=0))/SUMPRODUCT(($CO$2:$CO$338=\"40\")*(BF$2:BF$338>2)*($CT$2:$CT$338=\"V\")*($F$2:$F$338=0)))","v":{"$error":"#DIV/0!"}},{"$f":"SUMPRODUCT((($CO$2:$CO$338=\"40\")*(BG$2:BG$338)*($CT$2:$CT$338=\"V\")*($F$2:$F$338=0))/SUMPRODUCT(($CO$2:$CO$338=\"40\")*(BG$2:BG$338>2)*($CT$2:$CT$338=\"V\")*($F$2:$F$338=0)))","v":{"$error":"#DIV/0!"}},{"$f":"SUMPRODUCT((($CO$2:$CO$338=\"40\")*(BH$2:BH$338)*($CT$2:$CT$338=\"V\")*($F$2:$F$338=0))/SUMPRODUCT(($CO$2:$CO$338=\"40\")*(BH$2:BH$338>2)*($CT$2:$CT$338=\"V\")*($F$2:$F$338=0)))","v":{"$error":"#DIV/0!"}},{"$f":"SUMPRODUCT((($CO$2:$CO$338=\"40\")*(BI$2:BI$338)*($CT$2:$CT$338=\"V\")*($F$2:$F$338=0))/SUMPRODUCT(($CO$2:$CO$338=\"40\")*(BI$2:BI$338>2)*($CT$2:$CT$338=\"V\")*($F$2:$F$338=0)))","v":{"$error":"#DIV/0!"}},{"$f":"SUMPRODUCT((($CO$2:$CO$338=\"40\")*(BJ$2:BJ$338)*($CT$2:$CT$338=\"V\")*($F$2:$F$338=0))/SUMPRODUCT(($CO$2:$CO$338=\"40\")*(BJ$2:BJ$338>2)*($CT$2:$CT$338=\"V\")*($F$2:$F$338=0)))","v":{"$error":"#DIV/0!"}},{"$f":"SUMPRODUCT((($CO$2:$CO$338=\"40\")*(BK$2:BK$338)*($CT$2:$CT$338=\"V\")*($F$2:$F$338=0))/SUMPRODUCT(($CO$2:$CO$338=\"40\")*(BK$2:BK$338>2)*($CT$2:$CT$338=\"V\")*($F$2:$F$338=0)))","v":{"$error":"#DIV/0!"}},{"$f":"SUMPRODUCT((($CO$2:$CO$338=\"40\")*(BL$2:BL$338)*($CT$2:$CT$338=\"V\")*($F$2:$F$338=0))/SUMPRODUCT(($CO$2:$CO$338=\"40\")*(BL$2:BL$338>2)*($CT$2:$CT$338=\"V\")*($F$2:$F$338=0)))","v":{"$error":"#DIV/0!"}},{"$f":"SUMPRODUCT((($CO$2:$CO$338=\"40\")*(BM$2:BM$338)*($CT$2:$CT$338=\"V\")*($F$2:$F$338=0))/SUMPRODUCT(($CO$2:$CO$338=\"40\")*(BM$2:BM$338>2)*($CT$2:$CT$338=\"V\")*($F$2:$F$338=0)))","v":{"$error":"#DIV/0!"}},{"$f":"SUMPRODUCT((($CO$2:$CO$338=\"40\")*(BN$2:BN$338)*($CT$2:$CT$338=\"V\")*($F$2:$F$338=0))/SUMPRODUCT(($CO$2:$CO$338=\"40\")*(BN$2:BN$338>2)*($CT$2:$CT$338=\"V\")*($F$2:$F$338=0)))","v":{"$error":"#DIV/0!"}},{"$f":"SUMPRODUCT((($CO$2:$CO$338=\"40\")*(BO$2:BO$338)*($CT$2:$CT$338=\"V\")*($F$2:$F$338=0))/SUMPRODUCT(($CO$2:$CO$338=\"40\")*(BO$2:BO$338>2)*($CT$2:$CT$338=\"V\")*($F$2:$F$338=0)))","v":{"$error":"#DIV/0!"}},{"$f":"SUMPRODUCT((($CO$2:$CO$338=\"40\")*(BP$2:BP$338)*($CT$2:$CT$338=\"V\")*($F$2:$F$338=0))/SUMPRODUCT(($CO$2:$CO$338=\"40\")*(BP$2:BP$338>2)*($CT$2:$CT$338=\"V\")*($F$2:$F$338=0)))","v":{"$error":"#DIV/0!"}},{"$f":"SUMPRODUCT((($CO$2:$CO$338=\"40\")*(BQ$2:BQ$338)*($CT$2:$CT$338=\"V\")*($F$2:$F$338=0))/SUMPRODUCT(($CO$2:$CO$338=\"40\")*(BQ$2:BQ$338>2)*($CT$2:$CT$338=\"V\")*($F$2:$F$338=0)))","v":{"$error":"#DIV/0!"}},{"$f":"SUMPRODUCT((($CO$2:$CO$338=\"40\")*(BR$2:BR$338)*($CT$2:$CT$338=\"V\")*($F$2:$F$338=0))/SUMPRODUCT(($CO$2:$CO$338=\"40\")*(BR$2:BR$338>2)*($CT$2:$CT$338=\"V\")*($F$2:$F$338=0)))","v":{"$error":"#DIV/0!"}},{"$f":"SUMPRODUCT((($CO$2:$CO$338=\"40\")*(BS$2:BS$338)*($CT$2:$CT$338=\"V\")*($F$2:$F$338=0))/SUMPRODUCT(($CO$2:$CO$338=\"40\")*(BS$2:BS$338>2)*($CT$2:$CT$338=\"V\")*($F$2:$F$338=0)))","v":{"$error":"#DIV/0!"}},{"$f":"SUMPRODUCT((($CO$2:$CO$338=\"40\")*(BT$2:BT$338)*($CT$2:$CT$338=\"V\")*($F$2:$F$338=0))/SUMPRODUCT(($CO$2:$CO$338=\"40\")*(BT$2:BT$338>2)*($CT$2:$CT$338=\"V\")*($F$2:$F$338=0)))","v":{"$error":"#DIV/0!"}},{"$f":"SUMPRODUCT((($CO$2:$CO$338=\"40\")*(BU$2:BU$338)*($CT$2:$CT$338=\"V\")*($F$2:$F$338=0))/SUMPRODUCT(($CO$2:$CO$338=\"40\")*(BU$2:BU$338>2)*($CT$2:$CT$338=\"V\")*($F$2:$F$338=0)))","v":{"$error":"#DIV/0!"}},{"$f":"SUMPRODUCT((($CO$2:$CO$338=\"40\")*(BV$2:BV$338)*($CT$2:$CT$338=\"V\")*($F$2:$F$338=0))/SUMPRODUCT(($CO$2:$CO$338=\"40\")*(BV$2:BV$338>2)*($CT$2:$CT$338=\"V\")*($F$2:$F$338=0)))","v":{"$error":"#DIV/0!"}},{"$f":"SUMPRODUCT((($CO$2:$CO$338=\"40\")*(BW$2:BW$338)*($CT$2:$CT$338=\"V\")*($F$2:$F$338=0))/SUMPRODUCT(($CO$2:$CO$338=\"40\")*(BW$2:BW$338>2)*($CT$2:$CT$338=\"V\")*($F$2:$F$338=0)))","v":{"$error":"#DIV/0!"}},{"$error":"#DIV/0!"},{"$error":"#DIV/0!"},{"$error":"#DIV/0!"},{"$error":"#DIV/0!"},{"$error":"#DIV/0!"},{"$error":"#DIV/0!"},{"$error":"#DIV/0!"},{"$error":"#DIV/0!"},{"$error":"#DIV/0!"},{"$error":"#DIV/0!"},{"$error":"#DIV/0!"},{"$error":"#DIV/0!"},null,null,null,null,null,null,null,null,null,50,"40vsdoub","V S DOUBL",{"$f":"SUMPRODUCT(((#REF!>2)*($CO$2:$CO$339=\"40\")*(#REF!)*($CT$2:$CT$339=\"V\")*($F$2:$F$339=0))/SUMPRODUCT((#REF!>2)*($CO$2:$CO$339=\"40\")*(#REF!>2)*($CT$2:$CT$339=\"V\")*($F$2:$F$339=0)))","v":{"$error":"#REF!"}}]
[null,null,null,null,null,null,null,null,null,30,null,null,null,null,null,null,null,null,null,null,null,null,null,null,null,null,null,null,null,null,null,null,null,null,null,null,null,null,null,null,null,null,null,null,null,null,null,null,null,null,null,null,null,null,null,null,null,null,null,null,null,null,null,null,null,null,null,null,null,null,null,null,null,null,null,null,null,null,null,null,null,null,null,null,null,null,null,null,null,null,null,null,null,null,null,null,51,30]
[null,null,null,null,null,null,null,null,null,"30nb",{"$f":"SUM(($CO$2:$CO$338=\"30\")*(K$2:K$338>1)*1)","v":0},{"$f":"SUM(($CO$2:$CO$338=\"30\")*(L$2:L$338>1)*1)","v":0},{"$f":"SUM(($CO$2:$CO$338=\"30\")*(M$2:M$338>1)*1)","v":0},{"$f":"SUM(($CO$2:$CO$338=\"30\")*(N$2:N$338>1)*1)","v":0},{"$f":"SUM(($CO$2:$CO$338=\"30\")*(O$2:O$338>1)*1)","v":0},{"$f":"SUM(($CO$2:$CO$338=\"30\")*(P$2:P$338>1)*1)","v":0},{"$f":"SUM(($CO$2:$CO$338=\"30\")*(Q$2:Q$338>1)*1)","v":0},{"$f":"SUM(($CO$2:$CO$338=\"30\")*(R$2:R$338>1)*1)","v":0},{"$f":"SUM(($CO$2:$CO$338=\"30\")*(S$2:S$338>1)*1)","v":0},{"$f":"SUM(($CO$2:$CO$338=\"30\")*(T$2:T$338>1)*1)","v":0},{"$f":"SUM(($CO$2:$CO$338=\"30\")*(U$2:U$338>1)*1)","v":0},{"$f":"SUM(($CO$2:$CO$338=\"30\")*(V$2:V$338>1)*1)","v":0},{"$f":"SUM(($CO$2:$CO$338=\"30\")*(W$2:W$338>1)*1)","v":0},{"$f":"SUM(($CO$2:$CO$338=\"30\")*(X$2:X$338>1)*1)","v":0},{"$f":"SUM(($CO$2:$CO$338=\"30\")*(Y$2:Y$338>1)*1)","v":0},{"$f":"SUM(($CO$2:$CO$338=\"30\")*(Z$2:Z$338>1)*1)","v":0},{"$f":"SUM(($CO$2:$CO$338=\"30\")*(AA$2:AA$338>1)*1)","v":0},{"$f":"SUM(($CO$2:$CO$338=\"30\")*(AB$2:AB$338>1)*1)","v":0},{"$f":"SUM(($CO$2:$CO$338=\"30\")*(AC$2:AC$338>1)*1)","v":0},{"$f":"SUM(($CO$2:$CO$338=\"30\")*(AD$2:AD$338>1)*1)","v":0},{"$f":"SUM(($CO$2:$CO$338=\"30\")*(AE$2:AE$338>1)*1)","v":0},{"$f":"SUM(($CO$2:$CO$338=\"30\")*(AF$2:AF$338>1)*1)","v":0},{"$f":"SUM(($CO$2:$CO$338=\"30\")*(AG$2:AG$338>1)*1)","v":0},{"$f":"SUM(($CO$2:$CO$338=\"30\")*(AH$2:AH$338>1)*1)","v":0},{"$f":"SUM(($CO$2:$CO$338=\"30\")*(AI$2:AI$338>1)*1)","v":0},{"$f":"SUM(($CO$2:$CO$338=\"30\")*(AJ$2:AJ$338>1)*1)","v":0},{"$f":"SUM(($CO$2:$CO$338=\"30\")*(AK$2:AK$338>1)*1)","v":0},{"$f":"SUM(($CO$2:$CO$338=\"30\")*(AL$2:AL$338>1)*1)","v":0},{"$f":"SUM(($CO$2:$CO$338=\"30\")*(AM$2:AM$338>1)*1)","v":0},{"$f":"SUM(($CO$2:$CO$338=\"30\")*(AN$2:AN$338>1)*1)","v":0},{"$f":"SUM(($CO$2:$CO$338=\"30\")*(AO$2:AO$338>1)*1)","v":0},{"$f":"SUM(($CO$2:$CO$338=\"30\")*(AP$2:AP$338>1)*1)","v":0},{"$f":"SUM(($CO$2:$CO$338=\"30\")*(AQ$2:AQ$338>1)*1)","v":0},{"$f":"SUM(($CO$2:$CO$338=\"30\")*(AR$2:AR$338>1)*1)","v":0},{"$f":"SUM(($CO$2:$CO$338=\"30\")*(AS$2:AS$338>1)*1)","v":0},{"$f":"SUM(($CO$2:$CO$338=\"30\")*(AT$2:AT$338>1)*1)","v":0},{"$f":"SUM(($CO$2:$CO$338=\"30\")*(AU$2:AU$338>1)*1)","v":0},{"$f":"SUM(($CO$2:$CO$338=\"30\")*(AV$2:AV$338>1)*1)","v":0},{"$f":"SUM(($CO$2:$CO$338=\"30\")*(AW$2:AW$338>1)*1)","v":0},{"$f":"SUM(($CO$2:$CO$338=\"30\")*(AX$2:AX$338>1)*1)","v":0},{"$f":"SUM(($CO$2:$CO$338=\"30\")*(AY$2:AY$338>1)*1)","v":0},{"$f":"SUM(($CO$2:$CO$338=\"30\")*(AZ$2:AZ$338>1)*1)","v":0},{"$f":"SUM(($CO$2:$CO$338=\"30\")*(BA$2:BA$338>1)*1)","v":0},{"$f":"SUM(($CO$2:$CO$338=\"30\")*(BB$2:BB$338>1)*1)","v":0},{"$f":"SUM(($CO$2:$CO$338=\"30\")*(BC$2:BC$338>1)*1)","v":0},{"$f":"SUM(($CO$2:$CO$338=\"30\")*(BD$2:BD$338>1)*1)","v":0},{"$f":"SUM(($CO$2:$CO$338=\"30\")*(BE$2:BE$338>1)*1)","v":0},{"$f":"SUM(($CO$2:$CO$338=\"30\")*(BF$2:BF$338>1)*1)","v":0},{"$f":"SUM(($CO$2:$CO$338=\"30\")*(BG$2:BG$338>1)*1)","v":0},{"$f":"SUM(($CO$2:$CO$338=\"30\")*(BH$2:BH$338>1)*1)","v":0},{"$f":"SUM(($CO$2:$CO$338=\"30\")*(BI$2:BI$338>1)*1)","v":0},{"$f":"SUM(($CO$2:$CO$338=\"30\")*(BJ$2:BJ$338>1)*1)","v":0},{"$f":"SUM(($CO$2:$CO$338=\"30\")*(BK$2:BK$338>1)*1)","v":0},{"$f":"SUM(($CO$2:$CO$338=\"30\")*(BL$2:BL$338>1)*1)","v":0},{"$f":"SUM(($CO$2:$CO$338=\"30\")*(BM$2:BM$338>1)*1)","v":0},{"$f":"SUM(($CO$2:$CO$338=\"30\")*(BN$2:BN$338>1)*1)","v":0},{"$f":"SUM(($CO$2:$CO$338=\"30\")*(BO$2:BO$338>1)*1)","v":0},{"$f":"SUM(($CO$2:$CO$338=\"30\")*(BP$2:BP$338>1)*1)","v":0},{"$f":"SUM(($CO$2:$CO$338=\"30\")*(BQ$2:BQ$338>1)*1)","v":0},{"$f":"SUM(($CO$2:$CO$338=\"30\")*(BR$2:BR$338>1)*1)","v":0},{"$f":"SUM(($CO$2:$CO$338=\"30\")*(BS$2:BS$338>1)*1)","v":0},{"$f":"SUM(($CO$2:$CO$338=\"30\")*(BT$2:BT$338>1)*1)","v":0},{"$f":"SUM(($CO$2:$CO$338=\"30\")*(BU$2:BU$338>1)*1)","v":0},{"$f":"SUM(($CO$2:$CO$338=\"30\")*(BV$2:BV$338>1)*1)","v":0},{"$f":"SUM(($CO$2:$CO$338=\"30\")*(BW$2:BW$338>1)*1)","v":0},{"$f":"SUM(($CO$2:$CO$338=\"30\")*(BX$2:BX$338>1)*1)","v":0},{"$f":"SUM(($CO$2:$CO$338=\"30\")*(BY$2:BY$338>1)*1)","v":0},{"$f":"SUM(($CO$2:$CO$338=\"30\")*(BZ$2:BZ$338>1)*1)","v":0},{"$f":"SUM(($CO$2:$CO$338=\"30\")*(CA$2:CA$338>1)*1)","v":0},{"$f":"SUM(($CO$2:$CO$338=\"30\")*(CB$2:CB$338>1)*1)","v":0},{"$f":"SUM(($CO$2:$CO$338=\"30\")*(CC$2:CC$338>1)*1)","v":0},{"$f":"SUM(($CO$2:$CO$338=\"30\")*(CD$2:CD$338>1)*1)","v":0},{"$f":"SUM(($CO$2:$CO$338=\"30\")*(CE$2:CE$338>1)*1)","v":0},{"$f":"SUM(($CO$2:$CO$338=\"30\")*(CF$2:CF$338>1)*1)","v":0},{"$f":"SUM(($CO$2:$CO$338=\"30\")*(CG$2:CG$338>1)*1)","v":0},{"$f":"SUM(($CO$2:$CO$338=\"30\")*(CH$2:CH$338>1)*1)","v":0},{"$f":"SUM(($CO$2:$CO$338=\"30\")*(CI$2:CI$338>1)*1)","v":0},null,null,null,null,null,null,null,null,null,52,"30nb",null,{"$f":"#REF!","v":{"$error":"#REF!"}}]
[null,null,null,null,null,null,null,null,null,"30moy",{"$f":"SUMPRODUCT((($CO$2:$CO$338=\"30\")*(K$2:K$338))/SUMPRODUCT(($CO$2:$CO$338=\"30\")*(K$2:K$338>2))\n)","v":{"$error":"#DIV/0!"}},{"$f":"SUMPRODUCT((($CO$2:$CO$338=\"30\")*(L$2:L$338))/SUMPRODUCT(($CO$2:$CO$338=\"30\")*(L$2:L$338>2))\n)","v":{"$error":"#DIV/0!"}},{"$f":"SUMPRODUCT((($CO$2:$CO$338=\"30\")*(M$2:M$338))/SUMPRODUCT(($CO$2:$CO$338=\"30\")*(M$2:M$338>2))\n)","v":{"$error":"#DIV/0!"}},{"$f":"SUMPRODUCT((($CO$2:$CO$338=\"30\")*(N$2:N$338))/SUMPRODUCT(($CO$2:$CO$338=\"30\")*(N$2:N$338>2))\n)","v":{"$error":"#DIV/0!"}},{"$f":"SUMPRODUCT((($CO$2:$CO$338=\"30\")*(O$2:O$338))/SUMPRODUCT(($CO$2:$CO$338=\"30\")*(O$2:O$338>2))\n)","v":{"$error":"#DIV/0!"}},{"$f":"SUMPRODUCT((($CO$2:$CO$338=\"30\")*(P$2:P$338))/SUMPRODUCT(($CO$2:$CO$338=\"30\")*(P$2:P$338>2))\n)","v":{"$error":"#DIV/0!"}},{"$f":"SUMPRODUCT((($CO$2:$CO$338=\"30\")*(Q$2:Q$338))/SUMPRODUCT(($CO$2:$CO$338=\"30\")*(Q$2:Q$338>2))\n)","v":{"$error":"#DIV/0!"}},{"$f":"SUMPRODUCT((($CO$2:$CO$338=\"30\")*(R$2:R$338))/SUMPRODUCT(($CO$2:$CO$338=\"30\")*(R$2:R$338>2))\n)","v":{"$error":"#DIV/0!"}},{"$f":"SUMPRODUCT((($CO$2:$CO$338=\"30\")*(S$2:S$338))/SUMPRODUCT(($CO$2:$CO$338=\"30\")*(S$2:S$338>2))\n)","v":{"$error":"#DIV/0!"}},{"$f":"SUMPRODUCT((($CO$2:$CO$338=\"30\")*(T$2:T$338))/SUMPRODUCT(($CO$2:$CO$338=\"30\")*(T$2:T$338>2))\n)","v":{"$error":"#DIV/0!"}},{"$f":"SUMPRODUCT((($CO$2:$CO$338=\"30\")*(U$2:U$338))/SUMPRODUCT(($CO$2:$CO$338=\"30\")*(U$2:U$338>2))\n)","v":{"$error":"#DIV/0!"}},{"$f":"SUMPRODUCT((($CO$2:$CO$338=\"30\")*(V$2:V$338))/SUMPRODUCT(($CO$2:$CO$338=\"30\")*(V$2:V$338>2))\n)","v":{"$error":"#DIV/0!"}},{"$f":"SUMPRODUCT((($CO$2:$CO$338=\"30\")*(W$2:W$338))/SUMPRODUCT(($CO$2:$CO$338=\"30\")*(W$2:W$338>2))\n)","v":{"$error":"#DIV/0!"}},{"$f":"SUMPRODUCT((($CO$2:$CO$338=\"30\")*(X$2:X$338))/SUMPRODUCT(($CO$2:$CO$338=\"30\")*(X$2:X$338>2))\n)","v":{"$error":"#DIV/0!"}},{"$f":"SUMPRODUCT((($CO$2:$CO$338=\"30\")*(Y$2:Y$338))/SUMPRODUCT(($CO$2:$CO$338=\"30\")*(Y$2:Y$338>2))\n)","v":{"$error":"#DIV/0!"}},{"$f":"SUMPRODUCT((($CO$2:$CO$338=\"30\")*(Z$2:Z$338))/SUMPRODUCT(($CO$2:$CO$338=\"30\")*(Z$2:Z$338>2))\n)","v":{"$error":"#DIV/0!"}},{"$f":"SUMPRODUCT((($CO$2:$CO$338=\"30\")*(AA$2:AA$338))/SUMPRODUCT(($CO$2:$CO$338=\"30\")*(AA$2:AA$338>2))\n)","v":{"$error":"#DIV/0!"}},{"$f":"SUMPRODUCT((($CO$2:$CO$338=\"30\")*(AB$2:AB$338))/SUMPRODUCT(($CO$2:$CO$338=\"30\")*(AB$2:AB$338>2))\n)","v":{"$error":"#DIV/0!"}},{"$f":"SUMPRODUCT((($CO$2:$CO$338=\"30\")*(AC$2:AC$338))/SUMPRODUCT(($CO$2:$CO$338=\"30\")*(AC$2:AC$338>2))\n)","v":{"$error":"#DIV/0!"}},{"$f":"SUMPRODUCT((($CO$2:$CO$338=\"30\")*(AD$2:AD$338))/SUMPRODUCT(($CO$2:$CO$338=\"30\")*(AD$2:AD$338>2))\n)","v":{"$error":"#DIV/0!"}},{"$f":"SUMPRODUCT((($CO$2:$CO$338=\"30\")*(AE$2:AE$338))/SUMPRODUCT(($CO$2:$CO$338=\"30\")*(AE$2:AE$338>2))\n)","v":{"$error":"#DIV/0!"}},{"$f":"SUMPRODUCT((($CO$2:$CO$338=\"30\")*(AF$2:AF$338))/SUMPRODUCT(($CO$2:$CO$338=\"30\")*(AF$2:AF$338>2))\n)","v":{"$error":"#DIV/0!"}},{"$f":"SUMPRODUCT((($CO$2:$CO$338=\"30\")*(AG$2:AG$338))/SUMPRODUCT(($CO$2:$CO$338=\"30\")*(AG$2:AG$338>2))\n)","v":{"$error":"#DIV/0!"}},{"$f":"SUMPRODUCT((($CO$2:$CO$338=\"30\")*(AH$2:AH$338))/SUMPRODUCT(($CO$2:$CO$338=\"30\")*(AH$2:AH$338>2))\n)","v":{"$error":"#DIV/0!"}},{"$f":"SUMPRODUCT((($CO$2:$CO$338=\"30\")*(AI$2:AI$338))/SUMPRODUCT(($CO$2:$CO$338=\"30\")*(AI$2:AI$338>2))\n)","v":{"$error":"#DIV/0!"}},{"$f":"SUMPRODUCT((($CO$2:$CO$338=\"30\")*(AJ$2:AJ$338))/SUMPRODUCT(($CO$2:$CO$338=\"30\")*(AJ$2:AJ$338>2))\n)","v":{"$error":"#DIV/0!"}},{"$f":"SUMPRODUCT((($CO$2:$CO$338=\"30\")*(AK$2:AK$338))/SUMPRODUCT(($CO$2:$CO$338=\"30\")*(AK$2:AK$338>2))\n)","v":{"$error":"#DIV/0!"}},{"$f":"SUMPRODUCT((($CO$2:$CO$338=\"30\")*(AL$2:AL$338))/SUMPRODUCT(($CO$2:$CO$338=\"30\")*(AL$2:AL$338>2))\n)","v":{"$error":"#DIV/0!"}},{"$f":"SUMPRODUCT((($CO$2:$CO$338=\"30\")*(AM$2:AM$338))/SUMPRODUCT(($CO$2:$CO$338=\"30\")*(AM$2:AM$338>2))\n)","v":{"$error":"#DIV/0!"}},{"$f":"SUMPRODUCT((($CO$2:$CO$338=\"30\")*(AN$2:AN$338))/SUMPRODUCT(($CO$2:$CO$338=\"30\")*(AN$2:AN$338>2))\n)","v":{"$error":"#DIV/0!"}},{"$f":"SUMPRODUCT((($CO$2:$CO$338=\"30\")*(AO$2:AO$338))/SUMPRODUCT(($CO$2:$CO$338=\"30\")*(AO$2:AO$338>2))\n)","v":{"$error":"#DIV/0!"}},{"$f":"SUMPRODUCT((($CO$2:$CO$338=\"30\")*(AP$2:AP$338))/SUMPRODUCT(($CO$2:$CO$338=\"30\")*(AP$2:AP$338>2))\n)","v":{"$error":"#DIV/0!"}},{"$f":"SUMPRODUCT((($CO$2:$CO$338=\"30\")*(AQ$2:AQ$338))/SUMPRODUCT(($CO$2:$CO$338=\"30\")*(AQ$2:AQ$338>2))\n)","v":{"$error":"#DIV/0!"}},{"$f":"SUMPRODUCT((($CO$2:$CO$338=\"30\")*(AR$2:AR$338))/SUMPRODUCT(($CO$2:$CO$338=\"30\")*(AR$2:AR$338>2))\n)","v":{"$error":"#DIV/0!"}},{"$f":"SUMPRODUCT((($CO$2:$CO$338=\"30\")*(AS$2:AS$338))/SUMPRODUCT(($CO$2:$CO$338=\"30\")*(AS$2:AS$338>2))\n)","v":{"$error":"#DIV/0!"}},{"$f":"SUMPRODUCT((($CO$2:$CO$338=\"30\")*(AT$2:AT$338))/SUMPRODUCT(($CO$2:$CO$338=\"30\")*(AT$2:AT$338>2))\n)","v":{"$error":"#DIV/0!"}},{"$f":"SUMPRODUCT((($CO$2:$CO$338=\"30\")*(AU$2:AU$338))/SUMPRODUCT(($CO$2:$CO$338=\"30\")*(AU$2:AU$338>2))\n)","v":{"$error":"#DIV/0!"}},{"$f":"SUMPRODUCT((($CO$2:$CO$338=\"30\")*(AV$2:AV$338))/SUMPRODUCT(($CO$2:$CO$338=\"30\")*(AV$2:AV$338>2))\n)","v":{"$error":"#DIV/0!"}},{"$f":"SUMPRODUCT((($CO$2:$CO$338=\"30\")*(AW$2:AW$338))/SUMPRODUCT(($CO$2:$CO$338=\"30\")*(AW$2:AW$338>2))\n)","v":{"$error":"#DIV/0!"}},{"$f":"SUMPRODUCT((($CO$2:$CO$338=\"30\")*(AX$2:AX$338))/SUMPRODUCT(($CO$2:$CO$338=\"30\")*(AX$2:AX$338>2))\n)","v":{"$error":"#DIV/0!"}},{"$f":"SUMPRODUCT((($CO$2:$CO$338=\"30\")*(AY$2:AY$338))/SUMPRODUCT(($CO$2:$CO$338=\"30\")*(AY$2:AY$338>2))\n)","v":{"$error":"#DIV/0!"}},{"$f":"SUMPRODUCT((($CO$2:$CO$338=\"30\")*(AZ$2:AZ$338))/SUMPRODUCT(($CO$2:$CO$338=\"30\")*(AZ$2:AZ$338>2))\n)","v":{"$error":"#DIV/0!"}},{"$f":"SUMPRODUCT((($CO$2:$CO$338=\"30\")*(BA$2:BA$338))/SUMPRODUCT(($CO$2:$CO$338=\"30\")*(BA$2:BA$338>2))\n)","v":{"$error":"#DIV/0!"}},{"$f":"SUMPRODUCT((($CO$2:$CO$338=\"30\")*(BB$2:BB$338))/SUMPRODUCT(($CO$2:$CO$338=\"30\")*(BB$2:BB$338>2))\n)","v":{"$error":"#DIV/0!"}},{"$f":"SUMPRODUCT((($CO$2:$CO$338=\"30\")*(BC$2:BC$338))/SUMPRODUCT(($CO$2:$CO$338=\"30\")*(BC$2:BC$338>2))\n)","v":{"$error":"#DIV/0!"}},{"$f":"SUMPRODUCT((($CO$2:$CO$338=\"30\")*(BD$2:BD$338))/SUMPRODUCT(($CO$2:$CO$338=\"30\")*(BD$2:BD$338>2))\n)","v":{"$error":"#DIV/0!"}},{"$f":"SUMPRODUCT((($CO$2:$CO$338=\"30\")*(BE$2:BE$338))/SUMPRODUCT(($CO$2:$CO$338=\"30\")*(BE$2:BE$338>2))\n)","v":{"$error":"#DIV/0!"}},{"$f":"SUMPRODUCT((($CO$2:$CO$338=\"30\")*(BF$2:BF$338))/SUMPRODUCT(($CO$2:$CO$338=\"30\")*(BF$2:BF$338>2))\n)","v":{"$error":"#DIV/0!"}},{"$f":"SUMPRODUCT((($CO$2:$CO$338=\"30\")*(BG$2:BG$338))/SUMPRODUCT(($CO$2:$CO$338=\"30\")*(BG$2:BG$338>2))\n)","v":{"$error":"#DIV/0!"}},{"$f":"SUMPRODUCT((($CO$2:$CO$338=\"30\")*(BH$2:BH$338))/SUMPRODUCT(($CO$2:$CO$338=\"30\")*(BH$2:BH$338>2))\n)","v":{"$error":"#DIV/0!"}},{"$f":"SUMPRODUCT((($CO$2:$CO$338=\"30\")*(BI$2:BI$338))/SUMPRODUCT(($CO$2:$CO$338=\"30\")*(BI$2:BI$338>2))\n)","v":{"$error":"#DIV/0!"}},{"$f":"SUMPRODUCT((($CO$2:$CO$338=\"30\")*(BJ$2:BJ$338))/SUMPRODUCT(($CO$2:$CO$338=\"30\")*(BJ$2:BJ$338>2))\n)","v":{"$error":"#DIV/0!"}},{"$f":"SUMPRODUCT((($CO$2:$CO$338=\"30\")*(BK$2:BK$338))/SUMPRODUCT(($CO$2:$CO$338=\"30\")*(BK$2:BK$338>2))\n)","v":{"$error":"#DIV/0!"}},{"$f":"SUMPRODUCT((($CO$2:$CO$338=\"30\")*(BL$2:BL$338))/SUMPRODUCT(($CO$2:$CO$338=\"30\")*(BL$2:BL$338>2))\n)","v":{"$error":"#DIV/0!"}},{"$f":"SUMPRODUCT((($CO$2:$CO$338=\"30\")*(BM$2:BM$338))/SUMPRODUCT(($CO$2:$CO$338=\"30\")*(BM$2:BM$338>2))\n)","v":{"$error":"#DIV/0!"}},{"$f":"SUMPRODUCT((($CO$2:$CO$338=\"30\")*(BN$2:BN$338))/SUMPRODUCT(($CO$2:$CO$338=\"30\")*(BN$2:BN$338>2))\n)","v":{"$error":"#DIV/0!"}},{"$f":"SUMPRODUCT((($CO$2:$CO$338=\"30\")*(BO$2:BO$338))/SUMPRODUCT(($CO$2:$CO$338=\"30\")*(BO$2:BO$338>2))\n)","v":{"$error":"#DIV/0!"}},{"$f":"SUMPRODUCT((($CO$2:$CO$338=\"30\")*(BP$2:BP$338))/SUMPRODUCT(($CO$2:$CO$338=\"30\")*(BP$2:BP$338>2))\n)","v":{"$error":"#DIV/0!"}},{"$f":"SUMPRODUCT((($CO$2:$CO$338=\"30\")*(BQ$2:BQ$338))/SUMPRODUCT(($CO$2:$CO$338=\"30\")*(BQ$2:BQ$338>2))\n)","v":{"$error":"#DIV/0!"}},{"$f":"SUMPRODUCT((($CO$2:$CO$338=\"30\")*(BR$2:BR$338))/SUMPRODUCT(($CO$2:$CO$338=\"30\")*(BR$2:BR$338>2))\n)","v":{"$error":"#DIV/0!"}},{"$f":"SUMPRODUCT((($CO$2:$CO$338=\"30\")*(BS$2:BS$338))/SUMPRODUCT(($CO$2:$CO$338=\"30\")*(BS$2:BS$338>2))\n)","v":{"$error":"#DIV/0!"}},{"$f":"SUMPRODUCT((($CO$2:$CO$338=\"30\")*(BT$2:BT$338))/SUMPRODUCT(($CO$2:$CO$338=\"30\")*(BT$2:BT$338>2))\n)","v":{"$error":"#DIV/0!"}},{"$f":"SUMPRODUCT((($CO$2:$CO$338=\"30\")*(BU$2:BU$338))/SUMPRODUCT(($CO$2:$CO$338=\"30\")*(BU$2:BU$338>2))\n)","v":{"$error":"#DIV/0!"}},{"$f":"SUMPRODUCT((($CO$2:$CO$338=\"30\")*(BV$2:BV$338))/SUMPRODUCT(($CO$2:$CO$338=\"30\")*(BV$2:BV$338>2))\n)","v":{"$error":"#DIV/0!"}},{"$f":"SUMPRODUCT((($CO$2:$CO$338=\"30\")*(BW$2:BW$338))/SUMPRODUCT(($CO$2:$CO$338=\"30\")*(BW$2:BW$338>2))\n)","v":{"$error":"#DIV/0!"}},{"$f":"IF(L393=0,0,IF(M393=0,AVERAGE(M393,K393,N393),AVERAGE(K393:N393)))","v":{"$error":"#DIV/0!"}},{"$f":"IF(P393=0,0,IF(Q393=0,AVERAGE(Q393,O393,R393),AVERAGE(O393:R393)))","v":{"$error":"#DIV/0!"}},{"$f":"IF(T393=0,0,IF(U393=0,AVERAGE(T393,S393,V393),AVERAGE(S393:V393)))","v":{"$error":"#DIV/0!"}},{"$f":"IF(AB393=0,0,IF(AC393=0,AVERAGE(AB393,AA393,AD393),AVERAGE(AA393:AD393)))","v":{"$error":"#DIV/0!"}},{"$f":"IF(AF393=0,0,IF(AG393=0,AVERAGE(AF393,AE393,AH393),AVERAGE(AE393:AH393)))","v":{"$error":"#DIV/0!"}},{"$f":"IF(AJ393=0,0,IF(AK393=0,AVERAGE(AJ393,AI393,AL393),AVERAGE(AI393:AL393)))","v":{"$error":"#DIV/0!"}},{"$f":"IF(AN393=0,0,IF(AO393=0,AVERAGE(AN393,AM393,AP393),AVERAGE(AM393:AP393)))","v":{"$error":"#DIV/0!"}},{"$f":"IF(AR393=0,0,IF(AS393=0,AVERAGE(AR393,AQ393,AT393),AVERAGE(AQ393:AT393)))","v":{"$error":"#DIV/0!"}},{"$f":"IF(AV393=0,0,IF(AW393=0,AVERAGE(AV393,AU393,AX393),AVERAGE(AU393:AX393)))","v":{"$error":"#DIV/0!"}},{"$f":"IF(AZ393=0,0,IF(BA393=0,AVERAGE(AZ393,AY393,BB393),AVERAGE(AY393:BB393)))","v":{"$error":"#DIV/0!"}},{"$f":"IF(BD393=0,0,IF(BE393=0,AVERAGE(BD393,BC393,BF393),AVERAGE(BC393:BF393)))","v":{"$error":"#DIV/0!"}},{"$f":"IF(BH393=0,0,IF(BI393=0,AVERAGE(BH393,BG393,BJ393,BM393),AVERAGE(BG393:BJ393)))","v":{"$error":"#DIV/0!"}},null,null,null,null,null,null,null,null,null,53,"30moy",null,{"$f":"SUMPRODUCT(((#REF!>2)*($CO$2:$CO$339=\"30\")*(#REF!))/SUMPRODUCT((#REF!>2)*($CO$2:$CO$339=\"30\")*(#REF!>2))\n)","v":{"$error":"#REF!"}}]
[null,null,null,null,null,null,null,null,null,"30taux",{"$f":"(SUM(($CO$2:$CO$338=\"30\")*(K$2:K$338>=60)*1))/K392*100","v":{"$error":"#DIV/0!"}},{"$f":"(SUM(($CO$2:$CO$338=\"30\")*(L$2:L$338>=60)*1))/L392*100","v":{"$error":"#DIV/0!"}},{"$f":"(SUM(($CO$2:$CO$338=\"30\")*(M$2:M$338>=60)*1))/M392*100","v":{"$error":"#DIV/0!"}},{"$f":"(SUM(($CO$2:$CO$338=\"30\")*(N$2:N$338>=60)*1))/N392*100","v":{"$error":"#DIV/0!"}},{"$f":"(SUM(($CO$2:$CO$338=\"30\")*(O$2:O$338>=60)*1))/O392*100","v":{"$error":"#DIV/0!"}},{"$f":"(SUM(($CO$2:$CO$338=\"30\")*(P$2:P$338>=60)*1))/P392*100","v":{"$error":"#DIV/0!"}},{"$f":"(SUM(($CO$2:$CO$338=\"30\")*(Q$2:Q$338>=60)*1))/Q392*100","v":{"$error":"#DIV/0!"}},{"$f":"(SUM(($CO$2:$CO$338=\"30\")*(R$2:R$338>=60)*1))/R392*100","v":{"$error":"#DIV/0!"}},{"$f":"(SUM(($CO$2:$CO$338=\"30\")*(S$2:S$338>=60)*1))/S392*100","v":{"$error":"#DIV/0!"}},{"$f":"(SUM(($CO$2:$CO$338=\"30\")*(T$2:T$338>=60)*1))/T392*100","v":{"$error":"#DIV/0!"}},{"$f":"(SUM(($CO$2:$CO$338=\"30\")*(U$2:U$338>=60)*1))/U392*100","v":{"$error":"#DIV/0!"}},{"$f":"(SUM(($CO$2:$CO$338=\"30\")*(V$2:V$338>=60)*1))/V392*100","v":{"$error":"#DIV/0!"}},{"$f":"(SUM(($CO$2:$CO$338=\"30\")*(W$2:W$338>=60)*1))/W392*100","v":{"$error":"#DIV/0!"}},{"$f":"(SUM(($CO$2:$CO$338=\"30\")*(X$2:X$338>=60)*1))/X392*100","v":{"$error":"#DIV/0!"}},{"$f":"(SUM(($CO$2:$CO$338=\"30\")*(Y$2:Y$338>=60)*1))/Y392*100","v":{"$error":"#DIV/0!"}},{"$f":"(SUM(($CO$2:$CO$338=\"30\")*(Z$2:Z$338>=60)*1))/Z392*100","v":{"$error":"#DIV/0!"}},{"$f":"(SUM(($CO$2:$CO$338=\"30\")*(AA$2:AA$338>=60)*1))/AA392*100","v":{"$error":"#DIV/0!"}},{"$f":"(SUM(($CO$2:$CO$338=\"30\")*(AB$2:AB$338>=60)*1))/AB392*100","v":{"$error":"#DIV/0!"}},{"$f":"(SUM(($CO$2:$CO$338=\"30\")*(AC$2:AC$338>=60)*1))/AC392*100","v":{"$error":"#DIV/0!"}},{"$f":"(SUM(($CO$2:$CO$338=\"30\")*(AD$2:AD$338>=60)*1))/AD392*100","v":{"$error":"#DIV/0!"}},{"$f":"(SUM(($CO$2:$CO$338=\"30\")*(AE$2:AE$338>=60)*1))/AE392*100","v":{"$error":"#DIV/0!"}},{"$f":"(SUM(($CO$2:$CO$338=\"30\")*(AF$2:AF$338>=60)*1))/AF392*100","v":{"$error":"#DIV/0!"}},{"$f":"(SUM(($CO$2:$CO$338=\"30\")*(AG$2:AG$338>=60)*1))/AG392*100","v":{"$error":"#DIV/0!"}},{"$f":"(SUM(($CO$2:$CO$338=\"30\")*(AH$2:AH$338>=60)*1))/AH392*100","v":{"$error":"#DIV/0!"}},{"$f":"(SUM(($CO$2:$CO$338=\"30\")*(AI$2:AI$338>=60)*1))/AI392*100","v":{"$error":"#DIV/0!"}},{"$f":"(SUM(($CO$2:$CO$338=\"30\")*(AJ$2:AJ$338>=60)*1))/AJ392*100","v":{"$error":"#DIV/0!"}},{"$f":"(SUM(($CO$2:$CO$338=\"30\")*(AK$2:AK$338>=60)*1))/AK392*100","v":{"$error":"#DIV/0!"}},{"$f":"(SUM(($CO$2:$CO$338=\"30\")*(AL$2:AL$338>=60)*1))/AL392*100","v":{"$error":"#DIV/0!"}},{"$f":"(SUM(($CO$2:$CO$338=\"30\")*(AM$2:AM$338>=60)*1))/AM392*100","v":{"$error":"#DIV/0!"}},{"$f":"(SUM(($CO$2:$CO$338=\"30\")*(AN$2:AN$338>=60)*1))/AN392*100","v":{"$error":"#DIV/0!"}},{"$f":"(SUM(($CO$2:$CO$338=\"30\")*(AO$2:AO$338>=60)*1))/AO392*100","v":{"$error":"#DIV/0!"}},{"$f":"(SUM(($CO$2:$CO$338=\"30\")*(AP$2:AP$338>=60)*1))/AP392*100","v":{"$error":"#DIV/0!"}},{"$f":"(SUM(($CO$2:$CO$338=\"30\")*(AQ$2:AQ$338>=60)*1))/AQ392*100","v":{"$error":"#DIV/0!"}},{"$f":"(SUM(($CO$2:$CO$338=\"30\")*(AR$2:AR$338>=60)*1))/AR392*100","v":{"$error":"#DIV/0!"}},{"$f":"(SUM(($CO$2:$CO$338=\"30\")*(AS$2:AS$338>=60)*1))/AS392*100","v":{"$error":"#DIV/0!"}},{"$f":"(SUM(($CO$2:$CO$338=\"30\")*(AT$2:AT$338>=60)*1))/AT392*100","v":{"$error":"#DIV/0!"}},{"$f":"(SUM(($CO$2:$CO$338=\"30\")*(AU$2:AU$338>=60)*1))/AU392*100","v":{"$error":"#DIV/0!"}},{"$f":"(SUM(($CO$2:$CO$338=\"30\")*(AV$2:AV$338>=60)*1))/AV392*100","v":{"$error":"#DIV/0!"}},{"$f":"(SUM(($CO$2:$CO$338=\"30\")*(AW$2:AW$338>=60)*1))/AW392*100","v":{"$error":"#DIV/0!"}},{"$f":"(SUM(($CO$2:$CO$338=\"30\")*(AX$2:AX$338>=60)*1))/AX392*100","v":{"$error":"#DIV/0!"}},{"$f":"(SUM(($CO$2:$CO$338=\"30\")*(AY$2:AY$338>=60)*1))/AY392*100","v":{"$error":"#DIV/0!"}},{"$f":"(SUM(($CO$2:$CO$338=\"30\")*(AZ$2:AZ$338>=60)*1))/AZ392*100","v":{"$error":"#DIV/0!"}},{"$f":"(SUM(($CO$2:$CO$338=\"30\")*(BA$2:BA$338>=60)*1))/BA392*100","v":{"$error":"#DIV/0!"}},{"$f":"(SUM(($CO$2:$CO$338=\"30\")*(BB$2:BB$338>=60)*1))/BB392*100","v":{"$error":"#DIV/0!"}},{"$f":"(SUM(($CO$2:$CO$338=\"30\")*(BC$2:BC$338>=60)*1))/BC392*100","v":{"$error":"#DIV/0!"}},{"$f":"(SUM(($CO$2:$CO$338=\"30\")*(BD$2:BD$338>=60)*1))/BD392*100","v":{"$error":"#DIV/0!"}},{"$f":"(SUM(($CO$2:$CO$338=\"30\")*(BE$2:BE$338>=60)*1))/BE392*100","v":{"$error":"#DIV/0!"}},{"$f":"(SUM(($CO$2:$CO$338=\"30\")*(BF$2:BF$338>=60)*1))/BF392*100","v":{"$error":"#DIV/0!"}},{"$f":"(SUM(($CO$2:$CO$338=\"30\")*(BG$2:BG$338>=60)*1))/BG392*100","v":{"$error":"#DIV/0!"}},{"$f":"(SUM(($CO$2:$CO$338=\"30\")*(BH$2:BH$338>=60)*1))/BH392*100","v":{"$error":"#DIV/0!"}},{"$f":"(SUM(($CO$2:$CO$338=\"30\")*(BI$2:BI$338>=60)*1))/BI392*100","v":{"$error":"#DIV/0!"}},{"$f":"(SUM(($CO$2:$CO$338=\"30\")*(BJ$2:BJ$338>=60)*1))/BJ392*100","v":{"$error":"#DIV/0!"}},{"$f":"(SUM(($CO$2:$CO$338=\"30\")*(BK$2:BK$338>=60)*1))/BK392*100","v":{"$error":"#DIV/0!"}},{"$f":"(SUM(($CO$2:$CO$338=\"30\")*(BL$2:BL$338>=60)*1))/BL392*100","v":{"$error":"#DIV/0!"}},{"$f":"(SUM(($CO$2:$CO$338=\"30\")*(BM$2:BM$338>=60)*1))/BM392*100","v":{"$error":"#DIV/0!"}},{"$f":"(SUM(($CO$2:$CO$338=\"30\")*(BN$2:BN$338>=60)*1))/BN392*100","v":{"$error":"#DIV/0!"}},{"$f":"(SUM(($CO$2:$CO$338=\"30\")*(BO$2:BO$338>=60)*1))/BO392*100","v":{"$error":"#DIV/0!"}},{"$f":"(SUM(($CO$2:$CO$338=\"30\")*(BP$2:BP$338>=60)*1))/BP392*100","v":{"$error":"#DIV/0!"}},{"$f":"(SUM(($CO$2:$CO$338=\"30\")*(BQ$2:BQ$338>=60)*1))/BQ392*100","v":{"$error":"#DIV/0!"}},{"$f":"(SUM(($CO$2:$CO$338=\"30\")*(BR$2:BR$338>=60)*1))/BR392*100","v":{"$error":"#DIV/0!"}},{"$f":"(SUM(($CO$2:$CO$338=\"30\")*(BS$2:BS$338>=60)*1))/BS392*100","v":{"$error":"#DIV/0!"}},{"$f":"(SUM(($CO$2:$CO$338=\"30\")*(BT$2:BT$338>=60)*1))/BT392*100","v":{"$error":"#DIV/0!"}},{"$f":"(SUM(($CO$2:$CO$338=\"30\")*(BU$2:BU$338>=60)*1))/BU392*100","v":{"$error":"#DIV/0!"}},{"$f":"(SUM(($CO$2:$CO$338=\"30\")*(BV$2:BV$338>=60)*1))/BV392*100","v":{"$error":"#DIV/0!"}},{"$f":"(SUM(($CO$2:$CO$338=\"30\")*(BW$2:BW$338>=60)*1))/BW392*100","v":{"$error":"#DIV/0!"}},{"$error":"#DIV/0!"},{"$error":"#DIV/0!"},{"$error":"#DIV/0!"},{"$error":"#DIV/0!"},{"$error":"#DIV/0!"},{"$error":"#DIV/0!"},{"$error":"#DIV/0!"},{"$error":"#DIV/0!"},{"$error":"#DIV/0!"},{"$error":"#DIV/0!"},{"$error":"#DIV/0!"},{"$error":"#DIV/0!"},null,null,null,null,null,null,null,null,null,54,"30taux",null,{"$f":"(SUM(($CO$2:$CO$339=\"30\")*(CV$2:CV$339>=60)*1))/CV392*100","v":{"$error":"#REF!"}}]
[null,null,null,null,null,null,null,null,null,"30avas",{"$f":"K397-K398","v":{"$error":"#DIV/0!"}},{"$f":"L397-L398","v":{"$error":"#DIV/0!"}},{"$error":"#DIV/0!"},{"$error":"#DIV/0!"},{"$error":"#DIV/0!"},{"$error":"#DIV/0!"},{"$error":"#DIV/0!"},{"$error":"#DIV/0!"},{"$error":"#DIV/0!"},{"$error":"#DIV/0!"},{"$error":"#DIV/0!"},{"$error":"#DIV/0!"},{"$error":"#DIV/0!"},{"$error":"#DIV/0!"},{"$error":"#DIV/0!"},{"$error":"#DIV/0!"},{"$error":"#DIV/0!"},{"$error":"#DIV/0!"},{"$error":"#DIV/0!"},{"$error":"#DIV/0!"},{"$error":"#DIV/0!"},{"$error":"#DIV/0!"},{"$error":"#DIV/0!"},{"$error":"#DIV/0!"},{"$error":"#DIV/0!"},{"$error":"#DIV/0!"},{"$error":"#DIV/0!"},{"$error":"#DIV/0!"},{"$error":"#DIV/0!"},{"$error":"#DIV/0!"},{"$error":"#DIV/0!"},{"$error":"#DIV/0!"},{"$error":"#DIV/0!"},{"$error":"#DIV/0!"},{"$error":"#DIV/0!"},{"$error":"#DIV/0!"},{"$error":"#DIV/0!"},{"$error":"#DIV/0!"},{"$error":"#DIV/0!"},{"$error":"#DIV/0!"},{"$error":"#DIV/0!"},{"$error":"#DIV/0!"},{"$error":"#DIV/0!"},{"$error":"#DIV/0!"},{"$error":"#DIV/0!"},{"$error":"#DIV/0!"},{"$error":"#DIV/0!"},{"$error":"#DIV/0!"},{"$error":"#DIV/0!"},{"$error":"#DIV/0!"},{"$error":"#DIV/0!"},{"$error":"#DIV/0!"},{"$error":"#DIV/0!"},{"$error":"#DIV/0!"},{"$error":"#DIV/0!"},{"$error":"#DIV/0!"},{"$error":"#DIV/0!"},{"$error":"#DIV/0!"},{"$error":"#DIV/0!"},{"$error":"#DIV/0!"},{"$error":"#DIV/0!"},{"$error":"#DIV/0!"},{"$error":"#DIV/0!"},{"$error":"#DIV/0!"},{"$f":"BW397-BW398","v":{"$error":"#DIV/0!"}},{"$error":"#DIV/0!"},{"$error":"#DIV/0!"},{"$error":"#DIV/0!"},{"$error":"#DIV/0!"},{"$error":"#DIV/0!"},{"$error":"#DIV/0!"},{"$error":"#DIV/0!"},{"$error":"#DIV/0!"},{"$error":"#DIV/0!"},{"$error":"#DIV/0!"},{"$f":"CH397-CH398","v":{"$error":"#DIV/0!"}},{"$error":"#DIV/0!"},null,null,null,null,null,null,null,null,null,55,"30avas",null,{"$f":"#REF!-#REF!","v":{"$error":"#REF!"}}]
[null,null,null,null,null,null,null,null,null,"30avaa",{"$f":"K399-K400","v":{"$error":"#DIV/0!"}},{"$f":"L399-L400","v":{"$error":"#DIV/0!"}},{"$error":"#DIV/0!"},{"$error":"#DIV/0!"},{"$error":"#DIV/0!"},{"$error":"#DIV/0!"},{"$error":"#DIV/0!"},{"$error":"#DIV/0!"},{"$error":"#DIV/0!"},{"$error":"#DIV/0!"},{"$error":"#DIV/0!"},{"$error":"#DIV/0!"},{"$error":"#DIV/0!"},{"$error":"#DIV/0!"},{"$error":"#DIV/0!"},{"$error":"#DIV/0!"},{"$error":"#DIV/0!"},{"$error":"#DIV/0!"},{"$error":"#DIV/0!"},{"$error":"#DIV/0!"},{"$error":"#DIV/0!"},{"$error":"#DIV/0!"},{"$error":"#DIV/0!"},{"$error":"#DIV/0!"},{"$error":"#DIV/0!"},{"$error":"#DIV/0!"},{"$error":"#DIV/0!"},{"$error":"#DIV/0!"},{"$error":"#DIV/0!"},{"$error":"#DIV/0!"},{"$error":"#DIV/0!"},{"$error":"#DIV/0!"},{"$error":"#DIV/0!"},{"$error":"#DIV/0!"},{"$error":"#DIV/0!"},{"$error":"#DIV/0!"},{"$error":"#DIV/0!"},{"$error":"#DIV/0!"},{"$error":"#DIV/0!"},{"$error":"#DIV/0!"},{"$error":"#DIV/0!"},{"$error":"#DIV/0!"},{"$error":"#DIV/0!"},{"$error":"#DIV/0!"},{"$error":"#DIV/0!"},{"$error":"#DIV/0!"},{"$error":"#DIV/0!"},{"$error":"#DIV/0!"},{"$error":"#DIV/0!"},{"$error":"#DIV/0!"},{"$error":"#DIV/0!"},{"$error":"#DIV/0!"},{"$error":"#DIV/0!"},{"$error":"#DIV/0!"},{"$error":"#DIV/0!"},{"$error":"#DIV/0!"},{"$error":"#DIV/0!"},{"$error":"#DIV/0!"},{"$error":"#DIV/0!"},{"$error":"#DIV/0!"},{"$error":"#DIV/0!"},{"$error":"#DIV/0!"},{"$error":"#DIV/0!"},{"$error":"#DIV/0!"},{"$f":"BW399-BW400","v":{"$error":"#DIV/0!"}},{"$error":"#DIV/0!"},{"$error":"#DIV/0!"},{"$error":"#DIV/0!"},{"$error":"#DIV/0!"},{"$error":"#DIV/0!"},{"$error":"#DIV/0!"},{"$error":"#DIV/0!"},{"$error":"#DIV/0!"},{"$error":"#DIV/0!"},{"$error":"#DIV/0!"},{"$f":"CH399-CH400","v":{"$error":"#DIV/0!"}},{"$error":"#DIV/0!"},null,null,null,null,null,null,null,null,null,56,"30avaa",null,{"$f":"#REF!-#REF!","v":{"$error":"#REF!"}}]
[null,null,null,null,null,null,null,null,null,"30m",{"$f":"SUMPRODUCT((($CO$2:$CO$338=\"30\")*(K$2:K$338)*($J$2:$J$338=\"M\"))/SUMPRODUCT(($CO$2:$CO$338=\"30\")*(K$2:K$338>2)*($J$2:$J$338=\"M\")))","v":{"$error":"#DIV/0!"}},{"$f":"SUMPRODUCT((($CO$2:$CO$338=\"30\")*(L$2:L$338)*($J$2:$J$338=\"M\"))/SUMPRODUCT(($CO$2:$CO$338=\"30\")*(L$2:L$338>2)*($J$2:$J$338=\"M\")))","v":{"$error":"#DIV/0!"}},{"$f":"SUMPRODUCT((($CO$2:$CO$338=\"30\")*(M$2:M$338)*($J$2:$J$338=\"M\"))/SUMPRODUCT(($CO$2:$CO$338=\"30\")*(M$2:M$338>2)*($J$2:$J$338=\"M\")))","v":{"$error":"#DIV/0!"}},{"$f":"SUMPRODUCT((($CO$2:$CO$338=\"30\")*(N$2:N$338)*($J$2:$J$338=\"M\"))/SUMPRODUCT(($CO$2:$CO$338=\"30\")*(N$2:N$338>2)*($J$2:$J$338=\"M\")))","v":{"$error":"#DIV/0!"}},{"$f":"SUMPRODUCT((($CO$2:$CO$338=\"30\")*(O$2:O$338)*($J$2:$J$338=\"M\"))/SUMPRODUCT(($CO$2:$CO$338=\"30\")*(O$2:O$338>2)*($J$2:$J$338=\"M\")))","v":{"$error":"#DIV/0!"}},{"$f":"SUMPRODUCT((($CO$2:$CO$338=\"30\")*(P$2:P$338)*($J$2:$J$338=\"M\"))/SUMPRODUCT(($CO$2:$CO$338=\"30\")*(P$2:P$338>2)*($J$2:$J$338=\"M\")))","v":{"$error":"#DIV/0!"}},{"$f":"SUMPRODUCT((($CO$2:$CO$338=\"30\")*(Q$2:Q$338)*($J$2:$J$338=\"M\"))/SUMPRODUCT(($CO$2:$CO$338=\"30\")*(Q$2:Q$338>2)*($J$2:$J$338=\"M\")))","v":{"$error":"#DIV/0!"}},{"$f":"SUMPRODUCT((($CO$2:$CO$338=\"30\")*(R$2:R$338)*($J$2:$J$338=\"M\"))/SUMPRODUCT(($CO$2:$CO$338=\"30\")*(R$2:R$338>2)*($J$2:$J$338=\"M\")))","v":{"$error":"#DIV/0!"}},{"$f":"SUMPRODUCT((($CO$2:$CO$338=\"30\")*(S$2:S$338)*($J$2:$J$338=\"M\"))/SUMPRODUCT(($CO$2:$CO$338=\"30\")*(S$2:S$338>2)*($J$2:$J$338=\"M\")))","v":{"$error":"#DIV/0!"}},{"$f":"SUMPRODUCT((($CO$2:$CO$338=\"30\")*(T$2:T$338)*($J$2:$J$338=\"M\"))/SUMPRODUCT(($CO$2:$CO$338=\"30\")*(T$2:T$338>2)*($J$2:$J$338=\"M\")))","v":{"$error":"#DIV/0!"}},{"$f":"SUMPRODUCT((($CO$2:$CO$338=\"30\")*(U$2:U$338)*($J$2:$J$338=\"M\"))/SUMPRODUCT(($CO$2:$CO$338=\"30\")*(U$2:U$338>2)*($J$2:$J$338=\"M\")))","v":{"$error":"#DIV/0!"}},{"$f":"SUMPRODUCT((($CO$2:$CO$338=\"30\")*(V$2:V$338)*($J$2:$J$338=\"M\"))/SUMPRODUCT(($CO$2:$CO$338=\"30\")*(V$2:V$338>2)*($J$2:$J$338=\"M\")))","v":{"$error":"#DIV/0!"}},{"$f":"SUMPRODUCT((($CO$2:$CO$338=\"30\")*(W$2:W$338)*($J$2:$J$338=\"M\"))/SUMPRODUCT(($CO$2:$CO$338=\"30\")*(W$2:W$338>2)*($J$2:$J$338=\"M\")))","v":{"$error":"#DIV/0!"}},{"$f":"SUMPRODUCT((($CO$2:$CO$338=\"30\")*(X$2:X$338)*($J$2:$J$338=\"M\"))/SUMPRODUCT(($CO$2:$CO$338=\"30\")*(X$2:X$338>2)*($J$2:$J$338=\"M\")))","v":{"$error":"#DIV/0!"}},{"$f":"SUMPRODUCT((($CO$2:$CO$338=\"30\")*(Y$2:Y$338)*($J$2:$J$338=\"M\"))/SUMPRODUCT(($CO$2:$CO$338=\"30\")*(Y$2:Y$338>2)*($J$2:$J$338=\"M\")))","v":{"$error":"#DIV/0!"}},{"$f":"SUMPRODUCT((($CO$2:$CO$338=\"30\")*(Z$2:Z$338)*($J$2:$J$338=\"M\"))/SUMPRODUCT(($CO$2:$CO$338=\"30\")*(Z$2:Z$338>2)*($J$2:$J$338=\"M\")))","v":{"$error":"#DIV/0!"}},{"$f":"SUMPRODUCT((($CO$2:$CO$338=\"30\")*(AA$2:AA$338)*($J$2:$J$338=\"M\"))/SUMPRODUCT(($CO$2:$CO$338=\"30\")*(AA$2:AA$338>2)*($J$2:$J$338=\"M\")))","v":{"$error":"#DIV/0!"}},{"$f":"SUMPRODUCT((($CO$2:$CO$338=\"30\")*(AB$2:AB$338)*($J$2:$J$338=\"M\"))/SUMPRODUCT(($CO$2:$CO$338=\"30\")*(AB$2:AB$338>2)*($J$2:$J$338=\"M\")))","v":{"$error":"#DIV/0!"}},{"$f":"SUMPRODUCT((($CO$2:$CO$338=\"30\")*(AC$2:AC$338)*($J$2:$J$338=\"M\"))/SUMPRODUCT(($CO$2:$CO$338=\"30\")*(AC$2:AC$338>2)*($J$2:$J$338=\"M\")))","v":{"$error":"#DIV/0!"}},{"$f":"SUMPRODUCT((($CO$2:$CO$338=\"30\")*(AD$2:AD$338)*($J$2:$J$338=\"M\"))/SUMPRODUCT(($CO$2:$CO$338=\"30\")*(AD$2:AD$338>2)*($J$2:$J$338=\"M\")))","v":{"$error":"#DIV/0!"}},{"$f":"SUMPRODUCT((($CO$2:$CO$338=\"30\")*(AE$2:AE$338)*($J$2:$J$338=\"M\"))/SUMPRODUCT(($CO$2:$CO$338=\"30\")*(AE$2:AE$338>2)*($J$2:$J$338=\"M\")))","v":{"$error":"#DIV/0!"}},{"$f":"SUMPRODUCT((($CO$2:$CO$338=\"30\")*(AF$2:AF$338)*($J$2:$J$338=\"M\"))/SUMPRODUCT(($CO$2:$CO$338=\"30\")*(AF$2:AF$338>2)*($J$2:$J$338=\"M\")))","v":{"$error":"#DIV/0!"}},{"$f":"SUMPRODUCT((($CO$2:$CO$338=\"30\")*(AG$2:AG$338)*($J$2:$J$338=\"M\"))/SUMPRODUCT(($CO$2:$CO$338=\"30\")*(AG$2:AG$338>2)*($J$2:$J$338=\"M\")))","v":{"$error":"#DIV/0!"}},{"$f":"SUMPRODUCT((($CO$2:$CO$338=\"30\")*(AH$2:AH$338)*($J$2:$J$338=\"M\"))/SUMPRODUCT(($CO$2:$CO$338=\"30\")*(AH$2:AH$338>2)*($J$2:$J$338=\"M\")))","v":{"$error":"#DIV/0!"}},{"$f":"SUMPRODUCT((($CO$2:$CO$338=\"30\")*(AI$2:AI$338)*($J$2:$J$338=\"M\"))/SUMPRODUCT(($CO$2:$CO$338=\"30\")*(AI$2:AI$338>2)*($J$2:$J$338=\"M\")))","v":{"$error":"#DIV/0!"}},{"$f":"SUMPRODUCT((($CO$2:$CO$338=\"30\")*(AJ$2:AJ$338)*($J$2:$J$338=\"M\"))/SUMPRODUCT(($CO$2:$CO$338=\"30\")*(AJ$2:AJ$338>2)*($J$2:$J$338=\"M\")))","v":{"$error":"#DIV/0!"}},{"$f":"SUMPRODUCT((($CO$2:$CO$338=\"30\")*(AK$2:AK$338)*($J$2:$J$338=\"M\"))/SUMPRODUCT(($CO$2:$CO$338=\"30\")*(AK$2:AK$338>2)*($J$2:$J$338=\"M\")))","v":{"$error":"#DIV/0!"}},{"$f":"SUMPRODUCT((($CO$2:$CO$338=\"30\")*(AL$2:AL$338)*($J$2:$J$338=\"M\"))/SUMPRODUCT(($CO$2:$CO$338=\"30\")*(AL$2:AL$338>2)*($J$2:$J$338=\"M\")))","v":{"$error":"#DIV/0!"}},{"$f":"SUMPRODUCT((($CO$2:$CO$338=\"30\")*(AM$2:AM$338)*($J$2:$J$338=\"M\"))/SUMPRODUCT(($CO$2:$CO$338=\"30\")*(AM$2:AM$338>2)*($J$2:$J$338=\"M\")))","v":{"$error":"#DIV/0!"}},{"$f":"SUMPRODUCT((($CO$2:$CO$338=\"30\")*(AN$2:AN$338)*($J$2:$J$338=\"M\"))/SUMPRODUCT(($CO$2:$CO$338=\"30\")*(AN$2:AN$338>2)*($J$2:$J$338=\"M\")))","v":{"$error":"#DIV/0!"}},{"$f":"SUMPRODUCT((($CO$2:$CO$338=\"30\")*(AO$2:AO$338)*($J$2:$J$338=\"M\"))/SUMPRODUCT(($CO$2:$CO$338=\"30\")*(AO$2:AO$338>2)*($J$2:$J$338=\"M\")))","v":{"$error":"#DIV/0!"}},{"$f":"SUMPRODUCT((($CO$2:$CO$338=\"30\")*(AP$2:AP$338)*($J$2:$J$338=\"M\"))/SUMPRODUCT(($CO$2:$CO$338=\"30\")*(AP$2:AP$338>2)*($J$2:$J$338=\"M\")))","v":{"$error":"#DIV/0!"}},{"$f":"SUMPRODUCT((($CO$2:$CO$338=\"30\")*(AQ$2:AQ$338)*($J$2:$J$338=\"M\"))/SUMPRODUCT(($CO$2:$CO$338=\"30\")*(AQ$2:AQ$338>2)*($J$2:$J$338=\"M\")))","v":{"$error":"#DIV/0!"}},{"$f":"SUMPRODUCT((($CO$2:$CO$338=\"30\")*(AR$2:AR$338)*($J$2:$J$338=\"M\"))/SUMPRODUCT(($CO$2:$CO$338=\"30\")*(AR$2:AR$338>2)*($J$2:$J$338=\"M\")))","v":{"$error":"#DIV/0!"}},{"$f":"SUMPRODUCT((($CO$2:$CO$338=\"30\")*(AS$2:AS$338)*($J$2:$J$338=\"M\"))/SUMPRODUCT(($CO$2:$CO$338=\"30\")*(AS$2:AS$338>2)*($J$2:$J$338=\"M\")))","v":{"$error":"#DIV/0!"}},{"$f":"SUMPRODUCT((($CO$2:$CO$338=\"30\")*(AT$2:AT$338)*($J$2:$J$338=\"M\"))/SUMPRODUCT(($CO$2:$CO$338=\"30\")*(AT$2:AT$338>2)*($J$2:$J$338=\"M\")))","v":{"$error":"#DIV/0!"}},{"$f":"SUMPRODUCT((($CO$2:$CO$338=\"30\")*(AU$2:AU$338)*($J$2:$J$338=\"M\"))/SUMPRODUCT(($CO$2:$CO$338=\"30\")*(AU$2:AU$338>2)*($J$2:$J$338=\"M\")))","v":{"$error":"#DIV/0!"}},{"$f":"SUMPRODUCT((($CO$2:$CO$338=\"30\")*(AV$2:AV$338)*($J$2:$J$338=\"M\"))/SUMPRODUCT(($CO$2:$CO$338=\"30\")*(AV$2:AV$338>2)*($J$2:$J$338=\"M\")))","v":{"$error":"#DIV/0!"}},{"$f":"SUMPRODUCT((($CO$2:$CO$338=\"30\")*(AW$2:AW$338)*($J$2:$J$338=\"M\"))/SUMPRODUCT(($CO$2:$CO$338=\"30\")*(AW$2:AW$338>2)*($J$2:$J$338=\"M\")))","v":{"$error":"#DIV/0!"}},{"$f":"SUMPRODUCT((($CO$2:$CO$338=\"30\")*(AX$2:AX$338)*($J$2:$J$338=\"M\"))/SUMPRODUCT(($CO$2:$CO$338=\"30\")*(AX$2:AX$338>2)*($J$2:$J$338=\"M\")))","v":{"$error":"#DIV/0!"}},{"$f":"SUMPRODUCT((($CO$2:$CO$338=\"30\")*(AY$2:AY$338)*($J$2:$J$338=\"M\"))/SUMPRODUCT(($CO$2:$CO$338=\"30\")*(AY$2:AY$338>2)*($J$2:$J$338=\"M\")))","v":{"$error":"#DIV/0!"}},{"$f":"SUMPRODUCT((($CO$2:$CO$338=\"30\")*(AZ$2:AZ$338)*($J$2:$J$338=\"M\"))/SUMPRODUCT(($CO$2:$CO$338=\"30\")*(AZ$2:AZ$338>2)*($J$2:$J$338=\"M\")))","v":{"$error":"#DIV/0!"}},{"$f":"SUMPRODUCT((($CO$2:$CO$338=\"30\")*(BA$2:BA$338)*($J$2:$J$338=\"M\"))/SUMPRODUCT(($CO$2:$CO$338=\"30\")*(BA$2:BA$338>2)*($J$2:$J$338=\"M\")))","v":{"$error":"#DIV/0!"}},{"$f":"SUMPRODUCT((($CO$2:$CO$338=\"30\")*(BB$2:BB$338)*($J$2:$J$338=\"M\"))/SUMPRODUCT(($CO$2:$CO$338=\"30\")*(BB$2:BB$338>2)*($J$2:$J$338=\"M\")))","v":{"$error":"#DIV/0!"}},{"$f":"SUMPRODUCT((($CO$2:$CO$338=\"30\")*(BC$2:BC$338)*($J$2:$J$338=\"M\"))/SUMPRODUCT(($CO$2:$CO$338=\"30\")*(BC$2:BC$338>2)*($J$2:$J$338=\"M\")))","v":{"$error":"#DIV/0!"}},{"$f":"SUMPRODUCT((($CO$2:$CO$338=\"30\")*(BD$2:BD$338)*($J$2:$J$338=\"M\"))/SUMPRODUCT(($CO$2:$CO$338=\"30\")*(BD$2:BD$338>2)*($J$2:$J$338=\"M\")))","v":{"$error":"#DIV/0!"}},{"$f":"SUMPRODUCT((($CO$2:$CO$338=\"30\")*(BE$2:BE$338)*($J$2:$J$338=\"M\"))/SUMPRODUCT(($CO$2:$CO$338=\"30\")*(BE$2:BE$338>2)*($J$2:$J$338=\"M\")))","v":{"$error":"#DIV/0!"}},{"$f":"SUMPRODUCT((($CO$2:$CO$338=\"30\")*(BF$2:BF$338)*($J$2:$J$338=\"M\"))/SUMPRODUCT(($CO$2:$CO$338=\"30\")*(BF$2:BF$338>2)*($J$2:$J$338=\"M\")))","v":{"$error":"#DIV/0!"}},{"$f":"SUMPRODUCT((($CO$2:$CO$338=\"30\")*(BG$2:BG$338)*($J$2:$J$338=\"M\"))/SUMPRODUCT(($CO$2:$CO$338=\"30\")*(BG$2:BG$338>2)*($J$2:$J$338=\"M\")))","v":{"$error":"#DIV/0!"}},{"$f":"SUMPRODUCT((($CO$2:$CO$338=\"30\")*(BH$2:BH$338)*($J$2:$J$338=\"M\"))/SUMPRODUCT(($CO$2:$CO$338=\"30\")*(BH$2:BH$338>2)*($J$2:$J$338=\"M\")))","v":{"$error":"#DIV/0!"}},{"$f":"SUMPRODUCT((($CO$2:$CO$338=\"30\")*(BI$2:BI$338)*($J$2:$J$338=\"M\"))/SUMPRODUCT(($CO$2:$CO$338=\"30\")*(BI$2:BI$338>2)*($J$2:$J$338=\"M\")))","v":{"$error":"#DIV/0!"}},{"$f":"SUMPRODUCT((($CO$2:$CO$338=\"30\")*(BJ$2:BJ$338)*($J$2:$J$338=\"M\"))/SUMPRODUCT(($CO$2:$CO$338=\"30\")*(BJ$2:BJ$338>2)*($J$2:$J$338=\"M\")))","v":{"$error":"#DIV/0!"}},{"$f":"SUMPRODUCT((($CO$2:$CO$338=\"30\")*(BK$2:BK$338)*($J$2:$J$338=\"M\"))/SUMPRODUCT(($CO$2:$CO$338=\"30\")*(BK$2:BK$338>2)*($J$2:$J$338=\"M\")))","v":{"$error":"#DIV/0!"}},{"$f":"SUMPRODUCT((($CO$2:$CO$338=\"30\")*(BL$2:BL$338)*($J$2:$J$338=\"M\"))/SUMPRODUCT(($CO$2:$CO$338=\"30\")*(BL$2:BL$338>2)*($J$2:$J$338=\"M\")))","v":{"$error":"#DIV/0!"}},{"$f":"SUMPRODUCT((($CO$2:$CO$338=\"30\")*(BM$2:BM$338)*($J$2:$J$338=\"M\"))/SUMPRODUCT(($CO$2:$CO$338=\"30\")*(BM$2:BM$338>2)*($J$2:$J$338=\"M\")))","v":{"$error":"#DIV/0!"}},{"$f":"SUMPRODUCT((($CO$2:$CO$338=\"30\")*(BN$2:BN$338)*($J$2:$J$338=\"M\"))/SUMPRODUCT(($CO$2:$CO$338=\"30\")*(BN$2:BN$338>2)*($J$2:$J$338=\"M\")))","v":{"$error":"#DIV/0!"}},{"$f":"SUMPRODUCT((($CO$2:$CO$338=\"30\")*(BO$2:BO$338)*($J$2:$J$338=\"M\"))/SUMPRODUCT(($CO$2:$CO$338=\"30\")*(BO$2:BO$338>2)*($J$2:$J$338=\"M\")))","v":{"$error":"#DIV/0!"}},{"$f":"SUMPRODUCT((($CO$2:$CO$338=\"30\")*(BP$2:BP$338)*($J$2:$J$338=\"M\"))/SUMPRODUCT(($CO$2:$CO$338=\"30\")*(BP$2:BP$338>2)*($J$2:$J$338=\"M\")))","v":{"$error":"#DIV/0!"}},{"$f":"SUMPRODUCT((($CO$2:$CO$338=\"30\")*(BQ$2:BQ$338)*($J$2:$J$338=\"M\"))/SUMPRODUCT(($CO$2:$CO$338=\"30\")*(BQ$2:BQ$338>2)*($J$2:$J$338=\"M\")))","v":{"$error":"#DIV/0!"}},{"$f":"SUMPRODUCT((($CO$2:$CO$338=\"30\")*(BR$2:BR$338)*($J$2:$J$338=\"M\"))/SUMPRODUCT(($CO$2:$CO$338=\"30\")*(BR$2:BR$338>2)*($J$2:$J$338=\"M\")))","v":{"$error":"#DIV/0!"}},{"$f":"SUMPRODUCT((($CO$2:$CO$338=\"30\")*(BS$2:BS$338)*($J$2:$J$338=\"M\"))/SUMPRODUCT(($CO$2:$CO$338=\"30\")*(BS$2:BS$338>2)*($J$2:$J$338=\"M\")))","v":{"$error":"#DIV/0!"}},{"$f":"SUMPRODUCT((($CO$2:$CO$338=\"30\")*(BT$2:BT$338)*($J$2:$J$338=\"M\"))/SUMPRODUCT(($CO$2:$CO$338=\"30\")*(BT$2:BT$338>2)*($J$2:$J$338=\"M\")))","v":{"$error":"#DIV/0!"}},{"$f":"SUMPRODUCT((($CO$2:$CO$338=\"30\")*(BU$2:BU$338)*($J$2:$J$338=\"M\"))/SUMPRODUCT(($CO$2:$CO$338=\"30\")*(BU$2:BU$338>2)*($J$2:$J$338=\"M\")))","v":{"$error":"#DIV/0!"}},{"$f":"SUMPRODUCT((($CO$2:$CO$338=\"30\")*(BV$2:BV$338)*($J$2:$J$338=\"M\"))/SUMPRODUCT(($CO$2:$CO$338=\"30\")*(BV$2:BV$338>2)*($J$2:$J$338=\"M\")))","v":{"$error":"#DIV/0!"}},{"$f":"SUMPRODUCT((($CO$2:$CO$338=\"30\")*(BW$2:BW$338)*($J$2:$J$338=\"M\"))/SUMPRODUCT(($CO$2:$CO$338=\"30\")*(BW$2:BW$338>2)*($J$2:$J$338=\"M\")))","v":{"$error":"#DIV/0!"}},{"$f":"IF(L397=0,0,IF(M397=0,AVERAGE(M397,K397,N397),AVERAGE(K397:N397)))","v":{"$error":"#DIV/0!"}},{"$f":"IF(P397=0,0,IF(Q397=0,AVERAGE(Q397,O397,R397),AVERAGE(O397:R397)))","v":{"$error":"#DIV/0!"}},{"$f":"IF(T397=0,0,IF(U397=0,AVERAGE(T397,S397,V397),AVERAGE(S397:V397)))","v":{"$error":"#DIV/0!"}},{"$f":"IF(AB397=0,0,IF(AC397=0,AVERAGE(AB397,AA397,AD397),AVERAGE(AA397:AD397)))","v":{"$error":"#DIV/0!"}},{"$f":"IF(AF397=0,0,IF(AG397=0,AVERAGE(AF397,AE397,AH397),AVERAGE(AE397:AH397)))","v":{"$error":"#DIV/0!"}},{"$f":"IF(AJ397=0,0,IF(AK397=0,AVERAGE(AJ397,AI397,AL397),AVERAGE(AI397:AL397)))","v":{"$error":"#DIV/0!"}},{"$f":"IF(AN397=0,0,IF(AO397=0,AVERAGE(AN397,AM397,AP397),AVERAGE(AM397:AP397)))","v":{"$error":"#DIV/0!"}},{"$f":"IF(AR397=0,0,IF(AS397=0,AVERAGE(AR397,AQ397,AT397),AVERAGE(AQ397:AT397)))","v":{"$error":"#DIV/0!"}},{"$f":"IF(AV397=0,0,IF(AW397=0,AVERAGE(AV397,AU397,AX397),AVERAGE(AU397:AX397)))","v":{"$error":"#DIV/0!"}},{"$f":"IF(AZ397=0,0,IF(BA397=0,AVERAGE(AZ397,AY397,BB397),AVERAGE(AY397:BB397)))","v":{"$error":"#DIV/0!"}},{"$f":"IF(BD397=0,0,IF(BE397=0,AVERAGE(BD397,BC397,BF397),AVERAGE(BC397:BF397)))","v":{"$error":"#DIV/0!"}},{"$f":"IF(BH397=0,0,IF(BI397=0,AVERAGE(BH397,BG397,BJ397,BM397),AVERAGE(BG397:BJ397)))","v":{"$error":"#DIV/0!"}},null,null,null,null,null,null,null,null,null,57,"30m",null,{"$f":"SUMPRODUCT(((#REF!>2)*($CO$2:$CO$339=\"30\")*(#REF!)*(#REF!=\"M\"))/SUMPRODUCT((#REF!>2)*($CO$2:$CO$339=\"30\")*(#REF!>2)*(#REF!=\"M\")))","v":{"$error":"#REF!"}}]
[null,null,null,null,null,null,null,null,null,"30f",{"$f":"SUMPRODUCT((($CO$2:$CO$338=\"30\")*(K$2:K$338)*($J$2:$J$338=\"F\"))/SUMPRODUCT(($CO$2:$CO$338=\"30\")*(K$2:K$338>2)*($J$2:$J$338=\"F\")))","v":{"$error":"#DIV/0!"}},{"$f":"SUMPRODUCT((($CO$2:$CO$338=\"30\")*(L$2:L$338)*($J$2:$J$338=\"F\"))/SUMPRODUCT(($CO$2:$CO$338=\"30\")*(L$2:L$338>2)*($J$2:$J$338=\"F\")))","v":{"$error":"#DIV/0!"}},{"$f":"SUMPRODUCT((($CO$2:$CO$338=\"30\")*(M$2:M$338)*($J$2:$J$338=\"F\"))/SUMPRODUCT(($CO$2:$CO$338=\"30\")*(M$2:M$338>2)*($J$2:$J$338=\"F\")))","v":{"$error":"#DIV/0!"}},{"$f":"SUMPRODUCT((($CO$2:$CO$338=\"30\")*(N$2:N$338)*($J$2:$J$338=\"F\"))/SUMPRODUCT(($CO$2:$CO$338=\"30\")*(N$2:N$338>2)*($J$2:$J$338=\"F\")))","v":{"$error":"#DIV/0!"}},{"$f":"SUMPRODUCT((($CO$2:$CO$338=\"30\")*(O$2:O$338)*($J$2:$J$338=\"F\"))/SUMPRODUCT(($CO$2:$CO$338=\"30\")*(O$2:O$338>2)*($J$2:$J$338=\"F\")))","v":{"$error":"#DIV/0!"}},{"$f":"SUMPRODUCT((($CO$2:$CO$338=\"30\")*(P$2:P$338)*($J$2:$J$338=\"F\"))/SUMPRODUCT(($CO$2:$CO$338=\"30\")*(P$2:P$338>2)*($J$2:$J$338=\"F\")))","v":{"$error":"#DIV/0!"}},{"$f":"SUMPRODUCT((($CO$2:$CO$338=\"30\")*(Q$2:Q$338)*($J$2:$J$338=\"F\"))/SUMPRODUCT(($CO$2:$CO$338=\"30\")*(Q$2:Q$338>2)*($J$2:$J$338=\"F\")))","v":{"$error":"#DIV/0!"}},{"$f":"SUMPRODUCT((($CO$2:$CO$338=\"30\")*(R$2:R$338)*($J$2:$J$338=\"F\"))/SUMPRODUCT(($CO$2:$CO$338=\"30\")*(R$2:R$338>2)*($J$2:$J$338=\"F\")))","v":{"$error":"#DIV/0!"}},{"$f":"SUMPRODUCT((($CO$2:$CO$338=\"30\")*(S$2:S$338)*($J$2:$J$338=\"F\"))/SUMPRODUCT(($CO$2:$CO$338=\"30\")*(S$2:S$338>2)*($J$2:$J$338=\"F\")))","v":{"$error":"#DIV/0!"}},{"$f":"SUMPRODUCT((($CO$2:$CO$338=\"30\")*(T$2:T$338)*($J$2:$J$338=\"F\"))/SUMPRODUCT(($CO$2:$CO$338=\"30\")*(T$2:T$338>2)*($J$2:$J$338=\"F\")))","v":{"$error":"#DIV/0!"}},{"$f":"SUMPRODUCT((($CO$2:$CO$338=\"30\")*(U$2:U$338)*($J$2:$J$338=\"F\"))/SUMPRODUCT(($CO$2:$CO$338=\"30\")*(U$2:U$338>2)*($J$2:$J$338=\"F\")))","v":{"$error":"#DIV/0!"}},{"$f":"SUMPRODUCT((($CO$2:$CO$338=\"30\")*(V$2:V$338)*($J$2:$J$338=\"F\"))/SUMPRODUCT(($CO$2:$CO$338=\"30\")*(V$2:V$338>2)*($J$2:$J$338=\"F\")))","v":{"$error":"#DIV/0!"}},{"$f":"SUMPRODUCT((($CO$2:$CO$338=\"30\")*(W$2:W$338)*($J$2:$J$338=\"F\"))/SUMPRODUCT(($CO$2:$CO$338=\"30\")*(W$2:W$338>2)*($J$2:$J$338=\"F\")))","v":{"$error":"#DIV/0!"}},{"$f":"SUMPRODUCT((($CO$2:$CO$338=\"30\")*(X$2:X$338)*($J$2:$J$338=\"F\"))/SUMPRODUCT(($CO$2:$CO$338=\"30\")*(X$2:X$338>2)*($J$2:$J$338=\"F\")))","v":{"$error":"#DIV/0!"}},{"$f":"SUMPRODUCT((($CO$2:$CO$338=\"30\")*(Y$2:Y$338)*($J$2:$J$338=\"F\"))/SUMPRODUCT(($CO$2:$CO$338=\"30\")*(Y$2:Y$338>2)*($J$2:$J$338=\"F\")))","v":{"$error":"#DIV/0!"}},{"$f":"SUMPRODUCT((($CO$2:$CO$338=\"30\")*(Z$2:Z$338)*($J$2:$J$338=\"F\"))/SUMPRODUCT(($CO$2:$CO$338=\"30\")*(Z$2:Z$338>2)*($J$2:$J$338=\"F\")))","v":{"$error":"#DIV/0!"}},{"$f":"SUMPRODUCT((($CO$2:$CO$338=\"30\")*(AA$2:AA$338)*($J$2:$J$338=\"F\"))/SUMPRODUCT(($CO$2:$CO$338=\"30\")*(AA$2:AA$338>2)*($J$2:$J$338=\"F\")))","v":{"$error":"#DIV/0!"}},{"$f":"SUMPRODUCT((($CO$2:$CO$338=\"30\")*(AB$2:AB$338)*($J$2:$J$338=\"F\"))/SUMPRODUCT(($CO$2:$CO$338=\"30\")*(AB$2:AB$338>2)*($J$2:$J$338=\"F\")))","v":{"$error":"#DIV/0!"}},{"$f":"SUMPRODUCT((($CO$2:$CO$338=\"30\")*(AC$2:AC$338)*($J$2:$J$338=\"F\"))/SUMPRODUCT(($CO$2:$CO$338=\"30\")*(AC$2:AC$338>2)*($J$2:$J$338=\"F\")))","v":{"$error":"#DIV/0!"}},{"$f":"SUMPRODUCT((($CO$2:$CO$338=\"30\")*(AD$2:AD$338)*($J$2:$J$338=\"F\"))/SUMPRODUCT(($CO$2:$CO$338=\"30\")*(AD$2:AD$338>2)*($J$2:$J$338=\"F\")))","v":{"$error":"#DIV/0!"}},{"$f":"SUMPRODUCT((($CO$2:$CO$338=\"30\")*(AE$2:AE$338)*($J$2:$J$338=\"F\"))/SUMPRODUCT(($CO$2:$CO$338=\"30\")*(AE$2:AE$338>2)*($J$2:$J$338=\"F\")))","v":{"$error":"#DIV/0!"}},{"$f":"SUMPRODUCT((($CO$2:$CO$338=\"30\")*(AF$2:AF$338)*($J$2:$J$338=\"F\"))/SUMPRODUCT(($CO$2:$CO$338=\"30\")*(AF$2:AF$338>2)*($J$2:$J$338=\"F\")))","v":{"$error":"#DIV/0!"}},{"$f":"SUMPRODUCT((($CO$2:$CO$338=\"30\")*(AG$2:AG$338)*($J$2:$J$338=\"F\"))/SUMPRODUCT(($CO$2:$CO$338=\"30\")*(AG$2:AG$338>2)*($J$2:$J$338=\"F\")))","v":{"$error":"#DIV/0!"}},{"$f":"SUMPRODUCT((($CO$2:$CO$338=\"30\")*(AH$2:AH$338)*($J$2:$J$338=\"F\"))/SUMPRODUCT(($CO$2:$CO$338=\"30\")*(AH$2:AH$338>2)*($J$2:$J$338=\"F\")))","v":{"$error":"#DIV/0!"}},{"$f":"SUMPRODUCT((($CO$2:$CO$338=\"30\")*(AI$2:AI$338)*($J$2:$J$338=\"F\"))/SUMPRODUCT(($CO$2:$CO$338=\"30\")*(AI$2:AI$338>2)*($J$2:$J$338=\"F\")))","v":{"$error":"#DIV/0!"}},{"$f":"SUMPRODUCT((($CO$2:$CO$338=\"30\")*(AJ$2:AJ$338)*($J$2:$J$338=\"F\"))/SUMPRODUCT(($CO$2:$CO$338=\"30\")*(AJ$2:AJ$338>2)*($J$2:$J$338=\"F\")))","v":{"$error":"#DIV/0!"}},{"$f":"SUMPRODUCT((($CO$2:$CO$338=\"30\")*(AK$2:AK$338)*($J$2:$J$338=\"F\"))/SUMPRODUCT(($CO$2:$CO$338=\"30\")*(AK$2:AK$338>2)*($J$2:$J$338=\"F\")))","v":{"$error":"#DIV/0!"}},{"$f":"SUMPRODUCT((($CO$2:$CO$338=\"30\")*(AL$2:AL$338)*($J$2:$J$338=\"F\"))/SUMPRODUCT(($CO$2:$CO$338=\"30\")*(AL$2:AL$338>2)*($J$2:$J$338=\"F\")))","v":{"$error":"#DIV/0!"}},{"$f":"SUMPRODUCT((($CO$2:$CO$338=\"30\")*(AM$2:AM$338)*($J$2:$J$338=\"F\"))/SUMPRODUCT(($CO$2:$CO$338=\"30\")*(AM$2:AM$338>2)*($J$2:$J$338=\"F\")))","v":{"$error":"#DIV/0!"}},{"$f":"SUMPRODUCT((($CO$2:$CO$338=\"30\")*(AN$2:AN$338)*($J$2:$J$338=\"F\"))/SUMPRODUCT(($CO$2:$CO$338=\"30\")*(AN$2:AN$338>2)*($J$2:$J$338=\"F\")))","v":{"$error":"#DIV/0!"}},{"$f":"SUMPRODUCT((($CO$2:$CO$338=\"30\")*(AO$2:AO$338)*($J$2:$J$338=\"F\"))/SUMPRODUCT(($CO$2:$CO$338=\"30\")*(AO$2:AO$338>2)*($J$2:$J$338=\"F\")))","v":{"$error":"#DIV/0!"}},{"$f":"SUMPRODUCT((($CO$2:$CO$338=\"30\")*(AP$2:AP$338)*($J$2:$J$338=\"F\"))/SUMPRODUCT(($CO$2:$CO$338=\"30\")*(AP$2:AP$338>2)*($J$2:$J$338=\"F\")))","v":{"$error":"#DIV/0!"}},{"$f":"SUMPRODUCT((($CO$2:$CO$338=\"30\")*(AQ$2:AQ$338)*($J$2:$J$338=\"F\"))/SUMPRODUCT(($CO$2:$CO$338=\"30\")*(AQ$2:AQ$338>2)*($J$2:$J$338=\"F\")))","v":{"$error":"#DIV/0!"}},{"$f":"SUMPRODUCT((($CO$2:$CO$338=\"30\")*(AR$2:AR$338)*($J$2:$J$338=\"F\"))/SUMPRODUCT(($CO$2:$CO$338=\"30\")*(AR$2:AR$338>2)*($J$2:$J$338=\"F\")))","v":{"$error":"#DIV/0!"}},{"$f":"SUMPRODUCT((($CO$2:$CO$338=\"30\")*(AS$2:AS$338)*($J$2:$J$338=\"F\"))/SUMPRODUCT(($CO$2:$CO$338=\"30\")*(AS$2:AS$338>2)*($J$2:$J$338=\"F\")))","v":{"$error":"#DIV/0!"}},{"$f":"SUMPRODUCT((($CO$2:$CO$338=\"30\")*(AT$2:AT$338)*($J$2:$J$338=\"F\"))/SUMPRODUCT(($CO$2:$CO$338=\"30\")*(AT$2:AT$338>2)*($J$2:$J$338=\"F\")))","v":{"$error":"#DIV/0!"}},{"$f":"SUMPRODUCT((($CO$2:$CO$338=\"30\")*(AU$2:AU$338)*($J$2:$J$338=\"F\"))/SUMPRODUCT(($CO$2:$CO$338=\"30\")*(AU$2:AU$338>2)*($J$2:$J$338=\"F\")))","v":{"$error":"#DIV/0!"}},{"$f":"SUMPRODUCT((($CO$2:$CO$338=\"30\")*(AV$2:AV$338)*($J$2:$J$338=\"F\"))/SUMPRODUCT(($CO$2:$CO$338=\"30\")*(AV$2:AV$338>2)*($J$2:$J$338=\"F\")))","v":{"$error":"#DIV/0!"}},{"$f":"SUMPRODUCT((($CO$2:$CO$338=\"30\")*(AW$2:AW$338)*($J$2:$J$338=\"F\"))/SUMPRODUCT(($CO$2:$CO$338=\"30\")*(AW$2:AW$338>2)*($J$2:$J$338=\"F\")))","v":{"$error":"#DIV/0!"}},{"$f":"SUMPRODUCT((($CO$2:$CO$338=\"30\")*(AX$2:AX$338)*($J$2:$J$338=\"F\"))/SUMPRODUCT(($CO$2:$CO$338=\"30\")*(AX$2:AX$338>2)*($J$2:$J$338=\"F\")))","v":{"$error":"#DIV/0!"}},{"$f":"SUMPRODUCT((($CO$2:$CO$338=\"30\")*(AY$2:AY$338)*($J$2:$J$338=\"F\"))/SUMPRODUCT(($CO$2:$CO$338=\"30\")*(AY$2:AY$338>2)*($J$2:$J$338=\"F\")))","v":{"$error":"#DIV/0!"}},{"$f":"SUMPRODUCT((($CO$2:$CO$338=\"30\")*(AZ$2:AZ$338)*($J$2:$J$338=\"F\"))/SUMPRODUCT(($CO$2:$CO$338=\"30\")*(AZ$2:AZ$338>2)*($J$2:$J$338=\"F\")))","v":{"$error":"#DIV/0!"}},{"$f":"SUMPRODUCT((($CO$2:$CO$338=\"30\")*(BA$2:BA$338)*($J$2:$J$338=\"F\"))/SUMPRODUCT(($CO$2:$CO$338=\"30\")*(BA$2:BA$338>2)*($J$2:$J$338=\"F\")))","v":{"$error":"#DIV/0!"}},{"$f":"SUMPRODUCT((($CO$2:$CO$338=\"30\")*(BB$2:BB$338)*($J$2:$J$338=\"F\"))/SUMPRODUCT(($CO$2:$CO$338=\"30\")*(BB$2:BB$338>2)*($J$2:$J$338=\"F\")))","v":{"$error":"#DIV/0!"}},{"$f":"SUMPRODUCT((($CO$2:$CO$338=\"30\")*(BC$2:BC$338)*($J$2:$J$338=\"F\"))/SUMPRODUCT(($CO$2:$CO$338=\"30\")*(BC$2:BC$338>2)*($J$2:$J$338=\"F\")))","v":{"$error":"#DIV/0!"}},{"$f":"SUMPRODUCT((($CO$2:$CO$338=\"30\")*(BD$2:BD$338)*($J$2:$J$338=\"F\"))/SUMPRODUCT(($CO$2:$CO$338=\"30\")*(BD$2:BD$338>2)*($J$2:$J$338=\"F\")))","v":{"$error":"#DIV/0!"}},{"$f":"SUMPRODUCT((($CO$2:$CO$338=\"30\")*(BE$2:BE$338)*($J$2:$J$338=\"F\"))/SUMPRODUCT(($CO$2:$CO$338=\"30\")*(BE$2:BE$338>2)*($J$2:$J$338=\"F\")))","v":{"$error":"#DIV/0!"}},{"$f":"SUMPRODUCT((($CO$2:$CO$338=\"30\")*(BF$2:BF$338)*($J$2:$J$338=\"F\"))/SUMPRODUCT(($CO$2:$CO$338=\"30\")*(BF$2:BF$338>2)*($J$2:$J$338=\"F\")))","v":{"$error":"#DIV/0!"}},{"$f":"SUMPRODUCT((($CO$2:$CO$338=\"30\")*(BG$2:BG$338)*($J$2:$J$338=\"F\"))/SUMPRODUCT(($CO$2:$CO$338=\"30\")*(BG$2:BG$338>2)*($J$2:$J$338=\"F\")))","v":{"$error":"#DIV/0!"}},{"$f":"SUMPRODUCT((($CO$2:$CO$338=\"30\")*(BH$2:BH$338)*($J$2:$J$338=\"F\"))/SUMPRODUCT(($CO$2:$CO$338=\"30\")*(BH$2:BH$338>2)*($J$2:$J$338=\"F\")))","v":{"$error":"#DIV/0!"}},{"$f":"SUMPRODUCT((($CO$2:$CO$338=\"30\")*(BI$2:BI$338)*($J$2:$J$338=\"F\"))/SUMPRODUCT(($CO$2:$CO$338=\"30\")*(BI$2:BI$338>2)*($J$2:$J$338=\"F\")))","v":{"$error":"#DIV/0!"}},{"$f":"SUMPRODUCT((($CO$2:$CO$338=\"30\")*(BJ$2:BJ$338)*($J$2:$J$338=\"F\"))/SUMPRODUCT(($CO$2:$CO$338=\"30\")*(BJ$2:BJ$338>2)*($J$2:$J$338=\"F\")))","v":{"$error":"#DIV/0!"}},{"$f":"SUMPRODUCT((($CO$2:$CO$338=\"30\")*(BK$2:BK$338)*($J$2:$J$338=\"F\"))/SUMPRODUCT(($CO$2:$CO$338=\"30\")*(BK$2:BK$338>2)*($J$2:$J$338=\"F\")))","v":{"$error":"#DIV/0!"}},{"$f":"SUMPRODUCT((($CO$2:$CO$338=\"30\")*(BL$2:BL$338)*($J$2:$J$338=\"F\"))/SUMPRODUCT(($CO$2:$CO$338=\"30\")*(BL$2:BL$338>2)*($J$2:$J$338=\"F\")))","v":{"$error":"#DIV/0!"}},{"$f":"SUMPRODUCT((($CO$2:$CO$338=\"30\")*(BM$2:BM$338)*($J$2:$J$338=\"F\"))/SUMPRODUCT(($CO$2:$CO$338=\"30\")*(BM$2:BM$338>2)*($J$2:$J$338=\"F\")))","v":{"$error":"#DIV/0!"}},{"$f":"SUMPRODUCT((($CO$2:$CO$338=\"30\")*(BN$2:BN$338)*($J$2:$J$338=\"F\"))/SUMPRODUCT(($CO$2:$CO$338=\"30\")*(BN$2:BN$338>2)*($J$2:$J$338=\"F\")))","v":{"$error":"#DIV/0!"}},{"$f":"SUMPRODUCT((($CO$2:$CO$338=\"30\")*(BO$2:BO$338)*($J$2:$J$338=\"F\"))/SUMPRODUCT(($CO$2:$CO$338=\"30\")*(BO$2:BO$338>2)*($J$2:$J$338=\"F\")))","v":{"$error":"#DIV/0!"}},{"$f":"SUMPRODUCT((($CO$2:$CO$338=\"30\")*(BP$2:BP$338)*($J$2:$J$338=\"F\"))/SUMPRODUCT(($CO$2:$CO$338=\"30\")*(BP$2:BP$338>2)*($J$2:$J$338=\"F\")))","v":{"$error":"#DIV/0!"}},{"$f":"SUMPRODUCT((($CO$2:$CO$338=\"30\")*(BQ$2:BQ$338)*($J$2:$J$338=\"F\"))/SUMPRODUCT(($CO$2:$CO$338=\"30\")*(BQ$2:BQ$338>2)*($J$2:$J$338=\"F\")))","v":{"$error":"#DIV/0!"}},{"$f":"SUMPRODUCT((($CO$2:$CO$338=\"30\")*(BR$2:BR$338)*($J$2:$J$338=\"F\"))/SUMPRODUCT(($CO$2:$CO$338=\"30\")*(BR$2:BR$338>2)*($J$2:$J$338=\"F\")))","v":{"$error":"#DIV/0!"}},{"$f":"SUMPRODUCT((($CO$2:$CO$338=\"30\")*(BS$2:BS$338)*($J$2:$J$338=\"F\"))/SUMPRODUCT(($CO$2:$CO$338=\"30\")*(BS$2:BS$338>2)*($J$2:$J$338=\"F\")))","v":{"$error":"#DIV/0!"}},{"$f":"SUMPRODUCT((($CO$2:$CO$338=\"30\")*(BT$2:BT$338)*($J$2:$J$338=\"F\"))/SUMPRODUCT(($CO$2:$CO$338=\"30\")*(BT$2:BT$338>2)*($J$2:$J$338=\"F\")))","v":{"$error":"#DIV/0!"}},{"$f":"SUMPRODUCT((($CO$2:$CO$338=\"30\")*(BU$2:BU$338)*($J$2:$J$338=\"F\"))/SUMPRODUCT(($CO$2:$CO$338=\"30\")*(BU$2:BU$338>2)*($J$2:$J$338=\"F\")))","v":{"$error":"#DIV/0!"}},{"$f":"SUMPRODUCT((($CO$2:$CO$338=\"30\")*(BV$2:BV$338)*($J$2:$J$338=\"F\"))/SUMPRODUCT(($CO$2:$CO$338=\"30\")*(BV$2:BV$338>2)*($J$2:$J$338=\"F\")))","v":{"$error":"#DIV/0!"}},{"$f":"SUMPRODUCT((($CO$2:$CO$338=\"30\")*(BW$2:BW$338)*($J$2:$J$338=\"F\"))/SUMPRODUCT(($CO$2:$CO$338=\"30\")*(BW$2:BW$338>2)*($J$2:$J$338=\"F\")))","v":{"$error":"#DIV/0!"}},{"$error":"#DIV/0!"},{"$error":"#DIV/0!"},{"$error":"#DIV/0!"},{"$error":"#DIV/0!"},{"$error":"#DIV/0!"},{"$error":"#DIV/0!"},{"$error":"#DIV/0!"},{"$error":"#DIV/0!"},{"$error":"#DIV/0!"},{"$error":"#DIV/0!"},{"$error":"#DIV/0!"},{"$error":"#DIV/0!"},null,null,null,null,null,null,null,null,null,58,"30f",null,{"$f":"SUMPRODUCT(((#REF!>2)*($CO$2:$CO$339=\"30\")*(#REF!)*(#REF!=\"F\"))/SUMPRODUCT((#REF!>2)*($CO$2:$CO$339=\"30\")*(#REF!>2)*(#REF!=\"F\")))","v":{"$error":"#REF!"}}]
[null,null,null,null,null,null,null,null,null,"30j",{"$f":"SUMPRODUCT((($CO$2:$CO$338=\"30\")*(K$2:K$338)*($CT$2:$CT$338=\"J\"))/SUMPRODUCT(($CO$2:$CO$338=\"30\")*(K$2:K$338>2)*($CT$2:$CT$338=\"J\")))","v":{"$error":"#DIV/0!"}},{"$f":"SUMPRODUCT((($CO$2:$CO$338=\"30\")*(L$2:L$338)*($CT$2:$CT$338=\"J\"))/SUMPRODUCT(($CO$2:$CO$338=\"30\")*(L$2:L$338>2)*($CT$2:$CT$338=\"J\")))","v":{"$error":"#DIV/0!"}},{"$f":"SUMPRODUCT((($CO$2:$CO$338=\"30\")*(M$2:M$338)*($CT$2:$CT$338=\"J\"))/SUMPRODUCT(($CO$2:$CO$338=\"30\")*(M$2:M$338>2)*($CT$2:$CT$338=\"J\")))","v":{"$error":"#DIV/0!"}},{"$f":"SUMPRODUCT((($CO$2:$CO$338=\"30\")*(N$2:N$338)*($CT$2:$CT$338=\"J\"))/SUMPRODUCT(($CO$2:$CO$338=\"30\")*(N$2:N$338>2)*($CT$2:$CT$338=\"J\")))","v":{"$error":"#DIV/0!"}},{"$f":"SUMPRODUCT((($CO$2:$CO$338=\"30\")*(O$2:O$338)*($CT$2:$CT$338=\"J\"))/SUMPRODUCT(($CO$2:$CO$338=\"30\")*(O$2:O$338>2)*($CT$2:$CT$338=\"J\")))","v":{"$error":"#DIV/0!"}},{"$f":"SUMPRODUCT((($CO$2:$CO$338=\"30\")*(P$2:P$338)*($CT$2:$CT$338=\"J\"))/SUMPRODUCT(($CO$2:$CO$338=\"30\")*(P$2:P$338>2)*($CT$2:$CT$338=\"J\")))","v":{"$error":"#DIV/0!"}},{"$f":"SUMPRODUCT((($CO$2:$CO$338=\"30\")*(Q$2:Q$338)*($CT$2:$CT$338=\"J\"))/SUMPRODUCT(($CO$2:$CO$338=\"30\")*(Q$2:Q$338>2)*($CT$2:$CT$338=\"J\")))","v":{"$error":"#DIV/0!"}},{"$f":"SUMPRODUCT((($CO$2:$CO$338=\"30\")*(R$2:R$338)*($CT$2:$CT$338=\"J\"))/SUMPRODUCT(($CO$2:$CO$338=\"30\")*(R$2:R$338>2)*($CT$2:$CT$338=\"J\")))","v":{"$error":"#DIV/0!"}},{"$f":"SUMPRODUCT((($CO$2:$CO$338=\"30\")*(S$2:S$338)*($CT$2:$CT$338=\"J\"))/SUMPRODUCT(($CO$2:$CO$338=\"30\")*(S$2:S$338>2)*($CT$2:$CT$338=\"J\")))","v":{"$error":"#DIV/0!"}},{"$f":"SUMPRODUCT((($CO$2:$CO$338=\"30\")*(T$2:T$338)*($CT$2:$CT$338=\"J\"))/SUMPRODUCT(($CO$2:$CO$338=\"30\")*(T$2:T$338>2)*($CT$2:$CT$338=\"J\")))","v":{"$error":"#DIV/0!"}},{"$f":"SUMPRODUCT((($CO$2:$CO$338=\"30\")*(U$2:U$338)*($CT$2:$CT$338=\"J\"))/SUMPRODUCT(($CO$2:$CO$338=\"30\")*(U$2:U$338>2)*($CT$2:$CT$338=\"J\")))","v":{"$error":"#DIV/0!"}},{"$f":"SUMPRODUCT((($CO$2:$CO$338=\"30\")*(V$2:V$338)*($CT$2:$CT$338=\"J\"))/SUMPRODUCT(($CO$2:$CO$338=\"30\")*(V$2:V$338>2)*($CT$2:$CT$338=\"J\")))","v":{"$error":"#DIV/0!"}},{"$f":"SUMPRODUCT((($CO$2:$CO$338=\"30\")*(W$2:W$338)*($CT$2:$CT$338=\"J\"))/SUMPRODUCT(($CO$2:$CO$338=\"30\")*(W$2:W$338>2)*($CT$2:$CT$338=\"J\")))","v":{"$error":"#DIV/0!"}},{"$f":"SUMPRODUCT((($CO$2:$CO$338=\"30\")*(X$2:X$338)*($CT$2:$CT$338=\"J\"))/SUMPRODUCT(($CO$2:$CO$338=\"30\")*(X$2:X$338>2)*($CT$2:$CT$338=\"J\")))","v":{"$error":"#DIV/0!"}},{"$f":"SUMPRODUCT((($CO$2:$CO$338=\"30\")*(Y$2:Y$338)*($CT$2:$CT$338=\"J\"))/SUMPRODUCT(($CO$2:$CO$338=\"30\")*(Y$2:Y$338>2)*($CT$2:$CT$338=\"J\")))","v":{"$error":"#DIV/0!"}},{"$f":"SUMPRODUCT((($CO$2:$CO$338=\"30\")*(Z$2:Z$338)*($CT$2:$CT$338=\"J\"))/SUMPRODUCT(($CO$2:$CO$338=\"30\")*(Z$2:Z$338>2)*($CT$2:$CT$338=\"J\")))","v":{"$error":"#DIV/0!"}},{"$f":"SUMPRODUCT((($CO$2:$CO$338=\"30\")*(AA$2:AA$338)*($CT$2:$CT$338=\"J\"))/SUMPRODUCT(($CO$2:$CO$338=\"30\")*(AA$2:AA$338>2)*($CT$2:$CT$338=\"J\")))","v":{"$error":"#DIV/0!"}},{"$f":"SUMPRODUCT((($CO$2:$CO$338=\"30\")*(AB$2:AB$338)*($CT$2:$CT$338=\"J\"))/SUMPRODUCT(($CO$2:$CO$338=\"30\")*(AB$2:AB$338>2)*($CT$2:$CT$338=\"J\")))","v":{"$error":"#DIV/0!"}},{"$f":"SUMPRODUCT((($CO$2:$CO$338=\"30\")*(AC$2:AC$338)*($CT$2:$CT$338=\"J\"))/SUMPRODUCT(($CO$2:$CO$338=\"30\")*(AC$2:AC$338>2)*($CT$2:$CT$338=\"J\")))","v":{"$error":"#DIV/0!"}},{"$f":"SUMPRODUCT((($CO$2:$CO$338=\"30\")*(AD$2:AD$338)*($CT$2:$CT$338=\"J\"))/SUMPRODUCT(($CO$2:$CO$338=\"30\")*(AD$2:AD$338>2)*($CT$2:$CT$338=\"J\")))","v":{"$error":"#DIV/0!"}},{"$f":"SUMPRODUCT((($CO$2:$CO$338=\"30\")*(AE$2:AE$338)*($CT$2:$CT$338=\"J\"))/SUMPRODUCT(($CO$2:$CO$338=\"30\")*(AE$2:AE$338>2)*($CT$2:$CT$338=\"J\")))","v":{"$error":"#DIV/0!"}},{"$f":"SUMPRODUCT((($CO$2:$CO$338=\"30\")*(AF$2:AF$338)*($CT$2:$CT$338=\"J\"))/SUMPRODUCT(($CO$2:$CO$338=\"30\")*(AF$2:AF$338>2)*($CT$2:$CT$338=\"J\")))","v":{"$error":"#DIV/0!"}},{"$f":"SUMPRODUCT((($CO$2:$CO$338=\"30\")*(AG$2:AG$338)*($CT$2:$CT$338=\"J\"))/SUMPRODUCT(($CO$2:$CO$338=\"30\")*(AG$2:AG$338>2)*($CT$2:$CT$338=\"J\")))","v":{"$error":"#DIV/0!"}},{"$f":"SUMPRODUCT((($CO$2:$CO$338=\"30\")*(AH$2:AH$338)*($CT$2:$CT$338=\"J\"))/SUMPRODUCT(($CO$2:$CO$338=\"30\")*(AH$2:AH$338>2)*($CT$2:$CT$338=\"J\")))","v":{"$error":"#DIV/0!"}},{"$f":"SUMPRODUCT((($CO$2:$CO$338=\"30\")*(AI$2:AI$338)*($CT$2:$CT$338=\"J\"))/SUMPRODUCT(($CO$2:$CO$338=\"30\")*(AI$2:AI$338>2)*($CT$2:$CT$338=\"J\")))","v":{"$error":"#DIV/0!"}},{"$f":"SUMPRODUCT((($CO$2:$CO$338=\"30\")*(AJ$2:AJ$338)*($CT$2:$CT$338=\"J\"))/SUMPRODUCT(($CO$2:$CO$338=\"30\")*(AJ$2:AJ$338>2)*($CT$2:$CT$338=\"J\")))","v":{"$error":"#DIV/0!"}},{"$f":"SUMPRODUCT((($CO$2:$CO$338=\"30\")*(AK$2:AK$338)*($CT$2:$CT$338=\"J\"))/SUMPRODUCT(($CO$2:$CO$338=\"30\")*(AK$2:AK$338>2)*($CT$2:$CT$338=\"J\")))","v":{"$error":"#DIV/0!"}},{"$f":"SUMPRODUCT((($CO$2:$CO$338=\"30\")*(AL$2:AL$338)*($CT$2:$CT$338=\"J\"))/SUMPRODUCT(($CO$2:$CO$338=\"30\")*(AL$2:AL$338>2)*($CT$2:$CT$338=\"J\")))","v":{"$error":"#DIV/0!"}},{"$f":"SUMPRODUCT((($CO$2:$CO$338=\"30\")*(AM$2:AM$338)*($CT$2:$CT$338=\"J\"))/SUMPRODUCT(($CO$2:$CO$338=\"30\")*(AM$2:AM$338>2)*($CT$2:$CT$338=\"J\")))","v":{"$error":"#DIV/0!"}},{"$f":"SUMPRODUCT((($CO$2:$CO$338=\"30\")*(AN$2:AN$338)*($CT$2:$CT$338=\"J\"))/SUMPRODUCT(($CO$2:$CO$338=\"30\")*(AN$2:AN$338>2)*($CT$2:$CT$338=\"J\")))","v":{"$error":"#DIV/0!"}},{"$f":"SUMPRODUCT((($CO$2:$CO$338=\"30\")*(AO$2:AO$338)*($CT$2:$CT$338=\"J\"))/SUMPRODUCT(($CO$2:$CO$338=\"30\")*(AO$2:AO$338>2)*($CT$2:$CT$338=\"J\")))","v":{"$error":"#DIV/0!"}},{"$f":"SUMPRODUCT((($CO$2:$CO$338=\"30\")*(AP$2:AP$338)*($CT$2:$CT$338=\"J\"))/SUMPRODUCT(($CO$2:$CO$338=\"30\")*(AP$2:AP$338>2)*($CT$2:$CT$338=\"J\")))","v":{"$error":"#DIV/0!"}},{"$f":"SUMPRODUCT((($CO$2:$CO$338=\"30\")*(AQ$2:AQ$338)*($CT$2:$CT$338=\"J\"))/SUMPRODUCT(($CO$2:$CO$338=\"30\")*(AQ$2:AQ$338>2)*($CT$2:$CT$338=\"J\")))","v":{"$error":"#DIV/0!"}},{"$f":"SUMPRODUCT((($CO$2:$CO$338=\"30\")*(AR$2:AR$338)*($CT$2:$CT$338=\"J\"))/SUMPRODUCT(($CO$2:$CO$338=\"30\")*(AR$2:AR$338>2)*($CT$2:$CT$338=\"J\")))","v":{"$error":"#DIV/0!"}},{"$f":"SUMPRODUCT((($CO$2:$CO$338=\"30\")*(AS$2:AS$338)*($CT$2:$CT$338=\"J\"))/SUMPRODUCT(($CO$2:$CO$338=\"30\")*(AS$2:AS$338>2)*($CT$2:$CT$338=\"J\")))","v":{"$error":"#DIV/0!"}},{"$f":"SUMPRODUCT((($CO$2:$CO$338=\"30\")*(AT$2:AT$338)*($CT$2:$CT$338=\"J\"))/SUMPRODUCT(($CO$2:$CO$338=\"30\")*(AT$2:AT$338>2)*($CT$2:$CT$338=\"J\")))","v":{"$error":"#DIV/0!"}},{"$f":"SUMPRODUCT((($CO$2:$CO$338=\"30\")*(AU$2:AU$338)*($CT$2:$CT$338=\"J\"))/SUMPRODUCT(($CO$2:$CO$338=\"30\")*(AU$2:AU$338>2)*($CT$2:$CT$338=\"J\")))","v":{"$error":"#DIV/0!"}},{"$f":"SUMPRODUCT((($CO$2:$CO$338=\"30\")*(AV$2:AV$338)*($CT$2:$CT$338=\"J\"))/SUMPRODUCT(($CO$2:$CO$338=\"30\")*(AV$2:AV$338>2)*($CT$2:$CT$338=\"J\")))","v":{"$error":"#DIV/0!"}},{"$f":"SUMPRODUCT((($CO$2:$CO$338=\"30\")*(AW$2:AW$338)*($CT$2:$CT$338=\"J\"))/SUMPRODUCT(($CO$2:$CO$338=\"30\")*(AW$2:AW$338>2)*($CT$2:$CT$338=\"J\")))","v":{"$error":"#DIV/0!"}},{"$f":"SUMPRODUCT((($CO$2:$CO$338=\"30\")*(AX$2:AX$338)*($CT$2:$CT$338=\"J\"))/SUMPRODUCT(($CO$2:$CO$338=\"30\")*(AX$2:AX$338>2)*($CT$2:$CT$338=\"J\")))","v":{"$error":"#DIV/0!"}},{"$f":"SUMPRODUCT((($CO$2:$CO$338=\"30\")*(AY$2:AY$338)*($CT$2:$CT$338=\"J\"))/SUMPRODUCT(($CO$2:$CO$338=\"30\")*(AY$2:AY$338>2)*($CT$2:$CT$338=\"J\")))","v":{"$error":"#DIV/0!"}},{"$f":"SUMPRODUCT((($CO$2:$CO$338=\"30\")*(AZ$2:AZ$338)*($CT$2:$CT$338=\"J\"))/SUMPRODUCT(($CO$2:$CO$338=\"30\")*(AZ$2:AZ$338>2)*($CT$2:$CT$338=\"J\")))","v":{"$error":"#DIV/0!"}},{"$f":"SUMPRODUCT((($CO$2:$CO$338=\"30\")*(BA$2:BA$338)*($CT$2:$CT$338=\"J\"))/SUMPRODUCT(($CO$2:$CO$338=\"30\")*(BA$2:BA$338>2)*($CT$2:$CT$338=\"J\")))","v":{"$error":"#DIV/0!"}},{"$f":"SUMPRODUCT((($CO$2:$CO$338=\"30\")*(BB$2:BB$338)*($CT$2:$CT$338=\"J\"))/SUMPRODUCT(($CO$2:$CO$338=\"30\")*(BB$2:BB$338>2)*($CT$2:$CT$338=\"J\")))","v":{"$error":"#DIV/0!"}},{"$f":"SUMPRODUCT((($CO$2:$CO$338=\"30\")*(BC$2:BC$338)*($CT$2:$CT$338=\"J\"))/SUMPRODUCT(($CO$2:$CO$338=\"30\")*(BC$2:BC$338>2)*($CT$2:$CT$338=\"J\")))","v":{"$error":"#DIV/0!"}},{"$f":"SUMPRODUCT((($CO$2:$CO$338=\"30\")*(BD$2:BD$338)*($CT$2:$CT$338=\"J\"))/SUMPRODUCT(($CO$2:$CO$338=\"30\")*(BD$2:BD$338>2)*($CT$2:$CT$338=\"J\")))","v":{"$error":"#DIV/0!"}},{"$f":"SUMPRODUCT((($CO$2:$CO$338=\"30\")*(BE$2:BE$338)*($CT$2:$CT$338=\"J\"))/SUMPRODUCT(($CO$2:$CO$338=\"30\")*(BE$2:BE$338>2)*($CT$2:$CT$338=\"J\")))","v":{"$error":"#DIV/0!"}},{"$f":"SUMPRODUCT((($CO$2:$CO$338=\"30\")*(BF$2:BF$338)*($CT$2:$CT$338=\"J\"))/SUMPRODUCT(($CO$2:$CO$338=\"30\")*(BF$2:BF$338>2)*($CT$2:$CT$338=\"J\")))","v":{"$error":"#DIV/0!"}},{"$f":"SUMPRODUCT((($CO$2:$CO$338=\"30\")*(BG$2:BG$338)*($CT$2:$CT$338=\"J\"))/SUMPRODUCT(($CO$2:$CO$338=\"30\")*(BG$2:BG$338>2)*($CT$2:$CT$338=\"J\")))","v":{"$error":"#DIV/0!"}},{"$f":"SUMPRODUCT((($CO$2:$CO$338=\"30\")*(BH$2:BH$338)*($CT$2:$CT$338=\"J\"))/SUMPRODUCT(($CO$2:$CO$338=\"30\")*(BH$2:BH$338>2)*($CT$2:$CT$338=\"J\")))","v":{"$error":"#DIV/0!"}},{"$f":"SUMPRODUCT((($CO$2:$CO$338=\"30\")*(BI$2:BI$338)*($CT$2:$CT$338=\"J\"))/SUMPRODUCT(($CO$2:$CO$338=\"30\")*(BI$2:BI$338>2)*($CT$2:$CT$338=\"J\")))","v":{"$error":"#DIV/0!"}},{"$f":"SUMPRODUCT((($CO$2:$CO$338=\"30\")*(BJ$2:BJ$338)*($CT$2:$CT$338=\"J\"))/SUMPRODUCT(($CO$2:$CO$338=\"30\")*(BJ$2:BJ$338>2)*($CT$2:$CT$338=\"J\")))","v":{"$error":"#DIV/0!"}},{"$f":"SUMPRODUCT((($CO$2:$CO$338=\"30\")*(BK$2:BK$338)*($CT$2:$CT$338=\"J\"))/SUMPRODUCT(($CO$2:$CO$338=\"30\")*(BK$2:BK$338>2)*($CT$2:$CT$338=\"J\")))","v":{"$error":"#DIV/0!"}},{"$f":"SUMPRODUCT((($CO$2:$CO$338=\"30\")*(BL$2:BL$338)*($CT$2:$CT$338=\"J\"))/SUMPRODUCT(($CO$2:$CO$338=\"30\")*(BL$2:BL$338>2)*($CT$2:$CT$338=\"J\")))","v":{"$error":"#DIV/0!"}},{"$f":"SUMPRODUCT((($CO$2:$CO$338=\"30\")*(BM$2:BM$338)*($CT$2:$CT$338=\"J\"))/SUMPRODUCT(($CO$2:$CO$338=\"30\")*(BM$2:BM$338>2)*($CT$2:$CT$338=\"J\")))","v":{"$error":"#DIV/0!"}},{"$f":"SUMPRODUCT((($CO$2:$CO$338=\"30\")*(BN$2:BN$338)*($CT$2:$CT$338=\"J\"))/SUMPRODUCT(($CO$2:$CO$338=\"30\")*(BN$2:BN$338>2)*($CT$2:$CT$338=\"J\")))","v":{"$error":"#DIV/0!"}},{"$f":"SUMPRODUCT((($CO$2:$CO$338=\"30\")*(BO$2:BO$338)*($CT$2:$CT$338=\"J\"))/SUMPRODUCT(($CO$2:$CO$338=\"30\")*(BO$2:BO$338>2)*($CT$2:$CT$338=\"J\")))","v":{"$error":"#DIV/0!"}},{"$f":"SUMPRODUCT((($CO$2:$CO$338=\"30\")*(BP$2:BP$338)*($CT$2:$CT$338=\"J\"))/SUMPRODUCT(($CO$2:$CO$338=\"30\")*(BP$2:BP$338>2)*($CT$2:$CT$338=\"J\")))","v":{"$error":"#DIV/0!"}},{"$f":"SUMPRODUCT((($CO$2:$CO$338=\"30\")*(BQ$2:BQ$338)*($CT$2:$CT$338=\"J\"))/SUMPRODUCT(($CO$2:$CO$338=\"30\")*(BQ$2:BQ$338>2)*($CT$2:$CT$338=\"J\")))","v":{"$error":"#DIV/0!"}},{"$f":"SUMPRODUCT((($CO$2:$CO$338=\"30\")*(BR$2:BR$338)*($CT$2:$CT$338=\"J\"))/SUMPRODUCT(($CO$2:$CO$338=\"30\")*(BR$2:BR$338>2)*($CT$2:$CT$338=\"J\")))","v":{"$error":"#DIV/0!"}},{"$f":"SUMPRODUCT((($CO$2:$CO$338=\"30\")*(BS$2:BS$338)*($CT$2:$CT$338=\"J\"))/SUMPRODUCT(($CO$2:$CO$338=\"30\")*(BS$2:BS$338>2)*($CT$2:$CT$338=\"J\")))","v":{"$error":"#DIV/0!"}},{"$f":"SUMPRODUCT((($CO$2:$CO$338=\"30\")*(BT$2:BT$338)*($CT$2:$CT$338=\"J\"))/SUMPRODUCT(($CO$2:$CO$338=\"30\")*(BT$2:BT$338>2)*($CT$2:$CT$338=\"J\")))","v":{"$error":"#DIV/0!"}},{"$f":"SUMPRODUCT((($CO$2:$CO$338=\"30\")*(BU$2:BU$338)*($CT$2:$CT$338=\"J\"))/SUMPRODUCT(($CO$2:$CO$338=\"30\")*(BU$2:BU$338>2)*($CT$2:$CT$338=\"J\")))","v":{"$error":"#DIV/0!"}},{"$f":"SUMPRODUCT((($CO$2:$CO$338=\"30\")*(BV$2:BV$338)*($CT$2:$CT$338=\"J\"))/SUMPRODUCT(($CO$2:$CO$338=\"30\")*(BV$2:BV$338>2)*($CT$2:$CT$338=\"J\")))","v":{"$error":"#DIV/0!"}},{"$f":"SUMPRODUCT((($CO$2:$CO$338=\"30\")*(BW$2:BW$338)*($CT$2:$CT$338=\"J\"))/SUMPRODUCT(($CO$2:$CO$338=\"30\")*(BW$2:BW$338>2)*($CT$2:$CT$338=\"J\")))","v":{"$error":"#DIV/0!"}},{"$error":"#DIV/0!"},{"$error":"#DIV/0!"},{"$error":"#DIV/0!"},{"$error":"#DIV/0!"},{"$error":"#DIV/0!"},{"$error":"#DIV/0!"},{"$error":"#DIV/0!"},{"$error":"#DIV/0!"},{"$error":"#DIV/0!"},{"$error":"#DIV/0!"},{"$error":"#DIV/0!"},{"$error":"#DIV/0!"},null,null,null,null,null,null,null,null,null,59,"30j",null,{"$f":"SUMPRODUCT(((#REF!>2)*($CO$2:$CO$339=\"30\")*(#REF!)*($CT$2:$CT$339=\"J\"))/SUMPRODUCT((#REF!>2)*($CO$2:$CO$339=\"30\")*(#REF!>2)*($CT$2:$CT$339=\"J\")))","v":{"$error":"#REF!"}}]
[null,null,null,null,null,null,null,null,null,"30v",{"$f":"SUMPRODUCT((($CO$2:$CO$338=\"30\")*(K$2:K$338)*($CT$2:$CT$338=\"V\"))/SUMPRODUCT(($CO$2:$CO$338=\"30\")*(K$2:K$338>2)*($CT$2:$CT$338=\"V\")))","v":{"$error":"#DIV/0!"}},{"$f":"SUMPRODUCT((($CO$2:$CO$338=\"30\")*(L$2:L$338)*($CT$2:$CT$338=\"V\"))/SUMPRODUCT(($CO$2:$CO$338=\"30\")*(L$2:L$338>2)*($CT$2:$CT$338=\"V\")))","v":{"$error":"#DIV/0!"}},{"$f":"SUMPRODUCT((($CO$2:$CO$338=\"30\")*(M$2:M$338)*($CT$2:$CT$338=\"V\"))/SUMPRODUCT(($CO$2:$CO$338=\"30\")*(M$2:M$338>2)*($CT$2:$CT$338=\"V\")))","v":{"$error":"#DIV/0!"}},{"$f":"SUMPRODUCT((($CO$2:$CO$338=\"30\")*(N$2:N$338)*($CT$2:$CT$338=\"V\"))/SUMPRODUCT(($CO$2:$CO$338=\"30\")*(N$2:N$338>2)*($CT$2:$CT$338=\"V\")))","v":{"$error":"#DIV/0!"}},{"$f":"SUMPRODUCT((($CO$2:$CO$338=\"30\")*(O$2:O$338)*($CT$2:$CT$338=\"V\"))/SUMPRODUCT(($CO$2:$CO$338=\"30\")*(O$2:O$338>2)*($CT$2:$CT$338=\"V\")))","v":{"$error":"#DIV/0!"}},{"$f":"SUMPRODUCT((($CO$2:$CO$338=\"30\")*(P$2:P$338)*($CT$2:$CT$338=\"V\"))/SUMPRODUCT(($CO$2:$CO$338=\"30\")*(P$2:P$338>2)*($CT$2:$CT$338=\"V\")))","v":{"$error":"#DIV/0!"}},{"$f":"SUMPRODUCT((($CO$2:$CO$338=\"30\")*(Q$2:Q$338)*($CT$2:$CT$338=\"V\"))/SUMPRODUCT(($CO$2:$CO$338=\"30\")*(Q$2:Q$338>2)*($CT$2:$CT$338=\"V\")))","v":{"$error":"#DIV/0!"}},{"$f":"SUMPRODUCT((($CO$2:$CO$338=\"30\")*(R$2:R$338)*($CT$2:$CT$338=\"V\"))/SUMPRODUCT(($CO$2:$CO$338=\"30\")*(R$2:R$338>2)*($CT$2:$CT$338=\"V\")))","v":{"$error":"#DIV/0!"}},{"$f":"SUMPRODUCT((($CO$2:$CO$338=\"30\")*(S$2:S$338)*($CT$2:$CT$338=\"V\"))/SUMPRODUCT(($CO$2:$CO$338=\"30\")*(S$2:S$338>2)*($CT$2:$CT$338=\"V\")))","v":{"$error":"#DIV/0!"}},{"$f":"SUMPRODUCT((($CO$2:$CO$338=\"30\")*(T$2:T$338)*($CT$2:$CT$338=\"V\"))/SUMPRODUCT(($CO$2:$CO$338=\"30\")*(T$2:T$338>2)*($CT$2:$CT$338=\"V\")))","v":{"$error":"#DIV/0!"}},{"$f":"SUMPRODUCT((($CO$2:$CO$338=\"30\")*(U$2:U$338)*($CT$2:$CT$338=\"V\"))/SUMPRODUCT(($CO$2:$CO$338=\"30\")*(U$2:U$338>2)*($CT$2:$CT$338=\"V\")))","v":{"$error":"#DIV/0!"}},{"$f":"SUMPRODUCT((($CO$2:$CO$338=\"30\")*(V$2:V$338)*($CT$2:$CT$338=\"V\"))/SUMPRODUCT(($CO$2:$CO$338=\"30\")*(V$2:V$338>2)*($CT$2:$CT$338=\"V\")))","v":{"$error":"#DIV/0!"}},{"$f":"SUMPRODUCT((($CO$2:$CO$338=\"30\")*(W$2:W$338)*($CT$2:$CT$338=\"V\"))/SUMPRODUCT(($CO$2:$CO$338=\"30\")*(W$2:W$338>2)*($CT$2:$CT$338=\"V\")))","v":{"$error":"#DIV/0!"}},{"$f":"SUMPRODUCT((($CO$2:$CO$338=\"30\")*(X$2:X$338)*($CT$2:$CT$338=\"V\"))/SUMPRODUCT(($CO$2:$CO$338=\"30\")*(X$2:X$338>2)*($CT$2:$CT$338=\"V\")))","v":{"$error":"#DIV/0!"}},{"$f":"SUMPRODUCT((($CO$2:$CO$338=\"30\")*(Y$2:Y$338)*($CT$2:$CT$338=\"V\"))/SUMPRODUCT(($CO$2:$CO$338=\"30\")*(Y$2:Y$338>2)*($CT$2:$CT$338=\"V\")))","v":{"$error":"#DIV/0!"}},{"$f":"SUMPRODUCT((($CO$2:$CO$338=\"30\")*(Z$2:Z$338)*($CT$2:$CT$338=\"V\"))/SUMPRODUCT(($CO$2:$CO$338=\"30\")*(Z$2:Z$338>2)*($CT$2:$CT$338=\"V\")))","v":{"$error":"#DIV/0!"}},{"$f":"SUMPRODUCT((($CO$2:$CO$338=\"30\")*(AA$2:AA$338)*($CT$2:$CT$338=\"V\"))/SUMPRODUCT(($CO$2:$CO$338=\"30\")*(AA$2:AA$338>2)*($CT$2:$CT$338=\"V\")))","v":{"$error":"#DIV/0!"}},{"$f":"SUMPRODUCT((($CO$2:$CO$338=\"30\")*(AB$2:AB$338)*($CT$2:$CT$338=\"V\"))/SUMPRODUCT(($CO$2:$CO$338=\"30\")*(AB$2:AB$338>2)*($CT$2:$CT$338=\"V\")))","v":{"$error":"#DIV/0!"}},{"$f":"SUMPRODUCT((($CO$2:$CO$338=\"30\")*(AC$2:AC$338)*($CT$2:$CT$338=\"V\"))/SUMPRODUCT(($CO$2:$CO$338=\"30\")*(AC$2:AC$338>2)*($CT$2:$CT$338=\"V\")))","v":{"$error":"#DIV/0!"}},{"$f":"SUMPRODUCT((($CO$2:$CO$338=\"30\")*(AD$2:AD$338)*($CT$2:$CT$338=\"V\"))/SUMPRODUCT(($CO$2:$CO$338=\"30\")*(AD$2:AD$338>2)*($CT$2:$CT$338=\"V\")))","v":{"$error":"#DIV/0!"}},{"$f":"SUMPRODUCT((($CO$2:$CO$338=\"30\")*(AE$2:AE$338)*($CT$2:$CT$338=\"V\"))/SUMPRODUCT(($CO$2:$CO$338=\"30\")*(AE$2:AE$338>2)*($CT$2:$CT$338=\"V\")))","v":{"$error":"#DIV/0!"}},{"$f":"SUMPRODUCT((($CO$2:$CO$338=\"30\")*(AF$2:AF$338)*($CT$2:$CT$338=\"V\"))/SUMPRODUCT(($CO$2:$CO$338=\"30\")*(AF$2:AF$338>2)*($CT$2:$CT$338=\"V\")))","v":{"$error":"#DIV/0!"}},{"$f":"SUMPRODUCT((($CO$2:$CO$338=\"30\")*(AG$2:AG$338)*($CT$2:$CT$338=\"V\"))/SUMPRODUCT(($CO$2:$CO$338=\"30\")*(AG$2:AG$338>2)*($CT$2:$CT$338=\"V\")))","v":{"$error":"#DIV/0!"}},{"$f":"SUMPRODUCT((($CO$2:$CO$338=\"30\")*(AH$2:AH$338)*($CT$2:$CT$338=\"V\"))/SUMPRODUCT(($CO$2:$CO$338=\"30\")*(AH$2:AH$338>2)*($CT$2:$CT$338=\"V\")))","v":{"$error":"#DIV/0!"}},{"$f":"SUMPRODUCT((($CO$2:$CO$338=\"30\")*(AI$2:AI$338)*($CT$2:$CT$338=\"V\"))/SUMPRODUCT(($CO$2:$CO$338=\"30\")*(AI$2:AI$338>2)*($CT$2:$CT$338=\"V\")))","v":{"$error":"#DIV/0!"}},{"$f":"SUMPRODUCT((($CO$2:$CO$338=\"30\")*(AJ$2:AJ$338)*($CT$2:$CT$338=\"V\"))/SUMPRODUCT(($CO$2:$CO$338=\"30\")*(AJ$2:AJ$338>2)*($CT$2:$CT$338=\"V\")))","v":{"$error":"#DIV/0!"}},{"$f":"SUMPRODUCT((($CO$2:$CO$338=\"30\")*(AK$2:AK$338)*($CT$2:$CT$338=\"V\"))/SUMPRODUCT(($CO$2:$CO$338=\"30\")*(AK$2:AK$338>2)*($CT$2:$CT$338=\"V\")))","v":{"$error":"#DIV/0!"}},{"$f":"SUMPRODUCT((($CO$2:$CO$338=\"30\")*(AL$2:AL$338)*($CT$2:$CT$338=\"V\"))/SUMPRODUCT(($CO$2:$CO$338=\"30\")*(AL$2:AL$338>2)*($CT$2:$CT$338=\"V\")))","v":{"$error":"#DIV/0!"}},{"$f":"SUMPRODUCT((($CO$2:$CO$338=\"30\")*(AM$2:AM$338)*($CT$2:$CT$338=\"V\"))/SUMPRODUCT(($CO$2:$CO$338=\"30\")*(AM$2:AM$338>2)*($CT$2:$CT$338=\"V\")))","v":{"$error":"#DIV/0!"}},{"$f":"SUMPRODUCT((($CO$2:$CO$338=\"30\")*(AN$2:AN$338)*($CT$2:$CT$338=\"V\"))/SUMPRODUCT(($CO$2:$CO$338=\"30\")*(AN$2:AN$338>2)*($CT$2:$CT$338=\"V\")))","v":{"$error":"#DIV/0!"}},{"$f":"SUMPRODUCT((($CO$2:$CO$338=\"30\")*(AO$2:AO$338)*($CT$2:$CT$338=\"V\"))/SUMPRODUCT(($CO$2:$CO$338=\"30\")*(AO$2:AO$338>2)*($CT$2:$CT$338=\"V\")))","v":{"$error":"#DIV/0!"}},{"$f":"SUMPRODUCT((($CO$2:$CO$338=\"30\")*(AP$2:AP$338)*($CT$2:$CT$338=\"V\"))/SUMPRODUCT(($CO$2:$CO$338=\"30\")*(AP$2:AP$338>2)*($CT$2:$CT$338=\"V\")))","v":{"$error":"#DIV/0!"}},{"$f":"SUMPRODUCT((($CO$2:$CO$338=\"30\")*(AQ$2:AQ$338)*($CT$2:$CT$338=\"V\"))/SUMPRODUCT(($CO$2:$CO$338=\"30\")*(AQ$2:AQ$338>2)*($CT$2:$CT$338=\"V\")))","v":{"$error":"#DIV/0!"}},{"$f":"SUMPRODUCT((($CO$2:$CO$338=\"30\")*(AR$2:AR$338)*($CT$2:$CT$338=\"V\"))/SUMPRODUCT(($CO$2:$CO$338=\"30\")*(AR$2:AR$338>2)*($CT$2:$CT$338=\"V\")))","v":{"$error":"#DIV/0!"}},{"$f":"SUMPRODUCT((($CO$2:$CO$338=\"30\")*(AS$2:AS$338)*($CT$2:$CT$338=\"V\"))/SUMPRODUCT(($CO$2:$CO$338=\"30\")*(AS$2:AS$338>2)*($CT$2:$CT$338=\"V\")))","v":{"$error":"#DIV/0!"}},{"$f":"SUMPRODUCT((($CO$2:$CO$338=\"30\")*(AT$2:AT$338)*($CT$2:$CT$338=\"V\"))/SUMPRODUCT(($CO$2:$CO$338=\"30\")*(AT$2:AT$338>2)*($CT$2:$CT$338=\"V\")))","v":{"$error":"#DIV/0!"}},{"$f":"SUMPRODUCT((($CO$2:$CO$338=\"30\")*(AU$2:AU$338)*($CT$2:$CT$338=\"V\"))/SUMPRODUCT(($CO$2:$CO$338=\"30\")*(AU$2:AU$338>2)*($CT$2:$CT$338=\"V\")))","v":{"$error":"#DIV/0!"}},{"$f":"SUMPRODUCT((($CO$2:$CO$338=\"30\")*(AV$2:AV$338)*($CT$2:$CT$338=\"V\"))/SUMPRODUCT(($CO$2:$CO$338=\"30\")*(AV$2:AV$338>2)*($CT$2:$CT$338=\"V\")))","v":{"$error":"#DIV/0!"}},{"$f":"SUMPRODUCT((($CO$2:$CO$338=\"30\")*(AW$2:AW$338)*($CT$2:$CT$338=\"V\"))/SUMPRODUCT(($CO$2:$CO$338=\"30\")*(AW$2:AW$338>2)*($CT$2:$CT$338=\"V\")))","v":{"$error":"#DIV/0!"}},{"$f":"SUMPRODUCT((($CO$2:$CO$338=\"30\")*(AX$2:AX$338)*($CT$2:$CT$338=\"V\"))/SUMPRODUCT(($CO$2:$CO$338=\"30\")*(AX$2:AX$338>2)*($CT$2:$CT$338=\"V\")))","v":{"$error":"#DIV/0!"}},{"$f":"SUMPRODUCT((($CO$2:$CO$338=\"30\")*(AY$2:AY$338)*($CT$2:$CT$338=\"V\"))/SUMPRODUCT(($CO$2:$CO$338=\"30\")*(AY$2:AY$338>2)*($CT$2:$CT$338=\"V\")))","v":{"$error":"#DIV/0!"}},{"$f":"SUMPRODUCT((($CO$2:$CO$338=\"30\")*(AZ$2:AZ$338)*($CT$2:$CT$338=\"V\"))/SUMPRODUCT(($CO$2:$CO$338=\"30\")*(AZ$2:AZ$338>2)*($CT$2:$CT$338=\"V\")))","v":{"$error":"#DIV/0!"}},{"$f":"SUMPRODUCT((($CO$2:$CO$338=\"30\")*(BA$2:BA$338)*($CT$2:$CT$338=\"V\"))/SUMPRODUCT(($CO$2:$CO$338=\"30\")*(BA$2:BA$338>2)*($CT$2:$CT$338=\"V\")))","v":{"$error":"#DIV/0!"}},{"$f":"SUMPRODUCT((($CO$2:$CO$338=\"30\")*(BB$2:BB$338)*($CT$2:$CT$338=\"V\"))/SUMPRODUCT(($CO$2:$CO$338=\"30\")*(BB$2:BB$338>2)*($CT$2:$CT$338=\"V\")))","v":{"$error":"#DIV/0!"}},{"$f":"SUMPRODUCT((($CO$2:$CO$338=\"30\")*(BC$2:BC$338)*($CT$2:$CT$338=\"V\"))/SUMPRODUCT(($CO$2:$CO$338=\"30\")*(BC$2:BC$338>2)*($CT$2:$CT$338=\"V\")))","v":{"$error":"#DIV/0!"}},{"$f":"SUMPRODUCT((($CO$2:$CO$338=\"30\")*(BD$2:BD$338)*($CT$2:$CT$338=\"V\"))/SUMPRODUCT(($CO$2:$CO$338=\"30\")*(BD$2:BD$338>2)*($CT$2:$CT$338=\"V\")))","v":{"$error":"#DIV/0!"}},{"$f":"SUMPRODUCT((($CO$2:$CO$338=\"30\")*(BE$2:BE$338)*($CT$2:$CT$338=\"V\"))/SUMPRODUCT(($CO$2:$CO$338=\"30\")*(BE$2:BE$338>2)*($CT$2:$CT$338=\"V\")))","v":{"$error":"#DIV/0!"}},{"$f":"SUMPRODUCT((($CO$2:$CO$338=\"30\")*(BF$2:BF$338)*($CT$2:$CT$338=\"V\"))/SUMPRODUCT(($CO$2:$CO$338=\"30\")*(BF$2:BF$338>2)*($CT$2:$CT$338=\"V\")))","v":{"$error":"#DIV/0!"}},{"$f":"SUMPRODUCT((($CO$2:$CO$338=\"30\")*(BG$2:BG$338)*($CT$2:$CT$338=\"V\"))/SUMPRODUCT(($CO$2:$CO$338=\"30\")*(BG$2:BG$338>2)*($CT$2:$CT$338=\"V\")))","v":{"$error":"#DIV/0!"}},{"$f":"SUMPRODUCT((($CO$2:$CO$338=\"30\")*(BH$2:BH$338)*($CT$2:$CT$338=\"V\"))/SUMPRODUCT(($CO$2:$CO$338=\"30\")*(BH$2:BH$338>2)*($CT$2:$CT$338=\"V\")))","v":{"$error":"#DIV/0!"}},{"$f":"SUMPRODUCT((($CO$2:$CO$338=\"30\")*(BI$2:BI$338)*($CT$2:$CT$338=\"V\"))/SUMPRODUCT(($CO$2:$CO$338=\"30\")*(BI$2:BI$338>2)*($CT$2:$CT$338=\"V\")))","v":{"$error":"#DIV/0!"}},{"$f":"SUMPRODUCT((($CO$2:$CO$338=\"30\")*(BJ$2:BJ$338)*($CT$2:$CT$338=\"V\"))/SUMPRODUCT(($CO$2:$CO$338=\"30\")*(BJ$2:BJ$338>2)*($CT$2:$CT$338=\"V\")))","v":{"$error":"#DIV/0!"}},{"$f":"SUMPRODUCT((($CO$2:$CO$338=\"30\")*(BK$2:BK$338)*($CT$2:$CT$338=\"V\"))/SUMPRODUCT(($CO$2:$CO$338=\"30\")*(BK$2:BK$338>2)*($CT$2:$CT$338=\"V\")))","v":{"$error":"#DIV/0!"}},{"$f":"SUMPRODUCT((($CO$2:$CO$338=\"30\")*(BL$2:BL$338)*($CT$2:$CT$338=\"V\"))/SUMPRODUCT(($CO$2:$CO$338=\"30\")*(BL$2:BL$338>2)*($CT$2:$CT$338=\"V\")))","v":{"$error":"#DIV/0!"}},{"$f":"SUMPRODUCT((($CO$2:$CO$338=\"30\")*(BM$2:BM$338)*($CT$2:$CT$338=\"V\"))/SUMPRODUCT(($CO$2:$CO$338=\"30\")*(BM$2:BM$338>2)*($CT$2:$CT$338=\"V\")))","v":{"$error":"#DIV/0!"}},{"$f":"SUMPRODUCT((($CO$2:$CO$338=\"30\")*(BN$2:BN$338)*($CT$2:$CT$338=\"V\"))/SUMPRODUCT(($CO$2:$CO$338=\"30\")*(BN$2:BN$338>2)*($CT$2:$CT$338=\"V\")))","v":{"$error":"#DIV/0!"}},{"$f":"SUMPRODUCT((($CO$2:$CO$338=\"30\")*(BO$2:BO$338)*($CT$2:$CT$338=\"V\"))/SUMPRODUCT(($CO$2:$CO$338=\"30\")*(BO$2:BO$338>2)*($CT$2:$CT$338=\"V\")))","v":{"$error":"#DIV/0!"}},{"$f":"SUMPRODUCT((($CO$2:$CO$338=\"30\")*(BP$2:BP$338)*($CT$2:$CT$338=\"V\"))/SUMPRODUCT(($CO$2:$CO$338=\"30\")*(BP$2:BP$338>2)*($CT$2:$CT$338=\"V\")))","v":{"$error":"#DIV/0!"}},{"$f":"SUMPRODUCT((($CO$2:$CO$338=\"30\")*(BQ$2:BQ$338)*($CT$2:$CT$338=\"V\"))/SUMPRODUCT(($CO$2:$CO$338=\"30\")*(BQ$2:BQ$338>2)*($CT$2:$CT$338=\"V\")))","v":{"$error":"#DIV/0!"}},{"$f":"SUMPRODUCT((($CO$2:$CO$338=\"30\")*(BR$2:BR$338)*($CT$2:$CT$338=\"V\"))/SUMPRODUCT(($CO$2:$CO$338=\"30\")*(BR$2:BR$338>2)*($CT$2:$CT$338=\"V\")))","v":{"$error":"#DIV/0!"}},{"$f":"SUMPRODUCT((($CO$2:$CO$338=\"30\")*(BS$2:BS$338)*($CT$2:$CT$338=\"V\"))/SUMPRODUCT(($CO$2:$CO$338=\"30\")*(BS$2:BS$338>2)*($CT$2:$CT$338=\"V\")))","v":{"$error":"#DIV/0!"}},{"$f":"SUMPRODUCT((($CO$2:$CO$338=\"30\")*(BT$2:BT$338)*($CT$2:$CT$338=\"V\"))/SUMPRODUCT(($CO$2:$CO$338=\"30\")*(BT$2:BT$338>2)*($CT$2:$CT$338=\"V\")))","v":{"$error":"#DIV/0!"}},{"$f":"SUMPRODUCT((($CO$2:$CO$338=\"30\")*(BU$2:BU$338)*($CT$2:$CT$338=\"V\"))/SUMPRODUCT(($CO$2:$CO$338=\"30\")*(BU$2:BU$338>2)*($CT$2:$CT$338=\"V\")))","v":{"$error":"#DIV/0!"}},{"$f":"SUMPRODUCT((($CO$2:$CO$338=\"30\")*(BV$2:BV$338)*($CT$2:$CT$338=\"V\"))/SUMPRODUCT(($CO$2:$CO$338=\"30\")*(BV$2:BV$338>2)*($CT$2:$CT$338=\"V\")))","v":{"$error":"#DIV/0!"}},{"$f":"SUMPRODUCT((($CO$2:$CO$338=\"30\")*(BW$2:BW$338)*($CT$2:$CT$338=\"V\"))/SUMPRODUCT(($CO$2:$CO$338=\"30\")*(BW$2:BW$338>2)*($CT$2:$CT$338=\"V\")))","v":{"$error":"#DIV/0!"}},{"$error":"#DIV/0!"},{"$error":"#DIV/0!"},{"$error":"#DIV/0!"},{"$error":"#DIV/0!"},{"$error":"#DIV/0!"},{"$error":"#DIV/0!"},{"$error":"#DIV/0!"},{"$error":"#DIV/0!"},{"$error":"#DIV/0!"},{"$error":"#DIV/0!"},{"$error":"#DIV/0!"},{"$error":"#DIV/0!"},null,null,null,null,null,null,null,null,null,60,"30v",null,{"$f":"SUMPRODUCT(((#REF!>2)*($CO$2:$CO$339=\"30\")*(#REF!)*($CT$2:$CT$339=\"V\"))/SUMPRODUCT((#REF!>2)*($CO$2:$CO$339=\"30\")*(#REF!>2)*($CT$2:$CT$339=\"V\")))","v":{"$error":"#REF!"}}]
[null,null,null,null,null,null,null,null,null,"30vsdoub",{"$f":"SUMPRODUCT((($CO$2:$CO$338=\"30\")*(K$2:K$338)*($CT$2:$CT$338=\"V\")*($F$2:$F$338=0))/SUMPRODUCT(($CO$2:$CO$338=\"30\")*(K$2:K$338>2)*($CT$2:$CT$338=\"V\")*($F$2:$F$338=0)))","v":{"$error":"#DIV/0!"}},{"$f":"SUMPRODUCT((($CO$2:$CO$338=\"30\")*(L$2:L$338)*($CT$2:$CT$338=\"V\")*($F$2:$F$338=0))/SUMPRODUCT(($CO$2:$CO$338=\"30\")*(L$2:L$338>2)*($CT$2:$CT$338=\"V\")*($F$2:$F$338=0)))","v":{"$error":"#DIV/0!"}},{"$f":"SUMPRODUCT((($CO$2:$CO$338=\"30\")*(M$2:M$338)*($CT$2:$CT$338=\"V\")*($F$2:$F$338=0))/SUMPRODUCT(($CO$2:$CO$338=\"30\")*(M$2:M$338>2)*($CT$2:$CT$338=\"V\")*($F$2:$F$338=0)))","v":{"$error":"#DIV/0!"}},{"$f":"SUMPRODUCT((($CO$2:$CO$338=\"30\")*(N$2:N$338)*($CT$2:$CT$338=\"V\")*($F$2:$F$338=0))/SUMPRODUCT(($CO$2:$CO$338=\"30\")*(N$2:N$338>2)*($CT$2:$CT$338=\"V\")*($F$2:$F$338=0)))","v":{"$error":"#DIV/0!"}},{"$f":"SUMPRODUCT((($CO$2:$CO$338=\"30\")*(O$2:O$338)*($CT$2:$CT$338=\"V\")*($F$2:$F$338=0))/SUMPRODUCT(($CO$2:$CO$338=\"30\")*(O$2:O$338>2)*($CT$2:$CT$338=\"V\")*($F$2:$F$338=0)))","v":{"$error":"#DIV/0!"}},{"$f":"SUMPRODUCT((($CO$2:$CO$338=\"30\")*(P$2:P$338)*($CT$2:$CT$338=\"V\")*($F$2:$F$338=0))/SUMPRODUCT(($CO$2:$CO$338=\"30\")*(P$2:P$338>2)*($CT$2:$CT$338=\"V\")*($F$2:$F$338=0)))","v":{"$error":"#DIV/0!"}},{"$f":"SUMPRODUCT((($CO$2:$CO$338=\"30\")*(Q$2:Q$338)*($CT$2:$CT$338=\"V\")*($F$2:$F$338=0))/SUMPRODUCT(($CO$2:$CO$338=\"30\")*(Q$2:Q$338>2)*($CT$2:$CT$338=\"V\")*($F$2:$F$338=0)))","v":{"$error":"#DIV/0!"}},{"$f":"SUMPRODUCT((($CO$2:$CO$338=\"30\")*(R$2:R$338)*($CT$2:$CT$338=\"V\")*($F$2:$F$338=0))/SUMPRODUCT(($CO$2:$CO$338=\"30\")*(R$2:R$338>2)*($CT$2:$CT$338=\"V\")*($F$2:$F$338=0)))","v":{"$error":"#DIV/0!"}},{"$f":"SUMPRODUCT((($CO$2:$CO$338=\"30\")*(S$2:S$338)*($CT$2:$CT$338=\"V\")*($F$2:$F$338=0))/SUMPRODUCT(($CO$2:$CO$338=\"30\")*(S$2:S$338>2)*($CT$2:$CT$338=\"V\")*($F$2:$F$338=0)))","v":{"$error":"#DIV/0!"}},{"$f":"SUMPRODUCT((($CO$2:$CO$338=\"30\")*(T$2:T$338)*($CT$2:$CT$338=\"V\")*($F$2:$F$338=0))/SUMPRODUCT(($CO$2:$CO$338=\"30\")*(T$2:T$338>2)*($CT$2:$CT$338=\"V\")*($F$2:$F$338=0)))","v":{"$error":"#DIV/0!"}},{"$f":"SUMPRODUCT((($CO$2:$CO$338=\"30\")*(U$2:U$338)*($CT$2:$CT$338=\"V\")*($F$2:$F$338=0))/SUMPRODUCT(($CO$2:$CO$338=\"30\")*(U$2:U$338>2)*($CT$2:$CT$338=\"V\")*($F$2:$F$338=0)))","v":{"$error":"#DIV/0!"}},{"$f":"SUMPRODUCT((($CO$2:$CO$338=\"30\")*(V$2:V$338)*($CT$2:$CT$338=\"V\")*($F$2:$F$338=0))/SUMPRODUCT(($CO$2:$CO$338=\"30\")*(V$2:V$338>2)*($CT$2:$CT$338=\"V\")*($F$2:$F$338=0)))","v":{"$error":"#DIV/0!"}},{"$f":"SUMPRODUCT((($CO$2:$CO$338=\"30\")*(W$2:W$338)*($CT$2:$CT$338=\"V\")*($F$2:$F$338=0))/SUMPRODUCT(($CO$2:$CO$338=\"30\")*(W$2:W$338>2)*($CT$2:$CT$338=\"V\")*($F$2:$F$338=0)))","v":{"$error":"#DIV/0!"}},{"$f":"SUMPRODUCT((($CO$2:$CO$338=\"30\")*(X$2:X$338)*($CT$2:$CT$338=\"V\")*($F$2:$F$338=0))/SUMPRODUCT(($CO$2:$CO$338=\"30\")*(X$2:X$338>2)*($CT$2:$CT$338=\"V\")*($F$2:$F$338=0)))","v":{"$error":"#DIV/0!"}},{"$f":"SUMPRODUCT((($CO$2:$CO$338=\"30\")*(Y$2:Y$338)*($CT$2:$CT$338=\"V\")*($F$2:$F$338=0))/SUMPRODUCT(($CO$2:$CO$338=\"30\")*(Y$2:Y$338>2)*($CT$2:$CT$338=\"V\")*($F$2:$F$338=0)))","v":{"$error":"#DIV/0!"}},{"$f":"SUMPRODUCT((($CO$2:$CO$338=\"30\")*(Z$2:Z$338)*($CT$2:$CT$338=\"V\")*($F$2:$F$338=0))/SUMPRODUCT(($CO$2:$CO$338=\"30\")*(Z$2:Z$338>2)*($CT$2:$CT$338=\"V\")*($F$2:$F$338=0)))","v":{"$error":"#DIV/0!"}},{"$f":"SUMPRODUCT((($CO$2:$CO$338=\"30\")*(AA$2:AA$338)*($CT$2:$CT$338=\"V\")*($F$2:$F$338=0))/SUMPRODUCT(($CO$2:$CO$338=\"30\")*(AA$2:AA$338>2)*($CT$2:$CT$338=\"V\")*($F$2:$F$338=0)))","v":{"$error":"#DIV/0!"}},{"$f":"SUMPRODUCT((($CO$2:$CO$338=\"30\")*(AB$2:AB$338)*($CT$2:$CT$338=\"V\")*($F$2:$F$338=0))/SUMPRODUCT(($CO$2:$CO$338=\"30\")*(AB$2:AB$338>2)*($CT$2:$CT$338=\"V\")*($F$2:$F$338=0)))","v":{"$error":"#DIV/0!"}},{"$f":"SUMPRODUCT((($CO$2:$CO$338=\"30\")*(AC$2:AC$338)*($CT$2:$CT$338=\"V\")*($F$2:$F$338=0))/SUMPRODUCT(($CO$2:$CO$338=\"30\")*(AC$2:AC$338>2)*($CT$2:$CT$338=\"V\")*($F$2:$F$338=0)))","v":{"$error":"#DIV/0!"}},{"$f":"SUMPRODUCT((($CO$2:$CO$338=\"30\")*(AD$2:AD$338)*($CT$2:$CT$338=\"V\")*($F$2:$F$338=0))/SUMPRODUCT(($CO$2:$CO$338=\"30\")*(AD$2:AD$338>2)*($CT$2:$CT$338=\"V\")*($F$2:$F$338=0)))","v":{"$error":"#DIV/0!"}},{"$f":"SUMPRODUCT((($CO$2:$CO$338=\"30\")*(AE$2:AE$338)*($CT$2:$CT$338=\"V\")*($F$2:$F$338=0))/SUMPRODUCT(($CO$2:$CO$338=\"30\")*(AE$2:AE$338>2)*($CT$2:$CT$338=\"V\")*($F$2:$F$338=0)))","v":{"$error":"#DIV/0!"}},{"$f":"SUMPRODUCT((($CO$2:$CO$338=\"30\")*(AF$2:AF$338)*($CT$2:$CT$338=\"V\")*($F$2:$F$338=0))/SUMPRODUCT(($CO$2:$CO$338=\"30\")*(AF$2:AF$338>2)*($CT$2:$CT$338=\"V\")*($F$2:$F$338=0)))","v":{"$error":"#DIV/0!"}},{"$f":"SUMPRODUCT((($CO$2:$CO$338=\"30\")*(AG$2:AG$338)*($CT$2:$CT$338=\"V\")*($F$2:$F$338=0))/SUMPRODUCT(($CO$2:$CO$338=\"30\")*(AG$2:AG$338>2)*($CT$2:$CT$338=\"V\")*($F$2:$F$338=0)))","v":{"$error":"#DIV/0!"}},{"$f":"SUMPRODUCT((($CO$2:$CO$338=\"30\")*(AH$2:AH$338)*($CT$2:$CT$338=\"V\")*($F$2:$F$338=0))/SUMPRODUCT(($CO$2:$CO$338=\"30\")*(AH$2:AH$338>2)*($CT$2:$CT$338=\"V\")*($F$2:$F$338=0)))","v":{"$error":"#DIV/0!"}},{"$f":"SUMPRODUCT((($CO$2:$CO$338=\"30\")*(AI$2:AI$338)*($CT$2:$CT$338=\"V\")*($F$2:$F$338=0))/SUMPRODUCT(($CO$2:$CO$338=\"30\")*(AI$2:AI$338>2)*($CT$2:$CT$338=\"V\")*($F$2:$F$338=0)))","v":{"$error":"#DIV/0!"}},{"$f":"SUMPRODUCT((($CO$2:$CO$338=\"30\")*(AJ$2:AJ$338)*($CT$2:$CT$338=\"V\")*($F$2:$F$338=0))/SUMPRODUCT(($CO$2:$CO$338=\"30\")*(AJ$2:AJ$338>2)*($CT$2:$CT$338=\"V\")*($F$2:$F$338=0)))","v":{"$error":"#DIV/0!"}},{"$f":"SUMPRODUCT((($CO$2:$CO$338=\"30\")*(AK$2:AK$338)*($CT$2:$CT$338=\"V\")*($F$2:$F$338=0))/SUMPRODUCT(($CO$2:$CO$338=\"30\")*(AK$2:AK$338>2)*($CT$2:$CT$338=\"V\")*($F$2:$F$338=0)))","v":{"$error":"#DIV/0!"}},{"$f":"SUMPRODUCT((($CO$2:$CO$338=\"30\")*(AL$2:AL$338)*($CT$2:$CT$338=\"V\")*($F$2:$F$338=0))/SUMPRODUCT(($CO$2:$CO$338=\"30\")*(AL$2:AL$338>2)*($CT$2:$CT$338=\"V\")*($F$2:$F$338=0)))","v":{"$error":"#DIV/0!"}},{"$f":"SUMPRODUCT((($CO$2:$CO$338=\"30\")*(AM$2:AM$338)*($CT$2:$CT$338=\"V\")*($F$2:$F$338=0))/SUMPRODUCT(($CO$2:$CO$338=\"30\")*(AM$2:AM$338>2)*($CT$2:$CT$338=\"V\")*($F$2:$F$338=0)))","v":{"$error":"#DIV/0!"}},{"$f":"SUMPRODUCT((($CO$2:$CO$338=\"30\")*(AN$2:AN$338)*($CT$2:$CT$338=\"V\")*($F$2:$F$338=0))/SUMPRODUCT(($CO$2:$CO$338=\"30\")*(AN$2:AN$338>2)*($CT$2:$CT$338=\"V\")*($F$2:$F$338=0)))","v":{"$error":"#DIV/0!"}},{"$f":"SUMPRODUCT((($CO$2:$CO$338=\"30\")*(AO$2:AO$338)*($CT$2:$CT$338=\"V\")*($F$2:$F$338=0))/SUMPRODUCT(($CO$2:$CO$338=\"30\")*(AO$2:AO$338>2)*($CT$2:$CT$338=\"V\")*($F$2:$F$338=0)))","v":{"$error":"#DIV/0!"}},{"$f":"SUMPRODUCT((($CO$2:$CO$338=\"30\")*(AP$2:AP$338)*($CT$2:$CT$338=\"V\")*($F$2:$F$338=0))/SUMPRODUCT(($CO$2:$CO$338=\"30\")*(AP$2:AP$338>2)*($CT$2:$CT$338=\"V\")*($F$2:$F$338=0)))","v":{"$error":"#DIV/0!"}},{"$f":"SUMPRODUCT((($CO$2:$CO$338=\"30\")*(AQ$2:AQ$338)*($CT$2:$CT$338=\"V\")*($F$2:$F$338=0))/SUMPRODUCT(($CO$2:$CO$338=\"30\")*(AQ$2:AQ$338>2)*($CT$2:$CT$338=\"V\")*($F$2:$F$338=0)))","v":{"$error":"#DIV/0!"}},{"$f":"SUMPRODUCT((($CO$2:$CO$338=\"30\")*(AR$2:AR$338)*($CT$2:$CT$338=\"V\")*($F$2:$F$338=0))/SUMPRODUCT(($CO$2:$CO$338=\"30\")*(AR$2:AR$338>2)*($CT$2:$CT$338=\"V\")*($F$2:$F$338=0)))","v":{"$error":"#DIV/0!"}},{"$f":"SUMPRODUCT((($CO$2:$CO$338=\"30\")*(AS$2:AS$338)*($CT$2:$CT$338=\"V\")*($F$2:$F$338=0))/SUMPRODUCT(($CO$2:$CO$338=\"30\")*(AS$2:AS$338>2)*($CT$2:$CT$338=\"V\")*($F$2:$F$338=0)))","v":{"$error":"#DIV/0!"}},{"$f":"SUMPRODUCT((($CO$2:$CO$338=\"30\")*(AT$2:AT$338)*($CT$2:$CT$338=\"V\")*($F$2:$F$338=0))/SUMPRODUCT(($CO$2:$CO$338=\"30\")*(AT$2:AT$338>2)*($CT$2:$CT$338=\"V\")*($F$2:$F$338=0)))","v":{"$error":"#DIV/0!"}},{"$f":"SUMPRODUCT((($CO$2:$CO$338=\"30\")*(AU$2:AU$338)*($CT$2:$CT$338=\"V\")*($F$2:$F$338=0))/SUMPRODUCT(($CO$2:$CO$338=\"30\")*(AU$2:AU$338>2)*($CT$2:$CT$338=\"V\")*($F$2:$F$338=0)))","v":{"$error":"#DIV/0!"}},{"$f":"SUMPRODUCT((($CO$2:$CO$338=\"30\")*(AV$2:AV$338)*($CT$2:$CT$338=\"V\")*($F$2:$F$338=0))/SUMPRODUCT(($CO$2:$CO$338=\"30\")*(AV$2:AV$338>2)*($CT$2:$CT$338=\"V\")*($F$2:$F$338=0)))","v":{"$error":"#DIV/0!"}},{"$f":"SUMPRODUCT((($CO$2:$CO$338=\"30\")*(AW$2:AW$338)*($CT$2:$CT$338=\"V\")*($F$2:$F$338=0))/SUMPRODUCT(($CO$2:$CO$338=\"30\")*(AW$2:AW$338>2)*($CT$2:$CT$338=\"V\")*($F$2:$F$338=0)))","v":{"$error":"#DIV/0!"}},{"$f":"SUMPRODUCT((($CO$2:$CO$338=\"30\")*(AX$2:AX$338)*($CT$2:$CT$338=\"V\")*($F$2:$F$338=0))/SUMPRODUCT(($CO$2:$CO$338=\"30\")*(AX$2:AX$338>2)*($CT$2:$CT$338=\"V\")*($F$2:$F$338=0)))","v":{"$error":"#DIV/0!"}},{"$f":"SUMPRODUCT((($CO$2:$CO$338=\"30\")*(AY$2:AY$338)*($CT$2:$CT$338=\"V\")*($F$2:$F$338=0))/SUMPRODUCT(($CO$2:$CO$338=\"30\")*(AY$2:AY$338>2)*($CT$2:$CT$338=\"V\")*($F$2:$F$338=0)))","v":{"$error":"#DIV/0!"}},{"$f":"SUMPRODUCT((($CO$2:$CO$338=\"30\")*(AZ$2:AZ$338)*($CT$2:$CT$338=\"V\")*($F$2:$F$338=0))/SUMPRODUCT(($CO$2:$CO$338=\"30\")*(AZ$2:AZ$338>2)*($CT$2:$CT$338=\"V\")*($F$2:$F$338=0)))","v":{"$error":"#DIV/0!"}},{"$f":"SUMPRODUCT((($CO$2:$CO$338=\"30\")*(BA$2:BA$338)*($CT$2:$CT$338=\"V\")*($F$2:$F$338=0))/SUMPRODUCT(($CO$2:$CO$338=\"30\")*(BA$2:BA$338>2)*($CT$2:$CT$338=\"V\")*($F$2:$F$338=0)))","v":{"$error":"#DIV/0!"}},{"$f":"SUMPRODUCT((($CO$2:$CO$338=\"30\")*(BB$2:BB$338)*($CT$2:$CT$338=\"V\")*($F$2:$F$338=0))/SUMPRODUCT(($CO$2:$CO$338=\"30\")*(BB$2:BB$338>2)*($CT$2:$CT$338=\"V\")*($F$2:$F$338=0)))","v":{"$error":"#DIV/0!"}},{"$f":"SUMPRODUCT((($CO$2:$CO$338=\"30\")*(BC$2:BC$338)*($CT$2:$CT$338=\"V\")*($F$2:$F$338=0))/SUMPRODUCT(($CO$2:$CO$338=\"30\")*(BC$2:BC$338>2)*($CT$2:$CT$338=\"V\")*($F$2:$F$338=0)))","v":{"$error":"#DIV/0!"}},{"$f":"SUMPRODUCT((($CO$2:$CO$338=\"30\")*(BD$2:BD$338)*($CT$2:$CT$338=\"V\")*($F$2:$F$338=0))/SUMPRODUCT(($CO$2:$CO$338=\"30\")*(BD$2:BD$338>2)*($CT$2:$CT$338=\"V\")*($F$2:$F$338=0)))","v":{"$error":"#DIV/0!"}},{"$f":"SUMPRODUCT((($CO$2:$CO$338=\"30\")*(BE$2:BE$338)*($CT$2:$CT$338=\"V\")*($F$2:$F$338=0))/SUMPRODUCT(($CO$2:$CO$338=\"30\")*(BE$2:BE$338>2)*($CT$2:$CT$338=\"V\")*($F$2:$F$338=0)))","v":{"$error":"#DIV/0!"}},{"$f":"SUMPRODUCT((($CO$2:$CO$338=\"30\")*(BF$2:BF$338)*($CT$2:$CT$338=\"V\")*($F$2:$F$338=0))/SUMPRODUCT(($CO$2:$CO$338=\"30\")*(BF$2:BF$338>2)*($CT$2:$CT$338=\"V\")*($F$2:$F$338=0)))","v":{"$error":"#DIV/0!"}},{"$f":"SUMPRODUCT((($CO$2:$CO$338=\"30\")*(BG$2:BG$338)*($CT$2:$CT$338=\"V\")*($F$2:$F$338=0))/SUMPRODUCT(($CO$2:$CO$338=\"30\")*(BG$2:BG$338>2)*($CT$2:$CT$338=\"V\")*($F$2:$F$338=0)))","v":{"$error":"#DIV/0!"}},{"$f":"SUMPRODUCT((($CO$2:$CO$338=\"30\")*(BH$2:BH$338)*($CT$2:$CT$338=\"V\")*($F$2:$F$338=0))/SUMPRODUCT(($CO$2:$CO$338=\"30\")*(BH$2:BH$338>2)*($CT$2:$CT$338=\"V\")*($F$2:$F$338=0)))","v":{"$error":"#DIV/0!"}},{"$f":"SUMPRODUCT((($CO$2:$CO$338=\"30\")*(BI$2:BI$338)*($CT$2:$CT$338=\"V\")*($F$2:$F$338=0))/SUMPRODUCT(($CO$2:$CO$338=\"30\")*(BI$2:BI$338>2)*($CT$2:$CT$338=\"V\")*($F$2:$F$338=0)))","v":{"$error":"#DIV/0!"}},{"$f":"SUMPRODUCT((($CO$2:$CO$338=\"30\")*(BJ$2:BJ$338)*($CT$2:$CT$338=\"V\")*($F$2:$F$338=0))/SUMPRODUCT(($CO$2:$CO$338=\"30\")*(BJ$2:BJ$338>2)*($CT$2:$CT$338=\"V\")*($F$2:$F$338=0)))","v":{"$error":"#DIV/0!"}},{"$f":"SUMPRODUCT((($CO$2:$CO$338=\"30\")*(BK$2:BK$338)*($CT$2:$CT$338=\"V\")*($F$2:$F$338=0))/SUMPRODUCT(($CO$2:$CO$338=\"30\")*(BK$2:BK$338>2)*($CT$2:$CT$338=\"V\")*($F$2:$F$338=0)))","v":{"$error":"#DIV/0!"}},{"$f":"SUMPRODUCT((($CO$2:$CO$338=\"30\")*(BL$2:BL$338)*($CT$2:$CT$338=\"V\")*($F$2:$F$338=0))/SUMPRODUCT(($CO$2:$CO$338=\"30\")*(BL$2:BL$338>2)*($CT$2:$CT$338=\"V\")*($F$2:$F$338=0)))","v":{"$error":"#DIV/0!"}},{"$f":"SUMPRODUCT((($CO$2:$CO$338=\"30\")*(BM$2:BM$338)*($CT$2:$CT$338=\"V\")*($F$2:$F$338=0))/SUMPRODUCT(($CO$2:$CO$338=\"30\")*(BM$2:BM$338>2)*($CT$2:$CT$338=\"V\")*($F$2:$F$338=0)))","v":{"$error":"#DIV/0!"}},{"$f":"SUMPRODUCT((($CO$2:$CO$338=\"30\")*(BN$2:BN$338)*($CT$2:$CT$338=\"V\")*($F$2:$F$338=0))/SUMPRODUCT(($CO$2:$CO$338=\"30\")*(BN$2:BN$338>2)*($CT$2:$CT$338=\"V\")*($F$2:$F$338=0)))","v":{"$error":"#DIV/0!"}},{"$f":"SUMPRODUCT((($CO$2:$CO$338=\"30\")*(BO$2:BO$338)*($CT$2:$CT$338=\"V\")*($F$2:$F$338=0))/SUMPRODUCT(($CO$2:$CO$338=\"30\")*(BO$2:BO$338>2)*($CT$2:$CT$338=\"V\")*($F$2:$F$338=0)))","v":{"$error":"#DIV/0!"}},{"$f":"SUMPRODUCT((($CO$2:$CO$338=\"30\")*(BP$2:BP$338)*($CT$2:$CT$338=\"V\")*($F$2:$F$338=0))/SUMPRODUCT(($CO$2:$CO$338=\"30\")*(BP$2:BP$338>2)*($CT$2:$CT$338=\"V\")*($F$2:$F$338=0)))","v":{"$error":"#DIV/0!"}},{"$f":"SUMPRODUCT((($CO$2:$CO$338=\"30\")*(BQ$2:BQ$338)*($CT$2:$CT$338=\"V\")*($F$2:$F$338=0))/SUMPRODUCT(($CO$2:$CO$338=\"30\")*(BQ$2:BQ$338>2)*($CT$2:$CT$338=\"V\")*($F$2:$F$338=0)))","v":{"$error":"#DIV/0!"}},{"$f":"SUMPRODUCT((($CO$2:$CO$338=\"30\")*(BR$2:BR$338)*($CT$2:$CT$338=\"V\")*($F$2:$F$338=0))/SUMPRODUCT(($CO$2:$CO$338=\"30\")*(BR$2:BR$338>2)*($CT$2:$CT$338=\"V\")*($F$2:$F$338=0)))","v":{"$error":"#DIV/0!"}},{"$f":"SUMPRODUCT((($CO$2:$CO$338=\"30\")*(BS$2:BS$338)*($CT$2:$CT$338=\"V\")*($F$2:$F$338=0))/SUMPRODUCT(($CO$2:$CO$338=\"30\")*(BS$2:BS$338>2)*($CT$2:$CT$338=\"V\")*($F$2:$F$338=0)))","v":{"$error":"#DIV/0!"}},{"$f":"SUMPRODUCT((($CO$2:$CO$338=\"30\")*(BT$2:BT$338)*($CT$2:$CT$338=\"V\")*($F$2:$F$338=0))/SUMPRODUCT(($CO$2:$CO$338=\"30\")*(BT$2:BT$338>2)*($CT$2:$CT$338=\"V\")*($F$2:$F$338=0)))","v":{"$error":"#DIV/0!"}},{"$f":"SUMPRODUCT((($CO$2:$CO$338=\"30\")*(BU$2:BU$338)*($CT$2:$CT$338=\"V\")*($F$2:$F$338=0))/SUMPRODUCT(($CO$2:$CO$338=\"30\")*(BU$2:BU$338>2)*($CT$2:$CT$338=\"V\")*($F$2:$F$338=0)))","v":{"$error":"#DIV/0!"}},{"$f":"SUMPRODUCT((($CO$2:$CO$338=\"30\")*(BV$2:BV$338)*($CT$2:$CT$338=\"V\")*($F$2:$F$338=0))/SUMPRODUCT(($CO$2:$CO$338=\"30\")*(BV$2:BV$338>2)*($CT$2:$CT$338=\"V\")*($F$2:$F$338=0)))","v":{"$error":"#DIV/0!"}},{"$f":"SUMPRODUCT((($CO$2:$CO$338=\"30\")*(BW$2:BW$338)*($CT$2:$CT$338=\"V\")*($F$2:$F$338=0))/SUMPRODUCT(($CO$2:$CO$338=\"30\")*(BW$2:BW$338>2)*($CT$2:$CT$338=\"V\")*($F$2:$F$338=0)))","v":{"$error":"#DIV/0!"}},{"$error":"#DIV/0!"},{"$error":"#DIV/0!"},{"$error":"#DIV/0!"},{"$error":"#DIV/0!"},{"$error":"#DIV/0!"},{"$error":"#DIV/0!"},{"$error":"#DIV/0!"},{"$error":"#DIV/0!"},{"$error":"#DIV/0!"},{"$error":"#DIV/0!"},{"$error":"#DIV/0!"},{"$error":"#DIV/0!"},null,null,null,null,null,null,null,null,null,61,"30vsdoub","V S DOUBL",{"$f":"SUMPRODUCT(((#REF!>2)*($CO$2:$CO$339=\"30\")*(#REF!)*($CT$2:$CT$339=\"V\")*($F$2:$F$339=0))/SUMPRODUCT((#REF!>2)*($CO$2:$CO$339=\"30\")*(#REF!>2)*($CT$2:$CT$339=\"V\")*($F$2:$F$339=0)))","v":{"$error":"#REF!"}}]
[null,null,null,null,null,null,null,null,null,20,null,null,null,null,null,null,null,null,null,null,null,null,null,null,null,null,null,null,null,null,null,null,null,null,null,null,null,null,null,null,null,null,null,null,null,null,null,null,null,null,null,null,null,null,null,null,null,null,null,null,null,null,null,null,null,null,null,null,null,null,null,null,null,null,null,null,null,null,null,null,null,null,null,null,null,null,null,null,null,null,null,null,null,null,null,null,62,20]
[null,null,null,null,null,null,null,null,null,"20nb",{"$f":"SUM(($CO$2:$CO$338=\"20\")*(K$2:K$338>1)*1)","v":0},{"$f":"SUM(($CO$2:$CO$338=\"20\")*(L$2:L$338>1)*1)","v":0},{"$f":"SUM(($CO$2:$CO$338=\"20\")*(M$2:M$338>1)*1)","v":0},{"$f":"SUM(($CO$2:$CO$338=\"20\")*(N$2:N$338>1)*1)","v":0},{"$f":"SUM(($CO$2:$CO$338=\"20\")*(O$2:O$338>1)*1)","v":0},{"$f":"SUM(($CO$2:$CO$338=\"20\")*(P$2:P$338>1)*1)","v":0},{"$f":"SUM(($CO$2:$CO$338=\"20\")*(Q$2:Q$338>1)*1)","v":0},{"$f":"SUM(($CO$2:$CO$338=\"20\")*(R$2:R$338>1)*1)","v":0},{"$f":"SUM(($CO$2:$CO$338=\"20\")*(S$2:S$338>1)*1)","v":0},{"$f":"SUM(($CO$2:$CO$338=\"20\")*(T$2:T$338>1)*1)","v":0},{"$f":"SUM(($CO$2:$CO$338=\"20\")*(U$2:U$338>1)*1)","v":0},{"$f":"SUM(($CO$2:$CO$338=\"20\")*(V$2:V$338>1)*1)","v":0},{"$f":"SUM(($CO$2:$CO$338=\"20\")*(W$2:W$338>1)*1)","v":0},{"$f":"SUM(($CO$2:$CO$338=\"20\")*(X$2:X$338>1)*1)","v":0},{"$f":"SUM(($CO$2:$CO$338=\"20\")*(Y$2:Y$338>1)*1)","v":0},{"$f":"SUM(($CO$2:$CO$338=\"20\")*(Z$2:Z$338>1)*1)","v":0},{"$f":"SUM(($CO$2:$CO$338=\"20\")*(AA$2:AA$338>1)*1)","v":0},{"$f":"SUM(($CO$2:$CO$338=\"20\")*(AB$2:AB$338>1)*1)","v":0},{"$f":"SUM(($CO$2:$CO$338=\"20\")*(AC$2:AC$338>1)*1)","v":0},{"$f":"SUM(($CO$2:$CO$338=\"20\")*(AD$2:AD$338>1)*1)","v":0},{"$f":"SUM(($CO$2:$CO$338=\"20\")*(AE$2:AE$338>1)*1)","v":0},{"$f":"SUM(($CO$2:$CO$338=\"20\")*(AF$2:AF$338>1)*1)","v":0},{"$f":"SUM(($CO$2:$CO$338=\"20\")*(AG$2:AG$338>1)*1)","v":0},{"$f":"SUM(($CO$2:$CO$338=\"20\")*(AH$2:AH$338>1)*1)","v":0},{"$f":"SUM(($CO$2:$CO$338=\"20\")*(AI$2:AI$338>1)*1)","v":0},{"$f":"SUM(($CO$2:$CO$338=\"20\")*(AJ$2:AJ$338>1)*1)","v":0},{"$f":"SUM(($CO$2:$CO$338=\"20\")*(AK$2:AK$338>1)*1)","v":0},{"$f":"SUM(($CO$2:$CO$338=\"20\")*(AL$2:AL$338>1)*1)","v":0},{"$f":"SUM(($CO$2:$CO$338=\"20\")*(AM$2:AM$338>1)*1)","v":0},{"$f":"SUM(($CO$2:$CO$338=\"20\")*(AN$2:AN$338>1)*1)","v":0},{"$f":"SUM(($CO$2:$CO$338=\"20\")*(AO$2:AO$338>1)*1)","v":0},{"$f":"SUM(($CO$2:$CO$338=\"20\")*(AP$2:AP$338>1)*1)","v":0},{"$f":"SUM(($CO$2:$CO$338=\"20\")*(AQ$2:AQ$338>1)*1)","v":0},{"$f":"SUM(($CO$2:$CO$338=\"20\")*(AR$2:AR$338>1)*1)","v":0},{"$f":"SUM(($CO$2:$CO$338=\"20\")*(AS$2:AS$338>1)*1)","v":0},{"$f":"SUM(($CO$2:$CO$338=\"20\")*(AT$2:AT$338>1)*1)","v":0},{"$f":"SUM(($CO$2:$CO$338=\"20\")*(AU$2:AU$338>1)*1)","v":0},{"$f":"SUM(($CO$2:$CO$338=\"20\")*(AV$2:AV$338>1)*1)","v":0},{"$f":"SUM(($CO$2:$CO$338=\"20\")*(AW$2:AW$338>1)*1)","v":0},{"$f":"SUM(($CO$2:$CO$338=\"20\")*(AX$2:AX$338>1)*1)","v":0},{"$f":"SUM(($CO$2:$CO$338=\"20\")*(AY$2:AY$338>1)*1)","v":0},{"$f":"SUM(($CO$2:$CO$338=\"20\")*(AZ$2:AZ$338>1)*1)","v":0},{"$f":"SUM(($CO$2:$CO$338=\"20\")*(BA$2:BA$338>1)*1)","v":0},{"$f":"SUM(($CO$2:$CO$338=\"20\")*(BB$2:BB$338>1)*1)","v":0},{"$f":"SUM(($CO$2:$CO$338=\"20\")*(BC$2:BC$338>1)*1)","v":0},{"$f":"SUM(($CO$2:$CO$338=\"20\")*(BD$2:BD$338>1)*1)","v":0},{"$f":"SUM(($CO$2:$CO$338=\"20\")*(BE$2:BE$338>1)*1)","v":0},{"$f":"SUM(($CO$2:$CO$338=\"20\")*(BF$2:BF$338>1)*1)","v":0},{"$f":"SUM(($CO$2:$CO$338=\"20\")*(BG$2:BG$338>1)*1)","v":0},{"$f":"SUM(($CO$2:$CO$338=\"20\")*(BH$2:BH$338>1)*1)","v":0},{"$f":"SUM(($CO$2:$CO$338=\"20\")*(BI$2:BI$338>1)*1)","v":0},{"$f":"SUM(($CO$2:$CO$338=\"20\")*(BJ$2:BJ$338>1)*1)","v":0},{"$f":"SUM(($CO$2:$CO$338=\"20\")*(BK$2:BK$338>1)*1)","v":0},{"$f":"SUM(($CO$2:$CO$338=\"20\")*(BL$2:BL$338>1)*1)","v":0},{"$f":"SUM(($CO$2:$CO$338=\"20\")*(BM$2:BM$338>1)*1)","v":0},{"$f":"SUM(($CO$2:$CO$338=\"20\")*(BN$2:BN$338>1)*1)","v":0},{"$f":"SUM(($CO$2:$CO$338=\"20\")*(BO$2:BO$338>1)*1)","v":0},{"$f":"SUM(($CO$2:$CO$338=\"20\")*(BP$2:BP$338>1)*1)","v":0},{"$f":"SUM(($CO$2:$CO$338=\"20\")*(BQ$2:BQ$338>1)*1)","v":0},{"$f":"SUM(($CO$2:$CO$338=\"20\")*(BR$2:BR$338>1)*1)","v":0},{"$f":"SUM(($CO$2:$CO$338=\"20\")*(BS$2:BS$338>1)*1)","v":0},{"$f":"SUM(($CO$2:$CO$338=\"20\")*(BT$2:BT$338>1)*1)","v":0},{"$f":"SUM(($CO$2:$CO$338=\"20\")*(BU$2:BU$338>1)*1)","v":0},{"$f":"SUM(($CO$2:$CO$338=\"20\")*(BV$2:BV$338>1)*1)","v":0},{"$f":"SUM(($CO$2:$CO$338=\"20\")*(BW$2:BW$338>1)*1)","v":0},{"$f":"SUM(($CO$2:$CO$338=\"20\")*(BX$2:BX$338>1)*1)","v":0},{"$f":"SUM(($CO$2:$CO$338=\"20\")*(BY$2:BY$338>1)*1)","v":0},{"$f":"SUM(($CO$2:$CO$338=\"20\")*(BZ$2:BZ$338>1)*1)","v":0},{"$f":"SUM(($CO$2:$CO$338=\"20\")*(CA$2:CA$338>1)*1)","v":0},{"$f":"SUM(($CO$2:$CO$338=\"20\")*(CB$2:CB$338>1)*1)","v":0},{"$f":"SUM(($CO$2:$CO$338=\"20\")*(CC$2:CC$338>1)*1)","v":0},{"$f":"SUM(($CO$2:$CO$338=\"20\")*(CD$2:CD$338>1)*1)","v":0},{"$f":"SUM(($CO$2:$CO$338=\"20\")*(CE$2:CE$338>1)*1)","v":0},{"$f":"SUM(($CO$2:$CO$338=\"20\")*(CF$2:CF$338>1)*1)","v":0},{"$f":"SUM(($CO$2:$CO$338=\"20\")*(CG$2:CG$338>1)*1)","v":0},{"$f":"SUM(($CO$2:$CO$338=\"20\")*(CH$2:CH$338>1)*1)","v":0},{"$f":"SUM(($CO$2:$CO$338=\"20\")*(CI$2:CI$338>1)*1)","v":0},null,null,null,null,null,null,null,null,null,63,"20nb",null,{"$f":"#REF!","v":{"$error":"#REF!"}}]
[null,null,null,null,null,null,null,null,null,"20moy",{"$f":"SUMPRODUCT((($CO$2:$CO$338=\"20\")*(K$2:K$338))/SUMPRODUCT(($CO$2:$CO$338=\"20\")*(K$2:K$338>2))\n)","v":{"$error":"#DIV/0!"}},{"$f":"SUMPRODUCT((($CO$2:$CO$338=\"20\")*(L$2:L$338))/SUMPRODUCT(($CO$2:$CO$338=\"20\")*(L$2:L$338>2))\n)","v":{"$error":"#DIV/0!"}},{"$f":"SUMPRODUCT((($CO$2:$CO$338=\"20\")*(M$2:M$338))/SUMPRODUCT(($CO$2:$CO$338=\"20\")*(M$2:M$338>2))\n)","v":{"$error":"#DIV/0!"}},{"$f":"SUMPRODUCT((($CO$2:$CO$338=\"20\")*(N$2:N$338))/SUMPRODUCT(($CO$2:$CO$338=\"20\")*(N$2:N$338>2))\n)","v":{"$error":"#DIV/0!"}},{"$f":"SUMPRODUCT((($CO$2:$CO$338=\"20\")*(O$2:O$338))/SUMPRODUCT(($CO$2:$CO$338=\"20\")*(O$2:O$338>2))\n)","v":{"$error":"#DIV/0!"}},{"$f":"SUMPRODUCT((($CO$2:$CO$338=\"20\")*(P$2:P$338))/SUMPRODUCT(($CO$2:$CO$338=\"20\")*(P$2:P$338>2))\n)","v":{"$error":"#DIV/0!"}},{"$f":"SUMPRODUCT((($CO$2:$CO$338=\"20\")*(Q$2:Q$338))/SUMPRODUCT(($CO$2:$CO$338=\"20\")*(Q$2:Q$338>2))\n)","v":{"$error":"#DIV/0!"}},{"$f":"SUMPRODUCT((($CO$2:$CO$338=\"20\")*(R$2:R$338))/SUMPRODUCT(($CO$2:$CO$338=\"20\")*(R$2:R$338>2))\n)","v":{"$error":"#DIV/0!"}},{"$f":"SUMPRODUCT((($CO$2:$CO$338=\"20\")*(S$2:S$338))/SUMPRODUCT(($CO$2:$CO$338=\"20\")*(S$2:S$338>2))\n)","v":{"$error":"#DIV/0!"}},{"$f":"SUMPRODUCT((($CO$2:$CO$338=\"20\")*(T$2:T$338))/SUMPRODUCT(($CO$2:$CO$338=\"20\")*(T$2:T$338>2))\n)","v":{"$error":"#DIV/0!"}},{"$f":"SUMPRODUCT((($CO$2:$CO$338=\"20\")*(U$2:U$338))/SUMPRODUCT(($CO$2:$CO$338=\"20\")*(U$2:U$338>2))\n)","v":{"$error":"#DIV/0!"}},{"$f":"SUMPRODUCT((($CO$2:$CO$338=\"20\")*(V$2:V$338))/SUMPRODUCT(($CO$2:$CO$338=\"20\")*(V$2:V$338>2))\n)","v":{"$error":"#DIV/0!"}},{"$f":"SUMPRODUCT((($CO$2:$CO$338=\"20\")*(W$2:W$338))/SUMPRODUCT(($CO$2:$CO$338=\"20\")*(W$2:W$338>2))\n)","v":{"$error":"#DIV/0!"}},{"$f":"SUMPRODUCT((($CO$2:$CO$338=\"20\")*(X$2:X$338))/SUMPRODUCT(($CO$2:$CO$338=\"20\")*(X$2:X$338>2))\n)","v":{"$error":"#DIV/0!"}},{"$f":"SUMPRODUCT((($CO$2:$CO$338=\"20\")*(Y$2:Y$338))/SUMPRODUCT(($CO$2:$CO$338=\"20\")*(Y$2:Y$338>2))\n)","v":{"$error":"#DIV/0!"}},{"$f":"SUMPRODUCT((($CO$2:$CO$338=\"20\")*(Z$2:Z$338))/SUMPRODUCT(($CO$2:$CO$338=\"20\")*(Z$2:Z$338>2))\n)","v":{"$error":"#DIV/0!"}},{"$f":"SUMPRODUCT((($CO$2:$CO$338=\"20\")*(AA$2:AA$338))/SUMPRODUCT(($CO$2:$CO$338=\"20\")*(AA$2:AA$338>2))\n)","v":{"$error":"#DIV/0!"}},{"$f":"SUMPRODUCT((($CO$2:$CO$338=\"20\")*(AB$2:AB$338))/SUMPRODUCT(($CO$2:$CO$338=\"20\")*(AB$2:AB$338>2))\n)","v":{"$error":"#DIV/0!"}},{"$f":"SUMPRODUCT((($CO$2:$CO$338=\"20\")*(AC$2:AC$338))/SUMPRODUCT(($CO$2:$CO$338=\"20\")*(AC$2:AC$338>2))\n)","v":{"$error":"#DIV/0!"}},{"$f":"SUMPRODUCT((($CO$2:$CO$338=\"20\")*(AD$2:AD$338))/SUMPRODUCT(($CO$2:$CO$338=\"20\")*(AD$2:AD$338>2))\n)","v":{"$error":"#DIV/0!"}},{"$f":"SUMPRODUCT((($CO$2:$CO$338=\"20\")*(AE$2:AE$338))/SUMPRODUCT(($CO$2:$CO$338=\"20\")*(AE$2:AE$338>2))\n)","v":{"$error":"#DIV/0!"}},{"$f":"SUMPRODUCT((($CO$2:$CO$338=\"20\")*(AF$2:AF$338))/SUMPRODUCT(($CO$2:$CO$338=\"20\")*(AF$2:AF$338>2))\n)","v":{"$error":"#DIV/0!"}},{"$f":"SUMPRODUCT((($CO$2:$CO$338=\"20\")*(AG$2:AG$338))/SUMPRODUCT(($CO$2:$CO$338=\"20\")*(AG$2:AG$338>2))\n)","v":{"$error":"#DIV/0!"}},{"$f":"SUMPRODUCT((($CO$2:$CO$338=\"20\")*(AH$2:AH$338))/SUMPRODUCT(($CO$2:$CO$338=\"20\")*(AH$2:AH$338>2))\n)","v":{"$error":"#DIV/0!"}},{"$f":"SUMPRODUCT((($CO$2:$CO$338=\"20\")*(AI$2:AI$338))/SUMPRODUCT(($CO$2:$CO$338=\"20\")*(AI$2:AI$338>2))\n)","v":{"$error":"#DIV/0!"}},{"$f":"SUMPRODUCT((($CO$2:$CO$338=\"20\")*(AJ$2:AJ$338))/SUMPRODUCT(($CO$2:$CO$338=\"20\")*(AJ$2:AJ$338>2))\n)","v":{"$error":"#DIV/0!"}},{"$f":"SUMPRODUCT((($CO$2:$CO$338=\"20\")*(AK$2:AK$338))/SUMPRODUCT(($CO$2:$CO$338=\"20\")*(AK$2:AK$338>2))\n)","v":{"$error":"#DIV/0!"}},{"$f":"SUMPRODUCT((($CO$2:$CO$338=\"20\")*(AL$2:AL$338))/SUMPRODUCT(($CO$2:$CO$338=\"20\")*(AL$2:AL$338>2))\n)","v":{"$error":"#DIV/0!"}},{"$f":"SUMPRODUCT((($CO$2:$CO$338=\"20\")*(AM$2:AM$338))/SUMPRODUCT(($CO$2:$CO$338=\"20\")*(AM$2:AM$338>2))\n)","v":{"$error":"#DIV/0!"}},{"$f":"SUMPRODUCT((($CO$2:$CO$338=\"20\")*(AN$2:AN$338))/SUMPRODUCT(($CO$2:$CO$338=\"20\")*(AN$2:AN$338>2))\n)","v":{"$error":"#DIV/0!"}},{"$f":"SUMPRODUCT((($CO$2:$CO$338=\"20\")*(AO$2:AO$338))/SUMPRODUCT(($CO$2:$CO$338=\"20\")*(AO$2:AO$338>2))\n)","v":{"$error":"#DIV/0!"}},{"$f":"SUMPRODUCT((($CO$2:$CO$338=\"20\")*(AP$2:AP$338))/SUMPRODUCT(($CO$2:$CO$338=\"20\")*(AP$2:AP$338>2))\n)","v":{"$error":"#DIV/0!"}},{"$f":"SUMPRODUCT((($CO$2:$CO$338=\"20\")*(AQ$2:AQ$338))/SUMPRODUCT(($CO$2:$CO$338=\"20\")*(AQ$2:AQ$338>2))\n)","v":{"$error":"#DIV/0!"}},{"$f":"SUMPRODUCT((($CO$2:$CO$338=\"20\")*(AR$2:AR$338))/SUMPRODUCT(($CO$2:$CO$338=\"20\")*(AR$2:AR$338>2))\n)","v":{"$error":"#DIV/0!"}},{"$f":"SUMPRODUCT((($CO$2:$CO$338=\"20\")*(AS$2:AS$338))/SUMPRODUCT(($CO$2:$CO$338=\"20\")*(AS$2:AS$338>2))\n)","v":{"$error":"#DIV/0!"}},{"$f":"SUMPRODUCT((($CO$2:$CO$338=\"20\")*(AT$2:AT$338))/SUMPRODUCT(($CO$2:$CO$338=\"20\")*(AT$2:AT$338>2))\n)","v":{"$error":"#DIV/0!"}},{"$f":"SUMPRODUCT((($CO$2:$CO$338=\"20\")*(AU$2:AU$338))/SUMPRODUCT(($CO$2:$CO$338=\"20\")*(AU$2:AU$338>2))\n)","v":{"$error":"#DIV/0!"}},{"$f":"SUMPRODUCT((($CO$2:$CO$338=\"20\")*(AV$2:AV$338))/SUMPRODUCT(($CO$2:$CO$338=\"20\")*(AV$2:AV$338>2))\n)","v":{"$error":"#DIV/0!"}},{"$f":"SUMPRODUCT((($CO$2:$CO$338=\"20\")*(AW$2:AW$338))/SUMPRODUCT(($CO$2:$CO$338=\"20\")*(AW$2:AW$338>2))\n)","v":{"$error":"#DIV/0!"}},{"$f":"SUMPRODUCT((($CO$2:$CO$338=\"20\")*(AX$2:AX$338))/SUMPRODUCT(($CO$2:$CO$338=\"20\")*(AX$2:AX$338>2))\n)","v":{"$error":"#DIV/0!"}},{"$f":"SUMPRODUCT((($CO$2:$CO$338=\"20\")*(AY$2:AY$338))/SUMPRODUCT(($CO$2:$CO$338=\"20\")*(AY$2:AY$338>2))\n)","v":{"$error":"#DIV/0!"}},{"$f":"SUMPRODUCT((($CO$2:$CO$338=\"20\")*(AZ$2:AZ$338))/SUMPRODUCT(($CO$2:$CO$338=\"20\")*(AZ$2:AZ$338>2))\n)","v":{"$error":"#DIV/0!"}},{"$f":"SUMPRODUCT((($CO$2:$CO$338=\"20\")*(BA$2:BA$338))/SUMPRODUCT(($CO$2:$CO$338=\"20\")*(BA$2:BA$338>2))\n)","v":{"$error":"#DIV/0!"}},{"$f":"SUMPRODUCT((($CO$2:$CO$338=\"20\")*(BB$2:BB$338))/SUMPRODUCT(($CO$2:$CO$338=\"20\")*(BB$2:BB$338>2))\n)","v":{"$error":"#DIV/0!"}},{"$f":"SUMPRODUCT((($CO$2:$CO$338=\"20\")*(BC$2:BC$338))/SUMPRODUCT(($CO$2:$CO$338=\"20\")*(BC$2:BC$338>2))\n)","v":{"$error":"#DIV/0!"}},{"$f":"SUMPRODUCT((($CO$2:$CO$338=\"20\")*(BD$2:BD$338))/SUMPRODUCT(($CO$2:$CO$338=\"20\")*(BD$2:BD$338>2))\n)","v":{"$error":"#DIV/0!"}},{"$f":"SUMPRODUCT((($CO$2:$CO$338=\"20\")*(BE$2:BE$338))/SUMPRODUCT(($CO$2:$CO$338=\"20\")*(BE$2:BE$338>2))\n)","v":{"$error":"#DIV/0!"}},{"$f":"SUMPRODUCT((($CO$2:$CO$338=\"20\")*(BF$2:BF$338))/SUMPRODUCT(($CO$2:$CO$338=\"20\")*(BF$2:BF$338>2))\n)","v":{"$error":"#DIV/0!"}},{"$f":"SUMPRODUCT((($CO$2:$CO$338=\"20\")*(BG$2:BG$338))/SUMPRODUCT(($CO$2:$CO$338=\"20\")*(BG$2:BG$338>2))\n)","v":{"$error":"#DIV/0!"}},{"$f":"SUMPRODUCT((($CO$2:$CO$338=\"20\")*(BH$2:BH$338))/SUMPRODUCT(($CO$2:$CO$338=\"20\")*(BH$2:BH$338>2))\n)","v":{"$error":"#DIV/0!"}},{"$f":"SUMPRODUCT((($CO$2:$CO$338=\"20\")*(BI$2:BI$338))/SUMPRODUCT(($CO$2:$CO$338=\"20\")*(BI$2:BI$338>2))\n)","v":{"$error":"#DIV/0!"}},{"$f":"SUMPRODUCT((($CO$2:$CO$338=\"20\")*(BJ$2:BJ$338))/SUMPRODUCT(($CO$2:$CO$338=\"20\")*(BJ$2:BJ$338>2))\n)","v":{"$error":"#DIV/0!"}},{"$f":"SUMPRODUCT((($CO$2:$CO$338=\"20\")*(BK$2:BK$338))/SUMPRODUCT(($CO$2:$CO$338=\"20\")*(BK$2:BK$338>2))\n)","v":{"$error":"#DIV/0!"}},{"$f":"SUMPRODUCT((($CO$2:$CO$338=\"20\")*(BL$2:BL$338))/SUMPRODUCT(($CO$2:$CO$338=\"20\")*(BL$2:BL$338>2))\n)","v":{"$error":"#DIV/0!"}},{"$f":"SUMPRODUCT((($CO$2:$CO$338=\"20\")*(BM$2:BM$338))/SUMPRODUCT(($CO$2:$CO$338=\"20\")*(BM$2:BM$338>2))\n)","v":{"$error":"#DIV/0!"}},{"$f":"SUMPRODUCT((($CO$2:$CO$338=\"20\")*(BN$2:BN$338))/SUMPRODUCT(($CO$2:$CO$338=\"20\")*(BN$2:BN$338>2))\n)","v":{"$error":"#DIV/0!"}},{"$f":"SUMPRODUCT((($CO$2:$CO$338=\"20\")*(BO$2:BO$338))/SUMPRODUCT(($CO$2:$CO$338=\"20\")*(BO$2:BO$338>2))\n)","v":{"$error":"#DIV/0!"}},{"$f":"SUMPRODUCT((($CO$2:$CO$338=\"20\")*(BP$2:BP$338))/SUMPRODUCT(($CO$2:$CO$338=\"20\")*(BP$2:BP$338>2))\n)","v":{"$error":"#DIV/0!"}},{"$f":"SUMPRODUCT((($CO$2:$CO$338=\"20\")*(BQ$2:BQ$338))/SUMPRODUCT(($CO$2:$CO$338=\"20\")*(BQ$2:BQ$338>2))\n)","v":{"$error":"#DIV/0!"}},{"$f":"SUMPRODUCT((($CO$2:$CO$338=\"20\")*(BR$2:BR$338))/SUMPRODUCT(($CO$2:$CO$338=\"20\")*(BR$2:BR$338>2))\n)","v":{"$error":"#DIV/0!"}},{"$f":"SUMPRODUCT((($CO$2:$CO$338=\"20\")*(BS$2:BS$338))/SUMPRODUCT(($CO$2:$CO$338=\"20\")*(BS$2:BS$338>2))\n)","v":{"$error":"#DIV/0!"}},{"$f":"SUMPRODUCT((($CO$2:$CO$338=\"20\")*(BT$2:BT$338))/SUMPRODUCT(($CO$2:$CO$338=\"20\")*(BT$2:BT$338>2))\n)","v":{"$error":"#DIV/0!"}},{"$f":"SUMPRODUCT((($CO$2:$CO$338=\"20\")*(BU$2:BU$338))/SUMPRODUCT(($CO$2:$CO$338=\"20\")*(BU$2:BU$338>2))\n)","v":{"$error":"#DIV/0!"}},{"$f":"SUMPRODUCT((($CO$2:$CO$338=\"20\")*(BV$2:BV$338))/SUMPRODUCT(($CO$2:$CO$338=\"20\")*(BV$2:BV$338>2))\n)","v":{"$error":"#DIV/0!"}},{"$f":"SUMPRODUCT((($CO$2:$CO$338=\"20\")*(BW$2:BW$338))/SUMPRODUCT(($CO$2:$CO$338=\"20\")*(BW$2:BW$338>2))\n)","v":{"$error":"#DIV/0!"}},{"$f":"IF(L404=0,0,IF(M404=0,AVERAGE(M404,K404,N404),AVERAGE(K404:N404)))","v":{"$error":"#DIV/0!"}},{"$f":"IF(P404=0,0,IF(Q404=0,AVERAGE(Q404,O404,R404),AVERAGE(O404:R404)))","v":{"$error":"#DIV/0!"}},{"$f":"IF(T404=0,0,IF(U404=0,AVERAGE(T404,S404,V404),AVERAGE(S404:V404)))","v":{"$error":"#DIV/0!"}},{"$f":"IF(AB404=0,0,IF(AC404=0,AVERAGE(AB404,AA404,AD404),AVERAGE(AA404:AD404)))","v":{"$error":"#DIV/0!"}},{"$f":"IF(AF404=0,0,IF(AG404=0,AVERAGE(AF404,AE404,AH404),AVERAGE(AE404:AH404)))","v":{"$error":"#DIV/0!"}},{"$f":"IF(AJ404=0,0,IF(AK404=0,AVERAGE(AJ404,AI404,AL404),AVERAGE(AI404:AL404)))","v":{"$error":"#DIV/0!"}},{"$f":"IF(AN404=0,0,IF(AO404=0,AVERAGE(AN404,AM404,AP404),AVERAGE(AM404:AP404)))","v":{"$error":"#DIV/0!"}},{"$f":"IF(AR404=0,0,IF(AS404=0,AVERAGE(AR404,AQ404,AT404),AVERAGE(AQ404:AT404)))","v":{"$error":"#DIV/0!"}},{"$f":"IF(AV404=0,0,IF(AW404=0,AVERAGE(AV404,AU404,AX404),AVERAGE(AU404:AX404)))","v":{"$error":"#DIV/0!"}},{"$f":"IF(AZ404=0,0,IF(BA404=0,AVERAGE(AZ404,AY404,BB404),AVERAGE(AY404:BB404)))","v":{"$error":"#DIV/0!"}},{"$f":"IF(BD404=0,0,IF(BE404=0,AVERAGE(BD404,BC404,BF404),AVERAGE(BC404:BF404)))","v":{"$error":"#DIV/0!"}},{"$f":"IF(BH404=0,0,IF(BI404=0,AVERAGE(BH404,BG404,BJ404,BM404),AVERAGE(BG404:BJ404)))","v":{"$error":"#DIV/0!"}},null,null,null,null,null,null,null,null,null,64,"20moy",null,{"$f":"SUMPRODUCT(((#REF!>2)*($CO$2:$CO$339=\"20\")*(#REF!))/SUMPRODUCT((#REF!>2)*($CO$2:$CO$339=\"20\")*(#REF!>2))\n)","v":{"$error":"#REF!"}}]
[null,null,null,null,null,null,null,null,null,"20taux",{"$f":"(SUM(($CO$2:$CO$338=\"20\")*(K$2:K$338>=60)*1)/K403*100)","v":{"$error":"#DIV/0!"}},{"$f":"(SUM(($CO$2:$CO$338=\"20\")*(L$2:L$338>=60)*1)/L403*100)","v":{"$error":"#DIV/0!"}},{"$f":"(SUM(($CO$2:$CO$338=\"20\")*(M$2:M$338>=60)*1)/M403*100)","v":{"$error":"#DIV/0!"}},{"$f":"(SUM(($CO$2:$CO$338=\"20\")*(N$2:N$338>=60)*1)/N403*100)","v":{"$error":"#DIV/0!"}},{"$f":"(SUM(($CO$2:$CO$338=\"20\")*(O$2:O$338>=60)*1)/O403*100)","v":{"$error":"#DIV/0!"}},{"$f":"(SUM(($CO$2:$CO$338=\"20\")*(P$2:P$338>=60)*1)/P403*100)","v":{"$error":"#DIV/0!"}},{"$f":"(SUM(($CO$2:$CO$338=\"20\")*(Q$2:Q$338>=60)*1)/Q403*100)","v":{"$error":"#DIV/0!"}},{"$f":"(SUM(($CO$2:$CO$338=\"20\")*(R$2:R$338>=60)*1)/R403*100)","v":{"$error":"#DIV/0!"}},{"$f":"(SUM(($CO$2:$CO$338=\"20\")*(S$2:S$338>=60)*1)/S403*100)","v":{"$error":"#DIV/0!"}},{"$f":"(SUM(($CO$2:$CO$338=\"20\")*(T$2:T$338>=60)*1)/T403*100)","v":{"$error":"#DIV/0!"}},{"$f":"(SUM(($CO$2:$CO$338=\"20\")*(U$2:U$338>=60)*1)/U403*100)","v":{"$error":"#DIV/0!"}},{"$f":"(SUM(($CO$2:$CO$338=\"20\")*(V$2:V$338>=60)*1)/V403*100)","v":{"$error":"#DIV/0!"}},{"$f":"(SUM(($CO$2:$CO$338=\"20\")*(W$2:W$338>=60)*1)/W403*100)","v":{"$error":"#DIV/0!"}},{"$f":"(SUM(($CO$2:$CO$338=\"20\")*(X$2:X$338>=60)*1)/X403*100)","v":{"$error":"#DIV/0!"}},{"$f":"(SUM(($CO$2:$CO$338=\"20\")*(Y$2:Y$338>=60)*1)/Y403*100)","v":{"$error":"#DIV/0!"}},{"$f":"(SUM(($CO$2:$CO$338=\"20\")*(Z$2:Z$338>=60)*1)/Z403*100)","v":{"$error":"#DIV/0!"}},{"$f":"(SUM(($CO$2:$CO$338=\"20\")*(AA$2:AA$338>=60)*1)/AA403*100)","v":{"$error":"#DIV/0!"}},{"$f":"(SUM(($CO$2:$CO$338=\"20\")*(AB$2:AB$338>=60)*1)/AB403*100)","v":{"$error":"#DIV/0!"}},{"$f":"(SUM(($CO$2:$CO$338=\"20\")*(AC$2:AC$338>=60)*1)/AC403*100)","v":{"$error":"#DIV/0!"}},{"$f":"(SUM(($CO$2:$CO$338=\"20\")*(AD$2:AD$338>=60)*1)/AD403*100)","v":{"$error":"#DIV/0!"}},{"$f":"(SUM(($CO$2:$CO$338=\"20\")*(AE$2:AE$338>=60)*1)/AE403*100)","v":{"$error":"#DIV/0!"}},{"$f":"(SUM(($CO$2:$CO$338=\"20\")*(AF$2:AF$338>=60)*1)/AF403*100)","v":{"$error":"#DIV/0!"}},{"$f":"(SUM(($CO$2:$CO$338=\"20\")*(AG$2:AG$338>=60)*1)/AG403*100)","v":{"$error":"#DIV/0!"}},{"$f":"(SUM(($CO$2:$CO$338=\"20\")*(AH$2:AH$338>=60)*1)/AH403*100)","v":{"$error":"#DIV/0!"}},{"$f":"(SUM(($CO$2:$CO$338=\"20\")*(AI$2:AI$338>=60)*1)/AI403*100)","v":{"$error":"#DIV/0!"}},{"$f":"(SUM(($CO$2:$CO$338=\"20\")*(AJ$2:AJ$338>=60)*1)/AJ403*100)","v":{"$error":"#DIV/0!"}},{"$f":"(SUM(($CO$2:$CO$338=\"20\")*(AK$2:AK$338>=60)*1)/AK403*100)","v":{"$error":"#DIV/0!"}},{"$f":"(SUM(($CO$2:$CO$338=\"20\")*(AL$2:AL$338>=60)*1)/AL403*100)","v":{"$error":"#DIV/0!"}},{"$f":"(SUM(($CO$2:$CO$338=\"20\")*(AM$2:AM$338>=60)*1)/AM403*100)","v":{"$error":"#DIV/0!"}},{"$f":"(SUM(($CO$2:$CO$338=\"20\")*(AN$2:AN$338>=60)*1)/AN403*100)","v":{"$error":"#DIV/0!"}},{"$f":"(SUM(($CO$2:$CO$338=\"20\")*(AO$2:AO$338>=60)*1)/AO403*100)","v":{"$error":"#DIV/0!"}},{"$f":"(SUM(($CO$2:$CO$338=\"20\")*(AP$2:AP$338>=60)*1)/AP403*100)","v":{"$error":"#DIV/0!"}},{"$f":"(SUM(($CO$2:$CO$338=\"20\")*(AQ$2:AQ$338>=60)*1)/AQ403*100)","v":{"$error":"#DIV/0!"}},{"$f":"(SUM(($CO$2:$CO$338=\"20\")*(AR$2:AR$338>=60)*1)/AR403*100)","v":{"$error":"#DIV/0!"}},{"$f":"(SUM(($CO$2:$CO$338=\"20\")*(AS$2:AS$338>=60)*1)/AS403*100)","v":{"$error":"#DIV/0!"}},{"$f":"(SUM(($CO$2:$CO$338=\"20\")*(AT$2:AT$338>=60)*1)/AT403*100)","v":{"$error":"#DIV/0!"}},{"$f":"(SUM(($CO$2:$CO$338=\"20\")*(AU$2:AU$338>=60)*1)/AU403*100)","v":{"$error":"#DIV/0!"}},{"$f":"(SUM(($CO$2:$CO$338=\"20\")*(AV$2:AV$338>=60)*1)/AV403*100)","v":{"$error":"#DIV/0!"}},{"$f":"(SUM(($CO$2:$CO$338=\"20\")*(AW$2:AW$338>=60)*1)/AW403*100)","v":{"$error":"#DIV/0!"}},{"$f":"(SUM(($CO$2:$CO$338=\"20\")*(AX$2:AX$338>=60)*1)/AX403*100)","v":{"$error":"#DIV/0!"}},{"$f":"(SUM(($CO$2:$CO$338=\"20\")*(AY$2:AY$338>=60)*1)/AY403*100)","v":{"$error":"#DIV/0!"}},{"$f":"(SUM(($CO$2:$CO$338=\"20\")*(AZ$2:AZ$338>=60)*1)/AZ403*100)","v":{"$error":"#DIV/0!"}},{"$f":"(SUM(($CO$2:$CO$338=\"20\")*(BA$2:BA$338>=60)*1)/BA403*100)","v":{"$error":"#DIV/0!"}},{"$f":"(SUM(($CO$2:$CO$338=\"20\")*(BB$2:BB$338>=60)*1)/BB403*100)","v":{"$error":"#DIV/0!"}},{"$f":"(SUM(($CO$2:$CO$338=\"20\")*(BC$2:BC$338>=60)*1)/BC403*100)","v":{"$error":"#DIV/0!"}},{"$f":"(SUM(($CO$2:$CO$338=\"20\")*(BD$2:BD$338>=60)*1)/BD403*100)","v":{"$error":"#DIV/0!"}},{"$f":"(SUM(($CO$2:$CO$338=\"20\")*(BE$2:BE$338>=60)*1)/BE403*100)","v":{"$error":"#DIV/0!"}},{"$f":"(SUM(($CO$2:$CO$338=\"20\")*(BF$2:BF$338>=60)*1)/BF403*100)","v":{"$error":"#DIV/0!"}},{"$f":"(SUM(($CO$2:$CO$338=\"20\")*(BG$2:BG$338>=60)*1)/BG403*100)","v":{"$error":"#DIV/0!"}},{"$f":"(SUM(($CO$2:$CO$338=\"20\")*(BH$2:BH$338>=60)*1)/BH403*100)","v":{"$error":"#DIV/0!"}},{"$f":"(SUM(($CO$2:$CO$338=\"20\")*(BI$2:BI$338>=60)*1)/BI403*100)","v":{"$error":"#DIV/0!"}},{"$f":"(SUM(($CO$2:$CO$338=\"20\")*(BJ$2:BJ$338>=60)*1)/BJ403*100)","v":{"$error":"#DIV/0!"}},{"$f":"(SUM(($CO$2:$CO$338=\"20\")*(BK$2:BK$338>=60)*1)/BK403*100)","v":{"$error":"#DIV/0!"}},{"$f":"(SUM(($CO$2:$CO$338=\"20\")*(BL$2:BL$338>=60)*1)/BL403*100)","v":{"$error":"#DIV/0!"}},{"$f":"(SUM(($CO$2:$CO$338=\"20\")*(BM$2:BM$338>=60)*1)/BM403*100)","v":{"$error":"#DIV/0!"}},{"$f":"(SUM(($CO$2:$CO$338=\"20\")*(BN$2:BN$338>=60)*1)/BN403*100)","v":{"$error":"#DIV/0!"}},{"$f":"(SUM(($CO$2:$CO$338=\"20\")*(BO$2:BO$338>=60)*1)/BO403*100)","v":{"$error":"#DIV/0!"}},{"$f":"(SUM(($CO$2:$CO$338=\"20\")*(BP$2:BP$338>=60)*1)/BP403*100)","v":{"$error":"#DIV/0!"}},{"$f":"(SUM(($CO$2:$CO$338=\"20\")*(BQ$2:BQ$338>=60)*1)/BQ403*100)","v":{"$error":"#DIV/0!"}},{"$f":"(SUM(($CO$2:$CO$338=\"20\")*(BR$2:BR$338>=60)*1)/BR403*100)","v":{"$error":"#DIV/0!"}},{"$f":"(SUM(($CO$2:$CO$338=\"20\")*(BS$2:BS$338>=60)*1)/BS403*100)","v":{"$error":"#DIV/0!"}},{"$f":"(SUM(($CO$2:$CO$338=\"20\")*(BT$2:BT$338>=60)*1)/BT403*100)","v":{"$error":"#DIV/0!"}},{"$f":"(SUM(($CO$2:$CO$338=\"20\")*(BU$2:BU$338>=60)*1)/BU403*100)","v":{"$error":"#DIV/0!"}},{"$f":"(SUM(($CO$2:$CO$338=\"20\")*(BV$2:BV$338>=60)*1)/BV403*100)","v":{"$error":"#DIV/0!"}},{"$f":"(SUM(($CO$2:$CO$338=\"20\")*(BW$2:BW$338>=60)*1)/BW403*100)","v":{"$error":"#DIV/0!"}},{"$error":"#DIV/0!"},{"$error":"#DIV/0!"},{"$error":"#DIV/0!"},{"$error":"#DIV/0!"},{"$error":"#DIV/0!"},{"$error":"#DIV/0!"},{"$error":"#DIV/0!"},{"$error":"#DIV/0!"},{"$error":"#DIV/0!"},{"$error":"#DIV/0!"},{"$error":"#DIV/0!"},{"$error":"#DIV/0!"},null,null,null,null,null,null,null,null,null,65,"20taux",null,{"$f":"(SUM(($CO$2:$CO$339=\"20\")*(CV$2:CV$339>=60)*1)/CV403*100)","v":{"$error":"#REF!"}}]
[null,null,null,null,null,null,null,null,null,"20avas",{"$f":"K408-K409","v":{"$error":"#DIV/0!"}},{"$f":"L408-L409","v":{"$error":"#DIV/0!"}},{"$error":"#DIV/0!"},{"$error":"#DIV/0!"},{"$error":"#DIV/0!"},{"$error":"#DIV/0!"},{"$error":"#DIV/0!"},{"$error":"#DIV/0!"},{"$error":"#DIV/0!"},{"$error":"#DIV/0!"},{"$error":"#DIV/0!"},{"$error":"#DIV/0!"},{"$error":"#DIV/0!"},{"$error":"#DIV/0!"},{"$error":"#DIV/0!"},{"$error":"#DIV/0!"},{"$error":"#DIV/0!"},{"$error":"#DIV/0!"},{"$error":"#DIV/0!"},{"$error":"#DIV/0!"},{"$error":"#DIV/0!"},{"$error":"#DIV/0!"},{"$error":"#DIV/0!"},{"$error":"#DIV/0!"},{"$error":"#DIV/0!"},{"$error":"#DIV/0!"},{"$error":"#DIV/0!"},{"$error":"#DIV/0!"},{"$error":"#DIV/0!"},{"$error":"#DIV/0!"},{"$error":"#DIV/0!"},{"$error":"#DIV/0!"},{"$error":"#DIV/0!"},{"$error":"#DIV/0!"},{"$error":"#DIV/0!"},{"$error":"#DIV/0!"},{"$error":"#DIV/0!"},{"$error":"#DIV/0!"},{"$error":"#DIV/0!"},{"$error":"#DIV/0!"},{"$error":"#DIV/0!"},{"$error":"#DIV/0!"},{"$error":"#DIV/0!"},{"$error":"#DIV/0!"},{"$error":"#DIV/0!"},{"$error":"#DIV/0!"},{"$error":"#DIV/0!"},{"$error":"#DIV/0!"},{"$error":"#DIV/0!"},{"$error":"#DIV/0!"},{"$error":"#DIV/0!"},{"$error":"#DIV/0!"},{"$error":"#DIV/0!"},{"$error":"#DIV/0!"},{"$error":"#DIV/0!"},{"$error":"#DIV/0!"},{"$error":"#DIV/0!"},{"$error":"#DIV/0!"},{"$error":"#DIV/0!"},{"$error":"#DIV/0!"},{"$error":"#DIV/0!"},{"$error":"#DIV/0!"},{"$error":"#DIV/0!"},{"$error":"#DIV/0!"},{"$f":"BW408-BW409","v":{"$error":"#DIV/0!"}},{"$error":"#DIV/0!"},{"$error":"#DIV/0!"},{"$error":"#DIV/0!"},{"$error":"#DIV/0!"},{"$error":"#DIV/0!"},{"$error":"#DIV/0!"},{"$error":"#DIV/0!"},{"$error":"#DIV/0!"},{"$error":"#DIV/0!"},{"$error":"#DIV/0!"},{"$f":"CH408-CH409","v":{"$error":"#DIV/0!"}},{"$error":"#DIV/0!"},null,null,null,null,null,null,null,null,null,66,"20avas",null,{"$f":"#REF!-#REF!","v":{"$error":"#REF!"}}]
[null,null,null,null,null,null,null,null,null,"20avaa",{"$f":"K410-K411","v":{"$error":"#DIV/0!"}},{"$f":"L410-L411","v":{"$error":"#DIV/0!"}},{"$error":"#DIV/0!"},{"$error":"#DIV/0!"},{"$error":"#DIV/0!"},{"$error":"#DIV/0!"},{"$error":"#DIV/0!"},{"$error":"#DIV/0!"},{"$error":"#DIV/0!"},{"$error":"#DIV/0!"},{"$error":"#DIV/0!"},{"$error":"#DIV/0!"},{"$error":"#DIV/0!"},{"$error":"#DIV/0!"},{"$error":"#DIV/0!"},{"$error":"#DIV/0!"},{"$error":"#DIV/0!"},{"$error":"#DIV/0!"},{"$error":"#DIV/0!"},{"$error":"#DIV/0!"},{"$error":"#DIV/0!"},{"$error":"#DIV/0!"},{"$error":"#DIV/0!"},{"$error":"#DIV/0!"},{"$error":"#DIV/0!"},{"$error":"#DIV/0!"},{"$error":"#DIV/0!"},{"$error":"#DIV/0!"},{"$error":"#DIV/0!"},{"$error":"#DIV/0!"},{"$error":"#DIV/0!"},{"$error":"#DIV/0!"},{"$error":"#DIV/0!"},{"$error":"#DIV/0!"},{"$error":"#DIV/0!"},{"$error":"#DIV/0!"},{"$error":"#DIV/0!"},{"$error":"#DIV/0!"},{"$error":"#DIV/0!"},{"$error":"#DIV/0!"},{"$error":"#DIV/0!"},{"$error":"#DIV/0!"},{"$error":"#DIV/0!"},{"$error":"#DIV/0!"},{"$error":"#DIV/0!"},{"$error":"#DIV/0!"},{"$error":"#DIV/0!"},{"$error":"#DIV/0!"},{"$error":"#DIV/0!"},{"$error":"#DIV/0!"},{"$error":"#DIV/0!"},{"$error":"#DIV/0!"},{"$error":"#DIV/0!"},{"$error":"#DIV/0!"},{"$error":"#DIV/0!"},{"$error":"#DIV/0!"},{"$error":"#DIV/0!"},{"$error":"#DIV/0!"},{"$error":"#DIV/0!"},{"$error":"#DIV/0!"},{"$error":"#DIV/0!"},{"$error":"#DIV/0!"},{"$error":"#DIV/0!"},{"$error":"#DIV/0!"},{"$f":"BW410-BW411","v":{"$error":"#DIV/0!"}},{"$error":"#DIV/0!"},{"$error":"#DIV/0!"},{"$error":"#DIV/0!"},{"$error":"#DIV/0!"},{"$error":"#DIV/0!"},{"$error":"#DIV/0!"},{"$error":"#DIV/0!"},{"$error":"#DIV/0!"},{"$error":"#DIV/0!"},{"$error":"#DIV/0!"},{"$f":"CH410-CH411","v":{"$error":"#DIV/0!"}},{"$error":"#DIV/0!"},null,null,null,null,null,null,null,null,null,67,"20avaa",null,{"$f":"#REF!-#REF!","v":{"$error":"#REF!"}}]
[null,null,null,null,null,null,null,null,null,"20m",{"$f":"SUMPRODUCT((($CO$2:$CO$338=\"20\")*(K$2:K$338)*($J$2:$J$338=\"M\"))/SUMPRODUCT(($CO$2:$CO$338=\"20\")*(K$2:K$338>2)*($J$2:$J$338=\"M\")))","v":{"$error":"#DIV/0!"}},{"$f":"SUMPRODUCT((($CO$2:$CO$338=\"20\")*(L$2:L$338)*($J$2:$J$338=\"M\"))/SUMPRODUCT(($CO$2:$CO$338=\"20\")*(L$2:L$338>2)*($J$2:$J$338=\"M\")))","v":{"$error":"#DIV/0!"}},{"$f":"SUMPRODUCT((($CO$2:$CO$338=\"20\")*(M$2:M$338)*($J$2:$J$338=\"M\"))/SUMPRODUCT(($CO$2:$CO$338=\"20\")*(M$2:M$338>2)*($J$2:$J$338=\"M\")))","v":{"$error":"#DIV/0!"}},{"$f":"SUMPRODUCT((($CO$2:$CO$338=\"20\")*(N$2:N$338)*($J$2:$J$338=\"M\"))/SUMPRODUCT(($CO$2:$CO$338=\"20\")*(N$2:N$338>2)*($J$2:$J$338=\"M\")))","v":{"$error":"#DIV/0!"}},{"$f":"SUMPRODUCT((($CO$2:$CO$338=\"20\")*(O$2:O$338)*($J$2:$J$338=\"M\"))/SUMPRODUCT(($CO$2:$CO$338=\"20\")*(O$2:O$338>2)*($J$2:$J$338=\"M\")))","v":{"$error":"#DIV/0!"}},{"$f":"SUMPRODUCT((($CO$2:$CO$338=\"20\")*(P$2:P$338)*($J$2:$J$338=\"M\"))/SUMPRODUCT(($CO$2:$CO$338=\"20\")*(P$2:P$338>2)*($J$2:$J$338=\"M\")))","v":{"$error":"#DIV/0!"}},{"$f":"SUMPRODUCT((($CO$2:$CO$338=\"20\")*(Q$2:Q$338)*($J$2:$J$338=\"M\"))/SUMPRODUCT(($CO$2:$CO$338=\"20\")*(Q$2:Q$338>2)*($J$2:$J$338=\"M\")))","v":{"$error":"#DIV/0!"}},{"$f":"SUMPRODUCT((($CO$2:$CO$338=\"20\")*(R$2:R$338)*($J$2:$J$338=\"M\"))/SUMPRODUCT(($CO$2:$CO$338=\"20\")*(R$2:R$338>2)*($J$2:$J$338=\"M\")))","v":{"$error":"#DIV/0!"}},{"$f":"SUMPRODUCT((($CO$2:$CO$338=\"20\")*(S$2:S$338)*($J$2:$J$338=\"M\"))/SUMPRODUCT(($CO$2:$CO$338=\"20\")*(S$2:S$338>2)*($J$2:$J$338=\"M\")))","v":{"$error":"#DIV/0!"}},{"$f":"SUMPRODUCT((($CO$2:$CO$338=\"20\")*(T$2:T$338)*($J$2:$J$338=\"M\"))/SUMPRODUCT(($CO$2:$CO$338=\"20\")*(T$2:T$338>2)*($J$2:$J$338=\"M\")))","v":{"$error":"#DIV/0!"}},{"$f":"SUMPRODUCT((($CO$2:$CO$338=\"20\")*(U$2:U$338)*($J$2:$J$338=\"M\"))/SUMPRODUCT(($CO$2:$CO$338=\"20\")*(U$2:U$338>2)*($J$2:$J$338=\"M\")))","v":{"$error":"#DIV/0!"}},{"$f":"SUMPRODUCT((($CO$2:$CO$338=\"20\")*(V$2:V$338)*($J$2:$J$338=\"M\"))/SUMPRODUCT(($CO$2:$CO$338=\"20\")*(V$2:V$338>2)*($J$2:$J$338=\"M\")))","v":{"$error":"#DIV/0!"}},{"$f":"SUMPRODUCT((($CO$2:$CO$338=\"20\")*(W$2:W$338)*($J$2:$J$338=\"M\"))/SUMPRODUCT(($CO$2:$CO$338=\"20\")*(W$2:W$338>2)*($J$2:$J$338=\"M\")))","v":{"$error":"#DIV/0!"}},{"$f":"SUMPRODUCT((($CO$2:$CO$338=\"20\")*(X$2:X$338)*($J$2:$J$338=\"M\"))/SUMPRODUCT(($CO$2:$CO$338=\"20\")*(X$2:X$338>2)*($J$2:$J$338=\"M\")))","v":{"$error":"#DIV/0!"}},{"$f":"SUMPRODUCT((($CO$2:$CO$338=\"20\")*(Y$2:Y$338)*($J$2:$J$338=\"M\"))/SUMPRODUCT(($CO$2:$CO$338=\"20\")*(Y$2:Y$338>2)*($J$2:$J$338=\"M\")))","v":{"$error":"#DIV/0!"}},{"$f":"SUMPRODUCT((($CO$2:$CO$338=\"20\")*(Z$2:Z$338)*($J$2:$J$338=\"M\"))/SUMPRODUCT(($CO$2:$CO$338=\"20\")*(Z$2:Z$338>2)*($J$2:$J$338=\"M\")))","v":{"$error":"#DIV/0!"}},{"$f":"SUMPRODUCT((($CO$2:$CO$338=\"20\")*(AA$2:AA$338)*($J$2:$J$338=\"M\"))/SUMPRODUCT(($CO$2:$CO$338=\"20\")*(AA$2:AA$338>2)*($J$2:$J$338=\"M\")))","v":{"$error":"#DIV/0!"}},{"$f":"SUMPRODUCT((($CO$2:$CO$338=\"20\")*(AB$2:AB$338)*($J$2:$J$338=\"M\"))/SUMPRODUCT(($CO$2:$CO$338=\"20\")*(AB$2:AB$338>2)*($J$2:$J$338=\"M\")))","v":{"$error":"#DIV/0!"}},{"$f":"SUMPRODUCT((($CO$2:$CO$338=\"20\")*(AC$2:AC$338)*($J$2:$J$338=\"M\"))/SUMPRODUCT(($CO$2:$CO$338=\"20\")*(AC$2:AC$338>2)*($J$2:$J$338=\"M\")))","v":{"$error":"#DIV/0!"}},{"$f":"SUMPRODUCT((($CO$2:$CO$338=\"20\")*(AD$2:AD$338)*($J$2:$J$338=\"M\"))/SUMPRODUCT(($CO$2:$CO$338=\"20\")*(AD$2:AD$338>2)*($J$2:$J$338=\"M\")))","v":{"$error":"#DIV/0!"}},{"$f":"SUMPRODUCT((($CO$2:$CO$338=\"20\")*(AE$2:AE$338)*($J$2:$J$338=\"M\"))/SUMPRODUCT(($CO$2:$CO$338=\"20\")*(AE$2:AE$338>2)*($J$2:$J$338=\"M\")))","v":{"$error":"#DIV/0!"}},{"$f":"SUMPRODUCT((($CO$2:$CO$338=\"20\")*(AF$2:AF$338)*($J$2:$J$338=\"M\"))/SUMPRODUCT(($CO$2:$CO$338=\"20\")*(AF$2:AF$338>2)*($J$2:$J$338=\"M\")))","v":{"$error":"#DIV/0!"}},{"$f":"SUMPRODUCT((($CO$2:$CO$338=\"20\")*(AG$2:AG$338)*($J$2:$J$338=\"M\"))/SUMPRODUCT(($CO$2:$CO$338=\"20\")*(AG$2:AG$338>2)*($J$2:$J$338=\"M\")))","v":{"$error":"#DIV/0!"}},{"$f":"SUMPRODUCT((($CO$2:$CO$338=\"20\")*(AH$2:AH$338)*($J$2:$J$338=\"M\"))/SUMPRODUCT(($CO$2:$CO$338=\"20\")*(AH$2:AH$338>2)*($J$2:$J$338=\"M\")))","v":{"$error":"#DIV/0!"}},{"$f":"SUMPRODUCT((($CO$2:$CO$338=\"20\")*(AI$2:AI$338)*($J$2:$J$338=\"M\"))/SUMPRODUCT(($CO$2:$CO$338=\"20\")*(AI$2:AI$338>2)*($J$2:$J$338=\"M\")))","v":{"$error":"#DIV/0!"}},{"$f":"SUMPRODUCT((($CO$2:$CO$338=\"20\")*(AJ$2:AJ$338)*($J$2:$J$338=\"M\"))/SUMPRODUCT(($CO$2:$CO$338=\"20\")*(AJ$2:AJ$338>2)*($J$2:$J$338=\"M\")))","v":{"$error":"#DIV/0!"}},{"$f":"SUMPRODUCT((($CO$2:$CO$338=\"20\")*(AK$2:AK$338)*($J$2:$J$338=\"M\"))/SUMPRODUCT(($CO$2:$CO$338=\"20\")*(AK$2:AK$338>2)*($J$2:$J$338=\"M\")))","v":{"$error":"#DIV/0!"}},{"$f":"SUMPRODUCT((($CO$2:$CO$338=\"20\")*(AL$2:AL$338)*($J$2:$J$338=\"M\"))/SUMPRODUCT(($CO$2:$CO$338=\"20\")*(AL$2:AL$338>2)*($J$2:$J$338=\"M\")))","v":{"$error":"#DIV/0!"}},{"$f":"SUMPRODUCT((($CO$2:$CO$338=\"20\")*(AM$2:AM$338)*($J$2:$J$338=\"M\"))/SUMPRODUCT(($CO$2:$CO$338=\"20\")*(AM$2:AM$338>2)*($J$2:$J$338=\"M\")))","v":{"$error":"#DIV/0!"}},{"$f":"SUMPRODUCT((($CO$2:$CO$338=\"20\")*(AN$2:AN$338)*($J$2:$J$338=\"M\"))/SUMPRODUCT(($CO$2:$CO$338=\"20\")*(AN$2:AN$338>2)*($J$2:$J$338=\"M\")))","v":{"$error":"#DIV/0!"}},{"$f":"SUMPRODUCT((($CO$2:$CO$338=\"20\")*(AO$2:AO$338)*($J$2:$J$338=\"M\"))/SUMPRODUCT(($CO$2:$CO$338=\"20\")*(AO$2:AO$338>2)*($J$2:$J$338=\"M\")))","v":{"$error":"#DIV/0!"}},{"$f":"SUMPRODUCT((($CO$2:$CO$338=\"20\")*(AP$2:AP$338)*($J$2:$J$338=\"M\"))/SUMPRODUCT(($CO$2:$CO$338=\"20\")*(AP$2:AP$338>2)*($J$2:$J$338=\"M\")))","v":{"$error":"#DIV/0!"}},{"$f":"SUMPRODUCT((($CO$2:$CO$338=\"20\")*(AQ$2:AQ$338)*($J$2:$J$338=\"M\"))/SUMPRODUCT(($CO$2:$CO$338=\"20\")*(AQ$2:AQ$338>2)*($J$2:$J$338=\"M\")))","v":{"$error":"#DIV/0!"}},{"$f":"SUMPRODUCT((($CO$2:$CO$338=\"20\")*(AR$2:AR$338)*($J$2:$J$338=\"M\"))/SUMPRODUCT(($CO$2:$CO$338=\"20\")*(AR$2:AR$338>2)*($J$2:$J$338=\"M\")))","v":{"$error":"#DIV/0!"}},{"$f":"SUMPRODUCT((($CO$2:$CO$338=\"20\")*(AS$2:AS$338)*($J$2:$J$338=\"M\"))/SUMPRODUCT(($CO$2:$CO$338=\"20\")*(AS$2:AS$338>2)*($J$2:$J$338=\"M\")))","v":{"$error":"#DIV/0!"}},{"$f":"SUMPRODUCT((($CO$2:$CO$338=\"20\")*(AT$2:AT$338)*($J$2:$J$338=\"M\"))/SUMPRODUCT(($CO$2:$CO$338=\"20\")*(AT$2:AT$338>2)*($J$2:$J$338=\"M\")))","v":{"$error":"#DIV/0!"}},{"$f":"SUMPRODUCT((($CO$2:$CO$338=\"20\")*(AU$2:AU$338)*($J$2:$J$338=\"M\"))/SUMPRODUCT(($CO$2:$CO$338=\"20\")*(AU$2:AU$338>2)*($J$2:$J$338=\"M\")))","v":{"$error":"#DIV/0!"}},{"$f":"SUMPRODUCT((($CO$2:$CO$338=\"20\")*(AV$2:AV$338)*($J$2:$J$338=\"M\"))/SUMPRODUCT(($CO$2:$CO$338=\"20\")*(AV$2:AV$338>2)*($J$2:$J$338=\"M\")))","v":{"$error":"#DIV/0!"}},{"$f":"SUMPRODUCT((($CO$2:$CO$338=\"20\")*(AW$2:AW$338)*($J$2:$J$338=\"M\"))/SUMPRODUCT(($CO$2:$CO$338=\"20\")*(AW$2:AW$338>2)*($J$2:$J$338=\"M\")))","v":{"$error":"#DIV/0!"}},{"$f":"SUMPRODUCT((($CO$2:$CO$338=\"20\")*(AX$2:AX$338)*($J$2:$J$338=\"M\"))/SUMPRODUCT(($CO$2:$CO$338=\"20\")*(AX$2:AX$338>2)*($J$2:$J$338=\"M\")))","v":{"$error":"#DIV/0!"}},{"$f":"SUMPRODUCT((($CO$2:$CO$338=\"20\")*(AY$2:AY$338)*($J$2:$J$338=\"M\"))/SUMPRODUCT(($CO$2:$CO$338=\"20\")*(AY$2:AY$338>2)*($J$2:$J$338=\"M\")))","v":{"$error":"#DIV/0!"}},{"$f":"SUMPRODUCT((($CO$2:$CO$338=\"20\")*(AZ$2:AZ$338)*($J$2:$J$338=\"M\"))/SUMPRODUCT(($CO$2:$CO$338=\"20\")*(AZ$2:AZ$338>2)*($J$2:$J$338=\"M\")))","v":{"$error":"#DIV/0!"}},{"$f":"SUMPRODUCT((($CO$2:$CO$338=\"20\")*(BA$2:BA$338)*($J$2:$J$338=\"M\"))/SUMPRODUCT(($CO$2:$CO$338=\"20\")*(BA$2:BA$338>2)*($J$2:$J$338=\"M\")))","v":{"$error":"#DIV/0!"}},{"$f":"SUMPRODUCT((($CO$2:$CO$338=\"20\")*(BB$2:BB$338)*($J$2:$J$338=\"M\"))/SUMPRODUCT(($CO$2:$CO$338=\"20\")*(BB$2:BB$338>2)*($J$2:$J$338=\"M\")))","v":{"$error":"#DIV/0!"}},{"$f":"SUMPRODUCT((($CO$2:$CO$338=\"20\")*(BC$2:BC$338)*($J$2:$J$338=\"M\"))/SUMPRODUCT(($CO$2:$CO$338=\"20\")*(BC$2:BC$338>2)*($J$2:$J$338=\"M\")))","v":{"$error":"#DIV/0!"}},{"$f":"SUMPRODUCT((($CO$2:$CO$338=\"20\")*(BD$2:BD$338)*($J$2:$J$338=\"M\"))/SUMPRODUCT(($CO$2:$CO$338=\"20\")*(BD$2:BD$338>2)*($J$2:$J$338=\"M\")))","v":{"$error":"#DIV/0!"}},{"$f":"SUMPRODUCT((($CO$2:$CO$338=\"20\")*(BE$2:BE$338)*($J$2:$J$338=\"M\"))/SUMPRODUCT(($CO$2:$CO$338=\"20\")*(BE$2:BE$338>2)*($J$2:$J$338=\"M\")))","v":{"$error":"#DIV/0!"}},{"$f":"SUMPRODUCT((($CO$2:$CO$338=\"20\")*(BF$2:BF$338)*($J$2:$J$338=\"M\"))/SUMPRODUCT(($CO$2:$CO$338=\"20\")*(BF$2:BF$338>2)*($J$2:$J$338=\"M\")))","v":{"$error":"#DIV/0!"}},{"$f":"SUMPRODUCT((($CO$2:$CO$338=\"20\")*(BG$2:BG$338)*($J$2:$J$338=\"M\"))/SUMPRODUCT(($CO$2:$CO$338=\"20\")*(BG$2:BG$338>2)*($J$2:$J$338=\"M\")))","v":{"$error":"#DIV/0!"}},{"$f":"SUMPRODUCT((($CO$2:$CO$338=\"20\")*(BH$2:BH$338)*($J$2:$J$338=\"M\"))/SUMPRODUCT(($CO$2:$CO$338=\"20\")*(BH$2:BH$338>2)*($J$2:$J$338=\"M\")))","v":{"$error":"#DIV/0!"}},{"$f":"SUMPRODUCT((($CO$2:$CO$338=\"20\")*(BI$2:BI$338)*($J$2:$J$338=\"M\"))/SUMPRODUCT(($CO$2:$CO$338=\"20\")*(BI$2:BI$338>2)*($J$2:$J$338=\"M\")))","v":{"$error":"#DIV/0!"}},{"$f":"SUMPRODUCT((($CO$2:$CO$338=\"20\")*(BJ$2:BJ$338)*($J$2:$J$338=\"M\"))/SUMPRODUCT(($CO$2:$CO$338=\"20\")*(BJ$2:BJ$338>2)*($J$2:$J$338=\"M\")))","v":{"$error":"#DIV/0!"}},{"$f":"SUMPRODUCT((($CO$2:$CO$338=\"20\")*(BK$2:BK$338)*($J$2:$J$338=\"M\"))/SUMPRODUCT(($CO$2:$CO$338=\"20\")*(BK$2:BK$338>2)*($J$2:$J$338=\"M\")))","v":{"$error":"#DIV/0!"}},{"$f":"SUMPRODUCT((($CO$2:$CO$338=\"20\")*(BL$2:BL$338)*($J$2:$J$338=\"M\"))/SUMPRODUCT(($CO$2:$CO$338=\"20\")*(BL$2:BL$338>2)*($J$2:$J$338=\"M\")))","v":{"$error":"#DIV/0!"}},{"$f":"SUMPRODUCT((($CO$2:$CO$338=\"20\")*(BM$2:BM$338)*($J$2:$J$338=\"M\"))/SUMPRODUCT(($CO$2:$CO$338=\"20\")*(BM$2:BM$338>2)*($J$2:$J$338=\"M\")))","v":{"$error":"#DIV/0!"}},{"$f":"SUMPRODUCT((($CO$2:$CO$338=\"20\")*(BN$2:BN$338)*($J$2:$J$338=\"M\"))/SUMPRODUCT(($CO$2:$CO$338=\"20\")*(BN$2:BN$338>2)*($J$2:$J$338=\"M\")))","v":{"$error":"#DIV/0!"}},{"$f":"SUMPRODUCT((($CO$2:$CO$338=\"20\")*(BO$2:BO$338)*($J$2:$J$338=\"M\"))/SUMPRODUCT(($CO$2:$CO$338=\"20\")*(BO$2:BO$338>2)*($J$2:$J$338=\"M\")))","v":{"$error":"#DIV/0!"}},{"$f":"SUMPRODUCT((($CO$2:$CO$338=\"20\")*(BP$2:BP$338)*($J$2:$J$338=\"M\"))/SUMPRODUCT(($CO$2:$CO$338=\"20\")*(BP$2:BP$338>2)*($J$2:$J$338=\"M\")))","v":{"$error":"#DIV/0!"}},{"$f":"SUMPRODUCT((($CO$2:$CO$338=\"20\")*(BQ$2:BQ$338)*($J$2:$J$338=\"M\"))/SUMPRODUCT(($CO$2:$CO$338=\"20\")*(BQ$2:BQ$338>2)*($J$2:$J$338=\"M\")))","v":{"$error":"#DIV/0!"}},{"$f":"SUMPRODUCT((($CO$2:$CO$338=\"20\")*(BR$2:BR$338)*($J$2:$J$338=\"M\"))/SUMPRODUCT(($CO$2:$CO$338=\"20\")*(BR$2:BR$338>2)*($J$2:$J$338=\"M\")))","v":{"$error":"#DIV/0!"}},{"$f":"SUMPRODUCT((($CO$2:$CO$338=\"20\")*(BS$2:BS$338)*($J$2:$J$338=\"M\"))/SUMPRODUCT(($CO$2:$CO$338=\"20\")*(BS$2:BS$338>2)*($J$2:$J$338=\"M\")))","v":{"$error":"#DIV/0!"}},{"$f":"SUMPRODUCT((($CO$2:$CO$338=\"20\")*(BT$2:BT$338)*($J$2:$J$338=\"M\"))/SUMPRODUCT(($CO$2:$CO$338=\"20\")*(BT$2:BT$338>2)*($J$2:$J$338=\"M\")))","v":{"$error":"#DIV/0!"}},{"$f":"SUMPRODUCT((($CO$2:$CO$338=\"20\")*(BU$2:BU$338)*($J$2:$J$338=\"M\"))/SUMPRODUCT(($CO$2:$CO$338=\"20\")*(BU$2:BU$338>2)*($J$2:$J$338=\"M\")))","v":{"$error":"#DIV/0!"}},{"$f":"SUMPRODUCT((($CO$2:$CO$338=\"20\")*(BV$2:BV$338)*($J$2:$J$338=\"M\"))/SUMPRODUCT(($CO$2:$CO$338=\"20\")*(BV$2:BV$338>2)*($J$2:$J$338=\"M\")))","v":{"$error":"#DIV/0!"}},{"$f":"SUMPRODUCT((($CO$2:$CO$338=\"20\")*(BW$2:BW$338)*($J$2:$J$338=\"M\"))/SUMPRODUCT(($CO$2:$CO$338=\"20\")*(BW$2:BW$338>2)*($J$2:$J$338=\"M\")))","v":{"$error":"#DIV/0!"}},{"$f":"IF(L408=0,0,IF(M408=0,AVERAGE(M408,K408,N408),AVERAGE(K408:N408)))","v":{"$error":"#DIV/0!"}},{"$f":"IF(P408=0,0,IF(Q408=0,AVERAGE(Q408,O408,R408),AVERAGE(O408:R408)))","v":{"$error":"#DIV/0!"}},{"$f":"IF(T408=0,0,IF(U408=0,AVERAGE(T408,S408,V408),AVERAGE(S408:V408)))","v":{"$error":"#DIV/0!"}},{"$f":"IF(AB408=0,0,IF(AC408=0,AVERAGE(AB408,AA408,AD408),AVERAGE(AA408:AD408)))","v":{"$error":"#DIV/0!"}},{"$f":"IF(AF408=0,0,IF(AG408=0,AVERAGE(AF408,AE408,AH408),AVERAGE(AE408:AH408)))","v":{"$error":"#DIV/0!"}},{"$f":"IF(AJ408=0,0,IF(AK408=0,AVERAGE(AJ408,AI408,AL408),AVERAGE(AI408:AL408)))","v":{"$error":"#DIV/0!"}},{"$f":"IF(AN408=0,0,IF(AO408=0,AVERAGE(AN408,AM408,AP408),AVERAGE(AM408:AP408)))","v":{"$error":"#DIV/0!"}},{"$f":"IF(AR408=0,0,IF(AS408=0,AVERAGE(AR408,AQ408,AT408),AVERAGE(AQ408:AT408)))","v":{"$error":"#DIV/0!"}},{"$f":"IF(AV408=0,0,IF(AW408=0,AVERAGE(AV408,AU408,AX408),AVERAGE(AU408:AX408)))","v":{"$error":"#DIV/0!"}},{"$f":"IF(AZ408=0,0,IF(BA408=0,AVERAGE(AZ408,AY408,BB408),AVERAGE(AY408:BB408)))","v":{"$error":"#DIV/0!"}},{"$f":"IF(BD408=0,0,IF(BE408=0,AVERAGE(BD408,BC408,BF408),AVERAGE(BC408:BF408)))","v":{"$error":"#DIV/0!"}},{"$f":"IF(BH408=0,0,IF(BI408=0,AVERAGE(BH408,BG408,BJ408,BM408),AVERAGE(BG408:BJ408)))","v":{"$error":"#DIV/0!"}},null,null,null,null,null,null,null,null,null,68,"20m",null,{"$f":"SUMPRODUCT(((#REF!>2)*($CO$2:$CO$339=\"20\")*(#REF!)*(#REF!=\"M\"))/SUMPRODUCT((#REF!>2)*($CO$2:$CO$339=\"20\")*(#REF!>2)*(#REF!=\"M\")))","v":{"$error":"#REF!"}}]
[null,null,null,null,null,null,null,null,null,"20f",{"$f":"SUMPRODUCT((($CO$2:$CO$338=\"20\")*(K$2:K$338)*($J$2:$J$338=\"F\"))/SUMPRODUCT(($CO$2:$CO$338=\"20\")*(K$2:K$338>2)*($J$2:$J$338=\"F\")))","v":{"$error":"#DIV/0!"}},{"$f":"SUMPRODUCT((($CO$2:$CO$338=\"20\")*(L$2:L$338)*($J$2:$J$338=\"F\"))/SUMPRODUCT(($CO$2:$CO$338=\"20\")*(L$2:L$338>2)*($J$2:$J$338=\"F\")))","v":{"$error":"#DIV/0!"}},{"$f":"SUMPRODUCT((($CO$2:$CO$338=\"20\")*(M$2:M$338)*($J$2:$J$338=\"F\"))/SUMPRODUCT(($CO$2:$CO$338=\"20\")*(M$2:M$338>2)*($J$2:$J$338=\"F\")))","v":{"$error":"#DIV/0!"}},{"$f":"SUMPRODUCT((($CO$2:$CO$338=\"20\")*(N$2:N$338)*($J$2:$J$338=\"F\"))/SUMPRODUCT(($CO$2:$CO$338=\"20\")*(N$2:N$338>2)*($J$2:$J$338=\"F\")))","v":{"$error":"#DIV/0!"}},{"$f":"SUMPRODUCT((($CO$2:$CO$338=\"20\")*(O$2:O$338)*($J$2:$J$338=\"F\"))/SUMPRODUCT(($CO$2:$CO$338=\"20\")*(O$2:O$338>2)*($J$2:$J$338=\"F\")))","v":{"$error":"#DIV/0!"}},{"$f":"SUMPRODUCT((($CO$2:$CO$338=\"20\")*(P$2:P$338)*($J$2:$J$338=\"F\"))/SUMPRODUCT(($CO$2:$CO$338=\"20\")*(P$2:P$338>2)*($J$2:$J$338=\"F\")))","v":{"$error":"#DIV/0!"}},{"$f":"SUMPRODUCT((($CO$2:$CO$338=\"20\")*(Q$2:Q$338)*($J$2:$J$338=\"F\"))/SUMPRODUCT(($CO$2:$CO$338=\"20\")*(Q$2:Q$338>2)*($J$2:$J$338=\"F\")))","v":{"$error":"#DIV/0!"}},{"$f":"SUMPRODUCT((($CO$2:$CO$338=\"20\")*(R$2:R$338)*($J$2:$J$338=\"F\"))/SUMPRODUCT(($CO$2:$CO$338=\"20\")*(R$2:R$338>2)*($J$2:$J$338=\"F\")))","v":{"$error":"#DIV/0!"}},{"$f":"SUMPRODUCT((($CO$2:$CO$338=\"20\")*(S$2:S$338)*($J$2:$J$338=\"F\"))/SUMPRODUCT(($CO$2:$CO$338=\"20\")*(S$2:S$338>2)*($J$2:$J$338=\"F\")))","v":{"$error":"#DIV/0!"}},{"$f":"SUMPRODUCT((($CO$2:$CO$338=\"20\")*(T$2:T$338)*($J$2:$J$338=\"F\"))/SUMPRODUCT(($CO$2:$CO$338=\"20\")*(T$2:T$338>2)*($J$2:$J$338=\"F\")))","v":{"$error":"#DIV/0!"}},{"$f":"SUMPRODUCT((($CO$2:$CO$338=\"20\")*(U$2:U$338)*($J$2:$J$338=\"F\"))/SUMPRODUCT(($CO$2:$CO$338=\"20\")*(U$2:U$338>2)*($J$2:$J$338=\"F\")))","v":{"$error":"#DIV/0!"}},{"$f":"SUMPRODUCT((($CO$2:$CO$338=\"20\")*(V$2:V$338)*($J$2:$J$338=\"F\"))/SUMPRODUCT(($CO$2:$CO$338=\"20\")*(V$2:V$338>2)*($J$2:$J$338=\"F\")))","v":{"$error":"#DIV/0!"}},{"$f":"SUMPRODUCT((($CO$2:$CO$338=\"20\")*(W$2:W$338)*($J$2:$J$338=\"F\"))/SUMPRODUCT(($CO$2:$CO$338=\"20\")*(W$2:W$338>2)*($J$2:$J$338=\"F\")))","v":{"$error":"#DIV/0!"}},{"$f":"SUMPRODUCT((($CO$2:$CO$338=\"20\")*(X$2:X$338)*($J$2:$J$338=\"F\"))/SUMPRODUCT(($CO$2:$CO$338=\"20\")*(X$2:X$338>2)*($J$2:$J$338=\"F\")))","v":{"$error":"#DIV/0!"}},{"$f":"SUMPRODUCT((($CO$2:$CO$338=\"20\")*(Y$2:Y$338)*($J$2:$J$338=\"F\"))/SUMPRODUCT(($CO$2:$CO$338=\"20\")*(Y$2:Y$338>2)*($J$2:$J$338=\"F\")))","v":{"$error":"#DIV/0!"}},{"$f":"SUMPRODUCT((($CO$2:$CO$338=\"20\")*(Z$2:Z$338)*($J$2:$J$338=\"F\"))/SUMPRODUCT(($CO$2:$CO$338=\"20\")*(Z$2:Z$338>2)*($J$2:$J$338=\"F\")))","v":{"$error":"#DIV/0!"}},{"$f":"SUMPRODUCT((($CO$2:$CO$338=\"20\")*(AA$2:AA$338)*($J$2:$J$338=\"F\"))/SUMPRODUCT(($CO$2:$CO$338=\"20\")*(AA$2:AA$338>2)*($J$2:$J$338=\"F\")))","v":{"$error":"#DIV/0!"}},{"$f":"SUMPRODUCT((($CO$2:$CO$338=\"20\")*(AB$2:AB$338)*($J$2:$J$338=\"F\"))/SUMPRODUCT(($CO$2:$CO$338=\"20\")*(AB$2:AB$338>2)*($J$2:$J$338=\"F\")))","v":{"$error":"#DIV/0!"}},{"$f":"SUMPRODUCT((($CO$2:$CO$338=\"20\")*(AC$2:AC$338)*($J$2:$J$338=\"F\"))/SUMPRODUCT(($CO$2:$CO$338=\"20\")*(AC$2:AC$338>2)*($J$2:$J$338=\"F\")))","v":{"$error":"#DIV/0!"}},{"$f":"SUMPRODUCT((($CO$2:$CO$338=\"20\")*(AD$2:AD$338)*($J$2:$J$338=\"F\"))/SUMPRODUCT(($CO$2:$CO$338=\"20\")*(AD$2:AD$338>2)*($J$2:$J$338=\"F\")))","v":{"$error":"#DIV/0!"}},{"$f":"SUMPRODUCT((($CO$2:$CO$338=\"20\")*(AE$2:AE$338)*($J$2:$J$338=\"F\"))/SUMPRODUCT(($CO$2:$CO$338=\"20\")*(AE$2:AE$338>2)*($J$2:$J$338=\"F\")))","v":{"$error":"#DIV/0!"}},{"$f":"SUMPRODUCT((($CO$2:$CO$338=\"20\")*(AF$2:AF$338)*($J$2:$J$338=\"F\"))/SUMPRODUCT(($CO$2:$CO$338=\"20\")*(AF$2:AF$338>2)*($J$2:$J$338=\"F\")))","v":{"$error":"#DIV/0!"}},{"$f":"SUMPRODUCT((($CO$2:$CO$338=\"20\")*(AG$2:AG$338)*($J$2:$J$338=\"F\"))/SUMPRODUCT(($CO$2:$CO$338=\"20\")*(AG$2:AG$338>2)*($J$2:$J$338=\"F\")))","v":{"$error":"#DIV/0!"}},{"$f":"SUMPRODUCT((($CO$2:$CO$338=\"20\")*(AH$2:AH$338)*($J$2:$J$338=\"F\"))/SUMPRODUCT(($CO$2:$CO$338=\"20\")*(AH$2:AH$338>2)*($J$2:$J$338=\"F\")))","v":{"$error":"#DIV/0!"}},{"$f":"SUMPRODUCT((($CO$2:$CO$338=\"20\")*(AI$2:AI$338)*($J$2:$J$338=\"F\"))/SUMPRODUCT(($CO$2:$CO$338=\"20\")*(AI$2:AI$338>2)*($J$2:$J$338=\"F\")))","v":{"$error":"#DIV/0!"}},{"$f":"SUMPRODUCT((($CO$2:$CO$338=\"20\")*(AJ$2:AJ$338)*($J$2:$J$338=\"F\"))/SUMPRODUCT(($CO$2:$CO$338=\"20\")*(AJ$2:AJ$338>2)*($J$2:$J$338=\"F\")))","v":{"$error":"#DIV/0!"}},{"$f":"SUMPRODUCT((($CO$2:$CO$338=\"20\")*(AK$2:AK$338)*($J$2:$J$338=\"F\"))/SUMPRODUCT(($CO$2:$CO$338=\"20\")*(AK$2:AK$338>2)*($J$2:$J$338=\"F\")))","v":{"$error":"#DIV/0!"}},{"$f":"SUMPRODUCT((($CO$2:$CO$338=\"20\")*(AL$2:AL$338)*($J$2:$J$338=\"F\"))/SUMPRODUCT(($CO$2:$CO$338=\"20\")*(AL$2:AL$338>2)*($J$2:$J$338=\"F\")))","v":{"$error":"#DIV/0!"}},{"$f":"SUMPRODUCT((($CO$2:$CO$338=\"20\")*(AM$2:AM$338)*($J$2:$J$338=\"F\"))/SUMPRODUCT(($CO$2:$CO$338=\"20\")*(AM$2:AM$338>2)*($J$2:$J$338=\"F\")))","v":{"$error":"#DIV/0!"}},{"$f":"SUMPRODUCT((($CO$2:$CO$338=\"20\")*(AN$2:AN$338)*($J$2:$J$338=\"F\"))/SUMPRODUCT(($CO$2:$CO$338=\"20\")*(AN$2:AN$338>2)*($J$2:$J$338=\"F\")))","v":{"$error":"#DIV/0!"}},{"$f":"SUMPRODUCT((($CO$2:$CO$338=\"20\")*(AO$2:AO$338)*($J$2:$J$338=\"F\"))/SUMPRODUCT(($CO$2:$CO$338=\"20\")*(AO$2:AO$338>2)*($J$2:$J$338=\"F\")))","v":{"$error":"#DIV/0!"}},{"$f":"SUMPRODUCT((($CO$2:$CO$338=\"20\")*(AP$2:AP$338)*($J$2:$J$338=\"F\"))/SUMPRODUCT(($CO$2:$CO$338=\"20\")*(AP$2:AP$338>2)*($J$2:$J$338=\"F\")))","v":{"$error":"#DIV/0!"}},{"$f":"SUMPRODUCT((($CO$2:$CO$338=\"20\")*(AQ$2:AQ$338)*($J$2:$J$338=\"F\"))/SUMPRODUCT(($CO$2:$CO$338=\"20\")*(AQ$2:AQ$338>2)*($J$2:$J$338=\"F\")))","v":{"$error":"#DIV/0!"}},{"$f":"SUMPRODUCT((($CO$2:$CO$338=\"20\")*(AR$2:AR$338)*($J$2:$J$338=\"F\"))/SUMPRODUCT(($CO$2:$CO$338=\"20\")*(AR$2:AR$338>2)*($J$2:$J$338=\"F\")))","v":{"$error":"#DIV/0!"}},{"$f":"SUMPRODUCT((($CO$2:$CO$338=\"20\")*(AS$2:AS$338)*($J$2:$J$338=\"F\"))/SUMPRODUCT(($CO$2:$CO$338=\"20\")*(AS$2:AS$338>2)*($J$2:$J$338=\"F\")))","v":{"$error":"#DIV/0!"}},{"$f":"SUMPRODUCT((($CO$2:$CO$338=\"20\")*(AT$2:AT$338)*($J$2:$J$338=\"F\"))/SUMPRODUCT(($CO$2:$CO$338=\"20\")*(AT$2:AT$338>2)*($J$2:$J$338=\"F\")))","v":{"$error":"#DIV/0!"}},{"$f":"SUMPRODUCT((($CO$2:$CO$338=\"20\")*(AU$2:AU$338)*($J$2:$J$338=\"F\"))/SUMPRODUCT(($CO$2:$CO$338=\"20\")*(AU$2:AU$338>2)*($J$2:$J$338=\"F\")))","v":{"$error":"#DIV/0!"}},{"$f":"SUMPRODUCT((($CO$2:$CO$338=\"20\")*(AV$2:AV$338)*($J$2:$J$338=\"F\"))/SUMPRODUCT(($CO$2:$CO$338=\"20\")*(AV$2:AV$338>2)*($J$2:$J$338=\"F\")))","v":{"$error":"#DIV/0!"}},{"$f":"SUMPRODUCT((($CO$2:$CO$338=\"20\")*(AW$2:AW$338)*($J$2:$J$338=\"F\"))/SUMPRODUCT(($CO$2:$CO$338=\"20\")*(AW$2:AW$338>2)*($J$2:$J$338=\"F\")))","v":{"$error":"#DIV/0!"}},{"$f":"SUMPRODUCT((($CO$2:$CO$338=\"20\")*(AX$2:AX$338)*($J$2:$J$338=\"F\"))/SUMPRODUCT(($CO$2:$CO$338=\"20\")*(AX$2:AX$338>2)*($J$2:$J$338=\"F\")))","v":{"$error":"#DIV/0!"}},{"$f":"SUMPRODUCT((($CO$2:$CO$338=\"20\")*(AY$2:AY$338)*($J$2:$J$338=\"F\"))/SUMPRODUCT(($CO$2:$CO$338=\"20\")*(AY$2:AY$338>2)*($J$2:$J$338=\"F\")))","v":{"$error":"#DIV/0!"}},{"$f":"SUMPRODUCT((($CO$2:$CO$338=\"20\")*(AZ$2:AZ$338)*($J$2:$J$338=\"F\"))/SUMPRODUCT(($CO$2:$CO$338=\"20\")*(AZ$2:AZ$338>2)*($J$2:$J$338=\"F\")))","v":{"$error":"#DIV/0!"}},{"$f":"SUMPRODUCT((($CO$2:$CO$338=\"20\")*(BA$2:BA$338)*($J$2:$J$338=\"F\"))/SUMPRODUCT(($CO$2:$CO$338=\"20\")*(BA$2:BA$338>2)*($J$2:$J$338=\"F\")))","v":{"$error":"#DIV/0!"}},{"$f":"SUMPRODUCT((($CO$2:$CO$338=\"20\")*(BB$2:BB$338)*($J$2:$J$338=\"F\"))/SUMPRODUCT(($CO$2:$CO$338=\"20\")*(BB$2:BB$338>2)*($J$2:$J$338=\"F\")))","v":{"$error":"#DIV/0!"}},{"$f":"SUMPRODUCT((($CO$2:$CO$338=\"20\")*(BC$2:BC$338)*($J$2:$J$338=\"F\"))/SUMPRODUCT(($CO$2:$CO$338=\"20\")*(BC$2:BC$338>2)*($J$2:$J$338=\"F\")))","v":{"$error":"#DIV/0!"}},{"$f":"SUMPRODUCT((($CO$2:$CO$338=\"20\")*(BD$2:BD$338)*($J$2:$J$338=\"F\"))/SUMPRODUCT(($CO$2:$CO$338=\"20\")*(BD$2:BD$338>2)*($J$2:$J$338=\"F\")))","v":{"$error":"#DIV/0!"}},{"$f":"SUMPRODUCT((($CO$2:$CO$338=\"20\")*(BE$2:BE$338)*($J$2:$J$338=\"F\"))/SUMPRODUCT(($CO$2:$CO$338=\"20\")*(BE$2:BE$338>2)*($J$2:$J$338=\"F\")))","v":{"$error":"#DIV/0!"}},{"$f":"SUMPRODUCT((($CO$2:$CO$338=\"20\")*(BF$2:BF$338)*($J$2:$J$338=\"F\"))/SUMPRODUCT(($CO$2:$CO$338=\"20\")*(BF$2:BF$338>2)*($J$2:$J$338=\"F\")))","v":{"$error":"#DIV/0!"}},{"$f":"SUMPRODUCT((($CO$2:$CO$338=\"20\")*(BG$2:BG$338)*($J$2:$J$338=\"F\"))/SUMPRODUCT(($CO$2:$CO$338=\"20\")*(BG$2:BG$338>2)*($J$2:$J$338=\"F\")))","v":{"$error":"#DIV/0!"}},{"$f":"SUMPRODUCT((($CO$2:$CO$338=\"20\")*(BH$2:BH$338)*($J$2:$J$338=\"F\"))/SUMPRODUCT(($CO$2:$CO$338=\"20\")*(BH$2:BH$338>2)*($J$2:$J$338=\"F\")))","v":{"$error":"#DIV/0!"}},{"$f":"SUMPRODUCT((($CO$2:$CO$338=\"20\")*(BI$2:BI$338)*($J$2:$J$338=\"F\"))/SUMPRODUCT(($CO$2:$CO$338=\"20\")*(BI$2:BI$338>2)*($J$2:$J$338=\"F\")))","v":{"$error":"#DIV/0!"}},{"$f":"SUMPRODUCT((($CO$2:$CO$338=\"20\")*(BJ$2:BJ$338)*($J$2:$J$338=\"F\"))/SUMPRODUCT(($CO$2:$CO$338=\"20\")*(BJ$2:BJ$338>2)*($J$2:$J$338=\"F\")))","v":{"$error":"#DIV/0!"}},{"$f":"SUMPRODUCT((($CO$2:$CO$338=\"20\")*(BK$2:BK$338)*($J$2:$J$338=\"F\"))/SUMPRODUCT(($CO$2:$CO$338=\"20\")*(BK$2:BK$338>2)*($J$2:$J$338=\"F\")))","v":{"$error":"#DIV/0!"}},{"$f":"SUMPRODUCT((($CO$2:$CO$338=\"20\")*(BL$2:BL$338)*($J$2:$J$338=\"F\"))/SUMPRODUCT(($CO$2:$CO$338=\"20\")*(BL$2:BL$338>2)*($J$2:$J$338=\"F\")))","v":{"$error":"#DIV/0!"}},{"$f":"SUMPRODUCT((($CO$2:$CO$338=\"20\")*(BM$2:BM$338)*($J$2:$J$338=\"F\"))/SUMPRODUCT(($CO$2:$CO$338=\"20\")*(BM$2:BM$338>2)*($J$2:$J$338=\"F\")))","v":{"$error":"#DIV/0!"}},{"$f":"SUMPRODUCT((($CO$2:$CO$338=\"20\")*(BN$2:BN$338)*($J$2:$J$338=\"F\"))/SUMPRODUCT(($CO$2:$CO$338=\"20\")*(BN$2:BN$338>2)*($J$2:$J$338=\"F\")))","v":{"$error":"#DIV/0!"}},{"$f":"SUMPRODUCT((($CO$2:$CO$338=\"20\")*(BO$2:BO$338)*($J$2:$J$338=\"F\"))/SUMPRODUCT(($CO$2:$CO$338=\"20\")*(BO$2:BO$338>2)*($J$2:$J$338=\"F\")))","v":{"$error":"#DIV/0!"}},{"$f":"SUMPRODUCT((($CO$2:$CO$338=\"20\")*(BP$2:BP$338)*($J$2:$J$338=\"F\"))/SUMPRODUCT(($CO$2:$CO$338=\"20\")*(BP$2:BP$338>2)*($J$2:$J$338=\"F\")))","v":{"$error":"#DIV/0!"}},{"$f":"SUMPRODUCT((($CO$2:$CO$338=\"20\")*(BQ$2:BQ$338)*($J$2:$J$338=\"F\"))/SUMPRODUCT(($CO$2:$CO$338=\"20\")*(BQ$2:BQ$338>2)*($J$2:$J$338=\"F\")))","v":{"$error":"#DIV/0!"}},{"$f":"SUMPRODUCT((($CO$2:$CO$338=\"20\")*(BR$2:BR$338)*($J$2:$J$338=\"F\"))/SUMPRODUCT(($CO$2:$CO$338=\"20\")*(BR$2:BR$338>2)*($J$2:$J$338=\"F\")))","v":{"$error":"#DIV/0!"}},{"$f":"SUMPRODUCT((($CO$2:$CO$338=\"20\")*(BS$2:BS$338)*($J$2:$J$338=\"F\"))/SUMPRODUCT(($CO$2:$CO$338=\"20\")*(BS$2:BS$338>2)*($J$2:$J$338=\"F\")))","v":{"$error":"#DIV/0!"}},{"$f":"SUMPRODUCT((($CO$2:$CO$338=\"20\")*(BT$2:BT$338)*($J$2:$J$338=\"F\"))/SUMPRODUCT(($CO$2:$CO$338=\"20\")*(BT$2:BT$338>2)*($J$2:$J$338=\"F\")))","v":{"$error":"#DIV/0!"}},{"$f":"SUMPRODUCT((($CO$2:$CO$338=\"20\")*(BU$2:BU$338)*($J$2:$J$338=\"F\"))/SUMPRODUCT(($CO$2:$CO$338=\"20\")*(BU$2:BU$338>2)*($J$2:$J$338=\"F\")))","v":{"$error":"#DIV/0!"}},{"$f":"SUMPRODUCT((($CO$2:$CO$338=\"20\")*(BV$2:BV$338)*($J$2:$J$338=\"F\"))/SUMPRODUCT(($CO$2:$CO$338=\"20\")*(BV$2:BV$338>2)*($J$2:$J$338=\"F\")))","v":{"$error":"#DIV/0!"}},{"$f":"SUMPRODUCT((($CO$2:$CO$338=\"20\")*(BW$2:BW$338)*($J$2:$J$338=\"F\"))/SUMPRODUCT(($CO$2:$CO$338=\"20\")*(BW$2:BW$338>2)*($J$2:$J$338=\"F\")))","v":{"$error":"#DIV/0!"}},{"$error":"#DIV/0!"},{"$error":"#DIV/0!"},{"$error":"#DIV/0!"},{"$error":"#DIV/0!"},{"$error":"#DIV/0!"},{"$error":"#DIV/0!"},{"$error":"#DIV/0!"},{"$error":"#DIV/0!"},{"$error":"#DIV/0!"},{"$error":"#DIV/0!"},{"$error":"#DIV/0!"},{"$error":"#DIV/0!"},null,null,null,null,null,null,null,null,null,69,"20f",null,{"$f":"SUMPRODUCT(((#REF!>2)*($CO$2:$CO$339=\"20\")*(#REF!)*(#REF!=\"F\"))/SUMPRODUCT((#REF!>2)*($CO$2:$CO$339=\"20\")*(#REF!>2)*(#REF!=\"F\")))","v":{"$error":"#REF!"}}]
[null,null,null,null,null,null,null,null,null,"20j",{"$f":"SUMPRODUCT((($CO$2:$CO$338=\"20\")*(K$2:K$338)*($CT$2:$CT$338=\"J\"))/SUMPRODUCT(($CO$2:$CO$338=\"20\")*(K$2:K$338>2)*($CT$2:$CT$338=\"J\")))","v":{"$error":"#DIV/0!"}},{"$f":"SUMPRODUCT((($CO$2:$CO$338=\"20\")*(L$2:L$338)*($CT$2:$CT$338=\"J\"))/SUMPRODUCT(($CO$2:$CO$338=\"20\")*(L$2:L$338>2)*($CT$2:$CT$338=\"J\")))","v":{"$error":"#DIV/0!"}},{"$f":"SUMPRODUCT((($CO$2:$CO$338=\"20\")*(M$2:M$338)*($CT$2:$CT$338=\"J\"))/SUMPRODUCT(($CO$2:$CO$338=\"20\")*(M$2:M$338>2)*($CT$2:$CT$338=\"J\")))","v":{"$error":"#DIV/0!"}},{"$f":"SUMPRODUCT((($CO$2:$CO$338=\"20\")*(N$2:N$338)*($CT$2:$CT$338=\"J\"))/SUMPRODUCT(($CO$2:$CO$338=\"20\")*(N$2:N$338>2)*($CT$2:$CT$338=\"J\")))","v":{"$error":"#DIV/0!"}},{"$f":"SUMPRODUCT((($CO$2:$CO$338=\"20\")*(O$2:O$338)*($CT$2:$CT$338=\"J\"))/SUMPRODUCT(($CO$2:$CO$338=\"20\")*(O$2:O$338>2)*($CT$2:$CT$338=\"J\")))","v":{"$error":"#DIV/0!"}},{"$f":"SUMPRODUCT((($CO$2:$CO$338=\"20\")*(P$2:P$338)*($CT$2:$CT$338=\"J\"))/SUMPRODUCT(($CO$2:$CO$338=\"20\")*(P$2:P$338>2)*($CT$2:$CT$338=\"J\")))","v":{"$error":"#DIV/0!"}},{"$f":"SUMPRODUCT((($CO$2:$CO$338=\"20\")*(Q$2:Q$338)*($CT$2:$CT$338=\"J\"))/SUMPRODUCT(($CO$2:$CO$338=\"20\")*(Q$2:Q$338>2)*($CT$2:$CT$338=\"J\")))","v":{"$error":"#DIV/0!"}},{"$f":"SUMPRODUCT((($CO$2:$CO$338=\"20\")*(R$2:R$338)*($CT$2:$CT$338=\"J\"))/SUMPRODUCT(($CO$2:$CO$338=\"20\")*(R$2:R$338>2)*($CT$2:$CT$338=\"J\")))","v":{"$error":"#DIV/0!"}},{"$f":"SUMPRODUCT((($CO$2:$CO$338=\"20\")*(S$2:S$338)*($CT$2:$CT$338=\"J\"))/SUMPRODUCT(($CO$2:$CO$338=\"20\")*(S$2:S$338>2)*($CT$2:$CT$338=\"J\")))","v":{"$error":"#DIV/0!"}},{"$f":"SUMPRODUCT((($CO$2:$CO$338=\"20\")*(T$2:T$338)*($CT$2:$CT$338=\"J\"))/SUMPRODUCT(($CO$2:$CO$338=\"20\")*(T$2:T$338>2)*($CT$2:$CT$338=\"J\")))","v":{"$error":"#DIV/0!"}},{"$f":"SUMPRODUCT((($CO$2:$CO$338=\"20\")*(U$2:U$338)*($CT$2:$CT$338=\"J\"))/SUMPRODUCT(($CO$2:$CO$338=\"20\")*(U$2:U$338>2)*($CT$2:$CT$338=\"J\")))","v":{"$error":"#DIV/0!"}},{"$f":"SUMPRODUCT((($CO$2:$CO$338=\"20\")*(V$2:V$338)*($CT$2:$CT$338=\"J\"))/SUMPRODUCT(($CO$2:$CO$338=\"20\")*(V$2:V$338>2)*($CT$2:$CT$338=\"J\")))","v":{"$error":"#DIV/0!"}},{"$f":"SUMPRODUCT((($CO$2:$CO$338=\"20\")*(W$2:W$338)*($CT$2:$CT$338=\"J\"))/SUMPRODUCT(($CO$2:$CO$338=\"20\")*(W$2:W$338>2)*($CT$2:$CT$338=\"J\")))","v":{"$error":"#DIV/0!"}},{"$f":"SUMPRODUCT((($CO$2:$CO$338=\"20\")*(X$2:X$338)*($CT$2:$CT$338=\"J\"))/SUMPRODUCT(($CO$2:$CO$338=\"20\")*(X$2:X$338>2)*($CT$2:$CT$338=\"J\")))","v":{"$error":"#DIV/0!"}},{"$f":"SUMPRODUCT((($CO$2:$CO$338=\"20\")*(Y$2:Y$338)*($CT$2:$CT$338=\"J\"))/SUMPRODUCT(($CO$2:$CO$338=\"20\")*(Y$2:Y$338>2)*($CT$2:$CT$338=\"J\")))","v":{"$error":"#DIV/0!"}},{"$f":"SUMPRODUCT((($CO$2:$CO$338=\"20\")*(Z$2:Z$338)*($CT$2:$CT$338=\"J\"))/SUMPRODUCT(($CO$2:$CO$338=\"20\")*(Z$2:Z$338>2)*($CT$2:$CT$338=\"J\")))","v":{"$error":"#DIV/0!"}},{"$f":"SUMPRODUCT((($CO$2:$CO$338=\"20\")*(AA$2:AA$338)*($CT$2:$CT$338=\"J\"))/SUMPRODUCT(($CO$2:$CO$338=\"20\")*(AA$2:AA$338>2)*($CT$2:$CT$338=\"J\")))","v":{"$error":"#DIV/0!"}},{"$f":"SUMPRODUCT((($CO$2:$CO$338=\"20\")*(AB$2:AB$338)*($CT$2:$CT$338=\"J\"))/SUMPRODUCT(($CO$2:$CO$338=\"20\")*(AB$2:AB$338>2)*($CT$2:$CT$338=\"J\")))","v":{"$error":"#DIV/0!"}},{"$f":"SUMPRODUCT((($CO$2:$CO$338=\"20\")*(AC$2:AC$338)*($CT$2:$CT$338=\"J\"))/SUMPRODUCT(($CO$2:$CO$338=\"20\")*(AC$2:AC$338>2)*($CT$2:$CT$338=\"J\")))","v":{"$error":"#DIV/0!"}},{"$f":"SUMPRODUCT((($CO$2:$CO$338=\"20\")*(AD$2:AD$338)*($CT$2:$CT$338=\"J\"))/SUMPRODUCT(($CO$2:$CO$338=\"20\")*(AD$2:AD$338>2)*($CT$2:$CT$338=\"J\")))","v":{"$error":"#DIV/0!"}},{"$f":"SUMPRODUCT((($CO$2:$CO$338=\"20\")*(AE$2:AE$338)*($CT$2:$CT$338=\"J\"))/SUMPRODUCT(($CO$2:$CO$338=\"20\")*(AE$2:AE$338>2)*($CT$2:$CT$338=\"J\")))","v":{"$error":"#DIV/0!"}},{"$f":"SUMPRODUCT((($CO$2:$CO$338=\"20\")*(AF$2:AF$338)*($CT$2:$CT$338=\"J\"))/SUMPRODUCT(($CO$2:$CO$338=\"20\")*(AF$2:AF$338>2)*($CT$2:$CT$338=\"J\")))","v":{"$error":"#DIV/0!"}},{"$f":"SUMPRODUCT((($CO$2:$CO$338=\"20\")*(AG$2:AG$338)*($CT$2:$CT$338=\"J\"))/SUMPRODUCT(($CO$2:$CO$338=\"20\")*(AG$2:AG$338>2)*($CT$2:$CT$338=\"J\")))","v":{"$error":"#DIV/0!"}},{"$f":"SUMPRODUCT((($CO$2:$CO$338=\"20\")*(AH$2:AH$338)*($CT$2:$CT$338=\"J\"))/SUMPRODUCT(($CO$2:$CO$338=\"20\")*(AH$2:AH$338>2)*($CT$2:$CT$338=\"J\")))","v":{"$error":"#DIV/0!"}},{"$f":"SUMPRODUCT((($CO$2:$CO$338=\"20\")*(AI$2:AI$338)*($CT$2:$CT$338=\"J\"))/SUMPRODUCT(($CO$2:$CO$338=\"20\")*(AI$2:AI$338>2)*($CT$2:$CT$338=\"J\")))","v":{"$error":"#DIV/0!"}},{"$f":"SUMPRODUCT((($CO$2:$CO$338=\"20\")*(AJ$2:AJ$338)*($CT$2:$CT$338=\"J\"))/SUMPRODUCT(($CO$2:$CO$338=\"20\")*(AJ$2:AJ$338>2)*($CT$2:$CT$338=\"J\")))","v":{"$error":"#DIV/0!"}},{"$f":"SUMPRODUCT((($CO$2:$CO$338=\"20\")*(AK$2:AK$338)*($CT$2:$CT$338=\"J\"))/SUMPRODUCT(($CO$2:$CO$338=\"20\")*(AK$2:AK$338>2)*($CT$2:$CT$338=\"J\")))","v":{"$error":"#DIV/0!"}},{"$f":"SUMPRODUCT((($CO$2:$CO$338=\"20\")*(AL$2:AL$338)*($CT$2:$CT$338=\"J\"))/SUMPRODUCT(($CO$2:$CO$338=\"20\")*(AL$2:AL$338>2)*($CT$2:$CT$338=\"J\")))","v":{"$error":"#DIV/0!"}},{"$f":"SUMPRODUCT((($CO$2:$CO$338=\"20\")*(AM$2:AM$338)*($CT$2:$CT$338=\"J\"))/SUMPRODUCT(($CO$2:$CO$338=\"20\")*(AM$2:AM$338>2)*($CT$2:$CT$338=\"J\")))","v":{"$error":"#DIV/0!"}},{"$f":"SUMPRODUCT((($CO$2:$CO$338=\"20\")*(AN$2:AN$338)*($CT$2:$CT$338=\"J\"))/SUMPRODUCT(($CO$2:$CO$338=\"20\")*(AN$2:AN$338>2)*($CT$2:$CT$338=\"J\")))","v":{"$error":"#DIV/0!"}},{"$f":"SUMPRODUCT((($CO$2:$CO$338=\"20\")*(AO$2:AO$338)*($CT$2:$CT$338=\"J\"))/SUMPRODUCT(($CO$2:$CO$338=\"20\")*(AO$2:AO$338>2)*($CT$2:$CT$338=\"J\")))","v":{"$error":"#DIV/0!"}},{"$f":"SUMPRODUCT((($CO$2:$CO$338=\"20\")*(AP$2:AP$338)*($CT$2:$CT$338=\"J\"))/SUMPRODUCT(($CO$2:$CO$338=\"20\")*(AP$2:AP$338>2)*($CT$2:$CT$338=\"J\")))","v":{"$error":"#DIV/0!"}},{"$f":"SUMPRODUCT((($CO$2:$CO$338=\"20\")*(AQ$2:AQ$338)*($CT$2:$CT$338=\"J\"))/SUMPRODUCT(($CO$2:$CO$338=\"20\")*(AQ$2:AQ$338>2)*($CT$2:$CT$338=\"J\")))","v":{"$error":"#DIV/0!"}},{"$f":"SUMPRODUCT((($CO$2:$CO$338=\"20\")*(AR$2:AR$338)*($CT$2:$CT$338=\"J\"))/SUMPRODUCT(($CO$2:$CO$338=\"20\")*(AR$2:AR$338>2)*($CT$2:$CT$338=\"J\")))","v":{"$error":"#DIV/0!"}},{"$f":"SUMPRODUCT((($CO$2:$CO$338=\"20\")*(AS$2:AS$338)*($CT$2:$CT$338=\"J\"))/SUMPRODUCT(($CO$2:$CO$338=\"20\")*(AS$2:AS$338>2)*($CT$2:$CT$338=\"J\")))","v":{"$error":"#DIV/0!"}},{"$f":"SUMPRODUCT((($CO$2:$CO$338=\"20\")*(AT$2:AT$338)*($CT$2:$CT$338=\"J\"))/SUMPRODUCT(($CO$2:$CO$338=\"20\")*(AT$2:AT$338>2)*($CT$2:$CT$338=\"J\")))","v":{"$error":"#DIV/0!"}},{"$f":"SUMPRODUCT((($CO$2:$CO$338=\"20\")*(AU$2:AU$338)*($CT$2:$CT$338=\"J\"))/SUMPRODUCT(($CO$2:$CO$338=\"20\")*(AU$2:AU$338>2)*($CT$2:$CT$338=\"J\")))","v":{"$error":"#DIV/0!"}},{"$f":"SUMPRODUCT((($CO$2:$CO$338=\"20\")*(AV$2:AV$338)*($CT$2:$CT$338=\"J\"))/SUMPRODUCT(($CO$2:$CO$338=\"20\")*(AV$2:AV$338>2)*($CT$2:$CT$338=\"J\")))","v":{"$error":"#DIV/0!"}},{"$f":"SUMPRODUCT((($CO$2:$CO$338=\"20\")*(AW$2:AW$338)*($CT$2:$CT$338=\"J\"))/SUMPRODUCT(($CO$2:$CO$338=\"20\")*(AW$2:AW$338>2)*($CT$2:$CT$338=\"J\")))","v":{"$error":"#DIV/0!"}},{"$f":"SUMPRODUCT((($CO$2:$CO$338=\"20\")*(AX$2:AX$338)*($CT$2:$CT$338=\"J\"))/SUMPRODUCT(($CO$2:$CO$338=\"20\")*(AX$2:AX$338>2)*($CT$2:$CT$338=\"J\")))","v":{"$error":"#DIV/0!"}},{"$f":"SUMPRODUCT((($CO$2:$CO$338=\"20\")*(AY$2:AY$338)*($CT$2:$CT$338=\"J\"))/SUMPRODUCT(($CO$2:$CO$338=\"20\")*(AY$2:AY$338>2)*($CT$2:$CT$338=\"J\")))","v":{"$error":"#DIV/0!"}},{"$f":"SUMPRODUCT((($CO$2:$CO$338=\"20\")*(AZ$2:AZ$338)*($CT$2:$CT$338=\"J\"))/SUMPRODUCT(($CO$2:$CO$338=\"20\")*(AZ$2:AZ$338>2)*($CT$2:$CT$338=\"J\")))","v":{"$error":"#DIV/0!"}},{"$f":"SUMPRODUCT((($CO$2:$CO$338=\"20\")*(BA$2:BA$338)*($CT$2:$CT$338=\"J\"))/SUMPRODUCT(($CO$2:$CO$338=\"20\")*(BA$2:BA$338>2)*($CT$2:$CT$338=\"J\")))","v":{"$error":"#DIV/0!"}},{"$f":"SUMPRODUCT((($CO$2:$CO$338=\"20\")*(BB$2:BB$338)*($CT$2:$CT$338=\"J\"))/SUMPRODUCT(($CO$2:$CO$338=\"20\")*(BB$2:BB$338>2)*($CT$2:$CT$338=\"J\")))","v":{"$error":"#DIV/0!"}},{"$f":"SUMPRODUCT((($CO$2:$CO$338=\"20\")*(BC$2:BC$338)*($CT$2:$CT$338=\"J\"))/SUMPRODUCT(($CO$2:$CO$338=\"20\")*(BC$2:BC$338>2)*($CT$2:$CT$338=\"J\")))","v":{"$error":"#DIV/0!"}},{"$f":"SUMPRODUCT((($CO$2:$CO$338=\"20\")*(BD$2:BD$338)*($CT$2:$CT$338=\"J\"))/SUMPRODUCT(($CO$2:$CO$338=\"20\")*(BD$2:BD$338>2)*($CT$2:$CT$338=\"J\")))","v":{"$error":"#DIV/0!"}},{"$f":"SUMPRODUCT((($CO$2:$CO$338=\"20\")*(BE$2:BE$338)*($CT$2:$CT$338=\"J\"))/SUMPRODUCT(($CO$2:$CO$338=\"20\")*(BE$2:BE$338>2)*($CT$2:$CT$338=\"J\")))","v":{"$error":"#DIV/0!"}},{"$f":"SUMPRODUCT((($CO$2:$CO$338=\"20\")*(BF$2:BF$338)*($CT$2:$CT$338=\"J\"))/SUMPRODUCT(($CO$2:$CO$338=\"20\")*(BF$2:BF$338>2)*($CT$2:$CT$338=\"J\")))","v":{"$error":"#DIV/0!"}},{"$f":"SUMPRODUCT((($CO$2:$CO$338=\"20\")*(BG$2:BG$338)*($CT$2:$CT$338=\"J\"))/SUMPRODUCT(($CO$2:$CO$338=\"20\")*(BG$2:BG$338>2)*($CT$2:$CT$338=\"J\")))","v":{"$error":"#DIV/0!"}},{"$f":"SUMPRODUCT((($CO$2:$CO$338=\"20\")*(BH$2:BH$338)*($CT$2:$CT$338=\"J\"))/SUMPRODUCT(($CO$2:$CO$338=\"20\")*(BH$2:BH$338>2)*($CT$2:$CT$338=\"J\")))","v":{"$error":"#DIV/0!"}},{"$f":"SUMPRODUCT((($CO$2:$CO$338=\"20\")*(BI$2:BI$338)*($CT$2:$CT$338=\"J\"))/SUMPRODUCT(($CO$2:$CO$338=\"20\")*(BI$2:BI$338>2)*($CT$2:$CT$338=\"J\")))","v":{"$error":"#DIV/0!"}},{"$f":"SUMPRODUCT((($CO$2:$CO$338=\"20\")*(BJ$2:BJ$338)*($CT$2:$CT$338=\"J\"))/SUMPRODUCT(($CO$2:$CO$338=\"20\")*(BJ$2:BJ$338>2)*($CT$2:$CT$338=\"J\")))","v":{"$error":"#DIV/0!"}},{"$f":"SUMPRODUCT((($CO$2:$CO$338=\"20\")*(BK$2:BK$338)*($CT$2:$CT$338=\"J\"))/SUMPRODUCT(($CO$2:$CO$338=\"20\")*(BK$2:BK$338>2)*($CT$2:$CT$338=\"J\")))","v":{"$error":"#DIV/0!"}},{"$f":"SUMPRODUCT((($CO$2:$CO$338=\"20\")*(BL$2:BL$338)*($CT$2:$CT$338=\"J\"))/SUMPRODUCT(($CO$2:$CO$338=\"20\")*(BL$2:BL$338>2)*($CT$2:$CT$338=\"J\")))","v":{"$error":"#DIV/0!"}},{"$f":"SUMPRODUCT((($CO$2:$CO$338=\"20\")*(BM$2:BM$338)*($CT$2:$CT$338=\"J\"))/SUMPRODUCT(($CO$2:$CO$338=\"20\")*(BM$2:BM$338>2)*($CT$2:$CT$338=\"J\")))","v":{"$error":"#DIV/0!"}},{"$f":"SUMPRODUCT((($CO$2:$CO$338=\"20\")*(BN$2:BN$338)*($CT$2:$CT$338=\"J\"))/SUMPRODUCT(($CO$2:$CO$338=\"20\")*(BN$2:BN$338>2)*($CT$2:$CT$338=\"J\")))","v":{"$error":"#DIV/0!"}},{"$f":"SUMPRODUCT((($CO$2:$CO$338=\"20\")*(BO$2:BO$338)*($CT$2:$CT$338=\"J\"))/SUMPRODUCT(($CO$2:$CO$338=\"20\")*(BO$2:BO$338>2)*($CT$2:$CT$338=\"J\")))","v":{"$error":"#DIV/0!"}},{"$f":"SUMPRODUCT((($CO$2:$CO$338=\"20\")*(BP$2:BP$338)*($CT$2:$CT$338=\"J\"))/SUMPRODUCT(($CO$2:$CO$338=\"20\")*(BP$2:BP$338>2)*($CT$2:$CT$338=\"J\")))","v":{"$error":"#DIV/0!"}},{"$f":"SUMPRODUCT((($CO$2:$CO$338=\"20\")*(BQ$2:BQ$338)*($CT$2:$CT$338=\"J\"))/SUMPRODUCT(($CO$2:$CO$338=\"20\")*(BQ$2:BQ$338>2)*($CT$2:$CT$338=\"J\")))","v":{"$error":"#DIV/0!"}},{"$f":"SUMPRODUCT((($CO$2:$CO$338=\"20\")*(BR$2:BR$338)*($CT$2:$CT$338=\"J\"))/SUMPRODUCT(($CO$2:$CO$338=\"20\")*(BR$2:BR$338>2)*($CT$2:$CT$338=\"J\")))","v":{"$error":"#DIV/0!"}},{"$f":"SUMPRODUCT((($CO$2:$CO$338=\"20\")*(BS$2:BS$338)*($CT$2:$CT$338=\"J\"))/SUMPRODUCT(($CO$2:$CO$338=\"20\")*(BS$2:BS$338>2)*($CT$2:$CT$338=\"J\")))","v":{"$error":"#DIV/0!"}},{"$f":"SUMPRODUCT((($CO$2:$CO$338=\"20\")*(BT$2:BT$338)*($CT$2:$CT$338=\"J\"))/SUMPRODUCT(($CO$2:$CO$338=\"20\")*(BT$2:BT$338>2)*($CT$2:$CT$338=\"J\")))","v":{"$error":"#DIV/0!"}},{"$f":"SUMPRODUCT((($CO$2:$CO$338=\"20\")*(BU$2:BU$338)*($CT$2:$CT$338=\"J\"))/SUMPRODUCT(($CO$2:$CO$338=\"20\")*(BU$2:BU$338>2)*($CT$2:$CT$338=\"J\")))","v":{"$error":"#DIV/0!"}},{"$f":"SUMPRODUCT((($CO$2:$CO$338=\"20\")*(BV$2:BV$338)*($CT$2:$CT$338=\"J\"))/SUMPRODUCT(($CO$2:$CO$338=\"20\")*(BV$2:BV$338>2)*($CT$2:$CT$338=\"J\")))","v":{"$error":"#DIV/0!"}},{"$f":"SUMPRODUCT((($CO$2:$CO$338=\"20\")*(BW$2:BW$338)*($CT$2:$CT$338=\"J\"))/SUMPRODUCT(($CO$2:$CO$338=\"20\")*(BW$2:BW$338>2)*($CT$2:$CT$338=\"J\")))","v":{"$error":"#DIV/0!"}},{"$error":"#DIV/0!"},{"$error":"#DIV/0!"},{"$error":"#DIV/0!"},{"$error":"#DIV/0!"},{"$error":"#DIV/0!"},{"$error":"#DIV/0!"},{"$error":"#DIV/0!"},{"$error":"#DIV/0!"},{"$error":"#DIV/0!"},{"$error":"#DIV/0!"},{"$error":"#DIV/0!"},{"$error":"#DIV/0!"},null,null,null,null,null,null,null,null,null,70,"20j",null,{"$f":"SUMPRODUCT(((#REF!>2)*($CO$2:$CO$339=\"20\")*(#REF!)*($CT$2:$CT$339=\"J\"))/SUMPRODUCT((#REF!>2)*($CO$2:$CO$339=\"20\")*(#REF!>2)*($CT$2:$CT$339=\"J\")))","v":{"$error":"#REF!"}}]
[null,null,null,null,null,null,null,null,null,"20v",{"$f":"SUMPRODUCT((($CO$2:$CO$338=\"20\")*(K$2:K$338)*($CT$2:$CT$338=\"V\"))/SUMPRODUCT(($CO$2:$CO$338=\"20\")*(K$2:K$338>2)*($CT$2:$CT$338=\"V\")))","v":{"$error":"#DIV/0!"}},{"$f":"SUMPRODUCT((($CO$2:$CO$338=\"20\")*(L$2:L$338)*($CT$2:$CT$338=\"V\"))/SUMPRODUCT(($CO$2:$CO$338=\"20\")*(L$2:L$338>2)*($CT$2:$CT$338=\"V\")))","v":{"$error":"#DIV/0!"}},{"$f":"SUMPRODUCT((($CO$2:$CO$338=\"20\")*(M$2:M$338)*($CT$2:$CT$338=\"V\"))/SUMPRODUCT(($CO$2:$CO$338=\"20\")*(M$2:M$338>2)*($CT$2:$CT$338=\"V\")))","v":{"$error":"#DIV/0!"}},{"$f":"SUMPRODUCT((($CO$2:$CO$338=\"20\")*(N$2:N$338)*($CT$2:$CT$338=\"V\"))/SUMPRODUCT(($CO$2:$CO$338=\"20\")*(N$2:N$338>2)*($CT$2:$CT$338=\"V\")))","v":{"$error":"#DIV/0!"}},{"$f":"SUMPRODUCT((($CO$2:$CO$338=\"20\")*(O$2:O$338)*($CT$2:$CT$338=\"V\"))/SUMPRODUCT(($CO$2:$CO$338=\"20\")*(O$2:O$338>2)*($CT$2:$CT$338=\"V\")))","v":{"$error":"#DIV/0!"}},{"$f":"SUMPRODUCT((($CO$2:$CO$338=\"20\")*(P$2:P$338)*($CT$2:$CT$338=\"V\"))/SUMPRODUCT(($CO$2:$CO$338=\"20\")*(P$2:P$338>2)*($CT$2:$CT$338=\"V\")))","v":{"$error":"#DIV/0!"}},{"$f":"SUMPRODUCT((($CO$2:$CO$338=\"20\")*(Q$2:Q$338)*($CT$2:$CT$338=\"V\"))/SUMPRODUCT(($CO$2:$CO$338=\"20\")*(Q$2:Q$338>2)*($CT$2:$CT$338=\"V\")))","v":{"$error":"#DIV/0!"}},{"$f":"SUMPRODUCT((($CO$2:$CO$338=\"20\")*(R$2:R$338)*($CT$2:$CT$338=\"V\"))/SUMPRODUCT(($CO$2:$CO$338=\"20\")*(R$2:R$338>2)*($CT$2:$CT$338=\"V\")))","v":{"$error":"#DIV/0!"}},{"$f":"SUMPRODUCT((($CO$2:$CO$338=\"20\")*(S$2:S$338)*($CT$2:$CT$338=\"V\"))/SUMPRODUCT(($CO$2:$CO$338=\"20\")*(S$2:S$338>2)*($CT$2:$CT$338=\"V\")))","v":{"$error":"#DIV/0!"}},{"$f":"SUMPRODUCT((($CO$2:$CO$338=\"20\")*(T$2:T$338)*($CT$2:$CT$338=\"V\"))/SUMPRODUCT(($CO$2:$CO$338=\"20\")*(T$2:T$338>2)*($CT$2:$CT$338=\"V\")))","v":{"$error":"#DIV/0!"}},{"$f":"SUMPRODUCT((($CO$2:$CO$338=\"20\")*(U$2:U$338)*($CT$2:$CT$338=\"V\"))/SUMPRODUCT(($CO$2:$CO$338=\"20\")*(U$2:U$338>2)*($CT$2:$CT$338=\"V\")))","v":{"$error":"#DIV/0!"}},{"$f":"SUMPRODUCT((($CO$2:$CO$338=\"20\")*(V$2:V$338)*($CT$2:$CT$338=\"V\"))/SUMPRODUCT(($CO$2:$CO$338=\"20\")*(V$2:V$338>2)*($CT$2:$CT$338=\"V\")))","v":{"$error":"#DIV/0!"}},{"$f":"SUMPRODUCT((($CO$2:$CO$338=\"20\")*(W$2:W$338)*($CT$2:$CT$338=\"V\"))/SUMPRODUCT(($CO$2:$CO$338=\"20\")*(W$2:W$338>2)*($CT$2:$CT$338=\"V\")))","v":{"$error":"#DIV/0!"}},{"$f":"SUMPRODUCT((($CO$2:$CO$338=\"20\")*(X$2:X$338)*($CT$2:$CT$338=\"V\"))/SUMPRODUCT(($CO$2:$CO$338=\"20\")*(X$2:X$338>2)*($CT$2:$CT$338=\"V\")))","v":{"$error":"#DIV/0!"}},{"$f":"SUMPRODUCT((($CO$2:$CO$338=\"20\")*(Y$2:Y$338)*($CT$2:$CT$338=\"V\"))/SUMPRODUCT(($CO$2:$CO$338=\"20\")*(Y$2:Y$338>2)*($CT$2:$CT$338=\"V\")))","v":{"$error":"#DIV/0!"}},{"$f":"SUMPRODUCT((($CO$2:$CO$338=\"20\")*(Z$2:Z$338)*($CT$2:$CT$338=\"V\"))/SUMPRODUCT(($CO$2:$CO$338=\"20\")*(Z$2:Z$338>2)*($CT$2:$CT$338=\"V\")))","v":{"$error":"#DIV/0!"}},{"$f":"SUMPRODUCT((($CO$2:$CO$338=\"20\")*(AA$2:AA$338)*($CT$2:$CT$338=\"V\"))/SUMPRODUCT(($CO$2:$CO$338=\"20\")*(AA$2:AA$338>2)*($CT$2:$CT$338=\"V\")))","v":{"$error":"#DIV/0!"}},{"$f":"SUMPRODUCT((($CO$2:$CO$338=\"20\")*(AB$2:AB$338)*($CT$2:$CT$338=\"V\"))/SUMPRODUCT(($CO$2:$CO$338=\"20\")*(AB$2:AB$338>2)*($CT$2:$CT$338=\"V\")))","v":{"$error":"#DIV/0!"}},{"$f":"SUMPRODUCT((($CO$2:$CO$338=\"20\")*(AC$2:AC$338)*($CT$2:$CT$338=\"V\"))/SUMPRODUCT(($CO$2:$CO$338=\"20\")*(AC$2:AC$338>2)*($CT$2:$CT$338=\"V\")))","v":{"$error":"#DIV/0!"}},{"$f":"SUMPRODUCT((($CO$2:$CO$338=\"20\")*(AD$2:AD$338)*($CT$2:$CT$338=\"V\"))/SUMPRODUCT(($CO$2:$CO$338=\"20\")*(AD$2:AD$338>2)*($CT$2:$CT$338=\"V\")))","v":{"$error":"#DIV/0!"}},{"$f":"SUMPRODUCT((($CO$2:$CO$338=\"20\")*(AE$2:AE$338)*($CT$2:$CT$338=\"V\"))/SUMPRODUCT(($CO$2:$CO$338=\"20\")*(AE$2:AE$338>2)*($CT$2:$CT$338=\"V\")))","v":{"$error":"#DIV/0!"}},{"$f":"SUMPRODUCT((($CO$2:$CO$338=\"20\")*(AF$2:AF$338)*($CT$2:$CT$338=\"V\"))/SUMPRODUCT(($CO$2:$CO$338=\"20\")*(AF$2:AF$338>2)*($CT$2:$CT$338=\"V\")))","v":{"$error":"#DIV/0!"}},{"$f":"SUMPRODUCT((($CO$2:$CO$338=\"20\")*(AG$2:AG$338)*($CT$2:$CT$338=\"V\"))/SUMPRODUCT(($CO$2:$CO$338=\"20\")*(AG$2:AG$338>2)*($CT$2:$CT$338=\"V\")))","v":{"$error":"#DIV/0!"}},{"$f":"SUMPRODUCT((($CO$2:$CO$338=\"20\")*(AH$2:AH$338)*($CT$2:$CT$338=\"V\"))/SUMPRODUCT(($CO$2:$CO$338=\"20\")*(AH$2:AH$338>2)*($CT$2:$CT$338=\"V\")))","v":{"$error":"#DIV/0!"}},{"$f":"SUMPRODUCT((($CO$2:$CO$338=\"20\")*(AI$2:AI$338)*($CT$2:$CT$338=\"V\"))/SUMPRODUCT(($CO$2:$CO$338=\"20\")*(AI$2:AI$338>2)*($CT$2:$CT$338=\"V\")))","v":{"$error":"#DIV/0!"}},{"$f":"SUMPRODUCT((($CO$2:$CO$338=\"20\")*(AJ$2:AJ$338)*($CT$2:$CT$338=\"V\"))/SUMPRODUCT(($CO$2:$CO$338=\"20\")*(AJ$2:AJ$338>2)*($CT$2:$CT$338=\"V\")))","v":{"$error":"#DIV/0!"}},{"$f":"SUMPRODUCT((($CO$2:$CO$338=\"20\")*(AK$2:AK$338)*($CT$2:$CT$338=\"V\"))/SUMPRODUCT(($CO$2:$CO$338=\"20\")*(AK$2:AK$338>2)*($CT$2:$CT$338=\"V\")))","v":{"$error":"#DIV/0!"}},{"$f":"SUMPRODUCT((($CO$2:$CO$338=\"20\")*(AL$2:AL$338)*($CT$2:$CT$338=\"V\"))/SUMPRODUCT(($CO$2:$CO$338=\"20\")*(AL$2:AL$338>2)*($CT$2:$CT$338=\"V\")))","v":{"$error":"#DIV/0!"}},{"$f":"SUMPRODUCT((($CO$2:$CO$338=\"20\")*(AM$2:AM$338)*($CT$2:$CT$338=\"V\"))/SUMPRODUCT(($CO$2:$CO$338=\"20\")*(AM$2:AM$338>2)*($CT$2:$CT$338=\"V\")))","v":{"$error":"#DIV/0!"}},{"$f":"SUMPRODUCT((($CO$2:$CO$338=\"20\")*(AN$2:AN$338)*($CT$2:$CT$338=\"V\"))/SUMPRODUCT(($CO$2:$CO$338=\"20\")*(AN$2:AN$338>2)*($CT$2:$CT$338=\"V\")))","v":{"$error":"#DIV/0!"}},{"$f":"SUMPRODUCT((($CO$2:$CO$338=\"20\")*(AO$2:AO$338)*($CT$2:$CT$338=\"V\"))/SUMPRODUCT(($CO$2:$CO$338=\"20\")*(AO$2:AO$338>2)*($CT$2:$CT$338=\"V\")))","v":{"$error":"#DIV/0!"}},{"$f":"SUMPRODUCT((($CO$2:$CO$338=\"20\")*(AP$2:AP$338)*($CT$2:$CT$338=\"V\"))/SUMPRODUCT(($CO$2:$CO$338=\"20\")*(AP$2:AP$338>2)*($CT$2:$CT$338=\"V\")))","v":{"$error":"#DIV/0!"}},{"$f":"SUMPRODUCT((($CO$2:$CO$338=\"20\")*(AQ$2:AQ$338)*($CT$2:$CT$338=\"V\"))/SUMPRODUCT(($CO$2:$CO$338=\"20\")*(AQ$2:AQ$338>2)*($CT$2:$CT$338=\"V\")))","v":{"$error":"#DIV/0!"}},{"$f":"SUMPRODUCT((($CO$2:$CO$338=\"20\")*(AR$2:AR$338)*($CT$2:$CT$338=\"V\"))/SUMPRODUCT(($CO$2:$CO$338=\"20\")*(AR$2:AR$338>2)*($CT$2:$CT$338=\"V\")))","v":{"$error":"#DIV/0!"}},{"$f":"SUMPRODUCT((($CO$2:$CO$338=\"20\")*(AS$2:AS$338)*($CT$2:$CT$338=\"V\"))/SUMPRODUCT(($CO$2:$CO$338=\"20\")*(AS$2:AS$338>2)*($CT$2:$CT$338=\"V\")))","v":{"$error":"#DIV/0!"}},{"$f":"SUMPRODUCT((($CO$2:$CO$338=\"20\")*(AT$2:AT$338)*($CT$2:$CT$338=\"V\"))/SUMPRODUCT(($CO$2:$CO$338=\"20\")*(AT$2:AT$338>2)*($CT$2:$CT$338=\"V\")))","v":{"$error":"#DIV/0!"}},{"$f":"SUMPRODUCT((($CO$2:$CO$338=\"20\")*(AU$2:AU$338)*($CT$2:$CT$338=\"V\"))/SUMPRODUCT(($CO$2:$CO$338=\"20\")*(AU$2:AU$338>2)*($CT$2:$CT$338=\"V\")))","v":{"$error":"#DIV/0!"}},{"$f":"SUMPRODUCT((($CO$2:$CO$338=\"20\")*(AV$2:AV$338)*($CT$2:$CT$338=\"V\"))/SUMPRODUCT(($CO$2:$CO$338=\"20\")*(AV$2:AV$338>2)*($CT$2:$CT$338=\"V\")))","v":{"$error":"#DIV/0!"}},{"$f":"SUMPRODUCT((($CO$2:$CO$338=\"20\")*(AW$2:AW$338)*($CT$2:$CT$338=\"V\"))/SUMPRODUCT(($CO$2:$CO$338=\"20\")*(AW$2:AW$338>2)*($CT$2:$CT$338=\"V\")))","v":{"$error":"#DIV/0!"}},{"$f":"SUMPRODUCT((($CO$2:$CO$338=\"20\")*(AX$2:AX$338)*($CT$2:$CT$338=\"V\"))/SUMPRODUCT(($CO$2:$CO$338=\"20\")*(AX$2:AX$338>2)*($CT$2:$CT$338=\"V\")))","v":{"$error":"#DIV/0!"}},{"$f":"SUMPRODUCT((($CO$2:$CO$338=\"20\")*(AY$2:AY$338)*($CT$2:$CT$338=\"V\"))/SUMPRODUCT(($CO$2:$CO$338=\"20\")*(AY$2:AY$338>2)*($CT$2:$CT$338=\"V\")))","v":{"$error":"#DIV/0!"}},{"$f":"SUMPRODUCT((($CO$2:$CO$338=\"20\")*(AZ$2:AZ$338)*($CT$2:$CT$338=\"V\"))/SUMPRODUCT(($CO$2:$CO$338=\"20\")*(AZ$2:AZ$338>2)*($CT$2:$CT$338=\"V\")))","v":{"$error":"#DIV/0!"}},{"$f":"SUMPRODUCT((($CO$2:$CO$338=\"20\")*(BA$2:BA$338)*($CT$2:$CT$338=\"V\"))/SUMPRODUCT(($CO$2:$CO$338=\"20\")*(BA$2:BA$338>2)*($CT$2:$CT$338=\"V\")))","v":{"$error":"#DIV/0!"}},{"$f":"SUMPRODUCT((($CO$2:$CO$338=\"20\")*(BB$2:BB$338)*($CT$2:$CT$338=\"V\"))/SUMPRODUCT(($CO$2:$CO$338=\"20\")*(BB$2:BB$338>2)*($CT$2:$CT$338=\"V\")))","v":{"$error":"#DIV/0!"}},{"$f":"SUMPRODUCT((($CO$2:$CO$338=\"20\")*(BC$2:BC$338)*($CT$2:$CT$338=\"V\"))/SUMPRODUCT(($CO$2:$CO$338=\"20\")*(BC$2:BC$338>2)*($CT$2:$CT$338=\"V\")))","v":{"$error":"#DIV/0!"}},{"$f":"SUMPRODUCT((($CO$2:$CO$338=\"20\")*(BD$2:BD$338)*($CT$2:$CT$338=\"V\"))/SUMPRODUCT(($CO$2:$CO$338=\"20\")*(BD$2:BD$338>2)*($CT$2:$CT$338=\"V\")))","v":{"$error":"#DIV/0!"}},{"$f":"SUMPRODUCT((($CO$2:$CO$338=\"20\")*(BE$2:BE$338)*($CT$2:$CT$338=\"V\"))/SUMPRODUCT(($CO$2:$CO$338=\"20\")*(BE$2:BE$338>2)*($CT$2:$CT$338=\"V\")))","v":{"$error":"#DIV/0!"}},{"$f":"SUMPRODUCT((($CO$2:$CO$338=\"20\")*(BF$2:BF$338)*($CT$2:$CT$338=\"V\"))/SUMPRODUCT(($CO$2:$CO$338=\"20\")*(BF$2:BF$338>2)*($CT$2:$CT$338=\"V\")))","v":{"$error":"#DIV/0!"}},{"$f":"SUMPRODUCT((($CO$2:$CO$338=\"20\")*(BG$2:BG$338)*($CT$2:$CT$338=\"V\"))/SUMPRODUCT(($CO$2:$CO$338=\"20\")*(BG$2:BG$338>2)*($CT$2:$CT$338=\"V\")))","v":{"$error":"#DIV/0!"}},{"$f":"SUMPRODUCT((($CO$2:$CO$338=\"20\")*(BH$2:BH$338)*($CT$2:$CT$338=\"V\"))/SUMPRODUCT(($CO$2:$CO$338=\"20\")*(BH$2:BH$338>2)*($CT$2:$CT$338=\"V\")))","v":{"$error":"#DIV/0!"}},{"$f":"SUMPRODUCT((($CO$2:$CO$338=\"20\")*(BI$2:BI$338)*($CT$2:$CT$338=\"V\"))/SUMPRODUCT(($CO$2:$CO$338=\"20\")*(BI$2:BI$338>2)*($CT$2:$CT$338=\"V\")))","v":{"$error":"#DIV/0!"}},{"$f":"SUMPRODUCT((($CO$2:$CO$338=\"20\")*(BJ$2:BJ$338)*($CT$2:$CT$338=\"V\"))/SUMPRODUCT(($CO$2:$CO$338=\"20\")*(BJ$2:BJ$338>2)*($CT$2:$CT$338=\"V\")))","v":{"$error":"#DIV/0!"}},{"$f":"SUMPRODUCT((($CO$2:$CO$338=\"20\")*(BK$2:BK$338)*($CT$2:$CT$338=\"V\"))/SUMPRODUCT(($CO$2:$CO$338=\"20\")*(BK$2:BK$338>2)*($CT$2:$CT$338=\"V\")))","v":{"$error":"#DIV/0!"}},{"$f":"SUMPRODUCT((($CO$2:$CO$338=\"20\")*(BL$2:BL$338)*($CT$2:$CT$338=\"V\"))/SUMPRODUCT(($CO$2:$CO$338=\"20\")*(BL$2:BL$338>2)*($CT$2:$CT$338=\"V\")))","v":{"$error":"#DIV/0!"}},{"$f":"SUMPRODUCT((($CO$2:$CO$338=\"20\")*(BM$2:BM$338)*($CT$2:$CT$338=\"V\"))/SUMPRODUCT(($CO$2:$CO$338=\"20\")*(BM$2:BM$338>2)*($CT$2:$CT$338=\"V\")))","v":{"$error":"#DIV/0!"}},{"$f":"SUMPRODUCT((($CO$2:$CO$338=\"20\")*(BN$2:BN$338)*($CT$2:$CT$338=\"V\"))/SUMPRODUCT(($CO$2:$CO$338=\"20\")*(BN$2:BN$338>2)*($CT$2:$CT$338=\"V\")))","v":{"$error":"#DIV/0!"}},{"$f":"SUMPRODUCT((($CO$2:$CO$338=\"20\")*(BO$2:BO$338)*($CT$2:$CT$338=\"V\"))/SUMPRODUCT(($CO$2:$CO$338=\"20\")*(BO$2:BO$338>2)*($CT$2:$CT$338=\"V\")))","v":{"$error":"#DIV/0!"}},{"$f":"SUMPRODUCT((($CO$2:$CO$338=\"20\")*(BP$2:BP$338)*($CT$2:$CT$338=\"V\"))/SUMPRODUCT(($CO$2:$CO$338=\"20\")*(BP$2:BP$338>2)*($CT$2:$CT$338=\"V\")))","v":{"$error":"#DIV/0!"}},{"$f":"SUMPRODUCT((($CO$2:$CO$338=\"20\")*(BQ$2:BQ$338)*($CT$2:$CT$338=\"V\"))/SUMPRODUCT(($CO$2:$CO$338=\"20\")*(BQ$2:BQ$338>2)*($CT$2:$CT$338=\"V\")))","v":{"$error":"#DIV/0!"}},{"$f":"SUMPRODUCT((($CO$2:$CO$338=\"20\")*(BR$2:BR$338)*($CT$2:$CT$338=\"V\"))/SUMPRODUCT(($CO$2:$CO$338=\"20\")*(BR$2:BR$338>2)*($CT$2:$CT$338=\"V\")))","v":{"$error":"#DIV/0!"}},{"$f":"SUMPRODUCT((($CO$2:$CO$338=\"20\")*(BS$2:BS$338)*($CT$2:$CT$338=\"V\"))/SUMPRODUCT(($CO$2:$CO$338=\"20\")*(BS$2:BS$338>2)*($CT$2:$CT$338=\"V\")))","v":{"$error":"#DIV/0!"}},{"$f":"SUMPRODUCT((($CO$2:$CO$338=\"20\")*(BT$2:BT$338)*($CT$2:$CT$338=\"V\"))/SUMPRODUCT(($CO$2:$CO$338=\"20\")*(BT$2:BT$338>2)*($CT$2:$CT$338=\"V\")))","v":{"$error":"#DIV/0!"}},{"$f":"SUMPRODUCT((($CO$2:$CO$338=\"20\")*(BU$2:BU$338)*($CT$2:$CT$338=\"V\"))/SUMPRODUCT(($CO$2:$CO$338=\"20\")*(BU$2:BU$338>2)*($CT$2:$CT$338=\"V\")))","v":{"$error":"#DIV/0!"}},{"$f":"SUMPRODUCT((($CO$2:$CO$338=\"20\")*(BV$2:BV$338)*($CT$2:$CT$338=\"V\"))/SUMPRODUCT(($CO$2:$CO$338=\"20\")*(BV$2:BV$338>2)*($CT$2:$CT$338=\"V\")))","v":{"$error":"#DIV/0!"}},{"$f":"SUMPRODUCT((($CO$2:$CO$338=\"20\")*(BW$2:BW$338)*($CT$2:$CT$338=\"V\"))/SUMPRODUCT(($CO$2:$CO$338=\"20\")*(BW$2:BW$338>2)*($CT$2:$CT$338=\"V\")))","v":{"$error":"#DIV/0!"}},{"$error":"#DIV/0!"},{"$error":"#DIV/0!"},{"$error":"#DIV/0!"},{"$error":"#DIV/0!"},{"$error":"#DIV/0!"},{"$error":"#DIV/0!"},{"$error":"#DIV/0!"},{"$error":"#DIV/0!"},{"$error":"#DIV/0!"},{"$error":"#DIV/0!"},{"$error":"#DIV/0!"},{"$error":"#DIV/0!"},null,null,null,null,null,null,null,null,null,71,"20v",null,{"$f":"SUMPRODUCT(((#REF!>2)*($CO$2:$CO$339=\"20\")*(#REF!)*($CT$2:$CT$339=\"V\"))/SUMPRODUCT((#REF!>2)*($CO$2:$CO$339=\"20\")*(#REF!>2)*($CT$2:$CT$339=\"V\")))","v":{"$error":"#REF!"}}]
[null,null,null,null,null,null,null,null,null,"20vsdoub",{"$f":"SUMPRODUCT((($CO$2:$CO$338=\"20\")*(K$2:K$338)*($CT$2:$CT$338=\"V\")*($F$2:$F$338=0))/SUMPRODUCT(($CO$2:$CO$338=\"20\")*(K$2:K$338>2)*($CT$2:$CT$338=\"V\")*($F$2:$F$338=0)))","v":{"$error":"#DIV/0!"}},{"$f":"SUMPRODUCT((($CO$2:$CO$338=\"20\")*(L$2:L$338)*($CT$2:$CT$338=\"V\")*($F$2:$F$338=0))/SUMPRODUCT(($CO$2:$CO$338=\"20\")*(L$2:L$338>2)*($CT$2:$CT$338=\"V\")*($F$2:$F$338=0)))","v":{"$error":"#DIV/0!"}},{"$f":"SUMPRODUCT((($CO$2:$CO$338=\"20\")*(M$2:M$338)*($CT$2:$CT$338=\"V\")*($F$2:$F$338=0))/SUMPRODUCT(($CO$2:$CO$338=\"20\")*(M$2:M$338>2)*($CT$2:$CT$338=\"V\")*($F$2:$F$338=0)))","v":{"$error":"#DIV/0!"}},{"$f":"SUMPRODUCT((($CO$2:$CO$338=\"20\")*(N$2:N$338)*($CT$2:$CT$338=\"V\")*($F$2:$F$338=0))/SUMPRODUCT(($CO$2:$CO$338=\"20\")*(N$2:N$338>2)*($CT$2:$CT$338=\"V\")*($F$2:$F$338=0)))","v":{"$error":"#DIV/0!"}},{"$f":"SUMPRODUCT((($CO$2:$CO$338=\"20\")*(O$2:O$338)*($CT$2:$CT$338=\"V\")*($F$2:$F$338=0))/SUMPRODUCT(($CO$2:$CO$338=\"20\")*(O$2:O$338>2)*($CT$2:$CT$338=\"V\")*($F$2:$F$338=0)))","v":{"$error":"#DIV/0!"}},{"$f":"SUMPRODUCT((($CO$2:$CO$338=\"20\")*(P$2:P$338)*($CT$2:$CT$338=\"V\")*($F$2:$F$338=0))/SUMPRODUCT(($CO$2:$CO$338=\"20\")*(P$2:P$338>2)*($CT$2:$CT$338=\"V\")*($F$2:$F$338=0)))","v":{"$error":"#DIV/0!"}},{"$f":"SUMPRODUCT((($CO$2:$CO$338=\"20\")*(Q$2:Q$338)*($CT$2:$CT$338=\"V\")*($F$2:$F$338=0))/SUMPRODUCT(($CO$2:$CO$338=\"20\")*(Q$2:Q$338>2)*($CT$2:$CT$338=\"V\")*($F$2:$F$338=0)))","v":{"$error":"#DIV/0!"}},{"$f":"SUMPRODUCT((($CO$2:$CO$338=\"20\")*(R$2:R$338)*($CT$2:$CT$338=\"V\")*($F$2:$F$338=0))/SUMPRODUCT(($CO$2:$CO$338=\"20\")*(R$2:R$338>2)*($CT$2:$CT$338=\"V\")*($F$2:$F$338=0)))","v":{"$error":"#DIV/0!"}},{"$f":"SUMPRODUCT((($CO$2:$CO$338=\"20\")*(S$2:S$338)*($CT$2:$CT$338=\"V\")*($F$2:$F$338=0))/SUMPRODUCT(($CO$2:$CO$338=\"20\")*(S$2:S$338>2)*($CT$2:$CT$338=\"V\")*($F$2:$F$338=0)))","v":{"$error":"#DIV/0!"}},{"$f":"SUMPRODUCT((($CO$2:$CO$338=\"20\")*(T$2:T$338)*($CT$2:$CT$338=\"V\")*($F$2:$F$338=0))/SUMPRODUCT(($CO$2:$CO$338=\"20\")*(T$2:T$338>2)*($CT$2:$CT$338=\"V\")*($F$2:$F$338=0)))","v":{"$error":"#DIV/0!"}},{"$f":"SUMPRODUCT((($CO$2:$CO$338=\"20\")*(U$2:U$338)*($CT$2:$CT$338=\"V\")*($F$2:$F$338=0))/SUMPRODUCT(($CO$2:$CO$338=\"20\")*(U$2:U$338>2)*($CT$2:$CT$338=\"V\")*($F$2:$F$338=0)))","v":{"$error":"#DIV/0!"}},{"$f":"SUMPRODUCT((($CO$2:$CO$338=\"20\")*(V$2:V$338)*($CT$2:$CT$338=\"V\")*($F$2:$F$338=0))/SUMPRODUCT(($CO$2:$CO$338=\"20\")*(V$2:V$338>2)*($CT$2:$CT$338=\"V\")*($F$2:$F$338=0)))","v":{"$error":"#DIV/0!"}},{"$f":"SUMPRODUCT((($CO$2:$CO$338=\"20\")*(W$2:W$338)*($CT$2:$CT$338=\"V\")*($F$2:$F$338=0))/SUMPRODUCT(($CO$2:$CO$338=\"20\")*(W$2:W$338>2)*($CT$2:$CT$338=\"V\")*($F$2:$F$338=0)))","v":{"$error":"#DIV/0!"}},{"$f":"SUMPRODUCT((($CO$2:$CO$338=\"20\")*(X$2:X$338)*($CT$2:$CT$338=\"V\")*($F$2:$F$338=0))/SUMPRODUCT(($CO$2:$CO$338=\"20\")*(X$2:X$338>2)*($CT$2:$CT$338=\"V\")*($F$2:$F$338=0)))","v":{"$error":"#DIV/0!"}},{"$f":"SUMPRODUCT((($CO$2:$CO$338=\"20\")*(Y$2:Y$338)*($CT$2:$CT$338=\"V\")*($F$2:$F$338=0))/SUMPRODUCT(($CO$2:$CO$338=\"20\")*(Y$2:Y$338>2)*($CT$2:$CT$338=\"V\")*($F$2:$F$338=0)))","v":{"$error":"#DIV/0!"}},{"$f":"SUMPRODUCT((($CO$2:$CO$338=\"20\")*(Z$2:Z$338)*($CT$2:$CT$338=\"V\")*($F$2:$F$338=0))/SUMPRODUCT(($CO$2:$CO$338=\"20\")*(Z$2:Z$338>2)*($CT$2:$CT$338=\"V\")*($F$2:$F$338=0)))","v":{"$error":"#DIV/0!"}},{"$f":"SUMPRODUCT((($CO$2:$CO$338=\"20\")*(AA$2:AA$338)*($CT$2:$CT$338=\"V\")*($F$2:$F$338=0))/SUMPRODUCT(($CO$2:$CO$338=\"20\")*(AA$2:AA$338>2)*($CT$2:$CT$338=\"V\")*($F$2:$F$338=0)))","v":{"$error":"#DIV/0!"}},{"$f":"SUMPRODUCT((($CO$2:$CO$338=\"20\")*(AB$2:AB$338)*($CT$2:$CT$338=\"V\")*($F$2:$F$338=0))/SUMPRODUCT(($CO$2:$CO$338=\"20\")*(AB$2:AB$338>2)*($CT$2:$CT$338=\"V\")*($F$2:$F$338=0)))","v":{"$error":"#DIV/0!"}},{"$f":"SUMPRODUCT((($CO$2:$CO$338=\"20\")*(AC$2:AC$338)*($CT$2:$CT$338=\"V\")*($F$2:$F$338=0))/SUMPRODUCT(($CO$2:$CO$338=\"20\")*(AC$2:AC$338>2)*($CT$2:$CT$338=\"V\")*($F$2:$F$338=0)))","v":{"$error":"#DIV/0!"}},{"$f":"SUMPRODUCT((($CO$2:$CO$338=\"20\")*(AD$2:AD$338)*($CT$2:$CT$338=\"V\")*($F$2:$F$338=0))/SUMPRODUCT(($CO$2:$CO$338=\"20\")*(AD$2:AD$338>2)*($CT$2:$CT$338=\"V\")*($F$2:$F$338=0)))","v":{"$error":"#DIV/0!"}},{"$f":"SUMPRODUCT((($CO$2:$CO$338=\"20\")*(AE$2:AE$338)*($CT$2:$CT$338=\"V\")*($F$2:$F$338=0))/SUMPRODUCT(($CO$2:$CO$338=\"20\")*(AE$2:AE$338>2)*($CT$2:$CT$338=\"V\")*($F$2:$F$338=0)))","v":{"$error":"#DIV/0!"}},{"$f":"SUMPRODUCT((($CO$2:$CO$338=\"20\")*(AF$2:AF$338)*($CT$2:$CT$338=\"V\")*($F$2:$F$338=0))/SUMPRODUCT(($CO$2:$CO$338=\"20\")*(AF$2:AF$338>2)*($CT$2:$CT$338=\"V\")*($F$2:$F$338=0)))","v":{"$error":"#DIV/0!"}},{"$f":"SUMPRODUCT((($CO$2:$CO$338=\"20\")*(AG$2:AG$338)*($CT$2:$CT$338=\"V\")*($F$2:$F$338=0))/SUMPRODUCT(($CO$2:$CO$338=\"20\")*(AG$2:AG$338>2)*($CT$2:$CT$338=\"V\")*($F$2:$F$338=0)))","v":{"$error":"#DIV/0!"}},{"$f":"SUMPRODUCT((($CO$2:$CO$338=\"20\")*(AH$2:AH$338)*($CT$2:$CT$338=\"V\")*($F$2:$F$338=0))/SUMPRODUCT(($CO$2:$CO$338=\"20\")*(AH$2:AH$338>2)*($CT$2:$CT$338=\"V\")*($F$2:$F$338=0)))","v":{"$error":"#DIV/0!"}},{"$f":"SUMPRODUCT((($CO$2:$CO$338=\"20\")*(AI$2:AI$338)*($CT$2:$CT$338=\"V\")*($F$2:$F$338=0))/SUMPRODUCT(($CO$2:$CO$338=\"20\")*(AI$2:AI$338>2)*($CT$2:$CT$338=\"V\")*($F$2:$F$338=0)))","v":{"$error":"#DIV/0!"}},{"$f":"SUMPRODUCT((($CO$2:$CO$338=\"20\")*(AJ$2:AJ$338)*($CT$2:$CT$338=\"V\")*($F$2:$F$338=0))/SUMPRODUCT(($CO$2:$CO$338=\"20\")*(AJ$2:AJ$338>2)*($CT$2:$CT$338=\"V\")*($F$2:$F$338=0)))","v":{"$error":"#DIV/0!"}},{"$f":"SUMPRODUCT((($CO$2:$CO$338=\"20\")*(AK$2:AK$338)*($CT$2:$CT$338=\"V\")*($F$2:$F$338=0))/SUMPRODUCT(($CO$2:$CO$338=\"20\")*(AK$2:AK$338>2)*($CT$2:$CT$338=\"V\")*($F$2:$F$338=0)))","v":{"$error":"#DIV/0!"}},{"$f":"SUMPRODUCT((($CO$2:$CO$338=\"20\")*(AL$2:AL$338)*($CT$2:$CT$338=\"V\")*($F$2:$F$338=0))/SUMPRODUCT(($CO$2:$CO$338=\"20\")*(AL$2:AL$338>2)*($CT$2:$CT$338=\"V\")*($F$2:$F$338=0)))","v":{"$error":"#DIV/0!"}},{"$f":"SUMPRODUCT((($CO$2:$CO$338=\"20\")*(AM$2:AM$338)*($CT$2:$CT$338=\"V\")*($F$2:$F$338=0))/SUMPRODUCT(($CO$2:$CO$338=\"20\")*(AM$2:AM$338>2)*($CT$2:$CT$338=\"V\")*($F$2:$F$338=0)))","v":{"$error":"#DIV/0!"}},{"$f":"SUMPRODUCT((($CO$2:$CO$338=\"20\")*(AN$2:AN$338)*($CT$2:$CT$338=\"V\")*($F$2:$F$338=0))/SUMPRODUCT(($CO$2:$CO$338=\"20\")*(AN$2:AN$338>2)*($CT$2:$CT$338=\"V\")*($F$2:$F$338=0)))","v":{"$error":"#DIV/0!"}},{"$f":"SUMPRODUCT((($CO$2:$CO$338=\"20\")*(AO$2:AO$338)*($CT$2:$CT$338=\"V\")*($F$2:$F$338=0))/SUMPRODUCT(($CO$2:$CO$338=\"20\")*(AO$2:AO$338>2)*($CT$2:$CT$338=\"V\")*($F$2:$F$338=0)))","v":{"$error":"#DIV/0!"}},{"$f":"SUMPRODUCT((($CO$2:$CO$338=\"20\")*(AP$2:AP$338)*($CT$2:$CT$338=\"V\")*($F$2:$F$338=0))/SUMPRODUCT(($CO$2:$CO$338=\"20\")*(AP$2:AP$338>2)*($CT$2:$CT$338=\"V\")*($F$2:$F$338=0)))","v":{"$error":"#DIV/0!"}},{"$f":"SUMPRODUCT((($CO$2:$CO$338=\"20\")*(AQ$2:AQ$338)*($CT$2:$CT$338=\"V\")*($F$2:$F$338=0))/SUMPRODUCT(($CO$2:$CO$338=\"20\")*(AQ$2:AQ$338>2)*($CT$2:$CT$338=\"V\")*($F$2:$F$338=0)))","v":{"$error":"#DIV/0!"}},{"$f":"SUMPRODUCT((($CO$2:$CO$338=\"20\")*(AR$2:AR$338)*($CT$2:$CT$338=\"V\")*($F$2:$F$338=0))/SUMPRODUCT(($CO$2:$CO$338=\"20\")*(AR$2:AR$338>2)*($CT$2:$CT$338=\"V\")*($F$2:$F$338=0)))","v":{"$error":"#DIV/0!"}},{"$f":"SUMPRODUCT((($CO$2:$CO$338=\"20\")*(AS$2:AS$338)*($CT$2:$CT$338=\"V\")*($F$2:$F$338=0))/SUMPRODUCT(($CO$2:$CO$338=\"20\")*(AS$2:AS$338>2)*($CT$2:$CT$338=\"V\")*($F$2:$F$338=0)))","v":{"$error":"#DIV/0!"}},{"$f":"SUMPRODUCT((($CO$2:$CO$338=\"20\")*(AT$2:AT$338)*($CT$2:$CT$338=\"V\")*($F$2:$F$338=0))/SUMPRODUCT(($CO$2:$CO$338=\"20\")*(AT$2:AT$338>2)*($CT$2:$CT$338=\"V\")*($F$2:$F$338=0)))","v":{"$error":"#DIV/0!"}},{"$f":"SUMPRODUCT((($CO$2:$CO$338=\"20\")*(AU$2:AU$338)*($CT$2:$CT$338=\"V\")*($F$2:$F$338=0))/SUMPRODUCT(($CO$2:$CO$338=\"20\")*(AU$2:AU$338>2)*($CT$2:$CT$338=\"V\")*($F$2:$F$338=0)))","v":{"$error":"#DIV/0!"}},{"$f":"SUMPRODUCT((($CO$2:$CO$338=\"20\")*(AV$2:AV$338)*($CT$2:$CT$338=\"V\")*($F$2:$F$338=0))/SUMPRODUCT(($CO$2:$CO$338=\"20\")*(AV$2:AV$338>2)*($CT$2:$CT$338=\"V\")*($F$2:$F$338=0)))","v":{"$error":"#DIV/0!"}},{"$f":"SUMPRODUCT((($CO$2:$CO$338=\"20\")*(AW$2:AW$338)*($CT$2:$CT$338=\"V\")*($F$2:$F$338=0))/SUMPRODUCT(($CO$2:$CO$338=\"20\")*(AW$2:AW$338>2)*($CT$2:$CT$338=\"V\")*($F$2:$F$338=0)))","v":{"$error":"#DIV/0!"}},{"$f":"SUMPRODUCT((($CO$2:$CO$338=\"20\")*(AX$2:AX$338)*($CT$2:$CT$338=\"V\")*($F$2:$F$338=0))/SUMPRODUCT(($CO$2:$CO$338=\"20\")*(AX$2:AX$338>2)*($CT$2:$CT$338=\"V\")*($F$2:$F$338=0)))","v":{"$error":"#DIV/0!"}},{"$f":"SUMPRODUCT((($CO$2:$CO$338=\"20\")*(AY$2:AY$338)*($CT$2:$CT$338=\"V\")*($F$2:$F$338=0))/SUMPRODUCT(($CO$2:$CO$338=\"20\")*(AY$2:AY$338>2)*($CT$2:$CT$338=\"V\")*($F$2:$F$338=0)))","v":{"$error":"#DIV/0!"}},{"$f":"SUMPRODUCT((($CO$2:$CO$338=\"20\")*(AZ$2:AZ$338)*($CT$2:$CT$338=\"V\")*($F$2:$F$338=0))/SUMPRODUCT(($CO$2:$CO$338=\"20\")*(AZ$2:AZ$338>2)*($CT$2:$CT$338=\"V\")*($F$2:$F$338=0)))","v":{"$error":"#DIV/0!"}},{"$f":"SUMPRODUCT((($CO$2:$CO$338=\"20\")*(BA$2:BA$338)*($CT$2:$CT$338=\"V\")*($F$2:$F$338=0))/SUMPRODUCT(($CO$2:$CO$338=\"20\")*(BA$2:BA$338>2)*($CT$2:$CT$338=\"V\")*($F$2:$F$338=0)))","v":{"$error":"#DIV/0!"}},{"$f":"SUMPRODUCT((($CO$2:$CO$338=\"20\")*(BB$2:BB$338)*($CT$2:$CT$338=\"V\")*($F$2:$F$338=0))/SUMPRODUCT(($CO$2:$CO$338=\"20\")*(BB$2:BB$338>2)*($CT$2:$CT$338=\"V\")*($F$2:$F$338=0)))","v":{"$error":"#DIV/0!"}},{"$f":"SUMPRODUCT((($CO$2:$CO$338=\"20\")*(BC$2:BC$338)*($CT$2:$CT$338=\"V\")*($F$2:$F$338=0))/SUMPRODUCT(($CO$2:$CO$338=\"20\")*(BC$2:BC$338>2)*($CT$2:$CT$338=\"V\")*($F$2:$F$338=0)))","v":{"$error":"#DIV/0!"}},{"$f":"SUMPRODUCT((($CO$2:$CO$338=\"20\")*(BD$2:BD$338)*($CT$2:$CT$338=\"V\")*($F$2:$F$338=0))/SUMPRODUCT(($CO$2:$CO$338=\"20\")*(BD$2:BD$338>2)*($CT$2:$CT$338=\"V\")*($F$2:$F$338=0)))","v":{"$error":"#DIV/0!"}},{"$f":"SUMPRODUCT((($CO$2:$CO$338=\"20\")*(BE$2:BE$338)*($CT$2:$CT$338=\"V\")*($F$2:$F$338=0))/SUMPRODUCT(($CO$2:$CO$338=\"20\")*(BE$2:BE$338>2)*($CT$2:$CT$338=\"V\")*($F$2:$F$338=0)))","v":{"$error":"#DIV/0!"}},{"$f":"SUMPRODUCT((($CO$2:$CO$338=\"20\")*(BF$2:BF$338)*($CT$2:$CT$338=\"V\")*($F$2:$F$338=0))/SUMPRODUCT(($CO$2:$CO$338=\"20\")*(BF$2:BF$338>2)*($CT$2:$CT$338=\"V\")*($F$2:$F$338=0)))","v":{"$error":"#DIV/0!"}},{"$f":"SUMPRODUCT((($CO$2:$CO$338=\"20\")*(BG$2:BG$338)*($CT$2:$CT$338=\"V\")*($F$2:$F$338=0))/SUMPRODUCT(($CO$2:$CO$338=\"20\")*(BG$2:BG$338>2)*($CT$2:$CT$338=\"V\")*($F$2:$F$338=0)))","v":{"$error":"#DIV/0!"}},{"$f":"SUMPRODUCT((($CO$2:$CO$338=\"20\")*(BH$2:BH$338)*($CT$2:$CT$338=\"V\")*($F$2:$F$338=0))/SUMPRODUCT(($CO$2:$CO$338=\"20\")*(BH$2:BH$338>2)*($CT$2:$CT$338=\"V\")*($F$2:$F$338=0)))","v":{"$error":"#DIV/0!"}},{"$f":"SUMPRODUCT((($CO$2:$CO$338=\"20\")*(BI$2:BI$338)*($CT$2:$CT$338=\"V\")*($F$2:$F$338=0))/SUMPRODUCT(($CO$2:$CO$338=\"20\")*(BI$2:BI$338>2)*($CT$2:$CT$338=\"V\")*($F$2:$F$338=0)))","v":{"$error":"#DIV/0!"}},{"$f":"SUMPRODUCT((($CO$2:$CO$338=\"20\")*(BJ$2:BJ$338)*($CT$2:$CT$338=\"V\")*($F$2:$F$338=0))/SUMPRODUCT(($CO$2:$CO$338=\"20\")*(BJ$2:BJ$338>2)*($CT$2:$CT$338=\"V\")*($F$2:$F$338=0)))","v":{"$error":"#DIV/0!"}},{"$f":"SUMPRODUCT((($CO$2:$CO$338=\"20\")*(BK$2:BK$338)*($CT$2:$CT$338=\"V\")*($F$2:$F$338=0))/SUMPRODUCT(($CO$2:$CO$338=\"20\")*(BK$2:BK$338>2)*($CT$2:$CT$338=\"V\")*($F$2:$F$338=0)))","v":{"$error":"#DIV/0!"}},{"$f":"SUMPRODUCT((($CO$2:$CO$338=\"20\")*(BL$2:BL$338)*($CT$2:$CT$338=\"V\")*($F$2:$F$338=0))/SUMPRODUCT(($CO$2:$CO$338=\"20\")*(BL$2:BL$338>2)*($CT$2:$CT$338=\"V\")*($F$2:$F$338=0)))","v":{"$error":"#DIV/0!"}},{"$f":"SUMPRODUCT((($CO$2:$CO$338=\"20\")*(BM$2:BM$338)*($CT$2:$CT$338=\"V\")*($F$2:$F$338=0))/SUMPRODUCT(($CO$2:$CO$338=\"20\")*(BM$2:BM$338>2)*($CT$2:$CT$338=\"V\")*($F$2:$F$338=0)))","v":{"$error":"#DIV/0!"}},{"$f":"SUMPRODUCT((($CO$2:$CO$338=\"20\")*(BN$2:BN$338)*($CT$2:$CT$338=\"V\")*($F$2:$F$338=0))/SUMPRODUCT(($CO$2:$CO$338=\"20\")*(BN$2:BN$338>2)*($CT$2:$CT$338=\"V\")*($F$2:$F$338=0)))","v":{"$error":"#DIV/0!"}},{"$f":"SUMPRODUCT((($CO$2:$CO$338=\"20\")*(BO$2:BO$338)*($CT$2:$CT$338=\"V\")*($F$2:$F$338=0))/SUMPRODUCT(($CO$2:$CO$338=\"20\")*(BO$2:BO$338>2)*($CT$2:$CT$338=\"V\")*($F$2:$F$338=0)))","v":{"$error":"#DIV/0!"}},{"$f":"SUMPRODUCT((($CO$2:$CO$338=\"20\")*(BP$2:BP$338)*($CT$2:$CT$338=\"V\")*($F$2:$F$338=0))/SUMPRODUCT(($CO$2:$CO$338=\"20\")*(BP$2:BP$338>2)*($CT$2:$CT$338=\"V\")*($F$2:$F$338=0)))","v":{"$error":"#DIV/0!"}},{"$f":"SUMPRODUCT((($CO$2:$CO$338=\"20\")*(BQ$2:BQ$338)*($CT$2:$CT$338=\"V\")*($F$2:$F$338=0))/SUMPRODUCT(($CO$2:$CO$338=\"20\")*(BQ$2:BQ$338>2)*($CT$2:$CT$338=\"V\")*($F$2:$F$338=0)))","v":{"$error":"#DIV/0!"}},{"$f":"SUMPRODUCT((($CO$2:$CO$338=\"20\")*(BR$2:BR$338)*($CT$2:$CT$338=\"V\")*($F$2:$F$338=0))/SUMPRODUCT(($CO$2:$CO$338=\"20\")*(BR$2:BR$338>2)*($CT$2:$CT$338=\"V\")*($F$2:$F$338=0)))","v":{"$error":"#DIV/0!"}},{"$f":"SUMPRODUCT((($CO$2:$CO$338=\"20\")*(BS$2:BS$338)*($CT$2:$CT$338=\"V\")*($F$2:$F$338=0))/SUMPRODUCT(($CO$2:$CO$338=\"20\")*(BS$2:BS$338>2)*($CT$2:$CT$338=\"V\")*($F$2:$F$338=0)))","v":{"$error":"#DIV/0!"}},{"$f":"SUMPRODUCT((($CO$2:$CO$338=\"20\")*(BT$2:BT$338)*($CT$2:$CT$338=\"V\")*($F$2:$F$338=0))/SUMPRODUCT(($CO$2:$CO$338=\"20\")*(BT$2:BT$338>2)*($CT$2:$CT$338=\"V\")*($F$2:$F$338=0)))","v":{"$error":"#DIV/0!"}},{"$f":"SUMPRODUCT((($CO$2:$CO$338=\"20\")*(BU$2:BU$338)*($CT$2:$CT$338=\"V\")*($F$2:$F$338=0))/SUMPRODUCT(($CO$2:$CO$338=\"20\")*(BU$2:BU$338>2)*($CT$2:$CT$338=\"V\")*($F$2:$F$338=0)))","v":{"$error":"#DIV/0!"}},{"$f":"SUMPRODUCT((($CO$2:$CO$338=\"20\")*(BV$2:BV$338)*($CT$2:$CT$338=\"V\")*($F$2:$F$338=0))/SUMPRODUCT(($CO$2:$CO$338=\"20\")*(BV$2:BV$338>2)*($CT$2:$CT$338=\"V\")*($F$2:$F$338=0)))","v":{"$error":"#DIV/0!"}},{"$f":"SUMPRODUCT((($CO$2:$CO$338=\"20\")*(BW$2:BW$338)*($CT$2:$CT$338=\"V\")*($F$2:$F$338=0))/SUMPRODUCT(($CO$2:$CO$338=\"20\")*(BW$2:BW$338>2)*($CT$2:$CT$338=\"V\")*($F$2:$F$338=0)))","v":{"$error":"#DIV/0!"}},{"$error":"#DIV/0!"},{"$error":"#DIV/0!"},{"$error":"#DIV/0!"},{"$error":"#DIV/0!"},{"$error":"#DIV/0!"},{"$error":"#DIV/0!"},{"$error":"#DIV/0!"},{"$error":"#DIV/0!"},{"$error":"#DIV/0!"},{"$error":"#DIV/0!"},{"$error":"#DIV/0!"},{"$error":"#DIV/0!"},null,null,null,null,null,null,null,null,null,72,"20vsdoub","V S DOUBL",{"$f":"SUMPRODUCT(((#REF!>2)*($CO$2:$CO$339=\"20\")*(#REF!)*($CT$2:$CT$339=\"V\")*($F$2:$F$339=0))/SUMPRODUCT((#REF!>2)*($CO$2:$CO$339=\"20\")*(#REF!>2)*($CT$2:$CT$339=\"V\")*($F$2:$F$339=0)))","v":{"$error":"#REF!"}}]
[null,null,null,null,null,null,null,null,null,10,null,null,null,null,null,null,null,null,null,null,null,null,null,null,null,null,null,null,null,null,null,null,null,null,null,null,null,null,null,null,null,null,null,null,null,null,null,null,null,null,null,null,null,null,null,null,null,null,null,null,null,null,null,null,null,null,null,null,null,null,null,null,null,null,null,null,null,null,null,null,null,null,null,null,null,null,null,null,null,null,null,null,null,null,null,null,73,10]
[null,null,null,null,null,null,null,null,null,"10nb",{"$f":"SUM(($CO$2:$CO$338=\"10\")*(K$2:K$338>1)*1)","v":0},{"$f":"SUM(($CO$2:$CO$338=\"10\")*(L$2:L$338>1)*1)","v":0},{"$f":"SUM(($CO$2:$CO$338=\"10\")*(M$2:M$338>1)*1)","v":0},{"$f":"SUM(($CO$2:$CO$338=\"10\")*(N$2:N$338>1)*1)","v":0},{"$f":"SUM(($CO$2:$CO$338=\"10\")*(O$2:O$338>1)*1)","v":0},{"$f":"SUM(($CO$2:$CO$338=\"10\")*(P$2:P$338>1)*1)","v":0},{"$f":"SUM(($CO$2:$CO$338=\"10\")*(Q$2:Q$338>1)*1)","v":0},{"$f":"SUM(($CO$2:$CO$338=\"10\")*(R$2:R$338>1)*1)","v":0},{"$f":"SUM(($CO$2:$CO$338=\"10\")*(S$2:S$338>1)*1)","v":0},{"$f":"SUM(($CO$2:$CO$338=\"10\")*(T$2:T$338>1)*1)","v":0},{"$f":"SUM(($CO$2:$CO$338=\"10\")*(U$2:U$338>1)*1)","v":0},{"$f":"SUM(($CO$2:$CO$338=\"10\")*(V$2:V$338>1)*1)","v":0},{"$f":"SUM(($CO$2:$CO$338=\"10\")*(W$2:W$338>1)*1)","v":0},{"$f":"SUM(($CO$2:$CO$338=\"10\")*(X$2:X$338>1)*1)","v":0},{"$f":"SUM(($CO$2:$CO$338=\"10\")*(Y$2:Y$338>1)*1)","v":0},{"$f":"SUM(($CO$2:$CO$338=\"10\")*(Z$2:Z$338>1)*1)","v":0},{"$f":"SUM(($CO$2:$CO$338=\"10\")*(AA$2:AA$338>1)*1)","v":0},{"$f":"SUM(($CO$2:$CO$338=\"10\")*(AB$2:AB$338>1)*1)","v":0},{"$f":"SUM(($CO$2:$CO$338=\"10\")*(AC$2:AC$338>1)*1)","v":0},{"$f":"SUM(($CO$2:$CO$338=\"10\")*(AD$2:AD$338>1)*1)","v":0},{"$f":"SUM(($CO$2:$CO$338=\"10\")*(AE$2:AE$338>1)*1)","v":0},{"$f":"SUM(($CO$2:$CO$338=\"10\")*(AF$2:AF$338>1)*1)","v":0},{"$f":"SUM(($CO$2:$CO$338=\"10\")*(AG$2:AG$338>1)*1)","v":0},{"$f":"SUM(($CO$2:$CO$338=\"10\")*(AH$2:AH$338>1)*1)","v":0},{"$f":"SUM(($CO$2:$CO$338=\"10\")*(AI$2:AI$338>1)*1)","v":0},{"$f":"SUM(($CO$2:$CO$338=\"10\")*(AJ$2:AJ$338>1)*1)","v":0},{"$f":"SUM(($CO$2:$CO$338=\"10\")*(AK$2:AK$338>1)*1)","v":0},{"$f":"SUM(($CO$2:$CO$338=\"10\")*(AL$2:AL$338>1)*1)","v":0},{"$f":"SUM(($CO$2:$CO$338=\"10\")*(AM$2:AM$338>1)*1)","v":0},{"$f":"SUM(($CO$2:$CO$338=\"10\")*(AN$2:AN$338>1)*1)","v":0},{"$f":"SUM(($CO$2:$CO$338=\"10\")*(AO$2:AO$338>1)*1)","v":0},{"$f":"SUM(($CO$2:$CO$338=\"10\")*(AP$2:AP$338>1)*1)","v":0},{"$f":"SUM(($CO$2:$CO$338=\"10\")*(AQ$2:AQ$338>1)*1)","v":0},{"$f":"SUM(($CO$2:$CO$338=\"10\")*(AR$2:AR$338>1)*1)","v":0},{"$f":"SUM(($CO$2:$CO$338=\"10\")*(AS$2:AS$338>1)*1)","v":0},{"$f":"SUM(($CO$2:$CO$338=\"10\")*(AT$2:AT$338>1)*1)","v":0},{"$f":"SUM(($CO$2:$CO$338=\"10\")*(AU$2:AU$338>1)*1)","v":0},{"$f":"SUM(($CO$2:$CO$338=\"10\")*(AV$2:AV$338>1)*1)","v":0},{"$f":"SUM(($CO$2:$CO$338=\"10\")*(AW$2:AW$338>1)*1)","v":0},{"$f":"SUM(($CO$2:$CO$338=\"10\")*(AX$2:AX$338>1)*1)","v":0},{"$f":"SUM(($CO$2:$CO$338=\"10\")*(AY$2:AY$338>1)*1)","v":0},{"$f":"SUM(($CO$2:$CO$338=\"10\")*(AZ$2:AZ$338>1)*1)","v":0},{"$f":"SUM(($CO$2:$CO$338=\"10\")*(BA$2:BA$338>1)*1)","v":0},{"$f":"SUM(($CO$2:$CO$338=\"10\")*(BB$2:BB$338>1)*1)","v":0},{"$f":"SUM(($CO$2:$CO$338=\"10\")*(BC$2:BC$338>1)*1)","v":0},{"$f":"SUM(($CO$2:$CO$338=\"10\")*(BD$2:BD$338>1)*1)","v":0},{"$f":"SUM(($CO$2:$CO$338=\"10\")*(BE$2:BE$338>1)*1)","v":0},{"$f":"SUM(($CO$2:$CO$338=\"10\")*(BF$2:BF$338>1)*1)","v":0},{"$f":"SUM(($CO$2:$CO$338=\"10\")*(BG$2:BG$338>1)*1)","v":0},{"$f":"SUM(($CO$2:$CO$338=\"10\")*(BH$2:BH$338>1)*1)","v":0},{"$f":"SUM(($CO$2:$CO$338=\"10\")*(BI$2:BI$338>1)*1)","v":0},{"$f":"SUM(($CO$2:$CO$338=\"10\")*(BJ$2:BJ$338>1)*1)","v":0},{"$f":"SUM(($CO$2:$CO$338=\"10\")*(BK$2:BK$338>1)*1)","v":0},{"$f":"SUM(($CO$2:$CO$338=\"10\")*(BL$2:BL$338>1)*1)","v":0},{"$f":"SUM(($CO$2:$CO$338=\"10\")*(BM$2:BM$338>1)*1)","v":0},{"$f":"SUM(($CO$2:$CO$338=\"10\")*(BN$2:BN$338>1)*1)","v":0},{"$f":"SUM(($CO$2:$CO$338=\"10\")*(BO$2:BO$338>1)*1)","v":0},{"$f":"SUM(($CO$2:$CO$338=\"10\")*(BP$2:BP$338>1)*1)","v":0},{"$f":"SUM(($CO$2:$CO$338=\"10\")*(BQ$2:BQ$338>1)*1)","v":0},{"$f":"SUM(($CO$2:$CO$338=\"10\")*(BR$2:BR$338>1)*1)","v":0},{"$f":"SUM(($CO$2:$CO$338=\"10\")*(BS$2:BS$338>1)*1)","v":0},{"$f":"SUM(($CO$2:$CO$338=\"10\")*(BT$2:BT$338>1)*1)","v":0},{"$f":"SUM(($CO$2:$CO$338=\"10\")*(BU$2:BU$338>1)*1)","v":0},{"$f":"SUM(($CO$2:$CO$338=\"10\")*(BV$2:BV$338>1)*1)","v":0},{"$f":"SUM(($CO$2:$CO$338=\"10\")*(BW$2:BW$338>1)*1)","v":0},{"$f":"SUM(($CO$2:$CO$338=\"10\")*(BX$2:BX$338>1)*1)","v":0},{"$f":"SUM(($CO$2:$CO$338=\"10\")*(BY$2:BY$338>1)*1)","v":0},{"$f":"SUM(($CO$2:$CO$338=\"10\")*(BZ$2:BZ$338>1)*1)","v":0},{"$f":"SUM(($CO$2:$CO$338=\"10\")*(CA$2:CA$338>1)*1)","v":0},{"$f":"SUM(($CO$2:$CO$338=\"10\")*(CB$2:CB$338>1)*1)","v":0},{"$f":"SUM(($CO$2:$CO$338=\"10\")*(CC$2:CC$338>1)*1)","v":0},{"$f":"SUM(($CO$2:$CO$338=\"10\")*(CD$2:CD$338>1)*1)","v":0},{"$f":"SUM(($CO$2:$CO$338=\"10\")*(CE$2:CE$338>1)*1)","v":0},{"$f":"SUM(($CO$2:$CO$338=\"10\")*(CF$2:CF$338>1)*1)","v":0},{"$f":"SUM(($CO$2:$CO$338=\"10\")*(CG$2:CG$338>1)*1)","v":0},{"$f":"SUM(($CO$2:$CO$338=\"10\")*(CH$2:CH$338>1)*1)","v":0},{"$f":"SUM(($CO$2:$CO$338=\"10\")*(CI$2:CI$338>1)*1)","v":0},null,null,null,null,null,null,null,null,null,74,"10nb",null,{"$f":"#REF!","v":{"$error":"#REF!"}}]
[null,null,null,null,null,null,null,null,null,"10moy",{"$f":"SUMPRODUCT((($CO$2:$CO$338=\"10\")*(K$2:K$338))/SUMPRODUCT(($CO$2:$CO$338=\"10\")*(K$2:K$338>2))\n)","v":{"$error":"#DIV/0!"}},{"$f":"SUMPRODUCT((($CO$2:$CO$338=\"10\")*(L$2:L$338))/SUMPRODUCT(($CO$2:$CO$338=\"10\")*(L$2:L$338>2))\n)","v":{"$error":"#DIV/0!"}},{"$f":"SUMPRODUCT((($CO$2:$CO$338=\"10\")*(M$2:M$338))/SUMPRODUCT(($CO$2:$CO$338=\"10\")*(M$2:M$338>2))\n)","v":{"$error":"#DIV/0!"}},{"$f":"SUMPRODUCT((($CO$2:$CO$338=\"10\")*(N$2:N$338))/SUMPRODUCT(($CO$2:$CO$338=\"10\")*(N$2:N$338>2))\n)","v":{"$error":"#DIV/0!"}},{"$f":"SUMPRODUCT((($CO$2:$CO$338=\"10\")*(O$2:O$338))/SUMPRODUCT(($CO$2:$CO$338=\"10\")*(O$2:O$338>2))\n)","v":{"$error":"#DIV/0!"}},{"$f":"SUMPRODUCT((($CO$2:$CO$338=\"10\")*(P$2:P$338))/SUMPRODUCT(($CO$2:$CO$338=\"10\")*(P$2:P$338>2))\n)","v":{"$error":"#DIV/0!"}},{"$f":"SUMPRODUCT((($CO$2:$CO$338=\"10\")*(Q$2:Q$338))/SUMPRODUCT(($CO$2:$CO$338=\"10\")*(Q$2:Q$338>2))\n)","v":{"$error":"#DIV/0!"}},{"$f":"SUMPRODUCT((($CO$2:$CO$338=\"10\")*(R$2:R$338))/SUMPRODUCT(($CO$2:$CO$338=\"10\")*(R$2:R$338>2))\n)","v":{"$error":"#DIV/0!"}},{"$f":"SUMPRODUCT((($CO$2:$CO$338=\"10\")*(S$2:S$338))/SUMPRODUCT(($CO$2:$CO$338=\"10\")*(S$2:S$338>2))\n)","v":{"$error":"#DIV/0!"}},{"$f":"SUMPRODUCT((($CO$2:$CO$338=\"10\")*(T$2:T$338))/SUMPRODUCT(($CO$2:$CO$338=\"10\")*(T$2:T$338>2))\n)","v":{"$error":"#DIV/0!"}},{"$f":"SUMPRODUCT((($CO$2:$CO$338=\"10\")*(U$2:U$338))/SUMPRODUCT(($CO$2:$CO$338=\"10\")*(U$2:U$338>2))\n)","v":{"$error":"#DIV/0!"}},{"$f":"SUMPRODUCT((($CO$2:$CO$338=\"10\")*(V$2:V$338))/SUMPRODUCT(($CO$2:$CO$338=\"10\")*(V$2:V$338>2))\n)","v":{"$error":"#DIV/0!"}},{"$f":"SUMPRODUCT((($CO$2:$CO$338=\"10\")*(W$2:W$338))/SUMPRODUCT(($CO$2:$CO$338=\"10\")*(W$2:W$338>2))\n)","v":{"$error":"#DIV/0!"}},{"$f":"SUMPRODUCT((($CO$2:$CO$338=\"10\")*(X$2:X$338))/SUMPRODUCT(($CO$2:$CO$338=\"10\")*(X$2:X$338>2))\n)","v":{"$error":"#DIV/0!"}},{"$f":"SUMPRODUCT((($CO$2:$CO$338=\"10\")*(Y$2:Y$338))/SUMPRODUCT(($CO$2:$CO$338=\"10\")*(Y$2:Y$338>2))\n)","v":{"$error":"#DIV/0!"}},{"$f":"SUMPRODUCT((($CO$2:$CO$338=\"10\")*(Z$2:Z$338))/SUMPRODUCT(($CO$2:$CO$338=\"10\")*(Z$2:Z$338>2))\n)","v":{"$error":"#DIV/0!"}},{"$f":"SUMPRODUCT((($CO$2:$CO$338=\"10\")*(AA$2:AA$338))/SUMPRODUCT(($CO$2:$CO$338=\"10\")*(AA$2:AA$338>2))\n)","v":{"$error":"#DIV/0!"}},{"$f":"SUMPRODUCT((($CO$2:$CO$338=\"10\")*(AB$2:AB$338))/SUMPRODUCT(($CO$2:$CO$338=\"10\")*(AB$2:AB$338>2))\n)","v":{"$error":"#DIV/0!"}},{"$f":"SUMPRODUCT((($CO$2:$CO$338=\"10\")*(AC$2:AC$338))/SUMPRODUCT(($CO$2:$CO$338=\"10\")*(AC$2:AC$338>2))\n)","v":{"$error":"#DIV/0!"}},{"$f":"SUMPRODUCT((($CO$2:$CO$338=\"10\")*(AD$2:AD$338))/SUMPRODUCT(($CO$2:$CO$338=\"10\")*(AD$2:AD$338>2))\n)","v":{"$error":"#DIV/0!"}},{"$f":"SUMPRODUCT((($CO$2:$CO$338=\"10\")*(AE$2:AE$338))/SUMPRODUCT(($CO$2:$CO$338=\"10\")*(AE$2:AE$338>2))\n)","v":{"$error":"#DIV/0!"}},{"$f":"SUMPRODUCT((($CO$2:$CO$338=\"10\")*(AF$2:AF$338))/SUMPRODUCT(($CO$2:$CO$338=\"10\")*(AF$2:AF$338>2))\n)","v":{"$error":"#DIV/0!"}},{"$f":"SUMPRODUCT((($CO$2:$CO$338=\"10\")*(AG$2:AG$338))/SUMPRODUCT(($CO$2:$CO$338=\"10\")*(AG$2:AG$338>2))\n)","v":{"$error":"#DIV/0!"}},{"$f":"SUMPRODUCT((($CO$2:$CO$338=\"10\")*(AH$2:AH$338))/SUMPRODUCT(($CO$2:$CO$338=\"10\")*(AH$2:AH$338>2))\n)","v":{"$error":"#DIV/0!"}},{"$f":"SUMPRODUCT((($CO$2:$CO$338=\"10\")*(AI$2:AI$338))/SUMPRODUCT(($CO$2:$CO$338=\"10\")*(AI$2:AI$338>2))\n)","v":{"$error":"#DIV/0!"}},{"$f":"SUMPRODUCT((($CO$2:$CO$338=\"10\")*(AJ$2:AJ$338))/SUMPRODUCT(($CO$2:$CO$338=\"10\")*(AJ$2:AJ$338>2))\n)","v":{"$error":"#DIV/0!"}},{"$f":"SUMPRODUCT((($CO$2:$CO$338=\"10\")*(AK$2:AK$338))/SUMPRODUCT(($CO$2:$CO$338=\"10\")*(AK$2:AK$338>2))\n)","v":{"$error":"#DIV/0!"}},{"$f":"SUMPRODUCT((($CO$2:$CO$338=\"10\")*(AL$2:AL$338))/SUMPRODUCT(($CO$2:$CO$338=\"10\")*(AL$2:AL$338>2))\n)","v":{"$error":"#DIV/0!"}},{"$f":"SUMPRODUCT((($CO$2:$CO$338=\"10\")*(AM$2:AM$338))/SUMPRODUCT(($CO$2:$CO$338=\"10\")*(AM$2:AM$338>2))\n)","v":{"$error":"#DIV/0!"}},{"$f":"SUMPRODUCT((($CO$2:$CO$338=\"10\")*(AN$2:AN$338))/SUMPRODUCT(($CO$2:$CO$338=\"10\")*(AN$2:AN$338>2))\n)","v":{"$error":"#DIV/0!"}},{"$f":"SUMPRODUCT((($CO$2:$CO$338=\"10\")*(AO$2:AO$338))/SUMPRODUCT(($CO$2:$CO$338=\"10\")*(AO$2:AO$338>2))\n)","v":{"$error":"#DIV/0!"}},{"$f":"SUMPRODUCT((($CO$2:$CO$338=\"10\")*(AP$2:AP$338))/SUMPRODUCT(($CO$2:$CO$338=\"10\")*(AP$2:AP$338>2))\n)","v":{"$error":"#DIV/0!"}},{"$f":"SUMPRODUCT((($CO$2:$CO$338=\"10\")*(AQ$2:AQ$338))/SUMPRODUCT(($CO$2:$CO$338=\"10\")*(AQ$2:AQ$338>2))\n)","v":{"$error":"#DIV/0!"}},{"$f":"SUMPRODUCT((($CO$2:$CO$338=\"10\")*(AR$2:AR$338))/SUMPRODUCT(($CO$2:$CO$338=\"10\")*(AR$2:AR$338>2))\n)","v":{"$error":"#DIV/0!"}},{"$f":"SUMPRODUCT((($CO$2:$CO$338=\"10\")*(AS$2:AS$338))/SUMPRODUCT(($CO$2:$CO$338=\"10\")*(AS$2:AS$338>2))\n)","v":{"$error":"#DIV/0!"}},{"$f":"SUMPRODUCT((($CO$2:$CO$338=\"10\")*(AT$2:AT$338))/SUMPRODUCT(($CO$2:$CO$338=\"10\")*(AT$2:AT$338>2))\n)","v":{"$error":"#DIV/0!"}},{"$f":"SUMPRODUCT((($CO$2:$CO$338=\"10\")*(AU$2:AU$338))/SUMPRODUCT(($CO$2:$CO$338=\"10\")*(AU$2:AU$338>2))\n)","v":{"$error":"#DIV/0!"}},{"$f":"SUMPRODUCT((($CO$2:$CO$338=\"10\")*(AV$2:AV$338))/SUMPRODUCT(($CO$2:$CO$338=\"10\")*(AV$2:AV$338>2))\n)","v":{"$error":"#DIV/0!"}},{"$f":"SUMPRODUCT((($CO$2:$CO$338=\"10\")*(AW$2:AW$338))/SUMPRODUCT(($CO$2:$CO$338=\"10\")*(AW$2:AW$338>2))\n)","v":{"$error":"#DIV/0!"}},{"$f":"SUMPRODUCT((($CO$2:$CO$338=\"10\")*(AX$2:AX$338))/SUMPRODUCT(($CO$2:$CO$338=\"10\")*(AX$2:AX$338>2))\n)","v":{"$error":"#DIV/0!"}},{"$f":"SUMPRODUCT((($CO$2:$CO$338=\"10\")*(AY$2:AY$338))/SUMPRODUCT(($CO$2:$CO$338=\"10\")*(AY$2:AY$338>2))\n)","v":{"$error":"#DIV/0!"}},{"$f":"SUMPRODUCT((($CO$2:$CO$338=\"10\")*(AZ$2:AZ$338))/SUMPRODUCT(($CO$2:$CO$338=\"10\")*(AZ$2:AZ$338>2))\n)","v":{"$error":"#DIV/0!"}},{"$f":"SUMPRODUCT((($CO$2:$CO$338=\"10\")*(BA$2:BA$338))/SUMPRODUCT(($CO$2:$CO$338=\"10\")*(BA$2:BA$338>2))\n)","v":{"$error":"#DIV/0!"}},{"$f":"SUMPRODUCT((($CO$2:$CO$338=\"10\")*(BB$2:BB$338))/SUMPRODUCT(($CO$2:$CO$338=\"10\")*(BB$2:BB$338>2))\n)","v":{"$error":"#DIV/0!"}},{"$f":"SUMPRODUCT((($CO$2:$CO$338=\"10\")*(BC$2:BC$338))/SUMPRODUCT(($CO$2:$CO$338=\"10\")*(BC$2:BC$338>2))\n)","v":{"$error":"#DIV/0!"}},{"$f":"SUMPRODUCT((($CO$2:$CO$338=\"10\")*(BD$2:BD$338))/SUMPRODUCT(($CO$2:$CO$338=\"10\")*(BD$2:BD$338>2))\n)","v":{"$error":"#DIV/0!"}},{"$f":"SUMPRODUCT((($CO$2:$CO$338=\"10\")*(BE$2:BE$338))/SUMPRODUCT(($CO$2:$CO$338=\"10\")*(BE$2:BE$338>2))\n)","v":{"$error":"#DIV/0!"}},{"$f":"SUMPRODUCT((($CO$2:$CO$338=\"10\")*(BF$2:BF$338))/SUMPRODUCT(($CO$2:$CO$338=\"10\")*(BF$2:BF$338>2))\n)","v":{"$error":"#DIV/0!"}},{"$f":"SUMPRODUCT((($CO$2:$CO$338=\"10\")*(BG$2:BG$338))/SUMPRODUCT(($CO$2:$CO$338=\"10\")*(BG$2:BG$338>2))\n)","v":{"$error":"#DIV/0!"}},{"$f":"SUMPRODUCT((($CO$2:$CO$338=\"10\")*(BH$2:BH$338))/SUMPRODUCT(($CO$2:$CO$338=\"10\")*(BH$2:BH$338>2))\n)","v":{"$error":"#DIV/0!"}},{"$f":"SUMPRODUCT((($CO$2:$CO$338=\"10\")*(BI$2:BI$338))/SUMPRODUCT(($CO$2:$CO$338=\"10\")*(BI$2:BI$338>2))\n)","v":{"$error":"#DIV/0!"}},{"$f":"SUMPRODUCT((($CO$2:$CO$338=\"10\")*(BJ$2:BJ$338))/SUMPRODUCT(($CO$2:$CO$338=\"10\")*(BJ$2:BJ$338>2))\n)","v":{"$error":"#DIV/0!"}},{"$f":"SUMPRODUCT((($CO$2:$CO$338=\"10\")*(BK$2:BK$338))/SUMPRODUCT(($CO$2:$CO$338=\"10\")*(BK$2:BK$338>2))\n)","v":{"$error":"#DIV/0!"}},{"$f":"SUMPRODUCT((($CO$2:$CO$338=\"10\")*(BL$2:BL$338))/SUMPRODUCT(($CO$2:$CO$338=\"10\")*(BL$2:BL$338>2))\n)","v":{"$error":"#DIV/0!"}},{"$f":"SUMPRODUCT((($CO$2:$CO$338=\"10\")*(BM$2:BM$338))/SUMPRODUCT(($CO$2:$CO$338=\"10\")*(BM$2:BM$338>2))\n)","v":{"$error":"#DIV/0!"}},{"$f":"SUMPRODUCT((($CO$2:$CO$338=\"10\")*(BN$2:BN$338))/SUMPRODUCT(($CO$2:$CO$338=\"10\")*(BN$2:BN$338>2))\n)","v":{"$error":"#DIV/0!"}},{"$f":"SUMPRODUCT((($CO$2:$CO$338=\"10\")*(BO$2:BO$338))/SUMPRODUCT(($CO$2:$CO$338=\"10\")*(BO$2:BO$338>2))\n)","v":{"$error":"#DIV/0!"}},{"$f":"SUMPRODUCT((($CO$2:$CO$338=\"10\")*(BP$2:BP$338))/SUMPRODUCT(($CO$2:$CO$338=\"10\")*(BP$2:BP$338>2))\n)","v":{"$error":"#DIV/0!"}},{"$f":"SUMPRODUCT((($CO$2:$CO$338=\"10\")*(BQ$2:BQ$338))/SUMPRODUCT(($CO$2:$CO$338=\"10\")*(BQ$2:BQ$338>2))\n)","v":{"$error":"#DIV/0!"}},{"$f":"SUMPRODUCT((($CO$2:$CO$338=\"10\")*(BR$2:BR$338))/SUMPRODUCT(($CO$2:$CO$338=\"10\")*(BR$2:BR$338>2))\n)","v":{"$error":"#DIV/0!"}},{"$f":"SUMPRODUCT((($CO$2:$CO$338=\"10\")*(BS$2:BS$338))/SUMPRODUCT(($CO$2:$CO$338=\"10\")*(BS$2:BS$338>2))\n)","v":{"$error":"#DIV/0!"}},{"$f":"SUMPRODUCT((($CO$2:$CO$338=\"10\")*(BT$2:BT$338))/SUMPRODUCT(($CO$2:$CO$338=\"10\")*(BT$2:BT$338>2))\n)","v":{"$error":"#DIV/0!"}},{"$f":"SUMPRODUCT((($CO$2:$CO$338=\"10\")*(BU$2:BU$338))/SUMPRODUCT(($CO$2:$CO$338=\"10\")*(BU$2:BU$338>2))\n)","v":{"$error":"#DIV/0!"}},{"$f":"SUMPRODUCT((($CO$2:$CO$338=\"10\")*(BV$2:BV$338))/SUMPRODUCT(($CO$2:$CO$338=\"10\")*(BV$2:BV$338>2))\n)","v":{"$error":"#DIV/0!"}},{"$f":"SUMPRODUCT((($CO$2:$CO$338=\"10\")*(BW$2:BW$338))/SUMPRODUCT(($CO$2:$CO$338=\"10\")*(BW$2:BW$338>2))\n)","v":{"$error":"#DIV/0!"}},{"$f":"IF(L415=0,0,IF(M415=0,AVERAGE(M415,K415,N415),AVERAGE(K415:N415)))","v":{"$error":"#DIV/0!"}},{"$f":"IF(P415=0,0,IF(Q415=0,AVERAGE(Q415,O415,R415),AVERAGE(O415:R415)))","v":{"$error":"#DIV/0!"}},{"$f":"IF(T415=0,0,IF(U415=0,AVERAGE(T415,S415,V415),AVERAGE(S415:V415)))","v":{"$error":"#DIV/0!"}},{"$f":"IF(AB415=0,0,IF(AC415=0,AVERAGE(AB415,AA415,AD415),AVERAGE(AA415:AD415)))","v":{"$error":"#DIV/0!"}},{"$f":"IF(AF415=0,0,IF(AG415=0,AVERAGE(AF415,AE415,AH415),AVERAGE(AE415:AH415)))","v":{"$error":"#DIV/0!"}},{"$f":"IF(AJ415=0,0,IF(AK415=0,AVERAGE(AJ415,AI415,AL415),AVERAGE(AI415:AL415)))","v":{"$error":"#DIV/0!"}},{"$f":"IF(AN415=0,0,IF(AO415=0,AVERAGE(AN415,AM415,AP415),AVERAGE(AM415:AP415)))","v":{"$error":"#DIV/0!"}},{"$f":"IF(AR415=0,0,IF(AS415=0,AVERAGE(AR415,AQ415,AT415),AVERAGE(AQ415:AT415)))","v":{"$error":"#DIV/0!"}},{"$f":"IF(AV415=0,0,IF(AW415=0,AVERAGE(AV415,AU415,AX415),AVERAGE(AU415:AX415)))","v":{"$error":"#DIV/0!"}},{"$f":"IF(AZ415=0,0,IF(BA415=0,AVERAGE(AZ415,AY415,BB415),AVERAGE(AY415:BB415)))","v":{"$error":"#DIV/0!"}},{"$f":"IF(BD415=0,0,IF(BE415=0,AVERAGE(BD415,BC415,BF415),AVERAGE(BC415:BF415)))","v":{"$error":"#DIV/0!"}},{"$f":"IF(BH415=0,0,IF(BI415=0,AVERAGE(BH415,BG415,BJ415,BM415),AVERAGE(BG415:BJ415)))","v":{"$error":"#DIV/0!"}},null,null,null,null,null,null,null,null,null,75,"10moy",null,{"$f":"SUMPRODUCT(((#REF!>2)*($CO$2:$CO$339=\"10\")*(#REF!))/SUMPRODUCT((#REF!>2)*($CO$2:$CO$339=\"10\")*(#REF!>2))\n)","v":{"$error":"#REF!"}}]
[null,null,null,null,null,null,null,null,null,"10taux",{"$f":"(SUM(($CO$2:$CO$338=\"10\")*(K$2:K$338>=60)*1))/K414*100","v":{"$error":"#DIV/0!"}},{"$f":"(SUM(($CO$2:$CO$338=\"10\")*(L$2:L$338>=60)*1))/L414*100","v":{"$error":"#DIV/0!"}},{"$f":"(SUM(($CO$2:$CO$338=\"10\")*(M$2:M$338>=60)*1))/M414*100","v":{"$error":"#DIV/0!"}},{"$f":"(SUM(($CO$2:$CO$338=\"10\")*(N$2:N$338>=60)*1))/N414*100","v":{"$error":"#DIV/0!"}},{"$f":"(SUM(($CO$2:$CO$338=\"10\")*(O$2:O$338>=60)*1))/O414*100","v":{"$error":"#DIV/0!"}},{"$f":"(SUM(($CO$2:$CO$338=\"10\")*(P$2:P$338>=60)*1))/P414*100","v":{"$error":"#DIV/0!"}},{"$f":"(SUM(($CO$2:$CO$338=\"10\")*(Q$2:Q$338>=60)*1))/Q414*100","v":{"$error":"#DIV/0!"}},{"$f":"(SUM(($CO$2:$CO$338=\"10\")*(R$2:R$338>=60)*1))/R414*100","v":{"$error":"#DIV/0!"}},{"$f":"(SUM(($CO$2:$CO$338=\"10\")*(S$2:S$338>=60)*1))/S414*100","v":{"$error":"#DIV/0!"}},{"$f":"(SUM(($CO$2:$CO$338=\"10\")*(T$2:T$338>=60)*1))/T414*100","v":{"$error":"#DIV/0!"}},{"$f":"(SUM(($CO$2:$CO$338=\"10\")*(U$2:U$338>=60)*1))/U414*100","v":{"$error":"#DIV/0!"}},{"$f":"(SUM(($CO$2:$CO$338=\"10\")*(V$2:V$338>=60)*1))/V414*100","v":{"$error":"#DIV/0!"}},{"$f":"(SUM(($CO$2:$CO$338=\"10\")*(W$2:W$338>=60)*1))/W414*100","v":{"$error":"#DIV/0!"}},{"$f":"(SUM(($CO$2:$CO$338=\"10\")*(X$2:X$338>=60)*1))/X414*100","v":{"$error":"#DIV/0!"}},{"$f":"(SUM(($CO$2:$CO$338=\"10\")*(Y$2:Y$338>=60)*1))/Y414*100","v":{"$error":"#DIV/0!"}},{"$f":"(SUM(($CO$2:$CO$338=\"10\")*(Z$2:Z$338>=60)*1))/Z414*100","v":{"$error":"#DIV/0!"}},{"$f":"(SUM(($CO$2:$CO$338=\"10\")*(AA$2:AA$338>=60)*1))/AA414*100","v":{"$error":"#DIV/0!"}},{"$f":"(SUM(($CO$2:$CO$338=\"10\")*(AB$2:AB$338>=60)*1))/AB414*100","v":{"$error":"#DIV/0!"}},{"$f":"(SUM(($CO$2:$CO$338=\"10\")*(AC$2:AC$338>=60)*1))/AC414*100","v":{"$error":"#DIV/0!"}},{"$f":"(SUM(($CO$2:$CO$338=\"10\")*(AD$2:AD$338>=60)*1))/AD414*100","v":{"$error":"#DIV/0!"}},{"$f":"(SUM(($CO$2:$CO$338=\"10\")*(AE$2:AE$338>=60)*1))/AE414*100","v":{"$error":"#DIV/0!"}},{"$f":"(SUM(($CO$2:$CO$338=\"10\")*(AF$2:AF$338>=60)*1))/AF414*100","v":{"$error":"#DIV/0!"}},{"$f":"(SUM(($CO$2:$CO$338=\"10\")*(AG$2:AG$338>=60)*1))/AG414*100","v":{"$error":"#DIV/0!"}},{"$f":"(SUM(($CO$2:$CO$338=\"10\")*(AH$2:AH$338>=60)*1))/AH414*100","v":{"$error":"#DIV/0!"}},{"$f":"(SUM(($CO$2:$CO$338=\"10\")*(AI$2:AI$338>=60)*1))/AI414*100","v":{"$error":"#DIV/0!"}},{"$f":"(SUM(($CO$2:$CO$338=\"10\")*(AJ$2:AJ$338>=60)*1))/AJ414*100","v":{"$error":"#DIV/0!"}},{"$f":"(SUM(($CO$2:$CO$338=\"10\")*(AK$2:AK$338>=60)*1))/AK414*100","v":{"$error":"#DIV/0!"}},{"$f":"(SUM(($CO$2:$CO$338=\"10\")*(AL$2:AL$338>=60)*1))/AL414*100","v":{"$error":"#DIV/0!"}},{"$f":"(SUM(($CO$2:$CO$338=\"10\")*(AM$2:AM$338>=60)*1))/AM414*100","v":{"$error":"#DIV/0!"}},{"$f":"(SUM(($CO$2:$CO$338=\"10\")*(AN$2:AN$338>=60)*1))/AN414*100","v":{"$error":"#DIV/0!"}},{"$f":"(SUM(($CO$2:$CO$338=\"10\")*(AO$2:AO$338>=60)*1))/AO414*100","v":{"$error":"#DIV/0!"}},{"$f":"(SUM(($CO$2:$CO$338=\"10\")*(AP$2:AP$338>=60)*1))/AP414*100","v":{"$error":"#DIV/0!"}},{"$f":"(SUM(($CO$2:$CO$338=\"10\")*(AQ$2:AQ$338>=60)*1))/AQ414*100","v":{"$error":"#DIV/0!"}},{"$f":"(SUM(($CO$2:$CO$338=\"10\")*(AR$2:AR$338>=60)*1))/AR414*100","v":{"$error":"#DIV/0!"}},{"$f":"(SUM(($CO$2:$CO$338=\"10\")*(AS$2:AS$338>=60)*1))/AS414*100","v":{"$error":"#DIV/0!"}},{"$f":"(SUM(($CO$2:$CO$338=\"10\")*(AT$2:AT$338>=60)*1))/AT414*100","v":{"$error":"#DIV/0!"}},{"$f":"(SUM(($CO$2:$CO$338=\"10\")*(AU$2:AU$338>=60)*1))/AU414*100","v":{"$error":"#DIV/0!"}},{"$f":"(SUM(($CO$2:$CO$338=\"10\")*(AV$2:AV$338>=60)*1))/AV414*100","v":{"$error":"#DIV/0!"}},{"$f":"(SUM(($CO$2:$CO$338=\"10\")*(AW$2:AW$338>=60)*1))/AW414*100","v":{"$error":"#DIV/0!"}},{"$f":"(SUM(($CO$2:$CO$338=\"10\")*(AX$2:AX$338>=60)*1))/AX414*100","v":{"$error":"#DIV/0!"}},{"$f":"(SUM(($CO$2:$CO$338=\"10\")*(AY$2:AY$338>=60)*1))/AY414*100","v":{"$error":"#DIV/0!"}},{"$f":"(SUM(($CO$2:$CO$338=\"10\")*(AZ$2:AZ$338>=60)*1))/AZ414*100","v":{"$error":"#DIV/0!"}},{"$f":"(SUM(($CO$2:$CO$338=\"10\")*(BA$2:BA$338>=60)*1))/BA414*100","v":{"$error":"#DIV/0!"}},{"$f":"(SUM(($CO$2:$CO$338=\"10\")*(BB$2:BB$338>=60)*1))/BB414*100","v":{"$error":"#DIV/0!"}},{"$f":"(SUM(($CO$2:$CO$338=\"10\")*(BC$2:BC$338>=60)*1))/BC414*100","v":{"$error":"#DIV/0!"}},{"$f":"(SUM(($CO$2:$CO$338=\"10\")*(BD$2:BD$338>=60)*1))/BD414*100","v":{"$error":"#DIV/0!"}},{"$f":"(SUM(($CO$2:$CO$338=\"10\")*(BE$2:BE$338>=60)*1))/BE414*100","v":{"$error":"#DIV/0!"}},{"$f":"(SUM(($CO$2:$CO$338=\"10\")*(BF$2:BF$338>=60)*1))/BF414*100","v":{"$error":"#DIV/0!"}},{"$f":"(SUM(($CO$2:$CO$338=\"10\")*(BG$2:BG$338>=60)*1))/BG414*100","v":{"$error":"#DIV/0!"}},{"$f":"(SUM(($CO$2:$CO$338=\"10\")*(BH$2:BH$338>=60)*1))/BH414*100","v":{"$error":"#DIV/0!"}},{"$f":"(SUM(($CO$2:$CO$338=\"10\")*(BI$2:BI$338>=60)*1))/BI414*100","v":{"$error":"#DIV/0!"}},{"$f":"(SUM(($CO$2:$CO$338=\"10\")*(BJ$2:BJ$338>=60)*1))/BJ414*100","v":{"$error":"#DIV/0!"}},{"$f":"(SUM(($CO$2:$CO$338=\"10\")*(BK$2:BK$338>=60)*1))/BK414*100","v":{"$error":"#DIV/0!"}},{"$f":"(SUM(($CO$2:$CO$338=\"10\")*(BL$2:BL$338>=60)*1))/BL414*100","v":{"$error":"#DIV/0!"}},{"$f":"(SUM(($CO$2:$CO$338=\"10\")*(BM$2:BM$338>=60)*1))/BM414*100","v":{"$error":"#DIV/0!"}},{"$f":"(SUM(($CO$2:$CO$338=\"10\")*(BN$2:BN$338>=60)*1))/BN414*100","v":{"$error":"#DIV/0!"}},{"$f":"(SUM(($CO$2:$CO$338=\"10\")*(BO$2:BO$338>=60)*1))/BO414*100","v":{"$error":"#DIV/0!"}},{"$f":"(SUM(($CO$2:$CO$338=\"10\")*(BP$2:BP$338>=60)*1))/BP414*100","v":{"$error":"#DIV/0!"}},{"$f":"(SUM(($CO$2:$CO$338=\"10\")*(BQ$2:BQ$338>=60)*1))/BQ414*100","v":{"$error":"#DIV/0!"}},{"$f":"(SUM(($CO$2:$CO$338=\"10\")*(BR$2:BR$338>=60)*1))/BR414*100","v":{"$error":"#DIV/0!"}},{"$f":"(SUM(($CO$2:$CO$338=\"10\")*(BS$2:BS$338>=60)*1))/BS414*100","v":{"$error":"#DIV/0!"}},{"$f":"(SUM(($CO$2:$CO$338=\"10\")*(BT$2:BT$338>=60)*1))/BT414*100","v":{"$error":"#DIV/0!"}},{"$f":"(SUM(($CO$2:$CO$338=\"10\")*(BU$2:BU$338>=60)*1))/BU414*100","v":{"$error":"#DIV/0!"}},{"$f":"(SUM(($CO$2:$CO$338=\"10\")*(BV$2:BV$338>=60)*1))/BV414*100","v":{"$error":"#DIV/0!"}},{"$f":"(SUM(($CO$2:$CO$338=\"10\")*(BW$2:BW$338>=60)*1))/BW414*100","v":{"$error":"#DIV/0!"}},{"$error":"#DIV/0!"},{"$error":"#DIV/0!"},{"$error":"#DIV/0!"},{"$error":"#DIV/0!"},{"$error":"#DIV/0!"},{"$error":"#DIV/0!"},{"$error":"#DIV/0!"},{"$error":"#DIV/0!"},{"$error":"#DIV/0!"},{"$error":"#DIV/0!"},{"$error":"#DIV/0!"},{"$error":"#DIV/0!"},null,null,null,null,null,null,null,null,null,76,"10taux",null,{"$f":"(SUM(($CO$2:$CO$339=\"10\")*(CV$2:CV$339>=60)*1))/CV414*100","v":{"$error":"#REF!"}}]
[null,null,null,null,null,null,null,null,null,"10avas",{"$f":"K419-K420","v":{"$error":"#DIV/0!"}},{"$f":"L419-L420","v":{"$error":"#DIV/0!"}},{"$error":"#DIV/0!"},{"$error":"#DIV/0!"},{"$error":"#DIV/0!"},{"$error":"#DIV/0!"},{"$error":"#DIV/0!"},{"$error":"#DIV/0!"},{"$error":"#DIV/0!"},{"$error":"#DIV/0!"},{"$error":"#DIV/0!"},{"$error":"#DIV/0!"},{"$error":"#DIV/0!"},{"$error":"#DIV/0!"},{"$error":"#DIV/0!"},{"$error":"#DIV/0!"},{"$error":"#DIV/0!"},{"$error":"#DIV/0!"},{"$error":"#DIV/0!"},{"$error":"#DIV/0!"},{"$error":"#DIV/0!"},{"$error":"#DIV/0!"},{"$error":"#DIV/0!"},{"$error":"#DIV/0!"},{"$error":"#DIV/0!"},{"$error":"#DIV/0!"},{"$error":"#DIV/0!"},{"$error":"#DIV/0!"},{"$error":"#DIV/0!"},{"$error":"#DIV/0!"},{"$error":"#DIV/0!"},{"$error":"#DIV/0!"},{"$error":"#DIV/0!"},{"$error":"#DIV/0!"},{"$error":"#DIV/0!"},{"$error":"#DIV/0!"},{"$error":"#DIV/0!"},{"$error":"#DIV/0!"},{"$error":"#DIV/0!"},{"$error":"#DIV/0!"},{"$error":"#DIV/0!"},{"$error":"#DIV/0!"},{"$error":"#DIV/0!"},{"$error":"#DIV/0!"},{"$error":"#DIV/0!"},{"$error":"#DIV/0!"},{"$error":"#DIV/0!"},{"$error":"#DIV/0!"},{"$error":"#DIV/0!"},{"$error":"#DIV/0!"},{"$error":"#DIV/0!"},{"$error":"#DIV/0!"},{"$error":"#DIV/0!"},{"$error":"#DIV/0!"},{"$error":"#DIV/0!"},{"$error":"#DIV/0!"},{"$error":"#DIV/0!"},{"$error":"#DIV/0!"},{"$error":"#DIV/0!"},{"$error":"#DIV/0!"},{"$error":"#DIV/0!"},{"$error":"#DIV/0!"},{"$error":"#DIV/0!"},{"$error":"#DIV/0!"},{"$f":"BW419-BW420","v":{"$error":"#DIV/0!"}},{"$error":"#DIV/0!"},{"$error":"#DIV/0!"},{"$error":"#DIV/0!"},{"$error":"#DIV/0!"},{"$error":"#DIV/0!"},{"$error":"#DIV/0!"},{"$error":"#DIV/0!"},{"$error":"#DIV/0!"},{"$error":"#DIV/0!"},{"$error":"#DIV/0!"},{"$f":"CH419-CH420","v":{"$error":"#DIV/0!"}},{"$error":"#DIV/0!"},null,null,null,null,null,null,null,null,null,77,"10avas",null,{"$f":"#REF!-#REF!","v":{"$error":"#REF!"}}]
[null,null,null,null,null,null,null,null,null,"10avaa",{"$f":"K421-K422","v":{"$error":"#DIV/0!"}},{"$f":"L421-L422","v":{"$error":"#DIV/0!"}},{"$error":"#DIV/0!"},{"$error":"#DIV/0!"},{"$error":"#DIV/0!"},{"$error":"#DIV/0!"},{"$error":"#DIV/0!"},{"$error":"#DIV/0!"},{"$error":"#DIV/0!"},{"$error":"#DIV/0!"},{"$error":"#DIV/0!"},{"$error":"#DIV/0!"},{"$error":"#DIV/0!"},{"$error":"#DIV/0!"},{"$error":"#DIV/0!"},{"$error":"#DIV/0!"},{"$error":"#DIV/0!"},{"$error":"#DIV/0!"},{"$error":"#DIV/0!"},{"$error":"#DIV/0!"},{"$error":"#DIV/0!"},{"$error":"#DIV/0!"},{"$error":"#DIV/0!"},{"$error":"#DIV/0!"},{"$error":"#DIV/0!"},{"$error":"#DIV/0!"},{"$error":"#DIV/0!"},{"$error":"#DIV/0!"},{"$error":"#DIV/0!"},{"$error":"#DIV/0!"},{"$error":"#DIV/0!"},{"$error":"#DIV/0!"},{"$error":"#DIV/0!"},{"$error":"#DIV/0!"},{"$error":"#DIV/0!"},{"$error":"#DIV/0!"},{"$error":"#DIV/0!"},{"$error":"#DIV/0!"},{"$error":"#DIV/0!"},{"$error":"#DIV/0!"},{"$error":"#DIV/0!"},{"$error":"#DIV/0!"},{"$error":"#DIV/0!"},{"$error":"#DIV/0!"},{"$error":"#DIV/0!"},{"$error":"#DIV/0!"},{"$error":"#DIV/0!"},{"$error":"#DIV/0!"},{"$error":"#DIV/0!"},{"$error":"#DIV/0!"},{"$error":"#DIV/0!"},{"$error":"#DIV/0!"},{"$error":"#DIV/0!"},{"$error":"#DIV/0!"},{"$error":"#DIV/0!"},{"$error":"#DIV/0!"},{"$error":"#DIV/0!"},{"$error":"#DIV/0!"},{"$error":"#DIV/0!"},{"$error":"#DIV/0!"},{"$error":"#DIV/0!"},{"$error":"#DIV/0!"},{"$error":"#DIV/0!"},{"$error":"#DIV/0!"},{"$f":"BW421-BW422","v":{"$error":"#DIV/0!"}},{"$error":"#DIV/0!"},{"$error":"#DIV/0!"},{"$error":"#DIV/0!"},{"$error":"#DIV/0!"},{"$error":"#DIV/0!"},{"$error":"#DIV/0!"},{"$error":"#DIV/0!"},{"$error":"#DIV/0!"},{"$error":"#DIV/0!"},{"$error":"#DIV/0!"},{"$f":"CH421-CH422","v":{"$error":"#DIV/0!"}},{"$error":"#DIV/0!"},null,null,null,null,null,null,null,null,null,78,"10avaa",null,{"$f":"#REF!-#REF!","v":{"$error":"#REF!"}}]
[null,null,null,null,null,null,null,null,null,"10m",{"$f":"SUMPRODUCT((($CO$2:$CO$338=\"10\")*(K$2:K$338)*($J$2:$J$338=\"M\"))/SUMPRODUCT(($CO$2:$CO$338=\"10\")*(K$2:K$338>2)*($J$2:$J$338=\"M\")))","v":{"$error":"#DIV/0!"}},{"$f":"SUMPRODUCT((($CO$2:$CO$338=\"10\")*(L$2:L$338)*($J$2:$J$338=\"M\"))/SUMPRODUCT(($CO$2:$CO$338=\"10\")*(L$2:L$338>2)*($J$2:$J$338=\"M\")))","v":{"$error":"#DIV/0!"}},{"$f":"SUMPRODUCT((($CO$2:$CO$338=\"10\")*(M$2:M$338)*($J$2:$J$338=\"M\"))/SUMPRODUCT(($CO$2:$CO$338=\"10\")*(M$2:M$338>2)*($J$2:$J$338=\"M\")))","v":{"$error":"#DIV/0!"}},{"$f":"SUMPRODUCT((($CO$2:$CO$338=\"10\")*(N$2:N$338)*($J$2:$J$338=\"M\"))/SUMPRODUCT(($CO$2:$CO$338=\"10\")*(N$2:N$338>2)*($J$2:$J$338=\"M\")))","v":{"$error":"#DIV/0!"}},{"$f":"SUMPRODUCT((($CO$2:$CO$338=\"10\")*(O$2:O$338)*($J$2:$J$338=\"M\"))/SUMPRODUCT(($CO$2:$CO$338=\"10\")*(O$2:O$338>2)*($J$2:$J$338=\"M\")))","v":{"$error":"#DIV/0!"}},{"$f":"SUMPRODUCT((($CO$2:$CO$338=\"10\")*(P$2:P$338)*($J$2:$J$338=\"M\"))/SUMPRODUCT(($CO$2:$CO$338=\"10\")*(P$2:P$338>2)*($J$2:$J$338=\"M\")))","v":{"$error":"#DIV/0!"}},{"$f":"SUMPRODUCT((($CO$2:$CO$338=\"10\")*(Q$2:Q$338)*($J$2:$J$338=\"M\"))/SUMPRODUCT(($CO$2:$CO$338=\"10\")*(Q$2:Q$338>2)*($J$2:$J$338=\"M\")))","v":{"$error":"#DIV/0!"}},{"$f":"SUMPRODUCT((($CO$2:$CO$338=\"10\")*(R$2:R$338)*($J$2:$J$338=\"M\"))/SUMPRODUCT(($CO$2:$CO$338=\"10\")*(R$2:R$338>2)*($J$2:$J$338=\"M\")))","v":{"$error":"#DIV/0!"}},{"$f":"SUMPRODUCT((($CO$2:$CO$338=\"10\")*(S$2:S$338)*($J$2:$J$338=\"M\"))/SUMPRODUCT(($CO$2:$CO$338=\"10\")*(S$2:S$338>2)*($J$2:$J$338=\"M\")))","v":{"$error":"#DIV/0!"}},{"$f":"SUMPRODUCT((($CO$2:$CO$338=\"10\")*(T$2:T$338)*($J$2:$J$338=\"M\"))/SUMPRODUCT(($CO$2:$CO$338=\"10\")*(T$2:T$338>2)*($J$2:$J$338=\"M\")))","v":{"$error":"#DIV/0!"}},{"$f":"SUMPRODUCT((($CO$2:$CO$338=\"10\")*(U$2:U$338)*($J$2:$J$338=\"M\"))/SUMPRODUCT(($CO$2:$CO$338=\"10\")*(U$2:U$338>2)*($J$2:$J$338=\"M\")))","v":{"$error":"#DIV/0!"}},{"$f":"SUMPRODUCT((($CO$2:$CO$338=\"10\")*(V$2:V$338)*($J$2:$J$338=\"M\"))/SUMPRODUCT(($CO$2:$CO$338=\"10\")*(V$2:V$338>2)*($J$2:$J$338=\"M\")))","v":{"$error":"#DIV/0!"}},{"$f":"SUMPRODUCT((($CO$2:$CO$338=\"10\")*(W$2:W$338)*($J$2:$J$338=\"M\"))/SUMPRODUCT(($CO$2:$CO$338=\"10\")*(W$2:W$338>2)*($J$2:$J$338=\"M\")))","v":{"$error":"#DIV/0!"}},{"$f":"SUMPRODUCT((($CO$2:$CO$338=\"10\")*(X$2:X$338)*($J$2:$J$338=\"M\"))/SUMPRODUCT(($CO$2:$CO$338=\"10\")*(X$2:X$338>2)*($J$2:$J$338=\"M\")))","v":{"$error":"#DIV/0!"}},{"$f":"SUMPRODUCT((($CO$2:$CO$338=\"10\")*(Y$2:Y$338)*($J$2:$J$338=\"M\"))/SUMPRODUCT(($CO$2:$CO$338=\"10\")*(Y$2:Y$338>2)*($J$2:$J$338=\"M\")))","v":{"$error":"#DIV/0!"}},{"$f":"SUMPRODUCT((($CO$2:$CO$338=\"10\")*(Z$2:Z$338)*($J$2:$J$338=\"M\"))/SUMPRODUCT(($CO$2:$CO$338=\"10\")*(Z$2:Z$338>2)*($J$2:$J$338=\"M\")))","v":{"$error":"#DIV/0!"}},{"$f":"SUMPRODUCT((($CO$2:$CO$338=\"10\")*(AA$2:AA$338)*($J$2:$J$338=\"M\"))/SUMPRODUCT(($CO$2:$CO$338=\"10\")*(AA$2:AA$338>2)*($J$2:$J$338=\"M\")))","v":{"$error":"#DIV/0!"}},{"$f":"SUMPRODUCT((($CO$2:$CO$338=\"10\")*(AB$2:AB$338)*($J$2:$J$338=\"M\"))/SUMPRODUCT(($CO$2:$CO$338=\"10\")*(AB$2:AB$338>2)*($J$2:$J$338=\"M\")))","v":{"$error":"#DIV/0!"}},{"$f":"SUMPRODUCT((($CO$2:$CO$338=\"10\")*(AC$2:AC$338)*($J$2:$J$338=\"M\"))/SUMPRODUCT(($CO$2:$CO$338=\"10\")*(AC$2:AC$338>2)*($J$2:$J$338=\"M\")))","v":{"$error":"#DIV/0!"}},{"$f":"SUMPRODUCT((($CO$2:$CO$338=\"10\")*(AD$2:AD$338)*($J$2:$J$338=\"M\"))/SUMPRODUCT(($CO$2:$CO$338=\"10\")*(AD$2:AD$338>2)*($J$2:$J$338=\"M\")))","v":{"$error":"#DIV/0!"}},{"$f":"SUMPRODUCT((($CO$2:$CO$338=\"10\")*(AE$2:AE$338)*($J$2:$J$338=\"M\"))/SUMPRODUCT(($CO$2:$CO$338=\"10\")*(AE$2:AE$338>2)*($J$2:$J$338=\"M\")))","v":{"$error":"#DIV/0!"}},{"$f":"SUMPRODUCT((($CO$2:$CO$338=\"10\")*(AF$2:AF$338)*($J$2:$J$338=\"M\"))/SUMPRODUCT(($CO$2:$CO$338=\"10\")*(AF$2:AF$338>2)*($J$2:$J$338=\"M\")))","v":{"$error":"#DIV/0!"}},{"$f":"SUMPRODUCT((($CO$2:$CO$338=\"10\")*(AG$2:AG$338)*($J$2:$J$338=\"M\"))/SUMPRODUCT(($CO$2:$CO$338=\"10\")*(AG$2:AG$338>2)*($J$2:$J$338=\"M\")))","v":{"$error":"#DIV/0!"}},{"$f":"SUMPRODUCT((($CO$2:$CO$338=\"10\")*(AH$2:AH$338)*($J$2:$J$338=\"M\"))/SUMPRODUCT(($CO$2:$CO$338=\"10\")*(AH$2:AH$338>2)*($J$2:$J$338=\"M\")))","v":{"$error":"#DIV/0!"}},{"$f":"SUMPRODUCT((($CO$2:$CO$338=\"10\")*(AI$2:AI$338)*($J$2:$J$338=\"M\"))/SUMPRODUCT(($CO$2:$CO$338=\"10\")*(AI$2:AI$338>2)*($J$2:$J$338=\"M\")))","v":{"$error":"#DIV/0!"}},{"$f":"SUMPRODUCT((($CO$2:$CO$338=\"10\")*(AJ$2:AJ$338)*($J$2:$J$338=\"M\"))/SUMPRODUCT(($CO$2:$CO$338=\"10\")*(AJ$2:AJ$338>2)*($J$2:$J$338=\"M\")))","v":{"$error":"#DIV/0!"}},{"$f":"SUMPRODUCT((($CO$2:$CO$338=\"10\")*(AK$2:AK$338)*($J$2:$J$338=\"M\"))/SUMPRODUCT(($CO$2:$CO$338=\"10\")*(AK$2:AK$338>2)*($J$2:$J$338=\"M\")))","v":{"$error":"#DIV/0!"}},{"$f":"SUMPRODUCT((($CO$2:$CO$338=\"10\")*(AL$2:AL$338)*($J$2:$J$338=\"M\"))/SUMPRODUCT(($CO$2:$CO$338=\"10\")*(AL$2:AL$338>2)*($J$2:$J$338=\"M\")))","v":{"$error":"#DIV/0!"}},{"$f":"SUMPRODUCT((($CO$2:$CO$338=\"10\")*(AM$2:AM$338)*($J$2:$J$338=\"M\"))/SUMPRODUCT(($CO$2:$CO$338=\"10\")*(AM$2:AM$338>2)*($J$2:$J$338=\"M\")))","v":{"$error":"#DIV/0!"}},{"$f":"SUMPRODUCT((($CO$2:$CO$338=\"10\")*(AN$2:AN$338)*($J$2:$J$338=\"M\"))/SUMPRODUCT(($CO$2:$CO$338=\"10\")*(AN$2:AN$338>2)*($J$2:$J$338=\"M\")))","v":{"$error":"#DIV/0!"}},{"$f":"SUMPRODUCT((($CO$2:$CO$338=\"10\")*(AO$2:AO$338)*($J$2:$J$338=\"M\"))/SUMPRODUCT(($CO$2:$CO$338=\"10\")*(AO$2:AO$338>2)*($J$2:$J$338=\"M\")))","v":{"$error":"#DIV/0!"}},{"$f":"SUMPRODUCT((($CO$2:$CO$338=\"10\")*(AP$2:AP$338)*($J$2:$J$338=\"M\"))/SUMPRODUCT(($CO$2:$CO$338=\"10\")*(AP$2:AP$338>2)*($J$2:$J$338=\"M\")))","v":{"$error":"#DIV/0!"}},{"$f":"SUMPRODUCT((($CO$2:$CO$338=\"10\")*(AQ$2:AQ$338)*($J$2:$J$338=\"M\"))/SUMPRODUCT(($CO$2:$CO$338=\"10\")*(AQ$2:AQ$338>2)*($J$2:$J$338=\"M\")))","v":{"$error":"#DIV/0!"}},{"$f":"SUMPRODUCT((($CO$2:$CO$338=\"10\")*(AR$2:AR$338)*($J$2:$J$338=\"M\"))/SUMPRODUCT(($CO$2:$CO$338=\"10\")*(AR$2:AR$338>2)*($J$2:$J$338=\"M\")))","v":{"$error":"#DIV/0!"}},{"$f":"SUMPRODUCT((($CO$2:$CO$338=\"10\")*(AS$2:AS$338)*($J$2:$J$338=\"M\"))/SUMPRODUCT(($CO$2:$CO$338=\"10\")*(AS$2:AS$338>2)*($J$2:$J$338=\"M\")))","v":{"$error":"#DIV/0!"}},{"$f":"SUMPRODUCT((($CO$2:$CO$338=\"10\")*(AT$2:AT$338)*($J$2:$J$338=\"M\"))/SUMPRODUCT(($CO$2:$CO$338=\"10\")*(AT$2:AT$338>2)*($J$2:$J$338=\"M\")))","v":{"$error":"#DIV/0!"}},{"$f":"SUMPRODUCT((($CO$2:$CO$338=\"10\")*(AU$2:AU$338)*($J$2:$J$338=\"M\"))/SUMPRODUCT(($CO$2:$CO$338=\"10\")*(AU$2:AU$338>2)*($J$2:$J$338=\"M\")))","v":{"$error":"#DIV/0!"}},{"$f":"SUMPRODUCT((($CO$2:$CO$338=\"10\")*(AV$2:AV$338)*($J$2:$J$338=\"M\"))/SUMPRODUCT(($CO$2:$CO$338=\"10\")*(AV$2:AV$338>2)*($J$2:$J$338=\"M\")))","v":{"$error":"#DIV/0!"}},{"$f":"SUMPRODUCT((($CO$2:$CO$338=\"10\")*(AW$2:AW$338)*($J$2:$J$338=\"M\"))/SUMPRODUCT(($CO$2:$CO$338=\"10\")*(AW$2:AW$338>2)*($J$2:$J$338=\"M\")))","v":{"$error":"#DIV/0!"}},{"$f":"SUMPRODUCT((($CO$2:$CO$338=\"10\")*(AX$2:AX$338)*($J$2:$J$338=\"M\"))/SUMPRODUCT(($CO$2:$CO$338=\"10\")*(AX$2:AX$338>2)*($J$2:$J$338=\"M\")))","v":{"$error":"#DIV/0!"}},{"$f":"SUMPRODUCT((($CO$2:$CO$338=\"10\")*(AY$2:AY$338)*($J$2:$J$338=\"M\"))/SUMPRODUCT(($CO$2:$CO$338=\"10\")*(AY$2:AY$338>2)*($J$2:$J$338=\"M\")))","v":{"$error":"#DIV/0!"}},{"$f":"SUMPRODUCT((($CO$2:$CO$338=\"10\")*(AZ$2:AZ$338)*($J$2:$J$338=\"M\"))/SUMPRODUCT(($CO$2:$CO$338=\"10\")*(AZ$2:AZ$338>2)*($J$2:$J$338=\"M\")))","v":{"$error":"#DIV/0!"}},{"$f":"SUMPRODUCT((($CO$2:$CO$338=\"10\")*(BA$2:BA$338)*($J$2:$J$338=\"M\"))/SUMPRODUCT(($CO$2:$CO$338=\"10\")*(BA$2:BA$338>2)*($J$2:$J$338=\"M\")))","v":{"$error":"#DIV/0!"}},{"$f":"SUMPRODUCT((($CO$2:$CO$338=\"10\")*(BB$2:BB$338)*($J$2:$J$338=\"M\"))/SUMPRODUCT(($CO$2:$CO$338=\"10\")*(BB$2:BB$338>2)*($J$2:$J$338=\"M\")))","v":{"$error":"#DIV/0!"}},{"$f":"SUMPRODUCT((($CO$2:$CO$338=\"10\")*(BC$2:BC$338)*($J$2:$J$338=\"M\"))/SUMPRODUCT(($CO$2:$CO$338=\"10\")*(BC$2:BC$338>2)*($J$2:$J$338=\"M\")))","v":{"$error":"#DIV/0!"}},{"$f":"SUMPRODUCT((($CO$2:$CO$338=\"10\")*(BD$2:BD$338)*($J$2:$J$338=\"M\"))/SUMPRODUCT(($CO$2:$CO$338=\"10\")*(BD$2:BD$338>2)*($J$2:$J$338=\"M\")))","v":{"$error":"#DIV/0!"}},{"$f":"SUMPRODUCT((($CO$2:$CO$338=\"10\")*(BE$2:BE$338)*($J$2:$J$338=\"M\"))/SUMPRODUCT(($CO$2:$CO$338=\"10\")*(BE$2:BE$338>2)*($J$2:$J$338=\"M\")))","v":{"$error":"#DIV/0!"}},{"$f":"SUMPRODUCT((($CO$2:$CO$338=\"10\")*(BF$2:BF$338)*($J$2:$J$338=\"M\"))/SUMPRODUCT(($CO$2:$CO$338=\"10\")*(BF$2:BF$338>2)*($J$2:$J$338=\"M\")))","v":{"$error":"#DIV/0!"}},{"$f":"SUMPRODUCT((($CO$2:$CO$338=\"10\")*(BG$2:BG$338)*($J$2:$J$338=\"M\"))/SUMPRODUCT(($CO$2:$CO$338=\"10\")*(BG$2:BG$338>2)*($J$2:$J$338=\"M\")))","v":{"$error":"#DIV/0!"}},{"$f":"SUMPRODUCT((($CO$2:$CO$338=\"10\")*(BH$2:BH$338)*($J$2:$J$338=\"M\"))/SUMPRODUCT(($CO$2:$CO$338=\"10\")*(BH$2:BH$338>2)*($J$2:$J$338=\"M\")))","v":{"$error":"#DIV/0!"}},{"$f":"SUMPRODUCT((($CO$2:$CO$338=\"10\")*(BI$2:BI$338)*($J$2:$J$338=\"M\"))/SUMPRODUCT(($CO$2:$CO$338=\"10\")*(BI$2:BI$338>2)*($J$2:$J$338=\"M\")))","v":{"$error":"#DIV/0!"}},{"$f":"SUMPRODUCT((($CO$2:$CO$338=\"10\")*(BJ$2:BJ$338)*($J$2:$J$338=\"M\"))/SUMPRODUCT(($CO$2:$CO$338=\"10\")*(BJ$2:BJ$338>2)*($J$2:$J$338=\"M\")))","v":{"$error":"#DIV/0!"}},{"$f":"SUMPRODUCT((($CO$2:$CO$338=\"10\")*(BK$2:BK$338)*($J$2:$J$338=\"M\"))/SUMPRODUCT(($CO$2:$CO$338=\"10\")*(BK$2:BK$338>2)*($J$2:$J$338=\"M\")))","v":{"$error":"#DIV/0!"}},{"$f":"SUMPRODUCT((($CO$2:$CO$338=\"10\")*(BL$2:BL$338)*($J$2:$J$338=\"M\"))/SUMPRODUCT(($CO$2:$CO$338=\"10\")*(BL$2:BL$338>2)*($J$2:$J$338=\"M\")))","v":{"$error":"#DIV/0!"}},{"$f":"SUMPRODUCT((($CO$2:$CO$338=\"10\")*(BM$2:BM$338)*($J$2:$J$338=\"M\"))/SUMPRODUCT(($CO$2:$CO$338=\"10\")*(BM$2:BM$338>2)*($J$2:$J$338=\"M\")))","v":{"$error":"#DIV/0!"}},{"$f":"SUMPRODUCT((($CO$2:$CO$338=\"10\")*(BN$2:BN$338)*($J$2:$J$338=\"M\"))/SUMPRODUCT(($CO$2:$CO$338=\"10\")*(BN$2:BN$338>2)*($J$2:$J$338=\"M\")))","v":{"$error":"#DIV/0!"}},{"$f":"SUMPRODUCT((($CO$2:$CO$338=\"10\")*(BO$2:BO$338)*($J$2:$J$338=\"M\"))/SUMPRODUCT(($CO$2:$CO$338=\"10\")*(BO$2:BO$338>2)*($J$2:$J$338=\"M\")))","v":{"$error":"#DIV/0!"}},{"$f":"SUMPRODUCT((($CO$2:$CO$338=\"10\")*(BP$2:BP$338)*($J$2:$J$338=\"M\"))/SUMPRODUCT(($CO$2:$CO$338=\"10\")*(BP$2:BP$338>2)*($J$2:$J$338=\"M\")))","v":{"$error":"#DIV/0!"}},{"$f":"SUMPRODUCT((($CO$2:$CO$338=\"10\")*(BQ$2:BQ$338)*($J$2:$J$338=\"M\"))/SUMPRODUCT(($CO$2:$CO$338=\"10\")*(BQ$2:BQ$338>2)*($J$2:$J$338=\"M\")))","v":{"$error":"#DIV/0!"}},{"$f":"SUMPRODUCT((($CO$2:$CO$338=\"10\")*(BR$2:BR$338)*($J$2:$J$338=\"M\"))/SUMPRODUCT(($CO$2:$CO$338=\"10\")*(BR$2:BR$338>2)*($J$2:$J$338=\"M\")))","v":{"$error":"#DIV/0!"}},{"$f":"SUMPRODUCT((($CO$2:$CO$338=\"10\")*(BS$2:BS$338)*($J$2:$J$338=\"M\"))/SUMPRODUCT(($CO$2:$CO$338=\"10\")*(BS$2:BS$338>2)*($J$2:$J$338=\"M\")))","v":{"$error":"#DIV/0!"}},{"$f":"SUMPRODUCT((($CO$2:$CO$338=\"10\")*(BT$2:BT$338)*($J$2:$J$338=\"M\"))/SUMPRODUCT(($CO$2:$CO$338=\"10\")*(BT$2:BT$338>2)*($J$2:$J$338=\"M\")))","v":{"$error":"#DIV/0!"}},{"$f":"SUMPRODUCT((($CO$2:$CO$338=\"10\")*(BU$2:BU$338)*($J$2:$J$338=\"M\"))/SUMPRODUCT(($CO$2:$CO$338=\"10\")*(BU$2:BU$338>2)*($J$2:$J$338=\"M\")))","v":{"$error":"#DIV/0!"}},{"$f":"SUMPRODUCT((($CO$2:$CO$338=\"10\")*(BV$2:BV$338)*($J$2:$J$338=\"M\"))/SUMPRODUCT(($CO$2:$CO$338=\"10\")*(BV$2:BV$338>2)*($J$2:$J$338=\"M\")))","v":{"$error":"#DIV/0!"}},{"$f":"SUMPRODUCT((($CO$2:$CO$338=\"10\")*(BW$2:BW$338)*($J$2:$J$338=\"M\"))/SUMPRODUCT(($CO$2:$CO$338=\"10\")*(BW$2:BW$338>2)*($J$2:$J$338=\"M\")))","v":{"$error":"#DIV/0!"}},{"$f":"IF(L419=0,0,IF(M419=0,AVERAGE(M419,K419,N419),AVERAGE(K419:N419)))","v":{"$error":"#DIV/0!"}},{"$f":"IF(P419=0,0,IF(Q419=0,AVERAGE(Q419,O419,R419),AVERAGE(O419:R419)))","v":{"$error":"#DIV/0!"}},{"$f":"IF(T419=0,0,IF(U419=0,AVERAGE(T419,S419,V419),AVERAGE(S419:V419)))","v":{"$error":"#DIV/0!"}},{"$f":"IF(AB419=0,0,IF(AC419=0,AVERAGE(AB419,AA419,AD419),AVERAGE(AA419:AD419)))","v":{"$error":"#DIV/0!"}},{"$f":"IF(AF419=0,0,IF(AG419=0,AVERAGE(AF419,AE419,AH419),AVERAGE(AE419:AH419)))","v":{"$error":"#DIV/0!"}},{"$f":"IF(AJ419=0,0,IF(AK419=0,AVERAGE(AJ419,AI419,AL419),AVERAGE(AI419:AL419)))","v":{"$error":"#DIV/0!"}},{"$f":"IF(AN419=0,0,IF(AO419=0,AVERAGE(AN419,AM419,AP419),AVERAGE(AM419:AP419)))","v":{"$error":"#DIV/0!"}},{"$f":"IF(AR419=0,0,IF(AS419=0,AVERAGE(AR419,AQ419,AT419),AVERAGE(AQ419:AT419)))","v":{"$error":"#DIV/0!"}},{"$f":"IF(AV419=0,0,IF(AW419=0,AVERAGE(AV419,AU419,AX419),AVERAGE(AU419:AX419)))","v":{"$error":"#DIV/0!"}},{"$f":"IF(AZ419=0,0,IF(BA419=0,AVERAGE(AZ419,AY419,BB419),AVERAGE(AY419:BB419)))","v":{"$error":"#DIV/0!"}},{"$f":"IF(BD419=0,0,IF(BE419=0,AVERAGE(BD419,BC419,BF419),AVERAGE(BC419:BF419)))","v":{"$error":"#DIV/0!"}},{"$f":"IF(BH419=0,0,IF(BI419=0,AVERAGE(BH419,BG419,BJ419,BM419),AVERAGE(BG419:BJ419)))","v":{"$error":"#DIV/0!"}},null,null,null,null,null,null,null,null,null,79,"10m",null,{"$f":"SUMPRODUCT(((#REF!>2)*($CO$2:$CO$339=\"10\")*(#REF!)*(#REF!=\"M\"))/SUMPRODUCT((#REF!>2)*($CO$2:$CO$339=\"10\")*(#REF!>2)*(#REF!=\"M\")))","v":{"$error":"#REF!"}}]
[null,null,null,null,null,null,null,null,null,"10f",{"$f":"SUMPRODUCT((($CO$2:$CO$338=\"10\")*(K$2:K$338)*($J$2:$J$338=\"F\"))/SUMPRODUCT(($CO$2:$CO$338=\"10\")*(K$2:K$338>2)*($J$2:$J$338=\"F\")))","v":{"$error":"#DIV/0!"}},{"$f":"SUMPRODUCT((($CO$2:$CO$338=\"10\")*(L$2:L$338)*($J$2:$J$338=\"F\"))/SUMPRODUCT(($CO$2:$CO$338=\"10\")*(L$2:L$338>2)*($J$2:$J$338=\"F\")))","v":{"$error":"#DIV/0!"}},{"$f":"SUMPRODUCT((($CO$2:$CO$338=\"10\")*(M$2:M$338)*($J$2:$J$338=\"F\"))/SUMPRODUCT(($CO$2:$CO$338=\"10\")*(M$2:M$338>2)*($J$2:$J$338=\"F\")))","v":{"$error":"#DIV/0!"}},{"$f":"SUMPRODUCT((($CO$2:$CO$338=\"10\")*(N$2:N$338)*($J$2:$J$338=\"F\"))/SUMPRODUCT(($CO$2:$CO$338=\"10\")*(N$2:N$338>2)*($J$2:$J$338=\"F\")))","v":{"$error":"#DIV/0!"}},{"$f":"SUMPRODUCT((($CO$2:$CO$338=\"10\")*(O$2:O$338)*($J$2:$J$338=\"F\"))/SUMPRODUCT(($CO$2:$CO$338=\"10\")*(O$2:O$338>2)*($J$2:$J$338=\"F\")))","v":{"$error":"#DIV/0!"}},{"$f":"SUMPRODUCT((($CO$2:$CO$338=\"10\")*(P$2:P$338)*($J$2:$J$338=\"F\"))/SUMPRODUCT(($CO$2:$CO$338=\"10\")*(P$2:P$338>2)*($J$2:$J$338=\"F\")))","v":{"$error":"#DIV/0!"}},{"$f":"SUMPRODUCT((($CO$2:$CO$338=\"10\")*(Q$2:Q$338)*($J$2:$J$338=\"F\"))/SUMPRODUCT(($CO$2:$CO$338=\"10\")*(Q$2:Q$338>2)*($J$2:$J$338=\"F\")))","v":{"$error":"#DIV/0!"}},{"$f":"SUMPRODUCT((($CO$2:$CO$338=\"10\")*(R$2:R$338)*($J$2:$J$338=\"F\"))/SUMPRODUCT(($CO$2:$CO$338=\"10\")*(R$2:R$338>2)*($J$2:$J$338=\"F\")))","v":{"$error":"#DIV/0!"}},{"$f":"SUMPRODUCT((($CO$2:$CO$338=\"10\")*(S$2:S$338)*($J$2:$J$338=\"F\"))/SUMPRODUCT(($CO$2:$CO$338=\"10\")*(S$2:S$338>2)*($J$2:$J$338=\"F\")))","v":{"$error":"#DIV/0!"}},{"$f":"SUMPRODUCT((($CO$2:$CO$338=\"10\")*(T$2:T$338)*($J$2:$J$338=\"F\"))/SUMPRODUCT(($CO$2:$CO$338=\"10\")*(T$2:T$338>2)*($J$2:$J$338=\"F\")))","v":{"$error":"#DIV/0!"}},{"$f":"SUMPRODUCT((($CO$2:$CO$338=\"10\")*(U$2:U$338)*($J$2:$J$338=\"F\"))/SUMPRODUCT(($CO$2:$CO$338=\"10\")*(U$2:U$338>2)*($J$2:$J$338=\"F\")))","v":{"$error":"#DIV/0!"}},{"$f":"SUMPRODUCT((($CO$2:$CO$338=\"10\")*(V$2:V$338)*($J$2:$J$338=\"F\"))/SUMPRODUCT(($CO$2:$CO$338=\"10\")*(V$2:V$338>2)*($J$2:$J$338=\"F\")))","v":{"$error":"#DIV/0!"}},{"$f":"SUMPRODUCT((($CO$2:$CO$338=\"10\")*(W$2:W$338)*($J$2:$J$338=\"F\"))/SUMPRODUCT(($CO$2:$CO$338=\"10\")*(W$2:W$338>2)*($J$2:$J$338=\"F\")))","v":{"$error":"#DIV/0!"}},{"$f":"SUMPRODUCT((($CO$2:$CO$338=\"10\")*(X$2:X$338)*($J$2:$J$338=\"F\"))/SUMPRODUCT(($CO$2:$CO$338=\"10\")*(X$2:X$338>2)*($J$2:$J$338=\"F\")))","v":{"$error":"#DIV/0!"}},{"$f":"SUMPRODUCT((($CO$2:$CO$338=\"10\")*(Y$2:Y$338)*($J$2:$J$338=\"F\"))/SUMPRODUCT(($CO$2:$CO$338=\"10\")*(Y$2:Y$338>2)*($J$2:$J$338=\"F\")))","v":{"$error":"#DIV/0!"}},{"$f":"SUMPRODUCT((($CO$2:$CO$338=\"10\")*(Z$2:Z$338)*($J$2:$J$338=\"F\"))/SUMPRODUCT(($CO$2:$CO$338=\"10\")*(Z$2:Z$338>2)*($J$2:$J$338=\"F\")))","v":{"$error":"#DIV/0!"}},{"$f":"SUMPRODUCT((($CO$2:$CO$338=\"10\")*(AA$2:AA$338)*($J$2:$J$338=\"F\"))/SUMPRODUCT(($CO$2:$CO$338=\"10\")*(AA$2:AA$338>2)*($J$2:$J$338=\"F\")))","v":{"$error":"#DIV/0!"}},{"$f":"SUMPRODUCT((($CO$2:$CO$338=\"10\")*(AB$2:AB$338)*($J$2:$J$338=\"F\"))/SUMPRODUCT(($CO$2:$CO$338=\"10\")*(AB$2:AB$338>2)*($J$2:$J$338=\"F\")))","v":{"$error":"#DIV/0!"}},{"$f":"SUMPRODUCT((($CO$2:$CO$338=\"10\")*(AC$2:AC$338)*($J$2:$J$338=\"F\"))/SUMPRODUCT(($CO$2:$CO$338=\"10\")*(AC$2:AC$338>2)*($J$2:$J$338=\"F\")))","v":{"$error":"#DIV/0!"}},{"$f":"SUMPRODUCT((($CO$2:$CO$338=\"10\")*(AD$2:AD$338)*($J$2:$J$338=\"F\"))/SUMPRODUCT(($CO$2:$CO$338=\"10\")*(AD$2:AD$338>2)*($J$2:$J$338=\"F\")))","v":{"$error":"#DIV/0!"}},{"$f":"SUMPRODUCT((($CO$2:$CO$338=\"10\")*(AE$2:AE$338)*($J$2:$J$338=\"F\"))/SUMPRODUCT(($CO$2:$CO$338=\"10\")*(AE$2:AE$338>2)*($J$2:$J$338=\"F\")))","v":{"$error":"#DIV/0!"}},{"$f":"SUMPRODUCT((($CO$2:$CO$338=\"10\")*(AF$2:AF$338)*($J$2:$J$338=\"F\"))/SUMPRODUCT(($CO$2:$CO$338=\"10\")*(AF$2:AF$338>2)*($J$2:$J$338=\"F\")))","v":{"$error":"#DIV/0!"}},{"$f":"SUMPRODUCT((($CO$2:$CO$338=\"10\")*(AG$2:AG$338)*($J$2:$J$338=\"F\"))/SUMPRODUCT(($CO$2:$CO$338=\"10\")*(AG$2:AG$338>2)*($J$2:$J$338=\"F\")))","v":{"$error":"#DIV/0!"}},{"$f":"SUMPRODUCT((($CO$2:$CO$338=\"10\")*(AH$2:AH$338)*($J$2:$J$338=\"F\"))/SUMPRODUCT(($CO$2:$CO$338=\"10\")*(AH$2:AH$338>2)*($J$2:$J$338=\"F\")))","v":{"$error":"#DIV/0!"}},{"$f":"SUMPRODUCT((($CO$2:$CO$338=\"10\")*(AI$2:AI$338)*($J$2:$J$338=\"F\"))/SUMPRODUCT(($CO$2:$CO$338=\"10\")*(AI$2:AI$338>2)*($J$2:$J$338=\"F\")))","v":{"$error":"#DIV/0!"}},{"$f":"SUMPRODUCT((($CO$2:$CO$338=\"10\")*(AJ$2:AJ$338)*($J$2:$J$338=\"F\"))/SUMPRODUCT(($CO$2:$CO$338=\"10\")*(AJ$2:AJ$338>2)*($J$2:$J$338=\"F\")))","v":{"$error":"#DIV/0!"}},{"$f":"SUMPRODUCT((($CO$2:$CO$338=\"10\")*(AK$2:AK$338)*($J$2:$J$338=\"F\"))/SUMPRODUCT(($CO$2:$CO$338=\"10\")*(AK$2:AK$338>2)*($J$2:$J$338=\"F\")))","v":{"$error":"#DIV/0!"}},{"$f":"SUMPRODUCT((($CO$2:$CO$338=\"10\")*(AL$2:AL$338)*($J$2:$J$338=\"F\"))/SUMPRODUCT(($CO$2:$CO$338=\"10\")*(AL$2:AL$338>2)*($J$2:$J$338=\"F\")))","v":{"$error":"#DIV/0!"}},{"$f":"SUMPRODUCT((($CO$2:$CO$338=\"10\")*(AM$2:AM$338)*($J$2:$J$338=\"F\"))/SUMPRODUCT(($CO$2:$CO$338=\"10\")*(AM$2:AM$338>2)*($J$2:$J$338=\"F\")))","v":{"$error":"#DIV/0!"}},{"$f":"SUMPRODUCT((($CO$2:$CO$338=\"10\")*(AN$2:AN$338)*($J$2:$J$338=\"F\"))/SUMPRODUCT(($CO$2:$CO$338=\"10\")*(AN$2:AN$338>2)*($J$2:$J$338=\"F\")))","v":{"$error":"#DIV/0!"}},{"$f":"SUMPRODUCT((($CO$2:$CO$338=\"10\")*(AO$2:AO$338)*($J$2:$J$338=\"F\"))/SUMPRODUCT(($CO$2:$CO$338=\"10\")*(AO$2:AO$338>2)*($J$2:$J$338=\"F\")))","v":{"$error":"#DIV/0!"}},{"$f":"SUMPRODUCT((($CO$2:$CO$338=\"10\")*(AP$2:AP$338)*($J$2:$J$338=\"F\"))/SUMPRODUCT(($CO$2:$CO$338=\"10\")*(AP$2:AP$338>2)*($J$2:$J$338=\"F\")))","v":{"$error":"#DIV/0!"}},{"$f":"SUMPRODUCT((($CO$2:$CO$338=\"10\")*(AQ$2:AQ$338)*($J$2:$J$338=\"F\"))/SUMPRODUCT(($CO$2:$CO$338=\"10\")*(AQ$2:AQ$338>2)*($J$2:$J$338=\"F\")))","v":{"$error":"#DIV/0!"}},{"$f":"SUMPRODUCT((($CO$2:$CO$338=\"10\")*(AR$2:AR$338)*($J$2:$J$338=\"F\"))/SUMPRODUCT(($CO$2:$CO$338=\"10\")*(AR$2:AR$338>2)*($J$2:$J$338=\"F\")))","v":{"$error":"#DIV/0!"}},{"$f":"SUMPRODUCT((($CO$2:$CO$338=\"10\")*(AS$2:AS$338)*($J$2:$J$338=\"F\"))/SUMPRODUCT(($CO$2:$CO$338=\"10\")*(AS$2:AS$338>2)*($J$2:$J$338=\"F\")))","v":{"$error":"#DIV/0!"}},{"$f":"SUMPRODUCT((($CO$2:$CO$338=\"10\")*(AT$2:AT$338)*($J$2:$J$338=\"F\"))/SUMPRODUCT(($CO$2:$CO$338=\"10\")*(AT$2:AT$338>2)*($J$2:$J$338=\"F\")))","v":{"$error":"#DIV/0!"}},{"$f":"SUMPRODUCT((($CO$2:$CO$338=\"10\")*(AU$2:AU$338)*($J$2:$J$338=\"F\"))/SUMPRODUCT(($CO$2:$CO$338=\"10\")*(AU$2:AU$338>2)*($J$2:$J$338=\"F\")))","v":{"$error":"#DIV/0!"}},{"$f":"SUMPRODUCT((($CO$2:$CO$338=\"10\")*(AV$2:AV$338)*($J$2:$J$338=\"F\"))/SUMPRODUCT(($CO$2:$CO$338=\"10\")*(AV$2:AV$338>2)*($J$2:$J$338=\"F\")))","v":{"$error":"#DIV/0!"}},{"$f":"SUMPRODUCT((($CO$2:$CO$338=\"10\")*(AW$2:AW$338)*($J$2:$J$338=\"F\"))/SUMPRODUCT(($CO$2:$CO$338=\"10\")*(AW$2:AW$338>2)*($J$2:$J$338=\"F\")))","v":{"$error":"#DIV/0!"}},{"$f":"SUMPRODUCT((($CO$2:$CO$338=\"10\")*(AX$2:AX$338)*($J$2:$J$338=\"F\"))/SUMPRODUCT(($CO$2:$CO$338=\"10\")*(AX$2:AX$338>2)*($J$2:$J$338=\"F\")))","v":{"$error":"#DIV/0!"}},{"$f":"SUMPRODUCT((($CO$2:$CO$338=\"10\")*(AY$2:AY$338)*($J$2:$J$338=\"F\"))/SUMPRODUCT(($CO$2:$CO$338=\"10\")*(AY$2:AY$338>2)*($J$2:$J$338=\"F\")))","v":{"$error":"#DIV/0!"}},{"$f":"SUMPRODUCT((($CO$2:$CO$338=\"10\")*(AZ$2:AZ$338)*($J$2:$J$338=\"F\"))/SUMPRODUCT(($CO$2:$CO$338=\"10\")*(AZ$2:AZ$338>2)*($J$2:$J$338=\"F\")))","v":{"$error":"#DIV/0!"}},{"$f":"SUMPRODUCT((($CO$2:$CO$338=\"10\")*(BA$2:BA$338)*($J$2:$J$338=\"F\"))/SUMPRODUCT(($CO$2:$CO$338=\"10\")*(BA$2:BA$338>2)*($J$2:$J$338=\"F\")))","v":{"$error":"#DIV/0!"}},{"$f":"SUMPRODUCT((($CO$2:$CO$338=\"10\")*(BB$2:BB$338)*($J$2:$J$338=\"F\"))/SUMPRODUCT(($CO$2:$CO$338=\"10\")*(BB$2:BB$338>2)*($J$2:$J$338=\"F\")))","v":{"$error":"#DIV/0!"}},{"$f":"SUMPRODUCT((($CO$2:$CO$338=\"10\")*(BC$2:BC$338)*($J$2:$J$338=\"F\"))/SUMPRODUCT(($CO$2:$CO$338=\"10\")*(BC$2:BC$338>2)*($J$2:$J$338=\"F\")))","v":{"$error":"#DIV/0!"}},{"$f":"SUMPRODUCT((($CO$2:$CO$338=\"10\")*(BD$2:BD$338)*($J$2:$J$338=\"F\"))/SUMPRODUCT(($CO$2:$CO$338=\"10\")*(BD$2:BD$338>2)*($J$2:$J$338=\"F\")))","v":{"$error":"#DIV/0!"}},{"$f":"SUMPRODUCT((($CO$2:$CO$338=\"10\")*(BE$2:BE$338)*($J$2:$J$338=\"F\"))/SUMPRODUCT(($CO$2:$CO$338=\"10\")*(BE$2:BE$338>2)*($J$2:$J$338=\"F\")))","v":{"$error":"#DIV/0!"}},{"$f":"SUMPRODUCT((($CO$2:$CO$338=\"10\")*(BF$2:BF$338)*($J$2:$J$338=\"F\"))/SUMPRODUCT(($CO$2:$CO$338=\"10\")*(BF$2:BF$338>2)*($J$2:$J$338=\"F\")))","v":{"$error":"#DIV/0!"}},{"$f":"SUMPRODUCT((($CO$2:$CO$338=\"10\")*(BG$2:BG$338)*($J$2:$J$338=\"F\"))/SUMPRODUCT(($CO$2:$CO$338=\"10\")*(BG$2:BG$338>2)*($J$2:$J$338=\"F\")))","v":{"$error":"#DIV/0!"}},{"$f":"SUMPRODUCT((($CO$2:$CO$338=\"10\")*(BH$2:BH$338)*($J$2:$J$338=\"F\"))/SUMPRODUCT(($CO$2:$CO$338=\"10\")*(BH$2:BH$338>2)*($J$2:$J$338=\"F\")))","v":{"$error":"#DIV/0!"}},{"$f":"SUMPRODUCT((($CO$2:$CO$338=\"10\")*(BI$2:BI$338)*($J$2:$J$338=\"F\"))/SUMPRODUCT(($CO$2:$CO$338=\"10\")*(BI$2:BI$338>2)*($J$2:$J$338=\"F\")))","v":{"$error":"#DIV/0!"}},{"$f":"SUMPRODUCT((($CO$2:$CO$338=\"10\")*(BJ$2:BJ$338)*($J$2:$J$338=\"F\"))/SUMPRODUCT(($CO$2:$CO$338=\"10\")*(BJ$2:BJ$338>2)*($J$2:$J$338=\"F\")))","v":{"$error":"#DIV/0!"}},{"$f":"SUMPRODUCT((($CO$2:$CO$338=\"10\")*(BK$2:BK$338)*($J$2:$J$338=\"F\"))/SUMPRODUCT(($CO$2:$CO$338=\"10\")*(BK$2:BK$338>2)*($J$2:$J$338=\"F\")))","v":{"$error":"#DIV/0!"}},{"$f":"SUMPRODUCT((($CO$2:$CO$338=\"10\")*(BL$2:BL$338)*($J$2:$J$338=\"F\"))/SUMPRODUCT(($CO$2:$CO$338=\"10\")*(BL$2:BL$338>2)*($J$2:$J$338=\"F\")))","v":{"$error":"#DIV/0!"}},{"$f":"SUMPRODUCT((($CO$2:$CO$338=\"10\")*(BM$2:BM$338)*($J$2:$J$338=\"F\"))/SUMPRODUCT(($CO$2:$CO$338=\"10\")*(BM$2:BM$338>2)*($J$2:$J$338=\"F\")))","v":{"$error":"#DIV/0!"}},{"$f":"SUMPRODUCT((($CO$2:$CO$338=\"10\")*(BN$2:BN$338)*($J$2:$J$338=\"F\"))/SUMPRODUCT(($CO$2:$CO$338=\"10\")*(BN$2:BN$338>2)*($J$2:$J$338=\"F\")))","v":{"$error":"#DIV/0!"}},{"$f":"SUMPRODUCT((($CO$2:$CO$338=\"10\")*(BO$2:BO$338)*($J$2:$J$338=\"F\"))/SUMPRODUCT(($CO$2:$CO$338=\"10\")*(BO$2:BO$338>2)*($J$2:$J$338=\"F\")))","v":{"$error":"#DIV/0!"}},{"$f":"SUMPRODUCT((($CO$2:$CO$338=\"10\")*(BP$2:BP$338)*($J$2:$J$338=\"F\"))/SUMPRODUCT(($CO$2:$CO$338=\"10\")*(BP$2:BP$338>2)*($J$2:$J$338=\"F\")))","v":{"$error":"#DIV/0!"}},{"$f":"SUMPRODUCT((($CO$2:$CO$338=\"10\")*(BQ$2:BQ$338)*($J$2:$J$338=\"F\"))/SUMPRODUCT(($CO$2:$CO$338=\"10\")*(BQ$2:BQ$338>2)*($J$2:$J$338=\"F\")))","v":{"$error":"#DIV/0!"}},{"$f":"SUMPRODUCT((($CO$2:$CO$338=\"10\")*(BR$2:BR$338)*($J$2:$J$338=\"F\"))/SUMPRODUCT(($CO$2:$CO$338=\"10\")*(BR$2:BR$338>2)*($J$2:$J$338=\"F\")))","v":{"$error":"#DIV/0!"}},{"$f":"SUMPRODUCT((($CO$2:$CO$338=\"10\")*(BS$2:BS$338)*($J$2:$J$338=\"F\"))/SUMPRODUCT(($CO$2:$CO$338=\"10\")*(BS$2:BS$338>2)*($J$2:$J$338=\"F\")))","v":{"$error":"#DIV/0!"}},{"$f":"SUMPRODUCT((($CO$2:$CO$338=\"10\")*(BT$2:BT$338)*($J$2:$J$338=\"F\"))/SUMPRODUCT(($CO$2:$CO$338=\"10\")*(BT$2:BT$338>2)*($J$2:$J$338=\"F\")))","v":{"$error":"#DIV/0!"}},{"$f":"SUMPRODUCT((($CO$2:$CO$338=\"10\")*(BU$2:BU$338)*($J$2:$J$338=\"F\"))/SUMPRODUCT(($CO$2:$CO$338=\"10\")*(BU$2:BU$338>2)*($J$2:$J$338=\"F\")))","v":{"$error":"#DIV/0!"}},{"$f":"SUMPRODUCT((($CO$2:$CO$338=\"10\")*(BV$2:BV$338)*($J$2:$J$338=\"F\"))/SUMPRODUCT(($CO$2:$CO$338=\"10\")*(BV$2:BV$338>2)*($J$2:$J$338=\"F\")))","v":{"$error":"#DIV/0!"}},{"$f":"SUMPRODUCT((($CO$2:$CO$338=\"10\")*(BW$2:BW$338)*($J$2:$J$338=\"F\"))/SUMPRODUCT(($CO$2:$CO$338=\"10\")*(BW$2:BW$338>2)*($J$2:$J$338=\"F\")))","v":{"$error":"#DIV/0!"}},{"$error":"#DIV/0!"},{"$error":"#DIV/0!"},{"$error":"#DIV/0!"},{"$error":"#DIV/0!"},{"$error":"#DIV/0!"},{"$error":"#DIV/0!"},{"$error":"#DIV/0!"},{"$error":"#DIV/0!"},{"$error":"#DIV/0!"},{"$error":"#DIV/0!"},{"$error":"#DIV/0!"},{"$error":"#DIV/0!"},null,null,null,null,null,null,null,null,null,80,"10f",null,{"$f":"SUMPRODUCT(((#REF!>2)*($CO$2:$CO$339=\"10\")*(#REF!)*(#REF!=\"F\"))/SUMPRODUCT((#REF!>2)*($CO$2:$CO$339=\"10\")*(#REF!>2)*(#REF!=\"F\")))","v":{"$error":"#REF!"}}]
[null,null,null,null,null,null,null,null,null,"10j",{"$f":"SUMPRODUCT((($CO$2:$CO$338=\"10\")*(K$2:K$338)*($CT$2:$CT$338=\"J\"))/SUMPRODUCT(($CO$2:$CO$338=\"10\")*(K$2:K$338>2)*($CT$2:$CT$338=\"J\")))","v":{"$error":"#DIV/0!"}},{"$f":"SUMPRODUCT((($CO$2:$CO$338=\"10\")*(L$2:L$338)*($CT$2:$CT$338=\"J\"))/SUMPRODUCT(($CO$2:$CO$338=\"10\")*(L$2:L$338>2)*($CT$2:$CT$338=\"J\")))","v":{"$error":"#DIV/0!"}},{"$f":"SUMPRODUCT((($CO$2:$CO$338=\"10\")*(M$2:M$338)*($CT$2:$CT$338=\"J\"))/SUMPRODUCT(($CO$2:$CO$338=\"10\")*(M$2:M$338>2)*($CT$2:$CT$338=\"J\")))","v":{"$error":"#DIV/0!"}},{"$f":"SUMPRODUCT((($CO$2:$CO$338=\"10\")*(N$2:N$338)*($CT$2:$CT$338=\"J\"))/SUMPRODUCT(($CO$2:$CO$338=\"10\")*(N$2:N$338>2)*($CT$2:$CT$338=\"J\")))","v":{"$error":"#DIV/0!"}},{"$f":"SUMPRODUCT((($CO$2:$CO$338=\"10\")*(O$2:O$338)*($CT$2:$CT$338=\"J\"))/SUMPRODUCT(($CO$2:$CO$338=\"10\")*(O$2:O$338>2)*($CT$2:$CT$338=\"J\")))","v":{"$error":"#DIV/0!"}},{"$f":"SUMPRODUCT((($CO$2:$CO$338=\"10\")*(P$2:P$338)*($CT$2:$CT$338=\"J\"))/SUMPRODUCT(($CO$2:$CO$338=\"10\")*(P$2:P$338>2)*($CT$2:$CT$338=\"J\")))","v":{"$error":"#DIV/0!"}},{"$f":"SUMPRODUCT((($CO$2:$CO$338=\"10\")*(Q$2:Q$338)*($CT$2:$CT$338=\"J\"))/SUMPRODUCT(($CO$2:$CO$338=\"10\")*(Q$2:Q$338>2)*($CT$2:$CT$338=\"J\")))","v":{"$error":"#DIV/0!"}},{"$f":"SUMPRODUCT((($CO$2:$CO$338=\"10\")*(R$2:R$338)*($CT$2:$CT$338=\"J\"))/SUMPRODUCT(($CO$2:$CO$338=\"10\")*(R$2:R$338>2)*($CT$2:$CT$338=\"J\")))","v":{"$error":"#DIV/0!"}},{"$f":"SUMPRODUCT((($CO$2:$CO$338=\"10\")*(S$2:S$338)*($CT$2:$CT$338=\"J\"))/SUMPRODUCT(($CO$2:$CO$338=\"10\")*(S$2:S$338>2)*($CT$2:$CT$338=\"J\")))","v":{"$error":"#DIV/0!"}},{"$f":"SUMPRODUCT((($CO$2:$CO$338=\"10\")*(T$2:T$338)*($CT$2:$CT$338=\"J\"))/SUMPRODUCT(($CO$2:$CO$338=\"10\")*(T$2:T$338>2)*($CT$2:$CT$338=\"J\")))","v":{"$error":"#DIV/0!"}},{"$f":"SUMPRODUCT((($CO$2:$CO$338=\"10\")*(U$2:U$338)*($CT$2:$CT$338=\"J\"))/SUMPRODUCT(($CO$2:$CO$338=\"10\")*(U$2:U$338>2)*($CT$2:$CT$338=\"J\")))","v":{"$error":"#DIV/0!"}},{"$f":"SUMPRODUCT((($CO$2:$CO$338=\"10\")*(V$2:V$338)*($CT$2:$CT$338=\"J\"))/SUMPRODUCT(($CO$2:$CO$338=\"10\")*(V$2:V$338>2)*($CT$2:$CT$338=\"J\")))","v":{"$error":"#DIV/0!"}},{"$f":"SUMPRODUCT((($CO$2:$CO$338=\"10\")*(W$2:W$338)*($CT$2:$CT$338=\"J\"))/SUMPRODUCT(($CO$2:$CO$338=\"10\")*(W$2:W$338>2)*($CT$2:$CT$338=\"J\")))","v":{"$error":"#DIV/0!"}},{"$f":"SUMPRODUCT((($CO$2:$CO$338=\"10\")*(X$2:X$338)*($CT$2:$CT$338=\"J\"))/SUMPRODUCT(($CO$2:$CO$338=\"10\")*(X$2:X$338>2)*($CT$2:$CT$338=\"J\")))","v":{"$error":"#DIV/0!"}},{"$f":"SUMPRODUCT((($CO$2:$CO$338=\"10\")*(Y$2:Y$338)*($CT$2:$CT$338=\"J\"))/SUMPRODUCT(($CO$2:$CO$338=\"10\")*(Y$2:Y$338>2)*($CT$2:$CT$338=\"J\")))","v":{"$error":"#DIV/0!"}},{"$f":"SUMPRODUCT((($CO$2:$CO$338=\"10\")*(Z$2:Z$338)*($CT$2:$CT$338=\"J\"))/SUMPRODUCT(($CO$2:$CO$338=\"10\")*(Z$2:Z$338>2)*($CT$2:$CT$338=\"J\")))","v":{"$error":"#DIV/0!"}},{"$f":"SUMPRODUCT((($CO$2:$CO$338=\"10\")*(AA$2:AA$338)*($CT$2:$CT$338=\"J\"))/SUMPRODUCT(($CO$2:$CO$338=\"10\")*(AA$2:AA$338>2)*($CT$2:$CT$338=\"J\")))","v":{"$error":"#DIV/0!"}},{"$f":"SUMPRODUCT((($CO$2:$CO$338=\"10\")*(AB$2:AB$338)*($CT$2:$CT$338=\"J\"))/SUMPRODUCT(($CO$2:$CO$338=\"10\")*(AB$2:AB$338>2)*($CT$2:$CT$338=\"J\")))","v":{"$error":"#DIV/0!"}},{"$f":"SUMPRODUCT((($CO$2:$CO$338=\"10\")*(AC$2:AC$338)*($CT$2:$CT$338=\"J\"))/SUMPRODUCT(($CO$2:$CO$338=\"10\")*(AC$2:AC$338>2)*($CT$2:$CT$338=\"J\")))","v":{"$error":"#DIV/0!"}},{"$f":"SUMPRODUCT((($CO$2:$CO$338=\"10\")*(AD$2:AD$338)*($CT$2:$CT$338=\"J\"))/SUMPRODUCT(($CO$2:$CO$338=\"10\")*(AD$2:AD$338>2)*($CT$2:$CT$338=\"J\")))","v":{"$error":"#DIV/0!"}},{"$f":"SUMPRODUCT((($CO$2:$CO$338=\"10\")*(AE$2:AE$338)*($CT$2:$CT$338=\"J\"))/SUMPRODUCT(($CO$2:$CO$338=\"10\")*(AE$2:AE$338>2)*($CT$2:$CT$338=\"J\")))","v":{"$error":"#DIV/0!"}},{"$f":"SUMPRODUCT((($CO$2:$CO$338=\"10\")*(AF$2:AF$338)*($CT$2:$CT$338=\"J\"))/SUMPRODUCT(($CO$2:$CO$338=\"10\")*(AF$2:AF$338>2)*($CT$2:$CT$338=\"J\")))","v":{"$error":"#DIV/0!"}},{"$f":"SUMPRODUCT((($CO$2:$CO$338=\"10\")*(AG$2:AG$338)*($CT$2:$CT$338=\"J\"))/SUMPRODUCT(($CO$2:$CO$338=\"10\")*(AG$2:AG$338>2)*($CT$2:$CT$338=\"J\")))","v":{"$error":"#DIV/0!"}},{"$f":"SUMPRODUCT((($CO$2:$CO$338=\"10\")*(AH$2:AH$338)*($CT$2:$CT$338=\"J\"))/SUMPRODUCT(($CO$2:$CO$338=\"10\")*(AH$2:AH$338>2)*($CT$2:$CT$338=\"J\")))","v":{"$error":"#DIV/0!"}},{"$f":"SUMPRODUCT((($CO$2:$CO$338=\"10\")*(AI$2:AI$338)*($CT$2:$CT$338=\"J\"))/SUMPRODUCT(($CO$2:$CO$338=\"10\")*(AI$2:AI$338>2)*($CT$2:$CT$338=\"J\")))","v":{"$error":"#DIV/0!"}},{"$f":"SUMPRODUCT((($CO$2:$CO$338=\"10\")*(AJ$2:AJ$338)*($CT$2:$CT$338=\"J\"))/SUMPRODUCT(($CO$2:$CO$338=\"10\")*(AJ$2:AJ$338>2)*($CT$2:$CT$338=\"J\")))","v":{"$error":"#DIV/0!"}},{"$f":"SUMPRODUCT((($CO$2:$CO$338=\"10\")*(AK$2:AK$338)*($CT$2:$CT$338=\"J\"))/SUMPRODUCT(($CO$2:$CO$338=\"10\")*(AK$2:AK$338>2)*($CT$2:$CT$338=\"J\")))","v":{"$error":"#DIV/0!"}},{"$f":"SUMPRODUCT((($CO$2:$CO$338=\"10\")*(AL$2:AL$338)*($CT$2:$CT$338=\"J\"))/SUMPRODUCT(($CO$2:$CO$338=\"10\")*(AL$2:AL$338>2)*($CT$2:$CT$338=\"J\")))","v":{"$error":"#DIV/0!"}},{"$f":"SUMPRODUCT((($CO$2:$CO$338=\"10\")*(AM$2:AM$338)*($CT$2:$CT$338=\"J\"))/SUMPRODUCT(($CO$2:$CO$338=\"10\")*(AM$2:AM$338>2)*($CT$2:$CT$338=\"J\")))","v":{"$error":"#DIV/0!"}},{"$f":"SUMPRODUCT((($CO$2:$CO$338=\"10\")*(AN$2:AN$338)*($CT$2:$CT$338=\"J\"))/SUMPRODUCT(($CO$2:$CO$338=\"10\")*(AN$2:AN$338>2)*($CT$2:$CT$338=\"J\")))","v":{"$error":"#DIV/0!"}},{"$f":"SUMPRODUCT((($CO$2:$CO$338=\"10\")*(AO$2:AO$338)*($CT$2:$CT$338=\"J\"))/SUMPRODUCT(($CO$2:$CO$338=\"10\")*(AO$2:AO$338>2)*($CT$2:$CT$338=\"J\")))","v":{"$error":"#DIV/0!"}},{"$f":"SUMPRODUCT((($CO$2:$CO$338=\"10\")*(AP$2:AP$338)*($CT$2:$CT$338=\"J\"))/SUMPRODUCT(($CO$2:$CO$338=\"10\")*(AP$2:AP$338>2)*($CT$2:$CT$338=\"J\")))","v":{"$error":"#DIV/0!"}},{"$f":"SUMPRODUCT((($CO$2:$CO$338=\"10\")*(AQ$2:AQ$338)*($CT$2:$CT$338=\"J\"))/SUMPRODUCT(($CO$2:$CO$338=\"10\")*(AQ$2:AQ$338>2)*($CT$2:$CT$338=\"J\")))","v":{"$error":"#DIV/0!"}},{"$f":"SUMPRODUCT((($CO$2:$CO$338=\"10\")*(AR$2:AR$338)*($CT$2:$CT$338=\"J\"))/SUMPRODUCT(($CO$2:$CO$338=\"10\")*(AR$2:AR$338>2)*($CT$2:$CT$338=\"J\")))","v":{"$error":"#DIV/0!"}},{"$f":"SUMPRODUCT((($CO$2:$CO$338=\"10\")*(AS$2:AS$338)*($CT$2:$CT$338=\"J\"))/SUMPRODUCT(($CO$2:$CO$338=\"10\")*(AS$2:AS$338>2)*($CT$2:$CT$338=\"J\")))","v":{"$error":"#DIV/0!"}},{"$f":"SUMPRODUCT((($CO$2:$CO$338=\"10\")*(AT$2:AT$338)*($CT$2:$CT$338=\"J\"))/SUMPRODUCT(($CO$2:$CO$338=\"10\")*(AT$2:AT$338>2)*($CT$2:$CT$338=\"J\")))","v":{"$error":"#DIV/0!"}},{"$f":"SUMPRODUCT((($CO$2:$CO$338=\"10\")*(AU$2:AU$338)*($CT$2:$CT$338=\"J\"))/SUMPRODUCT(($CO$2:$CO$338=\"10\")*(AU$2:AU$338>2)*($CT$2:$CT$338=\"J\")))","v":{"$error":"#DIV/0!"}},{"$f":"SUMPRODUCT((($CO$2:$CO$338=\"10\")*(AV$2:AV$338)*($CT$2:$CT$338=\"J\"))/SUMPRODUCT(($CO$2:$CO$338=\"10\")*(AV$2:AV$338>2)*($CT$2:$CT$338=\"J\")))","v":{"$error":"#DIV/0!"}},{"$f":"SUMPRODUCT((($CO$2:$CO$338=\"10\")*(AW$2:AW$338)*($CT$2:$CT$338=\"J\"))/SUMPRODUCT(($CO$2:$CO$338=\"10\")*(AW$2:AW$338>2)*($CT$2:$CT$338=\"J\")))","v":{"$error":"#DIV/0!"}},{"$f":"SUMPRODUCT((($CO$2:$CO$338=\"10\")*(AX$2:AX$338)*($CT$2:$CT$338=\"J\"))/SUMPRODUCT(($CO$2:$CO$338=\"10\")*(AX$2:AX$338>2)*($CT$2:$CT$338=\"J\")))","v":{"$error":"#DIV/0!"}},{"$f":"SUMPRODUCT((($CO$2:$CO$338=\"10\")*(AY$2:AY$338)*($CT$2:$CT$338=\"J\"))/SUMPRODUCT(($CO$2:$CO$338=\"10\")*(AY$2:AY$338>2)*($CT$2:$CT$338=\"J\")))","v":{"$error":"#DIV/0!"}},{"$f":"SUMPRODUCT((($CO$2:$CO$338=\"10\")*(AZ$2:AZ$338)*($CT$2:$CT$338=\"J\"))/SUMPRODUCT(($CO$2:$CO$338=\"10\")*(AZ$2:AZ$338>2)*($CT$2:$CT$338=\"J\")))","v":{"$error":"#DIV/0!"}},{"$f":"SUMPRODUCT((($CO$2:$CO$338=\"10\")*(BA$2:BA$338)*($CT$2:$CT$338=\"J\"))/SUMPRODUCT(($CO$2:$CO$338=\"10\")*(BA$2:BA$338>2)*($CT$2:$CT$338=\"J\")))","v":{"$error":"#DIV/0!"}},{"$f":"SUMPRODUCT((($CO$2:$CO$338=\"10\")*(BB$2:BB$338)*($CT$2:$CT$338=\"J\"))/SUMPRODUCT(($CO$2:$CO$338=\"10\")*(BB$2:BB$338>2)*($CT$2:$CT$338=\"J\")))","v":{"$error":"#DIV/0!"}},{"$f":"SUMPRODUCT((($CO$2:$CO$338=\"10\")*(BC$2:BC$338)*($CT$2:$CT$338=\"J\"))/SUMPRODUCT(($CO$2:$CO$338=\"10\")*(BC$2:BC$338>2)*($CT$2:$CT$338=\"J\")))","v":{"$error":"#DIV/0!"}},{"$f":"SUMPRODUCT((($CO$2:$CO$338=\"10\")*(BD$2:BD$338)*($CT$2:$CT$338=\"J\"))/SUMPRODUCT(($CO$2:$CO$338=\"10\")*(BD$2:BD$338>2)*($CT$2:$CT$338=\"J\")))","v":{"$error":"#DIV/0!"}},{"$f":"SUMPRODUCT((($CO$2:$CO$338=\"10\")*(BE$2:BE$338)*($CT$2:$CT$338=\"J\"))/SUMPRODUCT(($CO$2:$CO$338=\"10\")*(BE$2:BE$338>2)*($CT$2:$CT$338=\"J\")))","v":{"$error":"#DIV/0!"}},{"$f":"SUMPRODUCT((($CO$2:$CO$338=\"10\")*(BF$2:BF$338)*($CT$2:$CT$338=\"J\"))/SUMPRODUCT(($CO$2:$CO$338=\"10\")*(BF$2:BF$338>2)*($CT$2:$CT$338=\"J\")))","v":{"$error":"#DIV/0!"}},{"$f":"SUMPRODUCT((($CO$2:$CO$338=\"10\")*(BG$2:BG$338)*($CT$2:$CT$338=\"J\"))/SUMPRODUCT(($CO$2:$CO$338=\"10\")*(BG$2:BG$338>2)*($CT$2:$CT$338=\"J\")))","v":{"$error":"#DIV/0!"}},{"$f":"SUMPRODUCT((($CO$2:$CO$338=\"10\")*(BH$2:BH$338)*($CT$2:$CT$338=\"J\"))/SUMPRODUCT(($CO$2:$CO$338=\"10\")*(BH$2:BH$338>2)*($CT$2:$CT$338=\"J\")))","v":{"$error":"#DIV/0!"}},{"$f":"SUMPRODUCT((($CO$2:$CO$338=\"10\")*(BI$2:BI$338)*($CT$2:$CT$338=\"J\"))/SUMPRODUCT(($CO$2:$CO$338=\"10\")*(BI$2:BI$338>2)*($CT$2:$CT$338=\"J\")))","v":{"$error":"#DIV/0!"}},{"$f":"SUMPRODUCT((($CO$2:$CO$338=\"10\")*(BJ$2:BJ$338)*($CT$2:$CT$338=\"J\"))/SUMPRODUCT(($CO$2:$CO$338=\"10\")*(BJ$2:BJ$338>2)*($CT$2:$CT$338=\"J\")))","v":{"$error":"#DIV/0!"}},{"$f":"SUMPRODUCT((($CO$2:$CO$338=\"10\")*(BK$2:BK$338)*($CT$2:$CT$338=\"J\"))/SUMPRODUCT(($CO$2:$CO$338=\"10\")*(BK$2:BK$338>2)*($CT$2:$CT$338=\"J\")))","v":{"$error":"#DIV/0!"}},{"$f":"SUMPRODUCT((($CO$2:$CO$338=\"10\")*(BL$2:BL$338)*($CT$2:$CT$338=\"J\"))/SUMPRODUCT(($CO$2:$CO$338=\"10\")*(BL$2:BL$338>2)*($CT$2:$CT$338=\"J\")))","v":{"$error":"#DIV/0!"}},{"$f":"SUMPRODUCT((($CO$2:$CO$338=\"10\")*(BM$2:BM$338)*($CT$2:$CT$338=\"J\"))/SUMPRODUCT(($CO$2:$CO$338=\"10\")*(BM$2:BM$338>2)*($CT$2:$CT$338=\"J\")))","v":{"$error":"#DIV/0!"}},{"$f":"SUMPRODUCT((($CO$2:$CO$338=\"10\")*(BN$2:BN$338)*($CT$2:$CT$338=\"J\"))/SUMPRODUCT(($CO$2:$CO$338=\"10\")*(BN$2:BN$338>2)*($CT$2:$CT$338=\"J\")))","v":{"$error":"#DIV/0!"}},{"$f":"SUMPRODUCT((($CO$2:$CO$338=\"10\")*(BO$2:BO$338)*($CT$2:$CT$338=\"J\"))/SUMPRODUCT(($CO$2:$CO$338=\"10\")*(BO$2:BO$338>2)*($CT$2:$CT$338=\"J\")))","v":{"$error":"#DIV/0!"}},{"$f":"SUMPRODUCT((($CO$2:$CO$338=\"10\")*(BP$2:BP$338)*($CT$2:$CT$338=\"J\"))/SUMPRODUCT(($CO$2:$CO$338=\"10\")*(BP$2:BP$338>2)*($CT$2:$CT$338=\"J\")))","v":{"$error":"#DIV/0!"}},{"$f":"SUMPRODUCT((($CO$2:$CO$338=\"10\")*(BQ$2:BQ$338)*($CT$2:$CT$338=\"J\"))/SUMPRODUCT(($CO$2:$CO$338=\"10\")*(BQ$2:BQ$338>2)*($CT$2:$CT$338=\"J\")))","v":{"$error":"#DIV/0!"}},{"$f":"SUMPRODUCT((($CO$2:$CO$338=\"10\")*(BR$2:BR$338)*($CT$2:$CT$338=\"J\"))/SUMPRODUCT(($CO$2:$CO$338=\"10\")*(BR$2:BR$338>2)*($CT$2:$CT$338=\"J\")))","v":{"$error":"#DIV/0!"}},{"$f":"SUMPRODUCT((($CO$2:$CO$338=\"10\")*(BS$2:BS$338)*($CT$2:$CT$338=\"J\"))/SUMPRODUCT(($CO$2:$CO$338=\"10\")*(BS$2:BS$338>2)*($CT$2:$CT$338=\"J\")))","v":{"$error":"#DIV/0!"}},{"$f":"SUMPRODUCT((($CO$2:$CO$338=\"10\")*(BT$2:BT$338)*($CT$2:$CT$338=\"J\"))/SUMPRODUCT(($CO$2:$CO$338=\"10\")*(BT$2:BT$338>2)*($CT$2:$CT$338=\"J\")))","v":{"$error":"#DIV/0!"}},{"$f":"SUMPRODUCT((($CO$2:$CO$338=\"10\")*(BU$2:BU$338)*($CT$2:$CT$338=\"J\"))/SUMPRODUCT(($CO$2:$CO$338=\"10\")*(BU$2:BU$338>2)*($CT$2:$CT$338=\"J\")))","v":{"$error":"#DIV/0!"}},{"$f":"SUMPRODUCT((($CO$2:$CO$338=\"10\")*(BV$2:BV$338)*($CT$2:$CT$338=\"J\"))/SUMPRODUCT(($CO$2:$CO$338=\"10\")*(BV$2:BV$338>2)*($CT$2:$CT$338=\"J\")))","v":{"$error":"#DIV/0!"}},{"$f":"SUMPRODUCT((($CO$2:$CO$338=\"10\")*(BW$2:BW$338)*($CT$2:$CT$338=\"J\"))/SUMPRODUCT(($CO$2:$CO$338=\"10\")*(BW$2:BW$338>2)*($CT$2:$CT$338=\"J\")))","v":{"$error":"#DIV/0!"}},{"$error":"#DIV/0!"},{"$error":"#DIV/0!"},{"$error":"#DIV/0!"},{"$error":"#DIV/0!"},{"$error":"#DIV/0!"},{"$error":"#DIV/0!"},{"$error":"#DIV/0!"},{"$error":"#DIV/0!"},{"$error":"#DIV/0!"},{"$error":"#DIV/0!"},{"$error":"#DIV/0!"},{"$error":"#DIV/0!"},null,null,null,null,null,null,null,null,null,81,"10j",null,{"$f":"SUMPRODUCT(((#REF!>2)*($CO$2:$CO$339=\"10\")*(#REF!)*($CT$2:$CT$339=\"J\"))/SUMPRODUCT((#REF!>2)*($CO$2:$CO$339=\"10\")*(#REF!>2)*($CT$2:$CT$339=\"J\")))","v":{"$error":"#REF!"}}]
[null,null,null,null,null,null,null,null,null,"10v",{"$f":"SUMPRODUCT((($CO$2:$CO$338=\"10\")*(K$2:K$338)*($CT$2:$CT$338=\"V\"))/SUMPRODUCT(($CO$2:$CO$338=\"10\")*(K$2:K$338>2)*($CT$2:$CT$338=\"V\")))","v":{"$error":"#DIV/0!"}},{"$f":"SUMPRODUCT((($CO$2:$CO$338=\"10\")*(L$2:L$338)*($CT$2:$CT$338=\"V\"))/SUMPRODUCT(($CO$2:$CO$338=\"10\")*(L$2:L$338>2)*($CT$2:$CT$338=\"V\")))","v":{"$error":"#DIV/0!"}},{"$f":"SUMPRODUCT((($CO$2:$CO$338=\"10\")*(M$2:M$338)*($CT$2:$CT$338=\"V\"))/SUMPRODUCT(($CO$2:$CO$338=\"10\")*(M$2:M$338>2)*($CT$2:$CT$338=\"V\")))","v":{"$error":"#DIV/0!"}},{"$f":"SUMPRODUCT((($CO$2:$CO$338=\"10\")*(N$2:N$338)*($CT$2:$CT$338=\"V\"))/SUMPRODUCT(($CO$2:$CO$338=\"10\")*(N$2:N$338>2)*($CT$2:$CT$338=\"V\")))","v":{"$error":"#DIV/0!"}},{"$f":"SUMPRODUCT((($CO$2:$CO$338=\"10\")*(O$2:O$338)*($CT$2:$CT$338=\"V\"))/SUMPRODUCT(($CO$2:$CO$338=\"10\")*(O$2:O$338>2)*($CT$2:$CT$338=\"V\")))","v":{"$error":"#DIV/0!"}},{"$f":"SUMPRODUCT((($CO$2:$CO$338=\"10\")*(P$2:P$338)*($CT$2:$CT$338=\"V\"))/SUMPRODUCT(($CO$2:$CO$338=\"10\")*(P$2:P$338>2)*($CT$2:$CT$338=\"V\")))","v":{"$error":"#DIV/0!"}},{"$f":"SUMPRODUCT((($CO$2:$CO$338=\"10\")*(Q$2:Q$338)*($CT$2:$CT$338=\"V\"))/SUMPRODUCT(($CO$2:$CO$338=\"10\")*(Q$2:Q$338>2)*($CT$2:$CT$338=\"V\")))","v":{"$error":"#DIV/0!"}},{"$f":"SUMPRODUCT((($CO$2:$CO$338=\"10\")*(R$2:R$338)*($CT$2:$CT$338=\"V\"))/SUMPRODUCT(($CO$2:$CO$338=\"10\")*(R$2:R$338>2)*($CT$2:$CT$338=\"V\")))","v":{"$error":"#DIV/0!"}},{"$f":"SUMPRODUCT((($CO$2:$CO$338=\"10\")*(S$2:S$338)*($CT$2:$CT$338=\"V\"))/SUMPRODUCT(($CO$2:$CO$338=\"10\")*(S$2:S$338>2)*($CT$2:$CT$338=\"V\")))","v":{"$error":"#DIV/0!"}},{"$f":"SUMPRODUCT((($CO$2:$CO$338=\"10\")*(T$2:T$338)*($CT$2:$CT$338=\"V\"))/SUMPRODUCT(($CO$2:$CO$338=\"10\")*(T$2:T$338>2)*($CT$2:$CT$338=\"V\")))","v":{"$error":"#DIV/0!"}},{"$f":"SUMPRODUCT((($CO$2:$CO$338=\"10\")*(U$2:U$338)*($CT$2:$CT$338=\"V\"))/SUMPRODUCT(($CO$2:$CO$338=\"10\")*(U$2:U$338>2)*($CT$2:$CT$338=\"V\")))","v":{"$error":"#DIV/0!"}},{"$f":"SUMPRODUCT((($CO$2:$CO$338=\"10\")*(V$2:V$338)*($CT$2:$CT$338=\"V\"))/SUMPRODUCT(($CO$2:$CO$338=\"10\")*(V$2:V$338>2)*($CT$2:$CT$338=\"V\")))","v":{"$error":"#DIV/0!"}},{"$f":"SUMPRODUCT((($CO$2:$CO$338=\"10\")*(W$2:W$338)*($CT$2:$CT$338=\"V\"))/SUMPRODUCT(($CO$2:$CO$338=\"10\")*(W$2:W$338>2)*($CT$2:$CT$338=\"V\")))","v":{"$error":"#DIV/0!"}},{"$f":"SUMPRODUCT((($CO$2:$CO$338=\"10\")*(X$2:X$338)*($CT$2:$CT$338=\"V\"))/SUMPRODUCT(($CO$2:$CO$338=\"10\")*(X$2:X$338>2)*($CT$2:$CT$338=\"V\")))","v":{"$error":"#DIV/0!"}},{"$f":"SUMPRODUCT((($CO$2:$CO$338=\"10\")*(Y$2:Y$338)*($CT$2:$CT$338=\"V\"))/SUMPRODUCT(($CO$2:$CO$338=\"10\")*(Y$2:Y$338>2)*($CT$2:$CT$338=\"V\")))","v":{"$error":"#DIV/0!"}},{"$f":"SUMPRODUCT((($CO$2:$CO$338=\"10\")*(Z$2:Z$338)*($CT$2:$CT$338=\"V\"))/SUMPRODUCT(($CO$2:$CO$338=\"10\")*(Z$2:Z$338>2)*($CT$2:$CT$338=\"V\")))","v":{"$error":"#DIV/0!"}},{"$f":"SUMPRODUCT((($CO$2:$CO$338=\"10\")*(AA$2:AA$338)*($CT$2:$CT$338=\"V\"))/SUMPRODUCT(($CO$2:$CO$338=\"10\")*(AA$2:AA$338>2)*($CT$2:$CT$338=\"V\")))","v":{"$error":"#DIV/0!"}},{"$f":"SUMPRODUCT((($CO$2:$CO$338=\"10\")*(AB$2:AB$338)*($CT$2:$CT$338=\"V\"))/SUMPRODUCT(($CO$2:$CO$338=\"10\")*(AB$2:AB$338>2)*($CT$2:$CT$338=\"V\")))","v":{"$error":"#DIV/0!"}},{"$f":"SUMPRODUCT((($CO$2:$CO$338=\"10\")*(AC$2:AC$338)*($CT$2:$CT$338=\"V\"))/SUMPRODUCT(($CO$2:$CO$338=\"10\")*(AC$2:AC$338>2)*($CT$2:$CT$338=\"V\")))","v":{"$error":"#DIV/0!"}},{"$f":"SUMPRODUCT((($CO$2:$CO$338=\"10\")*(AD$2:AD$338)*($CT$2:$CT$338=\"V\"))/SUMPRODUCT(($CO$2:$CO$338=\"10\")*(AD$2:AD$338>2)*($CT$2:$CT$338=\"V\")))","v":{"$error":"#DIV/0!"}},{"$f":"SUMPRODUCT((($CO$2:$CO$338=\"10\")*(AE$2:AE$338)*($CT$2:$CT$338=\"V\"))/SUMPRODUCT(($CO$2:$CO$338=\"10\")*(AE$2:AE$338>2)*($CT$2:$CT$338=\"V\")))","v":{"$error":"#DIV/0!"}},{"$f":"SUMPRODUCT((($CO$2:$CO$338=\"10\")*(AF$2:AF$338)*($CT$2:$CT$338=\"V\"))/SUMPRODUCT(($CO$2:$CO$338=\"10\")*(AF$2:AF$338>2)*($CT$2:$CT$338=\"V\")))","v":{"$error":"#DIV/0!"}},{"$f":"SUMPRODUCT((($CO$2:$CO$338=\"10\")*(AG$2:AG$338)*($CT$2:$CT$338=\"V\"))/SUMPRODUCT(($CO$2:$CO$338=\"10\")*(AG$2:AG$338>2)*($CT$2:$CT$338=\"V\")))","v":{"$error":"#DIV/0!"}},{"$f":"SUMPRODUCT((($CO$2:$CO$338=\"10\")*(AH$2:AH$338)*($CT$2:$CT$338=\"V\"))/SUMPRODUCT(($CO$2:$CO$338=\"10\")*(AH$2:AH$338>2)*($CT$2:$CT$338=\"V\")))","v":{"$error":"#DIV/0!"}},{"$f":"SUMPRODUCT((($CO$2:$CO$338=\"10\")*(AI$2:AI$338)*($CT$2:$CT$338=\"V\"))/SUMPRODUCT(($CO$2:$CO$338=\"10\")*(AI$2:AI$338>2)*($CT$2:$CT$338=\"V\")))","v":{"$error":"#DIV/0!"}},{"$f":"SUMPRODUCT((($CO$2:$CO$338=\"10\")*(AJ$2:AJ$338)*($CT$2:$CT$338=\"V\"))/SUMPRODUCT(($CO$2:$CO$338=\"10\")*(AJ$2:AJ$338>2)*($CT$2:$CT$338=\"V\")))","v":{"$error":"#DIV/0!"}},{"$f":"SUMPRODUCT((($CO$2:$CO$338=\"10\")*(AK$2:AK$338)*($CT$2:$CT$338=\"V\"))/SUMPRODUCT(($CO$2:$CO$338=\"10\")*(AK$2:AK$338>2)*($CT$2:$CT$338=\"V\")))","v":{"$error":"#DIV/0!"}},{"$f":"SUMPRODUCT((($CO$2:$CO$338=\"10\")*(AL$2:AL$338)*($CT$2:$CT$338=\"V\"))/SUMPRODUCT(($CO$2:$CO$338=\"10\")*(AL$2:AL$338>2)*($CT$2:$CT$338=\"V\")))","v":{"$error":"#DIV/0!"}},{"$f":"SUMPRODUCT((($CO$2:$CO$338=\"10\")*(AM$2:AM$338)*($CT$2:$CT$338=\"V\"))/SUMPRODUCT(($CO$2:$CO$338=\"10\")*(AM$2:AM$338>2)*($CT$2:$CT$338=\"V\")))","v":{"$error":"#DIV/0!"}},{"$f":"SUMPRODUCT((($CO$2:$CO$338=\"10\")*(AN$2:AN$338)*($CT$2:$CT$338=\"V\"))/SUMPRODUCT(($CO$2:$CO$338=\"10\")*(AN$2:AN$338>2)*($CT$2:$CT$338=\"V\")))","v":{"$error":"#DIV/0!"}},{"$f":"SUMPRODUCT((($CO$2:$CO$338=\"10\")*(AO$2:AO$338)*($CT$2:$CT$338=\"V\"))/SUMPRODUCT(($CO$2:$CO$338=\"10\")*(AO$2:AO$338>2)*($CT$2:$CT$338=\"V\")))","v":{"$error":"#DIV/0!"}},{"$f":"SUMPRODUCT((($CO$2:$CO$338=\"10\")*(AP$2:AP$338)*($CT$2:$CT$338=\"V\"))/SUMPRODUCT(($CO$2:$CO$338=\"10\")*(AP$2:AP$338>2)*($CT$2:$CT$338=\"V\")))","v":{"$error":"#DIV/0!"}},{"$f":"SUMPRODUCT((($CO$2:$CO$338=\"10\")*(AQ$2:AQ$338)*($CT$2:$CT$338=\"V\"))/SUMPRODUCT(($CO$2:$CO$338=\"10\")*(AQ$2:AQ$338>2)*($CT$2:$CT$338=\"V\")))","v":{"$error":"#DIV/0!"}},{"$f":"SUMPRODUCT((($CO$2:$CO$338=\"10\")*(AR$2:AR$338)*($CT$2:$CT$338=\"V\"))/SUMPRODUCT(($CO$2:$CO$338=\"10\")*(AR$2:AR$338>2)*($CT$2:$CT$338=\"V\")))","v":{"$error":"#DIV/0!"}},{"$f":"SUMPRODUCT((($CO$2:$CO$338=\"10\")*(AS$2:AS$338)*($CT$2:$CT$338=\"V\"))/SUMPRODUCT(($CO$2:$CO$338=\"10\")*(AS$2:AS$338>2)*($CT$2:$CT$338=\"V\")))","v":{"$error":"#DIV/0!"}},{"$f":"SUMPRODUCT((($CO$2:$CO$338=\"10\")*(AT$2:AT$338)*($CT$2:$CT$338=\"V\"))/SUMPRODUCT(($CO$2:$CO$338=\"10\")*(AT$2:AT$338>2)*($CT$2:$CT$338=\"V\")))","v":{"$error":"#DIV/0!"}},{"$f":"SUMPRODUCT((($CO$2:$CO$338=\"10\")*(AU$2:AU$338)*($CT$2:$CT$338=\"V\"))/SUMPRODUCT(($CO$2:$CO$338=\"10\")*(AU$2:AU$338>2)*($CT$2:$CT$338=\"V\")))","v":{"$error":"#DIV/0!"}},{"$f":"SUMPRODUCT((($CO$2:$CO$338=\"10\")*(AV$2:AV$338)*($CT$2:$CT$338=\"V\"))/SUMPRODUCT(($CO$2:$CO$338=\"10\")*(AV$2:AV$338>2)*($CT$2:$CT$338=\"V\")))","v":{"$error":"#DIV/0!"}},{"$f":"SUMPRODUCT((($CO$2:$CO$338=\"10\")*(AW$2:AW$338)*($CT$2:$CT$338=\"V\"))/SUMPRODUCT(($CO$2:$CO$338=\"10\")*(AW$2:AW$338>2)*($CT$2:$CT$338=\"V\")))","v":{"$error":"#DIV/0!"}},{"$f":"SUMPRODUCT((($CO$2:$CO$338=\"10\")*(AX$2:AX$338)*($CT$2:$CT$338=\"V\"))/SUMPRODUCT(($CO$2:$CO$338=\"10\")*(AX$2:AX$338>2)*($CT$2:$CT$338=\"V\")))","v":{"$error":"#DIV/0!"}},{"$f":"SUMPRODUCT((($CO$2:$CO$338=\"10\")*(AY$2:AY$338)*($CT$2:$CT$338=\"V\"))/SUMPRODUCT(($CO$2:$CO$338=\"10\")*(AY$2:AY$338>2)*($CT$2:$CT$338=\"V\")))","v":{"$error":"#DIV/0!"}},{"$f":"SUMPRODUCT((($CO$2:$CO$338=\"10\")*(AZ$2:AZ$338)*($CT$2:$CT$338=\"V\"))/SUMPRODUCT(($CO$2:$CO$338=\"10\")*(AZ$2:AZ$338>2)*($CT$2:$CT$338=\"V\")))","v":{"$error":"#DIV/0!"}},{"$f":"SUMPRODUCT((($CO$2:$CO$338=\"10\")*(BA$2:BA$338)*($CT$2:$CT$338=\"V\"))/SUMPRODUCT(($CO$2:$CO$338=\"10\")*(BA$2:BA$338>2)*($CT$2:$CT$338=\"V\")))","v":{"$error":"#DIV/0!"}},{"$f":"SUMPRODUCT((($CO$2:$CO$338=\"10\")*(BB$2:BB$338)*($CT$2:$CT$338=\"V\"))/SUMPRODUCT(($CO$2:$CO$338=\"10\")*(BB$2:BB$338>2)*($CT$2:$CT$338=\"V\")))","v":{"$error":"#DIV/0!"}},{"$f":"SUMPRODUCT((($CO$2:$CO$338=\"10\")*(BC$2:BC$338)*($CT$2:$CT$338=\"V\"))/SUMPRODUCT(($CO$2:$CO$338=\"10\")*(BC$2:BC$338>2)*($CT$2:$CT$338=\"V\")))","v":{"$error":"#DIV/0!"}},{"$f":"SUMPRODUCT((($CO$2:$CO$338=\"10\")*(BD$2:BD$338)*($CT$2:$CT$338=\"V\"))/SUMPRODUCT(($CO$2:$CO$338=\"10\")*(BD$2:BD$338>2)*($CT$2:$CT$338=\"V\")))","v":{"$error":"#DIV/0!"}},{"$f":"SUMPRODUCT((($CO$2:$CO$338=\"10\")*(BE$2:BE$338)*($CT$2:$CT$338=\"V\"))/SUMPRODUCT(($CO$2:$CO$338=\"10\")*(BE$2:BE$338>2)*($CT$2:$CT$338=\"V\")))","v":{"$error":"#DIV/0!"}},{"$f":"SUMPRODUCT((($CO$2:$CO$338=\"10\")*(BF$2:BF$338)*($CT$2:$CT$338=\"V\"))/SUMPRODUCT(($CO$2:$CO$338=\"10\")*(BF$2:BF$338>2)*($CT$2:$CT$338=\"V\")))","v":{"$error":"#DIV/0!"}},{"$f":"SUMPRODUCT((($CO$2:$CO$338=\"10\")*(BG$2:BG$338)*($CT$2:$CT$338=\"V\"))/SUMPRODUCT(($CO$2:$CO$338=\"10\")*(BG$2:BG$338>2)*($CT$2:$CT$338=\"V\")))","v":{"$error":"#DIV/0!"}},{"$f":"SUMPRODUCT((($CO$2:$CO$338=\"10\")*(BH$2:BH$338)*($CT$2:$CT$338=\"V\"))/SUMPRODUCT(($CO$2:$CO$338=\"10\")*(BH$2:BH$338>2)*($CT$2:$CT$338=\"V\")))","v":{"$error":"#DIV/0!"}},{"$f":"SUMPRODUCT((($CO$2:$CO$338=\"10\")*(BI$2:BI$338)*($CT$2:$CT$338=\"V\"))/SUMPRODUCT(($CO$2:$CO$338=\"10\")*(BI$2:BI$338>2)*($CT$2:$CT$338=\"V\")))","v":{"$error":"#DIV/0!"}},{"$f":"SUMPRODUCT((($CO$2:$CO$338=\"10\")*(BJ$2:BJ$338)*($CT$2:$CT$338=\"V\"))/SUMPRODUCT(($CO$2:$CO$338=\"10\")*(BJ$2:BJ$338>2)*($CT$2:$CT$338=\"V\")))","v":{"$error":"#DIV/0!"}},{"$f":"SUMPRODUCT((($CO$2:$CO$338=\"10\")*(BK$2:BK$338)*($CT$2:$CT$338=\"V\"))/SUMPRODUCT(($CO$2:$CO$338=\"10\")*(BK$2:BK$338>2)*($CT$2:$CT$338=\"V\")))","v":{"$error":"#DIV/0!"}},{"$f":"SUMPRODUCT((($CO$2:$CO$338=\"10\")*(BL$2:BL$338)*($CT$2:$CT$338=\"V\"))/SUMPRODUCT(($CO$2:$CO$338=\"10\")*(BL$2:BL$338>2)*($CT$2:$CT$338=\"V\")))","v":{"$error":"#DIV/0!"}},{"$f":"SUMPRODUCT((($CO$2:$CO$338=\"10\")*(BM$2:BM$338)*($CT$2:$CT$338=\"V\"))/SUMPRODUCT(($CO$2:$CO$338=\"10\")*(BM$2:BM$338>2)*($CT$2:$CT$338=\"V\")))","v":{"$error":"#DIV/0!"}},{"$f":"SUMPRODUCT((($CO$2:$CO$338=\"10\")*(BN$2:BN$338)*($CT$2:$CT$338=\"V\"))/SUMPRODUCT(($CO$2:$CO$338=\"10\")*(BN$2:BN$338>2)*($CT$2:$CT$338=\"V\")))","v":{"$error":"#DIV/0!"}},{"$f":"SUMPRODUCT((($CO$2:$CO$338=\"10\")*(BO$2:BO$338)*($CT$2:$CT$338=\"V\"))/SUMPRODUCT(($CO$2:$CO$338=\"10\")*(BO$2:BO$338>2)*($CT$2:$CT$338=\"V\")))","v":{"$error":"#DIV/0!"}},{"$f":"SUMPRODUCT((($CO$2:$CO$338=\"10\")*(BP$2:BP$338)*($CT$2:$CT$338=\"V\"))/SUMPRODUCT(($CO$2:$CO$338=\"10\")*(BP$2:BP$338>2)*($CT$2:$CT$338=\"V\")))","v":{"$error":"#DIV/0!"}},{"$f":"SUMPRODUCT((($CO$2:$CO$338=\"10\")*(BQ$2:BQ$338)*($CT$2:$CT$338=\"V\"))/SUMPRODUCT(($CO$2:$CO$338=\"10\")*(BQ$2:BQ$338>2)*($CT$2:$CT$338=\"V\")))","v":{"$error":"#DIV/0!"}},{"$f":"SUMPRODUCT((($CO$2:$CO$338=\"10\")*(BR$2:BR$338)*($CT$2:$CT$338=\"V\"))/SUMPRODUCT(($CO$2:$CO$338=\"10\")*(BR$2:BR$338>2)*($CT$2:$CT$338=\"V\")))","v":{"$error":"#DIV/0!"}},{"$f":"SUMPRODUCT((($CO$2:$CO$338=\"10\")*(BS$2:BS$338)*($CT$2:$CT$338=\"V\"))/SUMPRODUCT(($CO$2:$CO$338=\"10\")*(BS$2:BS$338>2)*($CT$2:$CT$338=\"V\")))","v":{"$error":"#DIV/0!"}},{"$f":"SUMPRODUCT((($CO$2:$CO$338=\"10\")*(BT$2:BT$338)*($CT$2:$CT$338=\"V\"))/SUMPRODUCT(($CO$2:$CO$338=\"10\")*(BT$2:BT$338>2)*($CT$2:$CT$338=\"V\")))","v":{"$error":"#DIV/0!"}},{"$f":"SUMPRODUCT((($CO$2:$CO$338=\"10\")*(BU$2:BU$338)*($CT$2:$CT$338=\"V\"))/SUMPRODUCT(($CO$2:$CO$338=\"10\")*(BU$2:BU$338>2)*($CT$2:$CT$338=\"V\")))","v":{"$error":"#DIV/0!"}},{"$f":"SUMPRODUCT((($CO$2:$CO$338=\"10\")*(BV$2:BV$338)*($CT$2:$CT$338=\"V\"))/SUMPRODUCT(($CO$2:$CO$338=\"10\")*(BV$2:BV$338>2)*($CT$2:$CT$338=\"V\")))","v":{"$error":"#DIV/0!"}},{"$f":"SUMPRODUCT((($CO$2:$CO$338=\"10\")*(BW$2:BW$338)*($CT$2:$CT$338=\"V\"))/SUMPRODUCT(($CO$2:$CO$338=\"10\")*(BW$2:BW$338>2)*($CT$2:$CT$338=\"V\")))","v":{"$error":"#DIV/0!"}},{"$error":"#DIV/0!"},{"$error":"#DIV/0!"},{"$error":"#DIV/0!"},{"$error":"#DIV/0!"},{"$error":"#DIV/0!"},{"$error":"#DIV/0!"},{"$error":"#DIV/0!"},{"$error":"#DIV/0!"},{"$error":"#DIV/0!"},{"$error":"#DIV/0!"},{"$error":"#DIV/0!"},{"$error":"#DIV/0!"},null,null,null,null,null,null,null,null,null,82,"10v",null,{"$f":"SUMPRODUCT(((#REF!>2)*($CO$2:$CO$339=\"10\")*(#REF!)*($CT$2:$CT$339=\"V\"))/SUMPRODUCT((#REF!>2)*($CO$2:$CO$339=\"10\")*(#REF!>2)*($CT$2:$CT$339=\"V\")))","v":{"$error":"#REF!"}}]
[null,null,null,null,null,null,null,null,null,"10vsdoub",{"$f":"SUMPRODUCT((($CO$2:$CO$338=\"10\")*(K$2:K$338)*($CT$2:$CT$338=\"V\")*($F$2:$F$338=0))/SUMPRODUCT(($CO$2:$CO$338=\"10\")*(K$2:K$338>2)*($CT$2:$CT$338=\"V\")*($F$2:$F$338=0)))","v":{"$error":"#DIV/0!"}},{"$f":"SUMPRODUCT((($CO$2:$CO$338=\"10\")*(L$2:L$338)*($CT$2:$CT$338=\"V\")*($F$2:$F$338=0))/SUMPRODUCT(($CO$2:$CO$338=\"10\")*(L$2:L$338>2)*($CT$2:$CT$338=\"V\")*($F$2:$F$338=0)))","v":{"$error":"#DIV/0!"}},{"$f":"SUMPRODUCT((($CO$2:$CO$338=\"10\")*(M$2:M$338)*($CT$2:$CT$338=\"V\")*($F$2:$F$338=0))/SUMPRODUCT(($CO$2:$CO$338=\"10\")*(M$2:M$338>2)*($CT$2:$CT$338=\"V\")*($F$2:$F$338=0)))","v":{"$error":"#DIV/0!"}},{"$f":"SUMPRODUCT((($CO$2:$CO$338=\"10\")*(N$2:N$338)*($CT$2:$CT$338=\"V\")*($F$2:$F$338=0))/SUMPRODUCT(($CO$2:$CO$338=\"10\")*(N$2:N$338>2)*($CT$2:$CT$338=\"V\")*($F$2:$F$338=0)))","v":{"$error":"#DIV/0!"}},{"$f":"SUMPRODUCT((($CO$2:$CO$338=\"10\")*(O$2:O$338)*($CT$2:$CT$338=\"V\")*($F$2:$F$338=0))/SUMPRODUCT(($CO$2:$CO$338=\"10\")*(O$2:O$338>2)*($CT$2:$CT$338=\"V\")*($F$2:$F$338=0)))","v":{"$error":"#DIV/0!"}},{"$f":"SUMPRODUCT((($CO$2:$CO$338=\"10\")*(P$2:P$338)*($CT$2:$CT$338=\"V\")*($F$2:$F$338=0))/SUMPRODUCT(($CO$2:$CO$338=\"10\")*(P$2:P$338>2)*($CT$2:$CT$338=\"V\")*($F$2:$F$338=0)))","v":{"$error":"#DIV/0!"}},{"$f":"SUMPRODUCT((($CO$2:$CO$338=\"10\")*(Q$2:Q$338)*($CT$2:$CT$338=\"V\")*($F$2:$F$338=0))/SUMPRODUCT(($CO$2:$CO$338=\"10\")*(Q$2:Q$338>2)*($CT$2:$CT$338=\"V\")*($F$2:$F$338=0)))","v":{"$error":"#DIV/0!"}},{"$f":"SUMPRODUCT((($CO$2:$CO$338=\"10\")*(R$2:R$338)*($CT$2:$CT$338=\"V\")*($F$2:$F$338=0))/SUMPRODUCT(($CO$2:$CO$338=\"10\")*(R$2:R$338>2)*($CT$2:$CT$338=\"V\")*($F$2:$F$338=0)))","v":{"$error":"#DIV/0!"}},{"$f":"SUMPRODUCT((($CO$2:$CO$338=\"10\")*(S$2:S$338)*($CT$2:$CT$338=\"V\")*($F$2:$F$338=0))/SUMPRODUCT(($CO$2:$CO$338=\"10\")*(S$2:S$338>2)*($CT$2:$CT$338=\"V\")*($F$2:$F$338=0)))","v":{"$error":"#DIV/0!"}},{"$f":"SUMPRODUCT((($CO$2:$CO$338=\"10\")*(T$2:T$338)*($CT$2:$CT$338=\"V\")*($F$2:$F$338=0))/SUMPRODUCT(($CO$2:$CO$338=\"10\")*(T$2:T$338>2)*($CT$2:$CT$338=\"V\")*($F$2:$F$338=0)))","v":{"$error":"#DIV/0!"}},{"$f":"SUMPRODUCT((($CO$2:$CO$338=\"10\")*(U$2:U$338)*($CT$2:$CT$338=\"V\")*($F$2:$F$338=0))/SUMPRODUCT(($CO$2:$CO$338=\"10\")*(U$2:U$338>2)*($CT$2:$CT$338=\"V\")*($F$2:$F$338=0)))","v":{"$error":"#DIV/0!"}},{"$f":"SUMPRODUCT((($CO$2:$CO$338=\"10\")*(V$2:V$338)*($CT$2:$CT$338=\"V\")*($F$2:$F$338=0))/SUMPRODUCT(($CO$2:$CO$338=\"10\")*(V$2:V$338>2)*($CT$2:$CT$338=\"V\")*($F$2:$F$338=0)))","v":{"$error":"#DIV/0!"}},{"$f":"SUMPRODUCT((($CO$2:$CO$338=\"10\")*(W$2:W$338)*($CT$2:$CT$338=\"V\")*($F$2:$F$338=0))/SUMPRODUCT(($CO$2:$CO$338=\"10\")*(W$2:W$338>2)*($CT$2:$CT$338=\"V\")*($F$2:$F$338=0)))","v":{"$error":"#DIV/0!"}},{"$f":"SUMPRODUCT((($CO$2:$CO$338=\"10\")*(X$2:X$338)*($CT$2:$CT$338=\"V\")*($F$2:$F$338=0))/SUMPRODUCT(($CO$2:$CO$338=\"10\")*(X$2:X$338>2)*($CT$2:$CT$338=\"V\")*($F$2:$F$338=0)))","v":{"$error":"#DIV/0!"}},{"$f":"SUMPRODUCT((($CO$2:$CO$338=\"10\")*(Y$2:Y$338)*($CT$2:$CT$338=\"V\")*($F$2:$F$338=0))/SUMPRODUCT(($CO$2:$CO$338=\"10\")*(Y$2:Y$338>2)*($CT$2:$CT$338=\"V\")*($F$2:$F$338=0)))","v":{"$error":"#DIV/0!"}},{"$f":"SUMPRODUCT((($CO$2:$CO$338=\"10\")*(Z$2:Z$338)*($CT$2:$CT$338=\"V\")*($F$2:$F$338=0))/SUMPRODUCT(($CO$2:$CO$338=\"10\")*(Z$2:Z$338>2)*($CT$2:$CT$338=\"V\")*($F$2:$F$338=0)))","v":{"$error":"#DIV/0!"}},{"$f":"SUMPRODUCT((($CO$2:$CO$338=\"10\")*(AA$2:AA$338)*($CT$2:$CT$338=\"V\")*($F$2:$F$338=0))/SUMPRODUCT(($CO$2:$CO$338=\"10\")*(AA$2:AA$338>2)*($CT$2:$CT$338=\"V\")*($F$2:$F$338=0)))","v":{"$error":"#DIV/0!"}},{"$f":"SUMPRODUCT((($CO$2:$CO$338=\"10\")*(AB$2:AB$338)*($CT$2:$CT$338=\"V\")*($F$2:$F$338=0))/SUMPRODUCT(($CO$2:$CO$338=\"10\")*(AB$2:AB$338>2)*($CT$2:$CT$338=\"V\")*($F$2:$F$338=0)))","v":{"$error":"#DIV/0!"}},{"$f":"SUMPRODUCT((($CO$2:$CO$338=\"10\")*(AC$2:AC$338)*($CT$2:$CT$338=\"V\")*($F$2:$F$338=0))/SUMPRODUCT(($CO$2:$CO$338=\"10\")*(AC$2:AC$338>2)*($CT$2:$CT$338=\"V\")*($F$2:$F$338=0)))","v":{"$error":"#DIV/0!"}},{"$f":"SUMPRODUCT((($CO$2:$CO$338=\"10\")*(AD$2:AD$338)*($CT$2:$CT$338=\"V\")*($F$2:$F$338=0))/SUMPRODUCT(($CO$2:$CO$338=\"10\")*(AD$2:AD$338>2)*($CT$2:$CT$338=\"V\")*($F$2:$F$338=0)))","v":{"$error":"#DIV/0!"}},{"$f":"SUMPRODUCT((($CO$2:$CO$338=\"10\")*(AE$2:AE$338)*($CT$2:$CT$338=\"V\")*($F$2:$F$338=0))/SUMPRODUCT(($CO$2:$CO$338=\"10\")*(AE$2:AE$338>2)*($CT$2:$CT$338=\"V\")*($F$2:$F$338=0)))","v":{"$error":"#DIV/0!"}},{"$f":"SUMPRODUCT((($CO$2:$CO$338=\"10\")*(AF$2:AF$338)*($CT$2:$CT$338=\"V\")*($F$2:$F$338=0))/SUMPRODUCT(($CO$2:$CO$338=\"10\")*(AF$2:AF$338>2)*($CT$2:$CT$338=\"V\")*($F$2:$F$338=0)))","v":{"$error":"#DIV/0!"}},{"$f":"SUMPRODUCT((($CO$2:$CO$338=\"10\")*(AG$2:AG$338)*($CT$2:$CT$338=\"V\")*($F$2:$F$338=0))/SUMPRODUCT(($CO$2:$CO$338=\"10\")*(AG$2:AG$338>2)*($CT$2:$CT$338=\"V\")*($F$2:$F$338=0)))","v":{"$error":"#DIV/0!"}},{"$f":"SUMPRODUCT((($CO$2:$CO$338=\"10\")*(AH$2:AH$338)*($CT$2:$CT$338=\"V\")*($F$2:$F$338=0))/SUMPRODUCT(($CO$2:$CO$338=\"10\")*(AH$2:AH$338>2)*($CT$2:$CT$338=\"V\")*($F$2:$F$338=0)))","v":{"$error":"#DIV/0!"}},{"$f":"SUMPRODUCT((($CO$2:$CO$338=\"10\")*(AI$2:AI$338)*($CT$2:$CT$338=\"V\")*($F$2:$F$338=0))/SUMPRODUCT(($CO$2:$CO$338=\"10\")*(AI$2:AI$338>2)*($CT$2:$CT$338=\"V\")*($F$2:$F$338=0)))","v":{"$error":"#DIV/0!"}},{"$f":"SUMPRODUCT((($CO$2:$CO$338=\"10\")*(AJ$2:AJ$338)*($CT$2:$CT$338=\"V\")*($F$2:$F$338=0))/SUMPRODUCT(($CO$2:$CO$338=\"10\")*(AJ$2:AJ$338>2)*($CT$2:$CT$338=\"V\")*($F$2:$F$338=0)))","v":{"$error":"#DIV/0!"}},{"$f":"SUMPRODUCT((($CO$2:$CO$338=\"10\")*(AK$2:AK$338)*($CT$2:$CT$338=\"V\")*($F$2:$F$338=0))/SUMPRODUCT(($CO$2:$CO$338=\"10\")*(AK$2:AK$338>2)*($CT$2:$CT$338=\"V\")*($F$2:$F$338=0)))","v":{"$error":"#DIV/0!"}},{"$f":"SUMPRODUCT((($CO$2:$CO$338=\"10\")*(AL$2:AL$338)*($CT$2:$CT$338=\"V\")*($F$2:$F$338=0))/SUMPRODUCT(($CO$2:$CO$338=\"10\")*(AL$2:AL$338>2)*($CT$2:$CT$338=\"V\")*($F$2:$F$338=0)))","v":{"$error":"#DIV/0!"}},{"$f":"SUMPRODUCT((($CO$2:$CO$338=\"10\")*(AM$2:AM$338)*($CT$2:$CT$338=\"V\")*($F$2:$F$338=0))/SUMPRODUCT(($CO$2:$CO$338=\"10\")*(AM$2:AM$338>2)*($CT$2:$CT$338=\"V\")*($F$2:$F$338=0)))","v":{"$error":"#DIV/0!"}},{"$f":"SUMPRODUCT((($CO$2:$CO$338=\"10\")*(AN$2:AN$338)*($CT$2:$CT$338=\"V\")*($F$2:$F$338=0))/SUMPRODUCT(($CO$2:$CO$338=\"10\")*(AN$2:AN$338>2)*($CT$2:$CT$338=\"V\")*($F$2:$F$338=0)))","v":{"$error":"#DIV/0!"}},{"$f":"SUMPRODUCT((($CO$2:$CO$338=\"10\")*(AO$2:AO$338)*($CT$2:$CT$338=\"V\")*($F$2:$F$338=0))/SUMPRODUCT(($CO$2:$CO$338=\"10\")*(AO$2:AO$338>2)*($CT$2:$CT$338=\"V\")*($F$2:$F$338=0)))","v":{"$error":"#DIV/0!"}},{"$f":"SUMPRODUCT((($CO$2:$CO$338=\"10\")*(AP$2:AP$338)*($CT$2:$CT$338=\"V\")*($F$2:$F$338=0))/SUMPRODUCT(($CO$2:$CO$338=\"10\")*(AP$2:AP$338>2)*($CT$2:$CT$338=\"V\")*($F$2:$F$338=0)))","v":{"$error":"#DIV/0!"}},{"$f":"SUMPRODUCT((($CO$2:$CO$338=\"10\")*(AQ$2:AQ$338)*($CT$2:$CT$338=\"V\")*($F$2:$F$338=0))/SUMPRODUCT(($CO$2:$CO$338=\"10\")*(AQ$2:AQ$338>2)*($CT$2:$CT$338=\"V\")*($F$2:$F$338=0)))","v":{"$error":"#DIV/0!"}},{"$f":"SUMPRODUCT((($CO$2:$CO$338=\"10\")*(AR$2:AR$338)*($CT$2:$CT$338=\"V\")*($F$2:$F$338=0))/SUMPRODUCT(($CO$2:$CO$338=\"10\")*(AR$2:AR$338>2)*($CT$2:$CT$338=\"V\")*($F$2:$F$338=0)))","v":{"$error":"#DIV/0!"}},{"$f":"SUMPRODUCT((($CO$2:$CO$338=\"10\")*(AS$2:AS$338)*($CT$2:$CT$338=\"V\")*($F$2:$F$338=0))/SUMPRODUCT(($CO$2:$CO$338=\"10\")*(AS$2:AS$338>2)*($CT$2:$CT$338=\"V\")*($F$2:$F$338=0)))","v":{"$error":"#DIV/0!"}},{"$f":"SUMPRODUCT((($CO$2:$CO$338=\"10\")*(AT$2:AT$338)*($CT$2:$CT$338=\"V\")*($F$2:$F$338=0))/SUMPRODUCT(($CO$2:$CO$338=\"10\")*(AT$2:AT$338>2)*($CT$2:$CT$338=\"V\")*($F$2:$F$338=0)))","v":{"$error":"#DIV/0!"}},{"$f":"SUMPRODUCT((($CO$2:$CO$338=\"10\")*(AU$2:AU$338)*($CT$2:$CT$338=\"V\")*($F$2:$F$338=0))/SUMPRODUCT(($CO$2:$CO$338=\"10\")*(AU$2:AU$338>2)*($CT$2:$CT$338=\"V\")*($F$2:$F$338=0)))","v":{"$error":"#DIV/0!"}},{"$f":"SUMPRODUCT((($CO$2:$CO$338=\"10\")*(AV$2:AV$338)*($CT$2:$CT$338=\"V\")*($F$2:$F$338=0))/SUMPRODUCT(($CO$2:$CO$338=\"10\")*(AV$2:AV$338>2)*($CT$2:$CT$338=\"V\")*($F$2:$F$338=0)))","v":{"$error":"#DIV/0!"}},{"$f":"SUMPRODUCT((($CO$2:$CO$338=\"10\")*(AW$2:AW$338)*($CT$2:$CT$338=\"V\")*($F$2:$F$338=0))/SUMPRODUCT(($CO$2:$CO$338=\"10\")*(AW$2:AW$338>2)*($CT$2:$CT$338=\"V\")*($F$2:$F$338=0)))","v":{"$error":"#DIV/0!"}},{"$f":"SUMPRODUCT((($CO$2:$CO$338=\"10\")*(AX$2:AX$338)*($CT$2:$CT$338=\"V\")*($F$2:$F$338=0))/SUMPRODUCT(($CO$2:$CO$338=\"10\")*(AX$2:AX$338>2)*($CT$2:$CT$338=\"V\")*($F$2:$F$338=0)))","v":{"$error":"#DIV/0!"}},{"$f":"SUMPRODUCT((($CO$2:$CO$338=\"10\")*(AY$2:AY$338)*($CT$2:$CT$338=\"V\")*($F$2:$F$338=0))/SUMPRODUCT(($CO$2:$CO$338=\"10\")*(AY$2:AY$338>2)*($CT$2:$CT$338=\"V\")*($F$2:$F$338=0)))","v":{"$error":"#DIV/0!"}},{"$f":"SUMPRODUCT((($CO$2:$CO$338=\"10\")*(AZ$2:AZ$338)*($CT$2:$CT$338=\"V\")*($F$2:$F$338=0))/SUMPRODUCT(($CO$2:$CO$338=\"10\")*(AZ$2:AZ$338>2)*($CT$2:$CT$338=\"V\")*($F$2:$F$338=0)))","v":{"$error":"#DIV/0!"}},{"$f":"SUMPRODUCT((($CO$2:$CO$338=\"10\")*(BA$2:BA$338)*($CT$2:$CT$338=\"V\")*($F$2:$F$338=0))/SUMPRODUCT(($CO$2:$CO$338=\"10\")*(BA$2:BA$338>2)*($CT$2:$CT$338=\"V\")*($F$2:$F$338=0)))","v":{"$error":"#DIV/0!"}},{"$f":"SUMPRODUCT((($CO$2:$CO$338=\"10\")*(BB$2:BB$338)*($CT$2:$CT$338=\"V\")*($F$2:$F$338=0))/SUMPRODUCT(($CO$2:$CO$338=\"10\")*(BB$2:BB$338>2)*($CT$2:$CT$338=\"V\")*($F$2:$F$338=0)))","v":{"$error":"#DIV/0!"}},{"$f":"SUMPRODUCT((($CO$2:$CO$338=\"10\")*(BC$2:BC$338)*($CT$2:$CT$338=\"V\")*($F$2:$F$338=0))/SUMPRODUCT(($CO$2:$CO$338=\"10\")*(BC$2:BC$338>2)*($CT$2:$CT$338=\"V\")*($F$2:$F$338=0)))","v":{"$error":"#DIV/0!"}},{"$f":"SUMPRODUCT((($CO$2:$CO$338=\"10\")*(BD$2:BD$338)*($CT$2:$CT$338=\"V\")*($F$2:$F$338=0))/SUMPRODUCT(($CO$2:$CO$338=\"10\")*(BD$2:BD$338>2)*($CT$2:$CT$338=\"V\")*($F$2:$F$338=0)))","v":{"$error":"#DIV/0!"}},{"$f":"SUMPRODUCT((($CO$2:$CO$338=\"10\")*(BE$2:BE$338)*($CT$2:$CT$338=\"V\")*($F$2:$F$338=0))/SUMPRODUCT(($CO$2:$CO$338=\"10\")*(BE$2:BE$338>2)*($CT$2:$CT$338=\"V\")*($F$2:$F$338=0)))","v":{"$error":"#DIV/0!"}},{"$f":"SUMPRODUCT((($CO$2:$CO$338=\"10\")*(BF$2:BF$338)*($CT$2:$CT$338=\"V\")*($F$2:$F$338=0))/SUMPRODUCT(($CO$2:$CO$338=\"10\")*(BF$2:BF$338>2)*($CT$2:$CT$338=\"V\")*($F$2:$F$338=0)))","v":{"$error":"#DIV/0!"}},{"$f":"SUMPRODUCT((($CO$2:$CO$338=\"10\")*(BG$2:BG$338)*($CT$2:$CT$338=\"V\")*($F$2:$F$338=0))/SUMPRODUCT(($CO$2:$CO$338=\"10\")*(BG$2:BG$338>2)*($CT$2:$CT$338=\"V\")*($F$2:$F$338=0)))","v":{"$error":"#DIV/0!"}},{"$f":"SUMPRODUCT((($CO$2:$CO$338=\"10\")*(BH$2:BH$338)*($CT$2:$CT$338=\"V\")*($F$2:$F$338=0))/SUMPRODUCT(($CO$2:$CO$338=\"10\")*(BH$2:BH$338>2)*($CT$2:$CT$338=\"V\")*($F$2:$F$338=0)))","v":{"$error":"#DIV/0!"}},{"$f":"SUMPRODUCT((($CO$2:$CO$338=\"10\")*(BI$2:BI$338)*($CT$2:$CT$338=\"V\")*($F$2:$F$338=0))/SUMPRODUCT(($CO$2:$CO$338=\"10\")*(BI$2:BI$338>2)*($CT$2:$CT$338=\"V\")*($F$2:$F$338=0)))","v":{"$error":"#DIV/0!"}},{"$f":"SUMPRODUCT((($CO$2:$CO$338=\"10\")*(BJ$2:BJ$338)*($CT$2:$CT$338=\"V\")*($F$2:$F$338=0))/SUMPRODUCT(($CO$2:$CO$338=\"10\")*(BJ$2:BJ$338>2)*($CT$2:$CT$338=\"V\")*($F$2:$F$338=0)))","v":{"$error":"#DIV/0!"}},{"$f":"SUMPRODUCT((($CO$2:$CO$338=\"10\")*(BK$2:BK$338)*($CT$2:$CT$338=\"V\")*($F$2:$F$338=0))/SUMPRODUCT(($CO$2:$CO$338=\"10\")*(BK$2:BK$338>2)*($CT$2:$CT$338=\"V\")*($F$2:$F$338=0)))","v":{"$error":"#DIV/0!"}},{"$f":"SUMPRODUCT((($CO$2:$CO$338=\"10\")*(BL$2:BL$338)*($CT$2:$CT$338=\"V\")*($F$2:$F$338=0))/SUMPRODUCT(($CO$2:$CO$338=\"10\")*(BL$2:BL$338>2)*($CT$2:$CT$338=\"V\")*($F$2:$F$338=0)))","v":{"$error":"#DIV/0!"}},{"$f":"SUMPRODUCT((($CO$2:$CO$338=\"10\")*(BM$2:BM$338)*($CT$2:$CT$338=\"V\")*($F$2:$F$338=0))/SUMPRODUCT(($CO$2:$CO$338=\"10\")*(BM$2:BM$338>2)*($CT$2:$CT$338=\"V\")*($F$2:$F$338=0)))","v":{"$error":"#DIV/0!"}},{"$f":"SUMPRODUCT((($CO$2:$CO$338=\"10\")*(BN$2:BN$338)*($CT$2:$CT$338=\"V\")*($F$2:$F$338=0))/SUMPRODUCT(($CO$2:$CO$338=\"10\")*(BN$2:BN$338>2)*($CT$2:$CT$338=\"V\")*($F$2:$F$338=0)))","v":{"$error":"#DIV/0!"}},{"$f":"SUMPRODUCT((($CO$2:$CO$338=\"10\")*(BO$2:BO$338)*($CT$2:$CT$338=\"V\")*($F$2:$F$338=0))/SUMPRODUCT(($CO$2:$CO$338=\"10\")*(BO$2:BO$338>2)*($CT$2:$CT$338=\"V\")*($F$2:$F$338=0)))","v":{"$error":"#DIV/0!"}},{"$f":"SUMPRODUCT((($CO$2:$CO$338=\"10\")*(BP$2:BP$338)*($CT$2:$CT$338=\"V\")*($F$2:$F$338=0))/SUMPRODUCT(($CO$2:$CO$338=\"10\")*(BP$2:BP$338>2)*($CT$2:$CT$338=\"V\")*($F$2:$F$338=0)))","v":{"$error":"#DIV/0!"}},{"$f":"SUMPRODUCT((($CO$2:$CO$338=\"10\")*(BQ$2:BQ$338)*($CT$2:$CT$338=\"V\")*($F$2:$F$338=0))/SUMPRODUCT(($CO$2:$CO$338=\"10\")*(BQ$2:BQ$338>2)*($CT$2:$CT$338=\"V\")*($F$2:$F$338=0)))","v":{"$error":"#DIV/0!"}},{"$f":"SUMPRODUCT((($CO$2:$CO$338=\"10\")*(BR$2:BR$338)*($CT$2:$CT$338=\"V\")*($F$2:$F$338=0))/SUMPRODUCT(($CO$2:$CO$338=\"10\")*(BR$2:BR$338>2)*($CT$2:$CT$338=\"V\")*($F$2:$F$338=0)))","v":{"$error":"#DIV/0!"}},{"$f":"SUMPRODUCT((($CO$2:$CO$338=\"10\")*(BS$2:BS$338)*($CT$2:$CT$338=\"V\")*($F$2:$F$338=0))/SUMPRODUCT(($CO$2:$CO$338=\"10\")*(BS$2:BS$338>2)*($CT$2:$CT$338=\"V\")*($F$2:$F$338=0)))","v":{"$error":"#DIV/0!"}},{"$f":"SUMPRODUCT((($CO$2:$CO$338=\"10\")*(BT$2:BT$338)*($CT$2:$CT$338=\"V\")*($F$2:$F$338=0))/SUMPRODUCT(($CO$2:$CO$338=\"10\")*(BT$2:BT$338>2)*($CT$2:$CT$338=\"V\")*($F$2:$F$338=0)))","v":{"$error":"#DIV/0!"}},{"$f":"SUMPRODUCT((($CO$2:$CO$338=\"10\")*(BU$2:BU$338)*($CT$2:$CT$338=\"V\")*($F$2:$F$338=0))/SUMPRODUCT(($CO$2:$CO$338=\"10\")*(BU$2:BU$338>2)*($CT$2:$CT$338=\"V\")*($F$2:$F$338=0)))","v":{"$error":"#DIV/0!"}},{"$f":"SUMPRODUCT((($CO$2:$CO$338=\"10\")*(BV$2:BV$338)*($CT$2:$CT$338=\"V\")*($F$2:$F$338=0))/SUMPRODUCT(($CO$2:$CO$338=\"10\")*(BV$2:BV$338>2)*($CT$2:$CT$338=\"V\")*($F$2:$F$338=0)))","v":{"$error":"#DIV/0!"}},{"$f":"SUMPRODUCT((($CO$2:$CO$338=\"10\")*(BW$2:BW$338)*($CT$2:$CT$338=\"V\")*($F$2:$F$338=0))/SUMPRODUCT(($CO$2:$CO$338=\"10\")*(BW$2:BW$338>2)*($CT$2:$CT$338=\"V\")*($F$2:$F$338=0)))","v":{"$error":"#DIV/0!"}},{"$error":"#DIV/0!"},{"$error":"#DIV/0!"},{"$error":"#DIV/0!"},{"$error":"#DIV/0!"},{"$error":"#DIV/0!"},{"$error":"#DIV/0!"},{"$error":"#DIV/0!"},{"$error":"#DIV/0!"},{"$error":"#DIV/0!"},{"$error":"#DIV/0!"},{"$error":"#DIV/0!"},{"$error":"#DIV/0!"},null,null,null,null,null,null,null,null,null,83,"10vsdoub","V S DOUBL",{"$f":"SUMPRODUCT(((#REF!>2)*($CO$2:$CO$339=\"10\")*(#REF!)*($CT$2:$CT$339=\"V\")*($F$2:$F$339=0))/SUMPRODUCT((#REF!>2)*($CO$2:$CO$339=\"10\")*(#REF!>2)*($CT$2:$CT$339=\"V\")*($F$2:$F$339=0)))","v":{"$error":"#REF!"}}]
[null,null,null,null,null,null,null,null,null,null,null,null,null,null,null,null,null,null,null,null,null,null,null,null,null,null,null,null,null,null,null,null,null,null,null,null,null,null,null,null,null,null,null,null,null,null,null,null,null,null,null,null,null,null,null,null,null,null,null,null,null,null,null,null,null,null,null,null,null,null,null,null,null,null,null,null,null,null,null,null,null,null,null,null,null,null,null,null,null,null,null,null,null,null,null,null,84]

{"sheet":"Adrcol","index":1,"n_rows":160,"n_cols":100,"rows_kept":160,"cut":false,"hidden":true,"merged":[]}
["Sujet","Année","ecole","gr","prof","elève","Sexe","ecole-gr","défavorisation","niveau","nom école","age a virgule","age","élève dont on as un passé",null,"lect0","lect0min","lect1","lect2","lect3","lect3min","lect4",null,"ecr0","ecr0min","ecr1","ecr2","ecr3","ecr3min","ecr4",null,"rais0","rais0min","rais1","rais2","rais3","rais3min","rais4",null,"res0","res0min","res1","res2","res3","res3min","res4","res5",null,"moy0","moy0min","moy1","moy2","moy3","moy3min","moy4"]
["Colonne",1,2,3,4,8,10,82,83,84,85,92,93,94,null,36,40,44,48,52,56,60,null,35,39,43,47,51,55,59,null,38,42,46,50,54,58,62,null,37,41,45,49,53,57,61,65,null,81,82,83,84,85,86,87]
[null,{"$f":"VLOOKUP(B2,$A$5:$B$160,2)","v":"A"},{"$f":"VLOOKUP(C2,$A$5:$B$160,2)","v":"B"},"C","D","H","J","CD","CE","CF","CG","CN","CO","CP",{"$error":"#N/A"},"AJ","AN","AR","AV","AZ","BD","BH",{"$error":"#N/A"},"AI","AM","AQ","AU","AY","BC","BG",{"$error":"#N/A"},"AL","AP","AT","AX","BB","BF","BJ",{"$error":"#N/A"},"AK","AO","AS","AW","BA","BE","BI","BM",{"$error":"#N/A"},{"$f":"VLOOKUP(AW2,$A$5:$B$160,2)","v":"CC"},"CD","CE","CF","CG","CH","CI",{"$error":"#N/A"},{"$error":"#N/A"},{"$error":"#N/A"},{"$error":"#N/A"},{"$error":"#N/A"},{"$error":"#N/A"},{"$error":"#N/A"},{"$error":"#N/A"},{"$error":"#N/A"},{"$error":"#N/A"},{"$error":"#N/A"},{"$f":"VLOOKUP(BO2,$A$5:$B$160,2)","v":{"$error":"#N/A"}},{"$error":"#N/A"},{"$error":"#N/A"},{"$error":"#N/A"},{"$error":"#N/A"},{"$error":"#N/A"},{"$error":"#N/A"},{"$error":"#N/A"},{"$error":"#N/A"},{"$error":"#N/A"},{"$error":"#N/A"},{"$error":"#N/A"},{"$error":"#N/A"},{"$error":"#N/A"},{"$error":"#N/A"},{"$error":"#N/A"},{"$error":"#N/A"},{"$error":"#N/A"},{"$error":"#N/A"},{"$error":"#N/A"},{"$error":"#N/A"},{"$error":"#N/A"},{"$error":"#N/A"},{"$error":"#N/A"},{"$error":"#N/A"},{"$error":"#N/A"},{"$error":"#N/A"},{"$error":"#N/A"},{"$error":"#N/A"},{"$error":"#N/A"},{"$error":"#N/A"},{"$error":"#N/A"},{"$error":"#N/A"},{"$error":"#N/A"}]
[null,null,null,null,null,null,null,null,null,null,null,null,null,null,null,27,{"$f":"P4+4","v":31},{"$f":"Q4+4","v":35},39,43,47,51,null,26,{"$f":"X4+4","v":30},{"$f":"Y4+4","v":34},38,42,46,50,null,29,{"$f":"AF4+4","v":33},{"$f":"AG4+4","v":37},41,45,49,53,null,28,{"$f":"AN4+4","v":32},{"$f":"AO4+4","v":36},40,44,48,52,56,null,72,73,74,75,76,77,78]
[1,"A",null,{"$f":"\"E\"&B5","v":"EA"}]
[2,"B",null,{"$f":"\"E\"&B6","v":"EB"}]
[3,"C",null,"EC"]
[4,"D",null,"ED"]
[5,"E",null,"EE"]
[6,"F",null,"EF"]
[7,"G",null,"EG"]
[8,"H",null,"EH"]
[9,"I",null,"EI"]
[10,"J",null,"EJ"]
[11,"K",null,"EK"]
[12,"L",null,"EL"]
[13,"M",null,"EM"]
[14,"N",null,"EN"]
[15,"O",null,"EO"]
[16,"P",null,"EP"]
[17,"Q",null,"EQ"]
[18,"R",null,"ER"]
[19,"S",null,"ES"]
[20,"T",null,"ET"]
[21,"U",null,"EU"]
[22,"V",null,"EV"]
[23,"W",null,"EW"]
[24,"X",null,"EX"]
[25,"Y",null,"EY"]
[26,"Z",null,"EZ"]
[27,{"$f":"\"A\"&B5","v":"AA"},null,{"$f":"\"C\"&B31","v":"CAA"}]
[28,"AB",null,{"$f":"\"A\"&#REF!","v":{"$error":"#REF!"}}]
[29,"AC",null,{"$f":"\"A\"&#REF!","v":{"$error":"#REF!"}}]
[30,"AD"]
[31,"AE"]
[32,"AF"]
[33,"AG"]
[34,"AH"]
[35,"AI"]
[36,"AJ"]
[37,"AK"]
[38,"AL"]
[39,"AM"]
[40,"AN"]
[41,"AO"]
[42,"AP"]
[43,"AQ"]
[44,"AR"]
[45,"AS"]
[46,"AT"]
[47,"AU"]
[48,"AV"]
[49,"AW"]
[50,"AX"]
[51,"AY"]
[52,"AZ"]
[53,"BA"]
[54,"BB"]
[55,"BC"]
[56,"BD"]
[57,"BE"]
[58,"BF"]
[59,"BG"]
[60,"BH"]
[61,"BI"]
[62,"BJ"]
[63,"BK"]
[64,"BL"]
[65,"BM"]
[66,"BN"]
[67,"BO"]
[68,"BP"]
[69,"BQ"]
[70,"BR"]
[71,"BS"]
[72,"BT"]
[73,"BU"]
[74,"BV"]
[75,"BW"]
[76,"BX"]
[77,"BY"]
[78,"BZ"]
[79,"CA"]
[80,"CB"]
[81,"CC"]
[82,"CD"]
[83,"CE"]
[84,"CF"]
[85,"CG"]
[86,"CH"]
[87,"CI"]
[88,"CJ"]
[89,"CK"]
[90,"CL"]
[91,"CM"]
[92,"CN"]
[93,"CO"]
[94,"CP"]
[95,"CQ"]
[96,"CR"]
[97,"CS"]
[98,"CT"]
[99,"CU"]
[100,"CV"]
[101,"CW"]
[102,"CX"]
[103,"CY"]
[104,"CZ"]
[105,"DA"]
[106,"DB"]
[107,"DC"]
[108,"DD"]
[109,"DE"]
[110,"DF"]
[111,"DG"]
[112,"DH"]
[113,"DI"]
[114,"DJ"]
[115,"DK"]
[116,"DL"]
[117,"DM"]
[118,"DN"]
[119,"DO"]
[120,"DP"]
[121,"DQ"]
[122,"DR"]
[123,"DS"]
[124,"DT"]
[125,"DU"]
[126,"DV"]
[127,"DW"]
[128,"DX"]
[129,"DY"]
[130,"DZ"]
[131,"EA"]
[132,"EB"]
[133,"EC"]
[134,"ED"]
[135,"EE"]
[136,"EF"]
[137,"EG"]
[138,"EH"]
[139,"EI"]
[140,"EJ"]
[141,"EK"]
[142,"EL"]
[143,"EM"]
[144,"EN"]
[145,"EO"]
[146,"EP"]
[147,"EQ"]
[148,"ER"]
[149,"ES"]
[150,"ET"]
[151,"EU"]
[152,"EV"]
[153,"EW"]
[154,"EX"]
[155,"EY"]
[156,"EZ"]

{"sheet":"ecoletaux","index":2,"n_rows":87,"n_cols":3,"rows_kept":87,"cut":false,"hidden":true,"merged":[]}
["COD_ECOLE","NOM_ECOLE","TAUX"]
["001","Académie Saint-Clément","0.100"]
["002","Saint-Clément Ouest","0.100"]
["005","Bois-Franc-Aquarelle","0.900"]
["006","Cardinal-Léger","0.700"]
["007","Édouard-Laurin","0.700"]
["008","Enfant-Soleil","1.000"]
["009","Guy-Drummond","0.400"]
["010","Katimavik-Hébert","0.700"]
["011","Henri-Beaulieu","0.900"]
["012","Jonathan","0.600"]
["013","Lajoie","0.400"]
["014","Laurentide","0.900"]
["015","Beau-Séjour","0.400"]
["016","Nouvelle-Querbes","0.400"]
["017","Saint-Clément","0.100"]
["018","Saint-Germain-d'Outremont","0.100"]
["019","De la Mosaïque","0.400"]
["020","Jean-Grou","0.800"]
["022","Enfants-du-Monde","0.300"]
["024","Des Grands-Êtres","1.000"]
["025","Des Amis-du-Monde","1.000"]
["026","Saint-Laurent Ouest","0.300"]
["037","L'école du Sas","1.000"]
["038","Mont-Royal","0.600"]
["040","Paul-Gérin-Lajoie-d'Outremont","0.400"]
["041","Saint-Laurent","0.900"]
["042","Pierre-Laporte","0.500"]
["100","Chanoine-Joseph-Théorêt","1.000"]
["101","Des Découvreurs","0.500"]
["102","Du Grand-Héron","0.600"]
["103","Henri-Forest","0.900"]
["104","Île-des-Soeurs","0.100"]
["105","Jardin-des-Saints-Anges","0.900"]
["106","Laurendeau-Dunton","0.700"]
["107","Pierre-Rémy","0.700"]
["108","Lévis-Sauvé","1.000"]
["109","Martin-Bélanger","0.900"]
["110","Notre-Dame-de-la-Garde","0.700"]
["111","Notre-Dame-de-la-Paix","1.000"]
["112","Notre-Dame-de-Lourdes","1.000"]
["113","Notre-Dame-des-Rapides","0.500"]
["114","Notre-Dame-des-Sept-Douleurs","1.000"]
["115","Paul-Jarry","1.000"]
["116","Philippe-Morin","0.900"]
["117","Sainte-Catherine-Labouré","0.900"]
["118","Sainte-Geneviève","0.500"]
["119","Terre-des-Jeunes","0.800"]
["120","Très-Saint-Sacrement","0.800"]
["121","Victor-Thérien","0.300"]
["122","Catherine-Soumillard","0.200"]
["128","Île-des-Soeurs II","0.100"]
["129","L'Eau-Vive","1.000"]
["130","Des Berges-de-Lachine","1.000"]
["131","Du Petit-Collège","1.000"]
["136","Collège Saint-Louis","0.400"]
["138","Cavelier-De LaSalle","0.700"]
["139","Dalbé-Viau","0.900"]
["142","Monseigneur-Richard","1.000"]
["200","Dollard-Des Ormeaux","0.400"]
["201","Du Grand-Chêne","0.400"]
["202","Émile-Nelligan","0.100"]
["203","Gentilly","0.300"]
["205","Harfang-des-Neiges","0.900"]
["206","Jacques-Bizard","0.200"]
["207","John-F. Kennedy","0.400"]
["208","Jonathan-Wilson","0.100"]
["209","Joseph-Henrico","0.200"]
["210","Lalande","0.400"]
["211","Marguerite-Bourgeoys","0.200"]
["212","Murielle-Dumont","0.400"]
["213","Perce-Neige","0.900"]
["214","Beaconsfield","0.100"]
["216","Pointe-Claire","0.100"]
["217","Saint-Gérard","0.400"]
["218","Saint-Louis","0.200"]
["219","Saint-Luc","0.200"]
["220","Saint-Rémi","0.100"]
["221","Sainte-Geneviève","0.400"]
["222","Du Bout-de-l'Isle","0.100"]
["224","Du Bois-de-Liesse","1.000"]
["236","École secondaire des Sources","0.200"]
["237","John-F.-Kennedy","0.400"]
["238","Rose-Virginie-Pelletier","0.100"]
["240","Félix-Leclerc","0.100"]
["241","Dorval-Jean-XXIII","0.400"]
["243","Saint-Georges","0.200"]